{"text_format":"1","workbook":"xlsx","n_sheets":46,"sheets":["REFERENCES - 10","STRUCTURE DU CA - 10","EVOLUTION DU CA - 10","SOURCING - 10","STRUCT.EMPLOI&MASS SALARIALE-10","EVOL EFFECTIF&MASS SALARIAL-10 ","INTERIM & LOCATION MO-10","INVENT.Logiciels Importés - 10","INVENT.Autre Im Inco Importé-10","INVENT.Construc&Bat Importé -10","INVENT.Inst&Agen Importés -10","INVENT.Mat&Outillag Importé -10","INVENT.Mat Transp importés - 10","INVENT.Mob&Mat Bur Importé - 10","INVENT.Ma Informatiq Importé-10","INVENT.Pieces Rech Importé - 10","SYNT.INVENT.MAT&EQUIP IMPOR -10","ACHAT.LOCAL.Logiciels -10","ACHAT.LOCAL.Autre Im Inco -10","ACHAT.LOCAL.Construc&Bat -10","ACHAT.LOCAL.Inst&Agen -10 ","ACHAT.LOCAL.Mat&Outillag -10 ","ACHAT.LOCAL.Mat Transp -10","ACHAT.LOCAL.Mob&Mat Bur -10","ACHAT.LOCAL.Ma Informatiq -10","ACHAT.LOCAL.Pieces Rech -10","SYNT.ACHAT.LOCAL.MAT&EQUIP -10","INVEST Frais d'établissment -10","INVEST Logiciels - 10","INVEST.Autres Immo Incorpo - 10","INVEST Terrains - 10","INVEST.Constructions & Bât - 10","INVEST - Installations & Agenc","INVEST.Mat & Outillages - 10","INVEST.Matériels Transport - 10","INVEST Mat & Mob Bureau - 10","INVEST Mat Informatiques - 10","SYNTHÈSE INVESTISSEMENTS - 10","PLANNING DES INVEST - 10","SYNTHÈSE des AMORTISSEMENTS -10","IMPOT&DOUANE en ANNEE EXPLOI-10","DROIT DOUANE PERIODE INVEST -15","COMPTE de RESULTAT - 10","RENSEIGNEMENT COMPLEMENTAIRE-10","RAPPORT SYNTHESE - 11","Feuil2"],"not_rendered":{"charts":0,"images":0,"macros":1,"external_links":0,"defined_names":25,"comments":0,"pivot_tables":0},"unopened":[],"bounds":{"document_bytes":16777216,"sheet_cells":100000,"rows_first":2000,"rows_last":500,"rows_between":2000,"halvings":0,"cell_chars":16384,"cell_head_chars":4096},"cells_cut":0,"cells_raw":0,"read":"whole","date_system":"1900"}

{"sheet":"REFERENCES - 10","index":0,"n_rows":35,"n_cols":8,"rows_kept":35,"cut":false,"hidden":false,"merged":[[6,3,6,6],[8,3,8,6],[4,3,4,6]]}
[null,"DAI_10"]
[null,"VERSION",null,2]
[]
[]
[null,"DUREE PERIODE BENEFICE",null,"10 ANS"]
[]
[null,"RAISON SOCIALE:"]
[]
[null,"PROMOTEUR"]
[null,null,null,null,null,null,null,1]
[]
[null,"PARAMÉTRAGE DES TAUX APPLIQUÉS:"]
[null,null,null,"Taux","Plafond (en F.CFA)"]
[null,"Taux ITS nationaux",null,1.2E-2,"Aucun"]
[null,"Taux ITS non nationaux",null,0.104,"Aucun"]
[null,"Taux FDFP",null,1.6E-2,"Aucun"]
[null,"Taux de Charges Sociales",null,null,"Aucun"]
[null,"Accident de travail ",null,"2% à 5%","70 000/mois/agent"]
[null,"Prestation  Familiale",null,5.7500000000000002E-2,"70 000/mois/agent"]
[null,"Retraite",null,7.6999999999999999E-2,"1 647 315/mois/agent"]
[null,"Taux TSE",null,1E-3,"Aucun"]
[null,"Taux BIC",null,0.25,"Aucun"]
[]
[]
[null,"PARAMÉTRAGE DUREE D'AMORTISSEMENTS (en année)"]
[null,"Frais d'établissement",null,2,"ans"]
[null,"Logiciel",null,3,"ans"]
[null,"Autres Immob. Incorporelles",null,2,"ans"]
[null,"Terrains",null,0,"ans"]
[null,"Constructions et Bâtiments",null,20,"ans"]
[null,"Installations et Agencements",null,10,"ans"]
[null,"Matériels et Outillages",null,5,"ans",null,null,"    "]
[null,"Matériels de Transport",null,3,"ans"]
[null,"Mat. et Mobil.de Bureau",null,10,"ans"]
[null,"Matériel Informatique",null,2,"ans"]

{"sheet":"STRUCTURE DU CA - 10","index":1,"n_rows":20,"n_cols":13,"rows_kept":20,"cut":false,"hidden":false,"merged":[[3,1,4,1],[3,2,4,2]]}
[null,null,{"$f":"'REFERENCES - 10'!D7","v":0},null,null,null,{"$f":"'REFERENCES - 10'!D9","v":0}]
[null,"STRUCTURE DU CHIFFRE D'AFFAIRES (HORS TAXE)"]
[null,null,null,null,null,null,null,null,null,null,null,null,"(En milliers de F. Cfa)"]
[null,"FAMILLE ou CATEGORIES de PRODUITS","Unité de Mesure","PREMIERE ANNEE DE PRODUCTION",null,null,null,null,"CINQUIEME  ANNEE DE PRODUCTION"]
[null,null,null,"QUANTITE","VENTE LOCALE HT (en valeur)","VENTE EXPORT UEMOA (en valeur)","VENTE EXPORT HORS UEMOA (en valeur)","TOTAL VENTE HT  (en valeur)","QUANTITE","VENTE LOCALE HT (en valeur)","VENTE EXPORT UEMOA (en valeur)","VENTE EXPORT HORS UEMOA (en valeur)","TOTAL VENTE HT  (en valeur)"]
[null,null,null,null,"En milliers de F. Cfa",null,null,null,null,"En milliers de F. Cfa"]
[1,null,null,null,null,null,null,{"$f":"SUM(E7:G7)","v":0},null,null,null,null,{"$f":"SUM(J7:L7)","v":0}]
[2,null,null,null,null,null,null,{"$f":"SUM(E8:G8)","v":0},null,null,null,null,{"$f":"SUM(J8:L8)","v":0}]
[3,null,null,null,null,null,null,0,null,null,null,null,0]
[4,null,null,null,null,null,null,0,null,null,null,null,0]
[5,null,null,null,null,null,null,0,null,null,null,null,0]
[6,null,null,null,null,null,null,0,null,null,null,null,0]
[7,null,null,null,null,null,null,0,null,null,null,null,0]
[8,null,null,null,null,null,null,0,null,null,null,null,0]
[9,null,null,null,null,null,null,0,null,null,null,null,0]
[10,null,null,null,null,null,null,0,null,null,null,null,0]
[11,null,null,null,null,null,null,0,null,null,null,null,0]
[12,null,null,null,null,null,null,0,null,null,null,null,0]
[null,"NON VENTILE",null,null,null,null,null,0,null,null,null,null,{"$f":"SUM(J19:L19)","v":0}]
[null,"TOTAL",null,null,{"$f":"SUM(E7:E19)","v":0},{"$f":"SUM(F7:F19)","v":0},{"$f":"SUM(G7:G19)","v":0},{"$f":"SUM(H7:H19)","v":0},null,{"$f":"SUM(J7:J19)","v":0},{"$f":"SUM(K7:K19)","v":0},{"$f":"SUM(L7:L19)","v":0},{"$f":"SUM(M7:M19)","v":0}]

{"sheet":"EVOLUTION DU CA - 10","index":2,"n_rows":15,"n_cols":12,"rows_kept":15,"cut":false,"hidden":false,"merged":[]}
[null,null,{"$f":"'REFERENCES - 10'!D7","v":0},null,null,{"$f":"'REFERENCES - 10'!D9","v":0},null,null,null,{"$f":"C1","v":0},null,{"$f":"F1","v":0}]
[]
["EVOLUTION DU CHIFFRE D'AFFAIRES",null,null,null,null,null,null,null,null,"(En milliers de F. Cfa)"]
[]
[null,"AN 1","AN 2","AN 3","AN 4","AN 5 (1)","AN 6","AN 7","AN 8","AN 9","AN 10"]
[]
["VENTE LOCALE",{"$f":"'STRUCTURE DU CA - 10'!$E$20","v":0},null,null,null,{"$f":"'STRUCTURE DU CA - 10'!$J$20","v":0}]
["VENTE EXPORT UEMOA",{"$f":"'STRUCTURE DU CA - 10'!$F$20","v":0},null,null,null,{"$f":"'STRUCTURE DU CA - 10'!$K$20","v":0}]
["VENTE EXPORT HORS UEMOA",{"$f":"'STRUCTURE DU CA - 10'!$G$20","v":0},null,null,null,{"$f":"'STRUCTURE DU CA - 10'!$L$20","v":0}]
["TOTAL (2)",{"$f":"SUM(B7:B9)","v":0},{"$f":"SUM(C7:C9)","v":0},0,0,0,0,0,0,0,0]
["Variation N par rapport à N-1 ",null,{"$f":"IF(B10=0,0,(C10-B10)/B10)","v":0},0,0,0,0,0,0,{"$f":"IF(I10=0,0,(J10-I10)/I10)","v":0},0]
[]
[]
["(1) La cinquième année d'exploitation est supposée correspondre à l'année de croisière."]
["(2) Ce total est à reporter sur la ligne Chiffre d'affaires du tableau \"COMPTE de RESULTAT\". Les totaux des années 1 et 5 du tableau \"STRUCTURE DU CA\" sont cohérents avec ceux de ce tableau."]

{"sheet":"SOURCING - 10","index":3,"n_rows":32,"n_cols":12,"rows_kept":32,"cut":false,"hidden":false,"merged":[[2,0,2,11],[5,8,5,10],[5,11,6,11],[4,0,6,0],[4,1,6,1],[5,2,6,2],[5,3,5,5],[5,6,6,6],[5,7,6,7]]}
[null,null,{"$f":"'REFERENCES - 10'!D7","v":0},null,null,null,{"$f":"'REFERENCES - 10'!D9","v":0}]
[]
["MATIERES PREMIERES, MARCHANDISES & FOURNITURES"]
[null,null,null,null,null,null,null,null,null,null,null,"(En milliers de F. Cfa)"]
["DESIGNATION DE L'INTRANT","Unité de Mesure","PREMIERE ANNEE DE PRODUCTION",null,null,null,null,"CINQUIEME  ANNEE DE PRODUCTION"]
[null,null,"ORIGINE DE LA MATIERE (1)","POIDS DANS LES ACHATS (2)",null,null,"LOCALISATION DU PRINCIPAL FOURNISSEUR  (3)","ORIGINE DE LA MATIERE (1)","POIDS DANS LES ACHATS (2)",null,null,"LOCALISATION DU PRINCIPAL FOURNISSEUR  (3)"]
[null,null,null,"Quantité","Valeur HT","%",null,null,"Quantité","Valeur HT","%"]
[null,null,null,null,"(En milliers F. Cfa)",null,null,null,null,"(En milliers F. Cfa)"]
[null,null,null,null,null,{"$f":"IF($E$27=0,0,E9/$E$27)","v":0},null,null,null,null,{"$f":"IF($J$27=0,0,J9/$J$27)","v":0}]
[null,null,null,null,null,{"$f":"IF($E$27=0,0,E10/$E$27)","v":0},null,null,null,null,{"$f":"IF($J$27=0,0,J10/$J$27)","v":0}]
[null,null,null,null,null,{"$f":"IF($E$27=0,0,E11/$E$27)","v":0},null,null,null,null,{"$f":"IF($J$27=0,0,J11/$J$27)","v":0}]
[null,null,null,null,null,{"$f":"IF($E$27=0,0,E12/$E$27)","v":0},null,null,null,null,{"$f":"IF($J$27=0,0,J12/$J$27)","v":0}]
[null,null,null,null,null,0,null,null,null,null,0]
[null,null,null,null,null,{"$f":"IF($E$27=0,0,E14/$E$27)","v":0},null,null,null,null,{"$f":"IF($J$27=0,0,J14/$J$27)","v":0}]
[null,null,null,null,null,{"$f":"IF($E$27=0,0,E15/$E$27)","v":0},null,null,null,null,{"$f":"IF($J$27=0,0,J15/$J$27)","v":0}]
[null,null,null,null,null,{"$f":"IF($E$27=0,0,E16/$E$27)","v":0},null,null,null,null,{"$f":"IF($J$27=0,0,J16/$J$27)","v":0}]
[null,null,null,null,null,0,null,null,null,null,0]
[null,null,null,null,null,0,null,null,null,null,0]
[null,null,null,null,null,{"$f":"IF($E$27=0,0,E19/$E$27)","v":0},null,null,null,null,{"$f":"IF($J$27=0,0,J19/$J$27)","v":0}]
[null,null,null,null,null,{"$f":"IF($E$27=0,0,E20/$E$27)","v":0},null,null,null,null,{"$f":"IF($J$27=0,0,J20/$J$27)","v":0}]
[null,null,null,null,null,{"$f":"IF($E$27=0,0,E21/$E$27)","v":0},null,null,null,null,{"$f":"IF($J$27=0,0,J21/$J$27)","v":0}]
["SOUS TOTAL",null,null,null,{"$f":"SUM(E9:E21)","v":0},{"$f":"IF($E$27=0,0,E22/$E$27)","v":0},null,null,null,{"$f":"SUM(J9:J21)","v":0},{"$f":"IF($J$27=0,0,J22/$J$27)","v":0}]
[]
["Eau & Electricité",null,null,null,null,{"$f":"IF($E$27=0,0,E24/$E$27)","v":0},null,null,null,null,{"$f":"IF($J$27=0,0,J24/$J$27)","v":0}]
["Autres Mat. Pre., Marchandises & Fournitures",null,null,null,null,{"$f":"IF($E$27=0,0,E25/$E$27)","v":0},null,null,null,null,{"$f":"IF($J$27=0,0,J25/$J$27)","v":0}]
[]
["TOTAL ACHAT MAT. PRE., MARCH & FOURNITURES (4)",null,null,null,{"$f":"E25+E24+E22","v":0},{"$f":"IF($E$27=0,0,E27/$E$27)","v":0},null,null,null,{"$f":"J25+J24+J22","v":0},{"$f":"IF($J$27=0,0,J27/$J$27)","v":0}]
[]
["(1)","Il s'agit du pays de production de la matière 1ère, marchandises ou fournitures et non du pays de provenance"]
["(2)","Les achats s'entendent ceux de la classe 60 du plan comptable SYSCOHADA;"]
["(3)","Précisez s'il s'agit d'un fournisseur local ou d'un fournisseur étranger"]
["(4)","Ce total alimente la ligne \"Achat Mat. Prem., Marchandises & Fournitures\" du tableau \"COMPTE DE RESULTAT\" pour les années 1 et 4."]

{"sheet":"STRUCT.EMPLOI&MASS SALARIALE-10","index":4,"n_rows":49,"n_cols":11,"rows_kept":49,"cut":false,"hidden":false,"merged":[[4,0,5,0],[4,1,4,5],[4,6,4,10]]}
[" ",null,{"$f":"'REFERENCES - 10'!D7","v":0},null,null,null,{"$f":"'REFERENCES - 10'!D9","v":0}]
[]
["STRUCTURE DES EMPLOIS & MASSE SALARIALE",null,null,null,null,null,null,null,null,"(En milliers de F. Cfa)"]
[]
["CATEGORIES PROFESSIONNELLES","PREMIERE ANNEE DE PRODUCTION",null,null,null,null,"CINQUIEME ANNEE DE PRODUCTION (1)"]
[null,"Effectif","Salaires Annuels Totaux","ITS (2)","Charges Sociales"," Coût Total","Effectif","Salaires Annuels Totaux","ITS (2)","Charges Sociales"," Coût Total"]
[]
["Nationaux"]
["Cadres supérieurs (DG & directeurs)",null,null,{"$f":"C9*'REFERENCES - 10'!$D$14","v":0},null,{"$f":"D9+E9+C9","v":0},null,null,{"$f":"H9*'REFERENCES - 10'!$D$14","v":0},null,{"$f":"I9+J9+H9","v":0}]
["Cadres moyens",null,null,{"$f":"C10*'REFERENCES - 10'!$D$14","v":0},null,{"$f":"D10+E10+C10","v":0},null,null,{"$f":"H10*'REFERENCES - 10'!$D$14","v":0},null,{"$f":"I10+J10+H10","v":0}]
["Agents Maîtrise",null,null,{"$f":"C11*'REFERENCES - 10'!$D$14","v":0},null,{"$f":"D11+E11+C11","v":0},null,null,{"$f":"H11*'REFERENCES - 10'!$D$14","v":0},null,{"$f":"I11+J11+H11","v":0}]
["Employés & Ouvriers",null,null,{"$f":"C12*'REFERENCES - 10'!$D$14","v":0},null,{"$f":"D12+E12+C12","v":0},null,null,{"$f":"H12*'REFERENCES - 10'!$D$14","v":0},null,{"$f":"I12+J12+H12","v":0}]
["Total Nationaux",{"$f":"SUM(B9:B12)","v":0},0,0,0,0,0,0,0,0,0]
["Dont Permanents",null,null,{"$f":"C14*'REFERENCES - 10'!$D$14","v":0},null,{"$f":"D14+E14+C14","v":0},null,null,{"$f":"H14*'REFERENCES - 10'!$D$14","v":0},null,{"$f":"I14+J14+H14","v":0}]
["Dont Occasionnels(3)",null,null,{"$f":"C15*'REFERENCES - 10'!$D$14","v":0},null,{"$f":"D15+E15+C15","v":0},null,null,{"$f":"H15*'REFERENCES - 10'!$D$14","v":0},null,{"$f":"I15+J15+H15","v":0}]
[]
["Autres  Africains"]
["Cadres supérieurs (DG & directeurs)",null,null,{"$f":"C18*'REFERENCES - 10'!$D$15","v":0},null,{"$f":"D18+E18+C18","v":0},null,null,{"$f":"H18*'REFERENCES - 10'!$D$15","v":0},null,{"$f":"I18+J18+H18","v":0}]
["Cadres moyens",null,null,{"$f":"C19*'REFERENCES - 10'!$D$15","v":0},null,{"$f":"D19+E19+C19","v":0},null,null,{"$f":"H19*'REFERENCES - 10'!$D$15","v":0},null,{"$f":"I19+J19+H19","v":0}]
["Agents Maîtrise",null,null,{"$f":"C20*'REFERENCES - 10'!$D$15","v":0},null,{"$f":"D20+E20+C20","v":0},null,null,{"$f":"H20*'REFERENCES - 10'!$D$15","v":0},null,{"$f":"I20+J20+H20","v":0}]
["Employés & Ouvriers",null,null,{"$f":"C21*'REFERENCES - 10'!$D$15","v":0},null,{"$f":"D21+E21+C21","v":0},null,null,{"$f":"H21*'REFERENCES - 10'!$D$15","v":0},null,{"$f":"I21+J21+H21","v":0}]
["Total autres Africains",{"$f":"SUM(B18:B21)","v":0},0,0,0,0,0,0,0,0,{"$f":"SUM(K18:K21)","v":0}]
["Dont Permanents",null,null,{"$f":"C23*'REFERENCES - 10'!$D$15","v":0},null,{"$f":"D23+E23+C23","v":0},null,null,{"$f":"H23*'REFERENCES - 10'!$D$15","v":0},null,{"$f":"I23+J23+H23","v":0}]
["Dont Occasionnels(3)",null,null,{"$f":"C24*'REFERENCES - 10'!$D$15","v":0},null,{"$f":"D24+E24+C24","v":0},null,null,{"$f":"H24*'REFERENCES - 10'!$D$15","v":0},null,{"$f":"I24+J24+H24","v":0}]
[]
["Non Africains"]
["Cadres supérieurs (DG & directeurs)",null,null,{"$f":"C27*'REFERENCES - 10'!$D$15","v":0},null,{"$f":"D27+E27+C27","v":0},null,null,{"$f":"H27*'REFERENCES - 10'!$D$15","v":0},null,{"$f":"I27+J27+H27","v":0}]
["Cadres moyens",null,null,{"$f":"C28*'REFERENCES - 10'!$D$15","v":0},null,{"$f":"D28+E28+C28","v":0},null,null,{"$f":"H28*'REFERENCES - 10'!$D$15","v":0},null,{"$f":"I28+J28+H28","v":0}]
["Agents Maîtrise",null,null,{"$f":"C29*'REFERENCES - 10'!$D$15","v":0},null,{"$f":"D29+E29+C29","v":0},null,null,{"$f":"H29*'REFERENCES - 10'!$D$15","v":0},null,{"$f":"I29+J29+H29","v":0}]
["Employés & Ouvriers",null,null,{"$f":"C30*'REFERENCES - 10'!$D$15","v":0},null,{"$f":"D30+E30+C30","v":0},null,null,{"$f":"H30*'REFERENCES - 10'!$D$15","v":0},null,{"$f":"I30+J30+H30","v":0}]
["Total Non Africains",{"$f":"SUM(B27:B30)","v":0},0,0,0,{"$f":"SUM(F27:F30)","v":0},0,0,0,0,{"$f":"SUM(K27:K30)","v":0}]
["Dont Permanents",null,null,{"$f":"C32*'REFERENCES - 10'!$D$15","v":0},null,{"$f":"D32+E32+C32","v":0},null,null,{"$f":"H32*'REFERENCES - 10'!$D$15","v":0},null,{"$f":"I32+J32+H32","v":0}]
["Dont Occasionnels(3)",null,null,{"$f":"C33*'REFERENCES - 10'!$D$15","v":0},null,{"$f":"D33+E33+C33","v":0},null,null,{"$f":"H33*'REFERENCES - 10'!$D$15","v":0},null,{"$f":"I33+J33+H33","v":0}]
[]
["Autres Charges de Personnel(5)"]
[]
["Emplois existants",{"$f":"B38+B39","v":0},0,0,0,0,0,0,0,0,0]
["Dont Permanents",null,null,null,null,{"$f":"C38+D38+E38","v":0}]
["Dont Occasionnels(3)",null,null,null,null,{"$f":"C39+D39+E39","v":0}]
["TOTAL (4)",{"$f":"B13+B22+B31+B37","v":0},{"$f":"C13+C22+C31+C37","v":0},{"$f":"D13+D22+D31+D37","v":0},{"$f":"E13+E22+E31+E37","v":0},{"$f":"F13+F22+F31+F35+F37","v":0},{"$f":"G13+G22+G31+G37","v":0},{"$f":"H13+H22+H31+H37","v":0},{"$f":"I13+I22+I31+I37","v":0},{"$f":"J13+J22+J31+J37","v":0},{"$f":"K13+K22+K31+K35+K37","v":0}]
["Dont Permanents",null,null,{"$f":"D14+D23+D32","v":0},null,{"$f":"D41+E41+C41","v":0},null,null,{"$f":"I14+I23+I32","v":0},null,{"$f":"I41+J41+H41","v":0}]
["Dont Occasionnels(3)",null,null,{"$f":"D15+D24+D33","v":0},null,{"$f":"D42+E42+C42","v":0},null,null,{"$f":"I15+I24+I33","v":0},null,{"$f":"I42+J42+H42","v":0}]
[]
[]
["(1) La cinquième année d'exploitation est supposée correspondre à l'année de croisière."]
["(2) ITS Nationaux= 2,8%salaires totaux des ivoiriens  / ITS Non Nationaux= 12%salaires totaux des Non Nationaux."]
["(3) En équivalent temps plein."]
["(4) Les totaux des colonnes \"Salaires Totaux\" + Totaux \"Charges sociales\" correspondent à la masse salariale et sont à reportés dans les \"Masse Salariales (Hors ITS)\" de la feuille \"EVOL EFFECTIF & MASS SALARIAL\" pour les années 1 et 5."]
["(5) Les Autres Charges de Personnel s'entend toutes les autres charges de personnel en dehors des salaires bruts et des charges de personnel intérimaire."]

{"sheet":"EVOL EFFECTIF&MASS SALARIAL-10 ","index":5,"n_rows":53,"n_cols":27,"rows_kept":53,"cut":false,"hidden":false,"merged":[[49,1,49,10],[48,1,48,10],[3,19,3,20],[3,0,4,0],[3,11,3,12],[3,13,3,14],[3,15,3,16],[3,17,3,18],[3,1,3,2],[3,3,3,4],[3,5,3,6],[3,7,3,8],[3,9,3,10]]}
[null,null,{"$f":"'REFERENCES - 10'!D7","v":0},null,null,null,{"$f":"'REFERENCES - 10'!D9","v":0},null,null,null,null,null,{"$f":"+C1","v":0},null,null,null,{"$f":"+G1","v":0},null,null,null,null,null,null,null,null,null,{"$f":"M1","v":0}]
[null,"EVOLUTION DES EFFECTIFS(1) & DE LA MASSE SALARIALE(2)",null,null,null,null,null,null,null,null,"(En milliers F. Cfa)","EVOLUTION DES EFFECTIFS(1) & DE LA MASSE SALARIALE(2)",null,null,null,null,null,null,null,null,"(En milliers F. Cfa)"]
[]
["CATEGORIES PROFESSIONNELLES","ANNEE 1",null,"ANNEE 2",null,"ANNEE 3",null,"ANNEE 4",null,"ANNEE 5 (3)",null,"ANNEE 6",null,"ANNEE 7",null,"ANNEE 8",null,"ANNEE 9",null,"ANNEE 10"]
[null,"Effectif","Salaires Annuels Totaux","Effectif","Salaires Annuels Totaux","Effectif","Salaires Annuels Totaux","Effectif","Salaires Annuels Totaux","Effectif","Salaires Annuels Totaux","Effectif","Salaires Annuels Totaux","Effectif","Salaires Annuels Totaux","Effectif","Salaires Annuels Totaux","Effectif","Salaires Annuels Totaux","Effectif","Salaires Annuels Totaux"]
[]
["Nationaux"]
[]
["Cadres supérieurs (DG & directeurs)",{"$f":"+'STRUCT.EMPLOI&MASS SALARIALE-10'!B9","v":0},{"$f":"+'STRUCT.EMPLOI&MASS SALARIALE-10'!C9","v":0},null,null,null,null,null,null,{"$f":"+'STRUCT.EMPLOI&MASS SALARIALE-10'!G9","v":0},{"$f":"+'STRUCT.EMPLOI&MASS SALARIALE-10'!H9","v":0}]
["Cadres moyens",{"$f":"+'STRUCT.EMPLOI&MASS SALARIALE-10'!B10","v":0},{"$f":"+'STRUCT.EMPLOI&MASS SALARIALE-10'!C10","v":0},null,null,null,null,null,null,{"$f":"+'STRUCT.EMPLOI&MASS SALARIALE-10'!G10","v":0},{"$f":"+'STRUCT.EMPLOI&MASS SALARIALE-10'!H10","v":0}]
["Agents Maîtrise",{"$f":"+'STRUCT.EMPLOI&MASS SALARIALE-10'!B11","v":0},{"$f":"+'STRUCT.EMPLOI&MASS SALARIALE-10'!C11","v":0},null,null,null,null,null,null,{"$f":"+'STRUCT.EMPLOI&MASS SALARIALE-10'!G11","v":0},{"$f":"+'STRUCT.EMPLOI&MASS SALARIALE-10'!H11","v":0}]
["Employés & Ouvriers",{"$f":"+'STRUCT.EMPLOI&MASS SALARIALE-10'!B12","v":0},{"$f":"+'STRUCT.EMPLOI&MASS SALARIALE-10'!C12","v":0},null,null,null,null,null,null,{"$f":"+'STRUCT.EMPLOI&MASS SALARIALE-10'!G12","v":0},{"$f":"+'STRUCT.EMPLOI&MASS SALARIALE-10'!H12","v":0}]
["Total Nationaux",{"$f":"B9+B10+B11+B12","v":0},{"$f":"C9+C10+C11+C12","v":0},0,0,0,0,0,0,{"$f":"J9+J10+J11+J12","v":0},0,0,0,0,0,0,0,0,0,0,0]
["Dont Permanents",{"$f":"+'STRUCT.EMPLOI&MASS SALARIALE-10'!B14","v":0},{"$f":"+'STRUCT.EMPLOI&MASS SALARIALE-10'!C14+'STRUCT.EMPLOI&MASS SALARIALE-10'!E14","v":0},null,null,null,null,null,null,{"$f":"+'STRUCT.EMPLOI&MASS SALARIALE-10'!G14","v":0},{"$f":"+'STRUCT.EMPLOI&MASS SALARIALE-10'!H14","v":0}]
["Dont Occasionnels(4)",{"$f":"+'STRUCT.EMPLOI&MASS SALARIALE-10'!B15","v":0},{"$f":"+'STRUCT.EMPLOI&MASS SALARIALE-10'!C15+'STRUCT.EMPLOI&MASS SALARIALE-10'!E15","v":0},null,null,null,null,null,null,{"$f":"+'STRUCT.EMPLOI&MASS SALARIALE-10'!G15","v":0},{"$f":"+'STRUCT.EMPLOI&MASS SALARIALE-10'!H15","v":0}]
[]
["Autres  Africains"]
[]
["Cadres supérieurs (DG & directeurs)",{"$f":"+'STRUCT.EMPLOI&MASS SALARIALE-10'!B18","v":0},{"$f":"+'STRUCT.EMPLOI&MASS SALARIALE-10'!C18","v":0},null,null,null,null,null,null,{"$f":"+'STRUCT.EMPLOI&MASS SALARIALE-10'!G18","v":0},{"$f":"+'STRUCT.EMPLOI&MASS SALARIALE-10'!H18","v":0}]
["Cadres moyens",{"$f":"+'STRUCT.EMPLOI&MASS SALARIALE-10'!B19","v":0},{"$f":"+'STRUCT.EMPLOI&MASS SALARIALE-10'!C19","v":0},null,null,null,null,null,null,{"$f":"+'STRUCT.EMPLOI&MASS SALARIALE-10'!G19","v":0},{"$f":"+'STRUCT.EMPLOI&MASS SALARIALE-10'!H19","v":0}]
["Agents Maîtrise",{"$f":"+'STRUCT.EMPLOI&MASS SALARIALE-10'!B20","v":0},{"$f":"+'STRUCT.EMPLOI&MASS SALARIALE-10'!C20","v":0},null,null,null,null,null,null,{"$f":"+'STRUCT.EMPLOI&MASS SALARIALE-10'!G20","v":0},{"$f":"+'STRUCT.EMPLOI&MASS SALARIALE-10'!H20","v":0}]
["Employés & Ouvriers",{"$f":"+'STRUCT.EMPLOI&MASS SALARIALE-10'!B21","v":0},{"$f":"+'STRUCT.EMPLOI&MASS SALARIALE-10'!C21","v":0},null,null,null,null,null,null,{"$f":"+'STRUCT.EMPLOI&MASS SALARIALE-10'!G21","v":0},{"$f":"+'STRUCT.EMPLOI&MASS SALARIALE-10'!H21","v":0}]
["Total autres Africains",{"$f":"B19+B20+B21+B22","v":0},0,0,0,0,0,0,0,0,0,0,0,0,0,0,0,0,0,0,0]
["Dont Permanents",{"$f":"+'STRUCT.EMPLOI&MASS SALARIALE-10'!B23","v":0},{"$f":"+'STRUCT.EMPLOI&MASS SALARIALE-10'!C23","v":0},null,null,null,null,null,null,{"$f":"+'STRUCT.EMPLOI&MASS SALARIALE-10'!G23","v":0},{"$f":"+'STRUCT.EMPLOI&MASS SALARIALE-10'!H23","v":0}]
["Dont Occasionnels(4)",{"$f":"+'STRUCT.EMPLOI&MASS SALARIALE-10'!B24","v":0},{"$f":"+'STRUCT.EMPLOI&MASS SALARIALE-10'!C24","v":0},null,null,null,null,null,null,{"$f":"+'STRUCT.EMPLOI&MASS SALARIALE-10'!G24","v":0},{"$f":"+'STRUCT.EMPLOI&MASS SALARIALE-10'!H24","v":0}]
[]
["Non Africains"]
[]
["Cadres supérieurs (DG & directeurs)",{"$f":"+'STRUCT.EMPLOI&MASS SALARIALE-10'!B27","v":0},{"$f":"+'STRUCT.EMPLOI&MASS SALARIALE-10'!C27","v":0},null,null,null,null,null,null,{"$f":"+'STRUCT.EMPLOI&MASS SALARIALE-10'!G27","v":0},{"$f":"+'STRUCT.EMPLOI&MASS SALARIALE-10'!H27","v":0}]
["Cadres moyens",{"$f":"+'STRUCT.EMPLOI&MASS SALARIALE-10'!B28","v":0},{"$f":"+'STRUCT.EMPLOI&MASS SALARIALE-10'!C28","v":0},null,null,null,null,null,null,{"$f":"+'STRUCT.EMPLOI&MASS SALARIALE-10'!G28","v":0},{"$f":"+'STRUCT.EMPLOI&MASS SALARIALE-10'!H28","v":0}]
["Agents Maîtrise",{"$f":"+'STRUCT.EMPLOI&MASS SALARIALE-10'!B29","v":0},{"$f":"+'STRUCT.EMPLOI&MASS SALARIALE-10'!C29","v":0},null,null,null,null,null,null,{"$f":"+'STRUCT.EMPLOI&MASS SALARIALE-10'!G29","v":0},{"$f":"+'STRUCT.EMPLOI&MASS SALARIALE-10'!H29","v":0}]
["Employés & Ouvriers",{"$f":"+'STRUCT.EMPLOI&MASS SALARIALE-10'!B30","v":0},{"$f":"+'STRUCT.EMPLOI&MASS SALARIALE-10'!C30","v":0},null,null,null,null,null,null,{"$f":"+'STRUCT.EMPLOI&MASS SALARIALE-10'!G30","v":0},{"$f":"+'STRUCT.EMPLOI&MASS SALARIALE-10'!H30","v":0}]
["Total Non Africains",{"$f":"B29+B30+B31+B32","v":0},{"$f":"C29+C30+C31+C32","v":0},0,0,0,0,0,0,0,0,{"$f":"L29+L30+L31+L32","v":0},0,0,0,0,0,0,0,0,0]
["Dont Permanents",{"$f":"+'STRUCT.EMPLOI&MASS SALARIALE-10'!B32","v":0},{"$f":"+'STRUCT.EMPLOI&MASS SALARIALE-10'!C32","v":0},null,null,null,null,null,null,{"$f":"+'STRUCT.EMPLOI&MASS SALARIALE-10'!G32","v":0},{"$f":"+'STRUCT.EMPLOI&MASS SALARIALE-10'!H32","v":0}]
["Dont Occasionnels(4)",{"$f":"+'STRUCT.EMPLOI&MASS SALARIALE-10'!B33","v":0},{"$f":"+'STRUCT.EMPLOI&MASS SALARIALE-10'!C33","v":0},null,null,null,null,null,null,{"$f":"+'STRUCT.EMPLOI&MASS SALARIALE-10'!G33","v":0},{"$f":"+'STRUCT.EMPLOI&MASS SALARIALE-10'!H33","v":0}]
[]
["Charges Sociales",null,{"$f":"'STRUCT.EMPLOI&MASS SALARIALE-10'!E40","v":0},null,null,null,null,null,null,null,{"$f":"'STRUCT.EMPLOI&MASS SALARIALE-10'!J40","v":0}]
[]
["Autres Charges de Personnel(5)",null,{"$f":"'STRUCT.EMPLOI&MASS SALARIALE-10'!F35","v":0},null,null,null,null,null,null,null,{"$f":"'STRUCT.EMPLOI&MASS SALARIALE-10'!K35","v":0}]
[]
["Emplois existants",{"$f":"'STRUCT.EMPLOI&MASS SALARIALE-10'!B37","v":0},{"$f":"'STRUCT.EMPLOI&MASS SALARIALE-10'!C37","v":0},{"$f":"D42+D43","v":0},0,0,0,0,0,{"$f":"'STRUCT.EMPLOI&MASS SALARIALE-10'!G37","v":0},{"$f":"'STRUCT.EMPLOI&MASS SALARIALE-10'!H37","v":0},{"$f":"'STRUCT.EMPLOI&MASS SALARIALE-10'!I37","v":0},{"$f":"'STRUCT.EMPLOI&MASS SALARIALE-10'!K37","v":0},{"$f":"'STRUCT.EMPLOI&MASS SALARIALE-10'!L37","v":0},{"$f":"'STRUCT.EMPLOI&MASS SALARIALE-10'!N37","v":0},{"$f":"'STRUCT.EMPLOI&MASS SALARIALE-10'!O37","v":0},{"$f":"'STRUCT.EMPLOI&MASS SALARIALE-10'!Q37","v":0},{"$f":"'STRUCT.EMPLOI&MASS SALARIALE-10'!R37","v":0},{"$f":"'STRUCT.EMPLOI&MASS SALARIALE-10'!T37","v":0},{"$f":"'STRUCT.EMPLOI&MASS SALARIALE-10'!U37","v":0},{"$f":"'STRUCT.EMPLOI&MASS SALARIALE-10'!W37","v":0}]
["Dont Permanents",{"$f":"'STRUCT.EMPLOI&MASS SALARIALE-10'!B38","v":0},{"$f":"'STRUCT.EMPLOI&MASS SALARIALE-10'!C38","v":0},null,null,null,null,null,null,{"$f":"'STRUCT.EMPLOI&MASS SALARIALE-10'!G38","v":0},{"$f":"'STRUCT.EMPLOI&MASS SALARIALE-10'!H38","v":0}]
["Dont Occasionnels(3)",{"$f":"'STRUCT.EMPLOI&MASS SALARIALE-10'!B39","v":0},{"$f":"'STRUCT.EMPLOI&MASS SALARIALE-10'!C39","v":0},null,null,null,null,null,null,{"$f":"'STRUCT.EMPLOI&MASS SALARIALE-10'!G39","v":0},{"$f":"'STRUCT.EMPLOI&MASS SALARIALE-10'!H39","v":0}]
[]
["TOTAL ",{"$f":"B39+B33+B23+B13","v":0},{"$f":"C39+C33+C23+C13+C37+C41","v":0},0,{"$f":"E39+E33+E23+E13+E37+E41","v":0},0,{"$f":"G39+G33+G23+G13+G37+G41","v":0},0,{"$f":"I39+I33+I23+I13+I37+I41","v":0},{"$f":"J39+J33+J23+J13","v":0},{"$f":"K39+K33+K23+K13+K37+K41","v":0},0,{"$f":"M39+M33+M23+M13+M37+M41","v":0},0,{"$f":"O39+O33+O23+O13+O37+O41","v":0},0,{"$f":"Q39+Q33+Q23+Q13+Q37+Q41","v":0},0,{"$f":"S39+S33+S23+S13+S37+S41","v":0},0,{"$f":"U39+U33+U23+U13+U37+U41","v":0}]
["Dont Permanents",{"$f":"'STRUCT.EMPLOI&MASS SALARIALE-10'!B41","v":0},{"$f":"'STRUCT.EMPLOI&MASS SALARIALE-10'!C41","v":0},null,null,null,null,null,null,{"$f":"'STRUCT.EMPLOI&MASS SALARIALE-10'!G41","v":0},{"$f":"'STRUCT.EMPLOI&MASS SALARIALE-10'!H41","v":0}]
["Dont Occasionnels(4)",{"$f":"'STRUCT.EMPLOI&MASS SALARIALE-10'!B42","v":0},{"$f":"'STRUCT.EMPLOI&MASS SALARIALE-10'!C42","v":0},null,null,null,null,null,null,{"$f":"'STRUCT.EMPLOI&MASS SALARIALE-10'!G42","v":0},{"$f":"'STRUCT.EMPLOI&MASS SALARIALE-10'!H42","v":0}]
[]
[null,"(1) Les effectifs comprennent le personnel en contrat direct avec l'entreprise y compris le personnel détaché, le personnel temporaire et ceux sous contrat précaire; ils décomptés en ETP (Equivalent Temps Plein). Les effectifs sous intérim ne sont pas intégrés ici ( ils le sont dans l'onglet suivant \"INTERIM & LOCATION MO\")."]
[null,"(2) La masse salariale s'entend les salaires bruts. Ne sont pas pris en compte les cotisations sociales et les ITS (pour mémoire, selon SYSCOHADA les ITS sont classifiés dans le compte de charge des impôts)."]
[null,"(3) La cinquième année d'exploitation est supposée correspondre à l'année de croisière."]
[null,"(4) En équivalent temps plein."]
[null,"(5) Les Autres Charges de Personnel s'entend toutes les autres charges de personnel en dehors des salaires bruts et des charges de personnel intérimaire."]

{"sheet":"INTERIM & LOCATION MO-10","index":6,"n_rows":34,"n_cols":27,"rows_kept":34,"cut":false,"hidden":false,"merged":[[3,19,3,20],[3,9,3,10],[32,1,32,10],[3,11,3,12],[3,13,3,14],[3,15,3,16],[3,17,3,18],[3,0,4,0],[3,1,3,2],[3,3,3,4],[3,5,3,6],[3,7,3,8]]}
[null,null,{"$f":"'REFERENCES - 10'!D7","v":0},null,null,null,{"$f":"'REFERENCES - 10'!D9","v":0},null,null,null,null,null,{"$f":"+C1","v":0},null,null,null,{"$f":"+G1","v":0},null,null,null,null,null,null,null,null,null,{"$f":"M1","v":0}]
[null,"EVOLUTION DES EFFECTIFS PERSONNEL INTERIMAIRE (1)",null,null,null,null,null,null,null,null,"(En milliers F. Cfa)","EVOLUTION DES EFFECTIFS PERSONNEL INTERIMAIRE (1)",null,null,null,null,null,null,null,null,"(En milliers F. Cfa)"]
[]
["CATEGORIES PROFESSIONNELLES","ANNEE 1",null,"ANNEE 2",null,"ANNEE 3",null,"ANNEE 4",null,"ANNEE 5 (2)",null,"ANNEE 6",null,"ANNEE 7",null,"ANNEE 8",null,"ANNEE 9",null,"ANNEE 10"]
[null,"Effectif","Facturation HT à l'entreprise","Effectif","Facturation HT à l'entreprise","Effectif","Facturation HT à l'entreprise","Effectif","Facturation HT à l'entreprise","Effectif","Facturation HT à l'entreprise","Effectif","Facturation HT à l'entreprise","Effectif","Facturation HT à l'entreprise","Effectif","Facturation HT à l'entreprise","Effectif","Facturation HT à l'entreprise","Effectif","Facturation HT à l'entreprise"]
[]
["Nationaux"]
[]
["Cadres supérieurs (DG & directeurs)"]
["Cadres moyens"]
["Agents Maîtrise"]
["Employés & Ouvriers"]
["Total Nationaux",{"$f":"B9+B10+B11+B12","v":0},{"$f":"C9+C10+C11+C12","v":0},0,0,0,0,0,0,0,0,0,0,0,0,0,0,0,0,0,0]
[]
["Autres  Africains"]
[]
["Cadres supérieurs (DG & directeurs)"]
["Cadres moyens"]
["Agents Maîtrise"]
["Employés & Ouvriers"]
["Total autres Africains",{"$f":"B17+B18+B19+B20","v":0},{"$f":"C17+C18+C19+C20","v":0},0,0,0,0,0,0,0,0,0,0,0,0,0,0,0,0,0,0]
[]
["Non Africains"]
[]
["Cadres supérieurs (DG & directeurs)"]
["Cadres moyens"]
["Agents Maîtrise"]
["Employés & Ouvriers"]
["Total Non Africains",{"$f":"B25+B26+B27+B28","v":0},{"$f":"C25+C26+C27+C28","v":0},0,0,0,0,0,0,0,0,0,0,0,0,0,0,0,0,0,0]
[]
["TOTAL",{"$f":"B29+B21+B13","v":0},0,0,0,0,0,0,0,0,0,0,0,0,0,0,0,0,0,0,0]
[]
[null,"(1) Le personnel intérimaire est mis à la disposition de l'entreprise par une société tiers moyennant facturation. La société tiers étant au plan juridique l'employeur du personnel intérimaire, l'entreprise n'est donc pas soumise  aux ITS ( le personnel occasionnel et temporaire sous contrat direct avec l'entreprise sont pris en compte dan l'onglet précédent \"EVOL EFFECTIF&MASS SALARIAL\") . Les effectifs de personnel intérimaire sont décomptés en ETP (Equivalent Temps Plein)."]
[null,"(2) La cinquième année d'exploitation est supposée correspondre à l'année de croisière."]

{"sheet":"INVENT.Logiciels Importés - 10","index":7,"n_rows":36,"n_cols":8,"rows_kept":36,"cut":false,"hidden":false,"merged":[]}
[null,null,{"$f":"'REFERENCES - 10'!D7","v":0},null,null,{"$f":"'REFERENCES - 10'!D9","v":0}]
[null,"INVENTAIRE DES MATERIELS EQUIPEMENTS IMPORTES"]
[null,null,null,null,null,null,null,"(En F. Cfa)"]
[null,"DESIGNATIONS DOUANIERES","N° NOMENCLATURE DOUANIERE","SPECIFICATIONS COMMERCIALES (1)","UNITE DE MESURE","QUAN.","VALEUR UNITAIRE","COÛT CAF"]
[]
[null,"Logiciels",null,null,null,{"$f":"SUM(F7:F36)","v":0},null,{"$f":"SUM(H7:H36)","v":0}]
[1,null,null,null,null,null,null,{"$f":"G7*F7","v":0}]
[{"$f":"+A7+1","v":2},null,null,null,null,null,null,0]
[{"$f":"+A8+1","v":3},null,null,null,null,null,null,0]
[4,null,null,null,null,null,null,0]
[5,null,null,null,null,null,null,0]
[6,null,null,null,null,null,null,0]
[7,null,null,null,null,null,null,0]
[8,null,null,null,null,null,null,0]
[9,null,null,null,null,null,null,0]
[10,null,null,null,null,null,null,0]
[11,null,null,null,null,null,null,{"$f":"G17*F17","v":0}]
[12,null,null,null,null,null,null,0]
[13,null,null,null,null,null,null,0]
[14,null,null,null,null,null,null,0]
[15,null,null,null,null,null,null,0]
[16,null,null,null,null,null,null,0]
[17,null,null,null,null,null,null,0]
[18,null,null,null,null,null,null,0]
[19,null,null,null,null,null,null,0]
[20,null,null,null,null,null,null,0]
[21,null,null,null,null,null,null,0]
[22,null,null,null,null,null,null,0]
[23,null,null,null,null,null,null,0]
[24,null,null,null,null,null,null,0]
[25,null,null,null,null,null,null,{"$f":"G31*F31","v":0}]
[26,null,null,null,null,null,null,0]
[27,null,null,null,null,null,null,0]
[28,null,null,null,null,null,null,0]
[29,null,null,null,null,null,null,0]
[30,null,null,null,null,null,null,0]

{"sheet":"INVENT.Autre Im Inco Importé-10","index":8,"n_rows":36,"n_cols":8,"rows_kept":36,"cut":false,"hidden":false,"merged":[]}
[null,null,{"$f":"'REFERENCES - 10'!D7","v":0},null,null,{"$f":"'REFERENCES - 10'!D9","v":0}]
[null,"INVENTAIRE DES MATERIELS EQUIPEMENTS IMPORTES"]
[null,null,null,null,null,null,null,"(En F. Cfa)"]
[null,"DESIGNATIONS DOUANIERES","N° NOMENCLATURE DOUANIERE","SPECIFICATIONS COMMERCIALES (1)","UNITE DE MESURE","QUAN.","VALEUR UNITAIRE","COÛT CAF"]
[]
[null,"Autres Immobilisations Incorporelles",null,null,null,{"$f":"SUM(F7:F36)","v":0},null,{"$f":"SUM(H7:H36)","v":0}]
[1,null,null,null,null,null,null,{"$f":"G7*F7","v":0}]
[{"$f":"+A7+1","v":2},null,null,null,null,null,null,{"$f":"G8*F8","v":0}]
[{"$f":"+A8+1","v":3},null,null,null,null,null,null,{"$f":"G9*F9","v":0}]
[4,null,null,null,null,null,null,{"$f":"G10*F10","v":0}]
[5,null,null,null,null,null,null,{"$f":"G11*F11","v":0}]
[6,null,null,null,null,null,null,{"$f":"G12*F12","v":0}]
[7,null,null,null,null,null,null,0]
[8,null,null,null,null,null,null,0]
[9,null,null,null,null,null,null,0]
[10,null,null,null,null,null,null,0]
[11,null,null,null,null,null,null,0]
[12,null,null,null,null,null,null,0]
[13,null,null,null,null,null,null,0]
[14,null,null,null,null,null,null,0]
[15,null,null,null,null,null,null,0]
[16,null,null,null,null,null,null,0]
[17,null,null,null,null,null,null,0]
[18,null,null,null,null,null,null,0]
[19,null,null,null,null,null,null,0]
[20,null,null,null,null,null,null,0]
[21,null,null,null,null,null,null,0]
[22,null,null,null,null,null,null,0]
[23,null,null,null,null,null,null,0]
[24,null,null,null,null,null,null,0]
[25,null,null,null,null,null,null,0]
[26,null,null,null,null,null,null,0]
[27,null,null,null,null,null,null,0]
[28,null,null,null,null,null,null,0]
[29,null,null,null,null,null,null,{"$f":"G35*F35","v":0}]
[30,null,null,null,null,null,null,{"$f":"G36*F36","v":0}]

{"sheet":"INVENT.Construc&Bat Importé -10","index":9,"n_rows":1006,"n_cols":8,"rows_kept":1006,"cut":false,"hidden":false,"merged":[]}
[null,null,{"$f":"'REFERENCES - 10'!D7","v":0},null,null,{"$f":"'REFERENCES - 10'!D9","v":0}]
[null,"INVENTAIRE DES MATERIELS EQUIPEMENTS IMPORTES"]
[null,null,null,null,null,null,null,"(En F. Cfa)"]
[null,"DESIGNATIONS DOUANIERES","N° NOMENCLATURE DOUANIERE","SPECIFICATIONS COMMERCIALES (1)","UNITE DE MESURE","QUAN.","VALEUR UNITAIRE","COÛT CAF"]
[]
[null,"Constructions & Bâtiments",null,null,null,{"$f":"SUM(F7:F306)","v":0},null,{"$f":"SUM(H7:H306)","v":0}]
[1,null,null,null,null,null,null,{"$f":"G7*F7","v":0}]
[{"$f":"+A7+1","v":2},null,null,null,null,null,null,{"$f":"G8*F8","v":0}]
[{"$f":"+A8+1","v":3},null,null,null,null,null,null,{"$f":"G9*F9","v":0}]
[4,null,null,null,null,null,null,{"$f":"G10*F10","v":0}]
[5,null,null,null,null,null,null,{"$f":"G11*F11","v":0}]
[6,null,null,null,null,null,null,{"$f":"G12*F12","v":0}]
[7,null,null,null,null,null,null,0]
[8,null,null,null,null,null,null,0]
[9,null,null,null,null,null,null,0]
[10,null,null,null,null,null,null,0]
[11,null,null,null,null,null,null,0]
[12,null,null,null,null,null,null,0]
[13,null,null,null,null,null,null,0]
[14,null,null,null,null,null,null,0]
[15,null,null,null,null,null,null,0]
[16,null,null,null,null,null,null,0]
[17,null,null,null,null,null,null,0]
[18,null,null,null,null,null,null,0]
[19,null,null,null,null,null,null,0]
[20,null,null,null,null,null,null,0]
[21,null,null,null,null,null,null,0]
[22,null,null,null,null,null,null,0]
[23,null,null,null,null,null,null,0]
[24,null,null,null,null,null,null,0]
[25,null,null,null,null,null,null,0]
[26,null,null,null,null,null,null,0]
[27,null,null,null,null,null,null,0]
[28,null,null,null,null,null,null,0]
[29,null,null,null,null,null,null,{"$f":"G35*F35","v":0}]
[30,null,null,null,null,null,null,0]
[31,null,null,null,null,null,null,0]
[32,null,null,null,null,null,null,0]
[33,null,null,null,null,null,null,0]
[34,null,null,null,null,null,null,0]
[35,null,null,null,null,null,null,0]
[36,null,null,null,null,null,null,0]
[37,null,null,null,null,null,null,0]
[38,null,null,null,null,null,null,0]
[39,null,null,null,null,null,null,0]
[40,null,null,null,null,null,null,0]
[41,null,null,null,null,null,null,0]
[42,null,null,null,null,null,null,0]
[43,null,null,null,null,null,null,0]
[44,null,null,null,null,null,null,0]
[45,null,null,null,null,null,null,0]
[46,null,null,null,null,null,null,0]
[47,null,null,null,null,null,null,0]
[48,null,null,null,null,null,null,0]
[49,null,null,null,null,null,null,0]
[50,null,null,null,null,null,null,0]
[51,null,null,null,null,null,null,0]
[52,null,null,null,null,null,null,0]
[53,null,null,null,null,null,null,0]
[54,null,null,null,null,null,null,0]
[55,null,null,null,null,null,null,0]
[56,null,null,null,null,null,null,0]
[57,null,null,null,null,null,null,0]
[58,null,null,null,null,null,null,0]
[59,null,null,null,null,null,null,0]
[60,null,null,null,null,null,null,{"$f":"G66*F66","v":0}]
[61,null,null,null,null,null,null,0]
[62,null,null,null,null,null,null,0]
[63,null,null,null,null,null,null,0]
[64,null,null,null,null,null,null,0]
[65,null,null,null,null,null,null,0]
[66,null,null,null,null,null,null,0]
[67,null,null,null,null,null,null,0]
[68,null,null,null,null,null,null,0]
[69,null,null,null,null,null,null,0]
[70,null,null,null,null,null,null,0]
[71,null,null,null,null,null,null,0]
[72,null,null,null,null,null,null,0]
[73,null,null,null,null,null,null,0]
[74,null,null,null,null,null,null,0]
[75,null,null,null,null,null,null,0]
[76,null,null,null,null,null,null,0]
[77,null,null,null,null,null,null,0]
[78,null,null,null,null,null,null,0]
[79,null,null,null,null,null,null,0]
[80,null,null,null,null,null,null,0]
[81,null,null,null,null,null,null,0]
[82,null,null,null,null,null,null,0]
[83,null,null,null,null,null,null,0]
[84,null,null,null,null,null,null,0]
[85,null,null,null,null,null,null,0]
[86,null,null,null,null,null,null,0]
[87,null,null,null,null,null,null,0]
[88,null,null,null,null,null,null,0]
[89,null,null,null,null,null,null,0]
[90,null,null,null,null,null,null,0]
[91,null,null,null,null,null,null,{"$f":"G97*F97","v":0}]
[92,null,null,null,null,null,null,0]
[93,null,null,null,null,null,null,0]
[94,null,null,null,null,null,null,0]
[95,null,null,null,null,null,null,0]
[96,null,null,null,null,null,null,0]
[97,null,null,null,null,null,null,0]
[98,null,null,null,null,null,null,{"$f":"G104*F104","v":0}]
[99,null,null,null,null,null,null,0]
[100,null,null,null,null,null,null,0]
[101,null,null,null,null,null,null,0]
[{"$f":"+A107+1","v":102},null,null,null,null,null,null,0]
[103,null,null,null,null,null,null,0]
[104,null,null,null,null,null,null,0]
[105,null,null,null,null,null,null,0]
[106,null,null,null,null,null,null,0]
[107,null,null,null,null,null,null,0]
[108,null,null,null,null,null,null,0]
[109,null,null,null,null,null,null,0]
[110,null,null,null,null,null,null,0]
[111,null,null,null,null,null,null,0]
[112,null,null,null,null,null,null,0]
[113,null,null,null,null,null,null,0]
[114,null,null,null,null,null,null,0]
[115,null,null,null,null,null,null,0]
[116,null,null,null,null,null,null,0]
[117,null,null,null,null,null,null,0]
[118,null,null,null,null,null,null,0]
[119,null,null,null,null,null,null,0]
[120,null,null,null,null,null,null,0]
[121,null,null,null,null,null,null,0]
[122,null,null,null,null,null,null,0]
[123,null,null,null,null,null,null,0]
[124,null,null,null,null,null,null,0]
[125,null,null,null,null,null,null,0]
[126,null,null,null,null,null,null,0]
[127,null,null,null,null,null,null,0]
[128,null,null,null,null,null,null,0]
[129,null,null,null,null,null,null,0]
[130,null,null,null,null,null,null,0]
[131,null,null,null,null,null,null,0]
[132,null,null,null,null,null,null,0]
[133,null,null,null,null,null,null,0]
[134,null,null,null,null,null,null,0]
[135,null,null,null,null,null,null,0]
[136,null,null,null,null,null,null,0]
[137,null,null,null,null,null,null,0]
[138,null,null,null,null,null,null,0]
[139,null,null,null,null,null,null,0]
[140,null,null,null,null,null,null,0]
[141,null,null,null,null,null,null,0]
[142,null,null,null,null,null,null,0]
[143,null,null,null,null,null,null,0]
[144,null,null,null,null,null,null,0]
[145,null,null,null,null,null,null,0]
[146,null,null,null,null,null,null,0]
[147,null,null,null,null,null,null,0]
[148,null,null,null,null,null,null,0]
[149,null,null,null,null,null,null,0]
[150,null,null,null,null,null,null,0]
[151,null,null,null,null,null,null,0]
[152,null,null,null,null,null,null,0]
[153,null,null,null,null,null,null,0]
[154,null,null,null,null,null,null,0]
[155,null,null,null,null,null,null,0]
[156,null,null,null,null,null,null,0]
[157,null,null,null,null,null,null,0]
[158,null,null,null,null,null,null,0]
[159,null,null,null,null,null,null,0]
[160,null,null,null,null,null,null,0]
[161,null,null,null,null,null,null,0]
[162,null,null,null,null,null,null,{"$f":"G168*F168","v":0}]
[163,null,null,null,null,null,null,0]
[164,null,null,null,null,null,null,0]
[165,null,null,null,null,null,null,0]
[{"$f":"+A171+1","v":166},null,null,null,null,null,null,0]
[167,null,null,null,null,null,null,0]
[168,null,null,null,null,null,null,0]
[169,null,null,null,null,null,null,0]
[170,null,null,null,null,null,null,0]
[171,null,null,null,null,null,null,0]
[172,null,null,null,null,null,null,0]
[173,null,null,null,null,null,null,0]
[174,null,null,null,null,null,null,0]
[175,null,null,null,null,null,null,0]
[176,null,null,null,null,null,null,0]
[177,null,null,null,null,null,null,0]
[178,null,null,null,null,null,null,0]
[179,null,null,null,null,null,null,0]
[180,null,null,null,null,null,null,0]
[181,null,null,null,null,null,null,0]
[182,null,null,null,null,null,null,0]
[183,null,null,null,null,null,null,0]
[184,null,null,null,null,null,null,0]
[185,null,null,null,null,null,null,0]
[186,null,null,null,null,null,null,0]
[187,null,null,null,null,null,null,0]
[188,null,null,null,null,null,null,0]
[189,null,null,null,null,null,null,0]
[190,null,null,null,null,null,null,0]
[191,null,null,null,null,null,null,0]
[192,null,null,null,null,null,null,0]
[193,null,null,null,null,null,null,0]
[194,null,null,null,null,null,null,0]
[195,null,null,null,null,null,null,0]
[196,null,null,null,null,null,null,0]
[197,null,null,null,null,null,null,0]
[198,null,null,null,null,null,null,0]
[199,null,null,null,null,null,null,0]
[200,null,null,null,null,null,null,0]
[201,null,null,null,null,null,null,0]
[202,null,null,null,null,null,null,0]
[203,null,null,null,null,null,null,0]
[204,null,null,null,null,null,null,0]
[205,null,null,null,null,null,null,0]
[206,null,null,null,null,null,null,0]
[207,null,null,null,null,null,null,0]
[208,null,null,null,null,null,null,0]
[209,null,null,null,null,null,null,0]
[210,null,null,null,null,null,null,0]
[211,null,null,null,null,null,null,0]
[212,null,null,null,null,null,null,0]
[213,null,null,null,null,null,null,0]
[214,null,null,null,null,null,null,0]
[215,null,null,null,null,null,null,0]
[216,null,null,null,null,null,null,0]
[217,null,null,null,null,null,null,0]
[218,null,null,null,null,null,null,0]
[219,null,null,null,null,null,null,0]
[220,null,null,null,null,null,null,0]
[221,null,null,null,null,null,null,0]
[222,null,null,null,null,null,null,0]
[223,null,null,null,null,null,null,0]
[224,null,null,null,null,null,null,0]
[225,null,null,null,null,null,null,0]
[226,null,null,null,null,null,null,{"$f":"G232*F232","v":0}]
[227,null,null,null,null,null,null,0]
[228,null,null,null,null,null,null,0]
[229,null,null,null,null,null,null,0]
[{"$f":"+A235+1","v":230},null,null,null,null,null,null,0]
[231,null,null,null,null,null,null,0]
[232,null,null,null,null,null,null,0]
[233,null,null,null,null,null,null,0]
[234,null,null,null,null,null,null,0]
[235,null,null,null,null,null,null,0]
[236,null,null,null,null,null,null,0]
[237,null,null,null,null,null,null,0]
[238,null,null,null,null,null,null,0]
[239,null,null,null,null,null,null,0]
[240,null,null,null,null,null,null,0]
[241,null,null,null,null,null,null,0]
[242,null,null,null,null,null,null,0]
[243,null,null,null,null,null,null,0]
[244,null,null,null,null,null,null,0]
[245,null,null,null,null,null,null,0]
[246,null,null,null,null,null,null,0]
[247,null,null,null,null,null,null,0]
[248,null,null,null,null,null,null,0]
[249,null,null,null,null,null,null,0]
[250,null,null,null,null,null,null,0]
[251,null,null,null,null,null,null,0]
[252,null,null,null,null,null,null,0]
[253,null,null,null,null,null,null,0]
[254,null,null,null,null,null,null,0]
[255,null,null,null,null,null,null,0]
[256,null,null,null,null,null,null,0]
[257,null,null,null,null,null,null,0]
[258,null,null,null,null,null,null,0]
[259,null,null,null,null,null,null,0]
[260,null,null,null,null,null,null,0]
[261,null,null,null,null,null,null,0]
[262,null,null,null,null,null,null,0]
[263,null,null,null,null,null,null,0]
[264,null,null,null,null,null,null,0]
[265,null,null,null,null,null,null,0]
[266,null,null,null,null,null,null,0]
[267,null,null,null,null,null,null,0]
[268,null,null,null,null,null,null,0]
[269,null,null,null,null,null,null,0]
[270,null,null,null,null,null,null,0]
[271,null,null,null,null,null,null,0]
[272,null,null,null,null,null,null,0]
[273,null,null,null,null,null,null,0]
[274,null,null,null,null,null,null,0]
[275,null,null,null,null,null,null,0]
[276,null,null,null,null,null,null,0]
[277,null,null,null,null,null,null,0]
[278,null,null,null,null,null,null,0]
[279,null,null,null,null,null,null,0]
[280,null,null,null,null,null,null,0]
[281,null,null,null,null,null,null,0]
[282,null,null,null,null,null,null,0]
[283,null,null,null,null,null,null,0]
[284,null,null,null,null,null,null,0]
[285,null,null,null,null,null,null,0]
[286,null,null,null,null,null,null,0]
[287,null,null,null,null,null,null,0]
[288,null,null,null,null,null,null,0]
[289,null,null,null,null,null,null,0]
[290,null,null,null,null,null,null,{"$f":"G296*F296","v":0}]
[291,null,null,null,null,null,null,0]
[292,null,null,null,null,null,null,0]
[293,null,null,null,null,null,null,0]
[{"$f":"+A299+1","v":294},null,null,null,null,null,null,0]
[295,null,null,null,null,null,null,0]
[296,null,null,null,null,null,null,0]
[297,null,null,null,null,null,null,0]
[298,null,null,null,null,null,null,0]
[299,null,null,null,null,null,null,0]
[300,null,null,null,null,null,null,0]
[301,null,null,null,null,null,null,{"$f":"G307*F307","v":0}]
[302,null,null,null,null,null,null,0]
[303,null,null,null,null,null,null,0]
[304,null,null,null,null,null,null,0]
[305,null,null,null,null,null,null,0]
[306,null,null,null,null,null,null,0]
[307,null,null,null,null,null,null,0]
[308,null,null,null,null,null,null,0]
[309,null,null,null,null,null,null,0]
[310,null,null,null,null,null,null,0]
[311,null,null,null,null,null,null,0]
[312,null,null,null,null,null,null,0]
[313,null,null,null,null,null,null,0]
[314,null,null,null,null,null,null,0]
[315,null,null,null,null,null,null,0]
[316,null,null,null,null,null,null,0]
[317,null,null,null,null,null,null,0]
[318,null,null,null,null,null,null,0]
[319,null,null,null,null,null,null,0]
[320,null,null,null,null,null,null,0]
[321,null,null,null,null,null,null,0]
[322,null,null,null,null,null,null,0]
[323,null,null,null,null,null,null,0]
[324,null,null,null,null,null,null,0]
[325,null,null,null,null,null,null,0]
[326,null,null,null,null,null,null,0]
[327,null,null,null,null,null,null,0]
[328,null,null,null,null,null,null,0]
[329,null,null,null,null,null,null,0]
[330,null,null,null,null,null,null,0]
[331,null,null,null,null,null,null,0]
[332,null,null,null,null,null,null,0]
[333,null,null,null,null,null,null,0]
[334,null,null,null,null,null,null,0]
[335,null,null,null,null,null,null,0]
[336,null,null,null,null,null,null,0]
[337,null,null,null,null,null,null,0]
[338,null,null,null,null,null,null,0]
[339,null,null,null,null,null,null,0]
[340,null,null,null,null,null,null,0]
[341,null,null,null,null,null,null,0]
[342,null,null,null,null,null,null,0]
[343,null,null,null,null,null,null,0]
[344,null,null,null,null,null,null,0]
[345,null,null,null,null,null,null,0]
[346,null,null,null,null,null,null,0]
[347,null,null,null,null,null,null,0]
[348,null,null,null,null,null,null,0]
[349,null,null,null,null,null,null,0]
[350,null,null,null,null,null,null,0]
[351,null,null,null,null,null,null,0]
[352,null,null,null,null,null,null,0]
[353,null,null,null,null,null,null,0]
[354,null,null,null,null,null,null,0]
[355,null,null,null,null,null,null,0]
[356,null,null,null,null,null,null,0]
[357,null,null,null,null,null,null,0]
[{"$f":"+A363+1","v":358},null,null,null,null,null,null,0]
[359,null,null,null,null,null,null,0]
[360,null,null,null,null,null,null,0]
[361,null,null,null,null,null,null,0]
[362,null,null,null,null,null,null,0]
[363,null,null,null,null,null,null,0]
[364,null,null,null,null,null,null,0]
[365,null,null,null,null,null,null,{"$f":"G371*F371","v":0}]
[366,null,null,null,null,null,null,0]
[367,null,null,null,null,null,null,0]
[368,null,null,null,null,null,null,0]
[369,null,null,null,null,null,null,0]
[370,null,null,null,null,null,null,0]
[371,null,null,null,null,null,null,0]
[372,null,null,null,null,null,null,0]
[373,null,null,null,null,null,null,0]
[374,null,null,null,null,null,null,0]
[375,null,null,null,null,null,null,0]
[376,null,null,null,null,null,null,0]
[377,null,null,null,null,null,null,0]
[378,null,null,null,null,null,null,0]
[379,null,null,null,null,null,null,0]
[380,null,null,null,null,null,null,0]
[381,null,null,null,null,null,null,0]
[382,null,null,null,null,null,null,0]
[383,null,null,null,null,null,null,0]
[384,null,null,null,null,null,null,0]
[385,null,null,null,null,null,null,0]
[386,null,null,null,null,null,null,0]
[387,null,null,null,null,null,null,0]
[388,null,null,null,null,null,null,0]
[389,null,null,null,null,null,null,0]
[390,null,null,null,null,null,null,0]
[391,null,null,null,null,null,null,0]
[392,null,null,null,null,null,null,0]
[393,null,null,null,null,null,null,0]
[394,null,null,null,null,null,null,0]
[395,null,null,null,null,null,null,0]
[396,null,null,null,null,null,null,0]
[397,null,null,null,null,null,null,0]
[398,null,null,null,null,null,null,0]
[399,null,null,null,null,null,null,0]
[400,null,null,null,null,null,null,0]
[401,null,null,null,null,null,null,0]
[402,null,null,null,null,null,null,0]
[403,null,null,null,null,null,null,0]
[404,null,null,null,null,null,null,0]
[405,null,null,null,null,null,null,0]
[406,null,null,null,null,null,null,0]
[407,null,null,null,null,null,null,0]
[408,null,null,null,null,null,null,0]
[409,null,null,null,null,null,null,0]
[410,null,null,null,null,null,null,0]
[411,null,null,null,null,null,null,0]
[412,null,null,null,null,null,null,0]
[413,null,null,null,null,null,null,0]
[414,null,null,null,null,null,null,0]
[415,null,null,null,null,null,null,0]
[416,null,null,null,null,null,null,0]
[417,null,null,null,null,null,null,0]
[418,null,null,null,null,null,null,0]
[419,null,null,null,null,null,null,0]
[420,null,null,null,null,null,null,0]
[421,null,null,null,null,null,null,0]
[{"$f":"+A427+1","v":422},null,null,null,null,null,null,0]
[423,null,null,null,null,null,null,0]
[424,null,null,null,null,null,null,0]
[425,null,null,null,null,null,null,0]
[426,null,null,null,null,null,null,0]
[427,null,null,null,null,null,null,0]
[428,null,null,null,null,null,null,0]
[429,null,null,null,null,null,null,{"$f":"G435*F435","v":0}]
[430,null,null,null,null,null,null,0]
[431,null,null,null,null,null,null,0]
[432,null,null,null,null,null,null,0]
[433,null,null,null,null,null,null,0]
[434,null,null,null,null,null,null,0]
[435,null,null,null,null,null,null,0]
[436,null,null,null,null,null,null,0]
[437,null,null,null,null,null,null,0]
[438,null,null,null,null,null,null,0]
[439,null,null,null,null,null,null,0]
[440,null,null,null,null,null,null,0]
[441,null,null,null,null,null,null,0]
[442,null,null,null,null,null,null,0]
[443,null,null,null,null,null,null,0]
[444,null,null,null,null,null,null,0]
[445,null,null,null,null,null,null,0]
[446,null,null,null,null,null,null,0]
[447,null,null,null,null,null,null,0]
[448,null,null,null,null,null,null,0]
[449,null,null,null,null,null,null,0]
[450,null,null,null,null,null,null,0]
[451,null,null,null,null,null,null,0]
[452,null,null,null,null,null,null,0]
[453,null,null,null,null,null,null,0]
[454,null,null,null,null,null,null,0]
[455,null,null,null,null,null,null,0]
[456,null,null,null,null,null,null,0]
[457,null,null,null,null,null,null,0]
[458,null,null,null,null,null,null,0]
[459,null,null,null,null,null,null,0]
[460,null,null,null,null,null,null,0]
[461,null,null,null,null,null,null,0]
[462,null,null,null,null,null,null,0]
[463,null,null,null,null,null,null,0]
[464,null,null,null,null,null,null,0]
[465,null,null,null,null,null,null,0]
[466,null,null,null,null,null,null,0]
[467,null,null,null,null,null,null,0]
[468,null,null,null,null,null,null,0]
[469,null,null,null,null,null,null,0]
[470,null,null,null,null,null,null,0]
[471,null,null,null,null,null,null,0]
[472,null,null,null,null,null,null,0]
[473,null,null,null,null,null,null,0]
[474,null,null,null,null,null,null,0]
[475,null,null,null,null,null,null,0]
[476,null,null,null,null,null,null,0]
[477,null,null,null,null,null,null,0]
[478,null,null,null,null,null,null,0]
[479,null,null,null,null,null,null,0]
[480,null,null,null,null,null,null,0]
[481,null,null,null,null,null,null,0]
[482,null,null,null,null,null,null,0]
[483,null,null,null,null,null,null,0]
[484,null,null,null,null,null,null,0]
[485,null,null,null,null,null,null,0]
[{"$f":"+A491+1","v":486},null,null,null,null,null,null,0]
[487,null,null,null,null,null,null,0]
[488,null,null,null,null,null,null,0]
[489,null,null,null,null,null,null,0]
[490,null,null,null,null,null,null,0]
[491,null,null,null,null,null,null,0]
[492,null,null,null,null,null,null,0]
[493,null,null,null,null,null,null,{"$f":"G499*F499","v":0}]
[494,null,null,null,null,null,null,0]
[495,null,null,null,null,null,null,0]
[496,null,null,null,null,null,null,0]
[497,null,null,null,null,null,null,0]
[498,null,null,null,null,null,null,0]
[499,null,null,null,null,null,null,0]
[500,null,null,null,null,null,null,0]
[501,null,null,null,null,null,null,0]
[502,null,null,null,null,null,null,0]
[503,null,null,null,null,null,null,0]
[504,null,null,null,null,null,null,0]
[505,null,null,null,null,null,null,0]
[506,null,null,null,null,null,null,0]
[507,null,null,null,null,null,null,0]
[508,null,null,null,null,null,null,0]
[509,null,null,null,null,null,null,0]
[510,null,null,null,null,null,null,0]
[511,null,null,null,null,null,null,0]
[512,null,null,null,null,null,null,0]
[513,null,null,null,null,null,null,0]
[514,null,null,null,null,null,null,0]
[515,null,null,null,null,null,null,0]
[516,null,null,null,null,null,null,0]
[517,null,null,null,null,null,null,0]
[518,null,null,null,null,null,null,0]
[519,null,null,null,null,null,null,0]
[520,null,null,null,null,null,null,0]
[521,null,null,null,null,null,null,0]
[522,null,null,null,null,null,null,0]
[523,null,null,null,null,null,null,0]
[524,null,null,null,null,null,null,0]
[525,null,null,null,null,null,null,0]
[526,null,null,null,null,null,null,0]
[527,null,null,null,null,null,null,0]
[528,null,null,null,null,null,null,0]
[529,null,null,null,null,null,null,0]
[530,null,null,null,null,null,null,0]
[531,null,null,null,null,null,null,0]
[532,null,null,null,null,null,null,0]
[533,null,null,null,null,null,null,0]
[534,null,null,null,null,null,null,0]
[535,null,null,null,null,null,null,0]
[536,null,null,null,null,null,null,0]
[537,null,null,null,null,null,null,0]
[538,null,null,null,null,null,null,0]
[539,null,null,null,null,null,null,0]
[540,null,null,null,null,null,null,0]
[541,null,null,null,null,null,null,0]
[542,null,null,null,null,null,null,0]
[543,null,null,null,null,null,null,0]
[544,null,null,null,null,null,null,0]
[545,null,null,null,null,null,null,0]
[546,null,null,null,null,null,null,0]
[547,null,null,null,null,null,null,0]
[548,null,null,null,null,null,null,0]
[549,null,null,null,null,null,null,0]
[{"$f":"+A555+1","v":550},null,null,null,null,null,null,0]
[551,null,null,null,null,null,null,0]
[552,null,null,null,null,null,null,0]
[553,null,null,null,null,null,null,0]
[554,null,null,null,null,null,null,0]
[555,null,null,null,null,null,null,0]
[556,null,null,null,null,null,null,0]
[557,null,null,null,null,null,null,{"$f":"G563*F563","v":0}]
[558,null,null,null,null,null,null,0]
[559,null,null,null,null,null,null,0]
[560,null,null,null,null,null,null,0]
[561,null,null,null,null,null,null,0]
[562,null,null,null,null,null,null,0]
[563,null,null,null,null,null,null,0]
[564,null,null,null,null,null,null,0]
[565,null,null,null,null,null,null,0]
[566,null,null,null,null,null,null,0]
[567,null,null,null,null,null,null,0]
[568,null,null,null,null,null,null,0]
[569,null,null,null,null,null,null,0]
[570,null,null,null,null,null,null,0]
[571,null,null,null,null,null,null,0]
[572,null,null,null,null,null,null,0]
[573,null,null,null,null,null,null,0]
[574,null,null,null,null,null,null,0]
[575,null,null,null,null,null,null,0]
[576,null,null,null,null,null,null,0]
[577,null,null,null,null,null,null,0]
[578,null,null,null,null,null,null,0]
[579,null,null,null,null,null,null,0]
[580,null,null,null,null,null,null,0]
[581,null,null,null,null,null,null,0]
[582,null,null,null,null,null,null,0]
[583,null,null,null,null,null,null,0]
[584,null,null,null,null,null,null,0]
[585,null,null,null,null,null,null,0]
[586,null,null,null,null,null,null,0]
[587,null,null,null,null,null,null,0]
[588,null,null,null,null,null,null,0]
[589,null,null,null,null,null,null,0]
[590,null,null,null,null,null,null,0]
[591,null,null,null,null,null,null,0]
[592,null,null,null,null,null,null,0]
[593,null,null,null,null,null,null,0]
[594,null,null,null,null,null,null,0]
[595,null,null,null,null,null,null,0]
[596,null,null,null,null,null,null,0]
[597,null,null,null,null,null,null,0]
[598,null,null,null,null,null,null,0]
[599,null,null,null,null,null,null,0]
[600,null,null,null,null,null,null,0]
[601,null,null,null,null,null,null,0]
[602,null,null,null,null,null,null,0]
[603,null,null,null,null,null,null,0]
[604,null,null,null,null,null,null,0]
[605,null,null,null,null,null,null,0]
[606,null,null,null,null,null,null,0]
[607,null,null,null,null,null,null,0]
[608,null,null,null,null,null,null,0]
[609,null,null,null,null,null,null,0]
[610,null,null,null,null,null,null,0]
[611,null,null,null,null,null,null,0]
[612,null,null,null,null,null,null,0]
[613,null,null,null,null,null,null,0]
[{"$f":"+A619+1","v":614},null,null,null,null,null,null,0]
[615,null,null,null,null,null,null,0]
[616,null,null,null,null,null,null,0]
[617,null,null,null,null,null,null,0]
[618,null,null,null,null,null,null,0]
[619,null,null,null,null,null,null,0]
[620,null,null,null,null,null,null,0]
[621,null,null,null,null,null,null,{"$f":"G627*F627","v":0}]
[622,null,null,null,null,null,null,0]
[623,null,null,null,null,null,null,0]
[624,null,null,null,null,null,null,0]
[625,null,null,null,null,null,null,0]
[626,null,null,null,null,null,null,0]
[627,null,null,null,null,null,null,0]
[628,null,null,null,null,null,null,0]
[629,null,null,null,null,null,null,0]
[630,null,null,null,null,null,null,0]
[631,null,null,null,null,null,null,0]
[632,null,null,null,null,null,null,0]
[633,null,null,null,null,null,null,0]
[634,null,null,null,null,null,null,0]
[635,null,null,null,null,null,null,0]
[636,null,null,null,null,null,null,0]
[637,null,null,null,null,null,null,0]
[638,null,null,null,null,null,null,0]
[639,null,null,null,null,null,null,0]
[640,null,null,null,null,null,null,0]
[641,null,null,null,null,null,null,0]
[642,null,null,null,null,null,null,0]
[643,null,null,null,null,null,null,0]
[644,null,null,null,null,null,null,0]
[645,null,null,null,null,null,null,0]
[646,null,null,null,null,null,null,0]
[647,null,null,null,null,null,null,0]
[648,null,null,null,null,null,null,0]
[649,null,null,null,null,null,null,0]
[650,null,null,null,null,null,null,0]
[651,null,null,null,null,null,null,0]
[652,null,null,null,null,null,null,0]
[653,null,null,null,null,null,null,0]
[654,null,null,null,null,null,null,0]
[655,null,null,null,null,null,null,0]
[656,null,null,null,null,null,null,0]
[657,null,null,null,null,null,null,0]
[658,null,null,null,null,null,null,0]
[659,null,null,null,null,null,null,0]
[660,null,null,null,null,null,null,0]
[661,null,null,null,null,null,null,0]
[662,null,null,null,null,null,null,0]
[663,null,null,null,null,null,null,0]
[664,null,null,null,null,null,null,0]
[665,null,null,null,null,null,null,0]
[666,null,null,null,null,null,null,0]
[667,null,null,null,null,null,null,0]
[668,null,null,null,null,null,null,0]
[669,null,null,null,null,null,null,0]
[670,null,null,null,null,null,null,0]
[671,null,null,null,null,null,null,0]
[672,null,null,null,null,null,null,0]
[673,null,null,null,null,null,null,0]
[674,null,null,null,null,null,null,0]
[675,null,null,null,null,null,null,0]
[676,null,null,null,null,null,null,0]
[677,null,null,null,null,null,null,0]
[{"$f":"+A683+1","v":678},null,null,null,null,null,null,0]
[679,null,null,null,null,null,null,0]
[680,null,null,null,null,null,null,0]
[681,null,null,null,null,null,null,0]
[682,null,null,null,null,null,null,0]
[683,null,null,null,null,null,null,0]
[684,null,null,null,null,null,null,0]
[685,null,null,null,null,null,null,{"$f":"G691*F691","v":0}]
[686,null,null,null,null,null,null,0]
[687,null,null,null,null,null,null,0]
[688,null,null,null,null,null,null,0]
[689,null,null,null,null,null,null,0]
[690,null,null,null,null,null,null,0]
[691,null,null,null,null,null,null,0]
[692,null,null,null,null,null,null,0]
[693,null,null,null,null,null,null,0]
[694,null,null,null,null,null,null,0]
[695,null,null,null,null,null,null,0]
[696,null,null,null,null,null,null,0]
[697,null,null,null,null,null,null,0]
[698,null,null,null,null,null,null,0]
[699,null,null,null,null,null,null,0]
[700,null,null,null,null,null,null,0]
[701,null,null,null,null,null,null,0]
[702,null,null,null,null,null,null,0]
[703,null,null,null,null,null,null,0]
[704,null,null,null,null,null,null,0]
[705,null,null,null,null,null,null,0]
[706,null,null,null,null,null,null,0]
[707,null,null,null,null,null,null,0]
[708,null,null,null,null,null,null,0]
[709,null,null,null,null,null,null,0]
[710,null,null,null,null,null,null,0]
[711,null,null,null,null,null,null,0]
[712,null,null,null,null,null,null,0]
[713,null,null,null,null,null,null,0]
[714,null,null,null,null,null,null,0]
[715,null,null,null,null,null,null,0]
[716,null,null,null,null,null,null,0]
[717,null,null,null,null,null,null,0]
[718,null,null,null,null,null,null,0]
[719,null,null,null,null,null,null,0]
[720,null,null,null,null,null,null,0]
[721,null,null,null,null,null,null,0]
[722,null,null,null,null,null,null,0]
[723,null,null,null,null,null,null,0]
[724,null,null,null,null,null,null,0]
[725,null,null,null,null,null,null,0]
[726,null,null,null,null,null,null,0]
[727,null,null,null,null,null,null,0]
[728,null,null,null,null,null,null,0]
[729,null,null,null,null,null,null,0]
[730,null,null,null,null,null,null,0]
[731,null,null,null,null,null,null,0]
[732,null,null,null,null,null,null,0]
[733,null,null,null,null,null,null,0]
[734,null,null,null,null,null,null,0]
[735,null,null,null,null,null,null,0]
[736,null,null,null,null,null,null,0]
[737,null,null,null,null,null,null,0]
[738,null,null,null,null,null,null,0]
[739,null,null,null,null,null,null,0]
[740,null,null,null,null,null,null,0]
[741,null,null,null,null,null,null,0]
[{"$f":"+A747+1","v":742},null,null,null,null,null,null,0]
[743,null,null,null,null,null,null,0]
[744,null,null,null,null,null,null,0]
[745,null,null,null,null,null,null,0]
[746,null,null,null,null,null,null,0]
[747,null,null,null,null,null,null,0]
[748,null,null,null,null,null,null,0]
[749,null,null,null,null,null,null,{"$f":"G755*F755","v":0}]
[750,null,null,null,null,null,null,0]
[751,null,null,null,null,null,null,0]
[752,null,null,null,null,null,null,0]
[753,null,null,null,null,null,null,0]
[754,null,null,null,null,null,null,0]
[755,null,null,null,null,null,null,0]
[756,null,null,null,null,null,null,0]
[757,null,null,null,null,null,null,0]
[758,null,null,null,null,null,null,0]
[759,null,null,null,null,null,null,0]
[760,null,null,null,null,null,null,0]
[761,null,null,null,null,null,null,0]
[762,null,null,null,null,null,null,0]
[763,null,null,null,null,null,null,0]
[764,null,null,null,null,null,null,0]
[765,null,null,null,null,null,null,0]
[766,null,null,null,null,null,null,0]
[767,null,null,null,null,null,null,0]
[768,null,null,null,null,null,null,0]
[769,null,null,null,null,null,null,0]
[770,null,null,null,null,null,null,0]
[771,null,null,null,null,null,null,0]
[772,null,null,null,null,null,null,0]
[773,null,null,null,null,null,null,0]
[774,null,null,null,null,null,null,0]
[775,null,null,null,null,null,null,0]
[776,null,null,null,null,null,null,0]
[777,null,null,null,null,null,null,0]
[778,null,null,null,null,null,null,0]
[779,null,null,null,null,null,null,0]
[780,null,null,null,null,null,null,0]
[781,null,null,null,null,null,null,0]
[782,null,null,null,null,null,null,0]
[783,null,null,null,null,null,null,0]
[784,null,null,null,null,null,null,0]
[785,null,null,null,null,null,null,0]
[786,null,null,null,null,null,null,0]
[787,null,null,null,null,null,null,0]
[788,null,null,null,null,null,null,0]
[789,null,null,null,null,null,null,0]
[790,null,null,null,null,null,null,0]
[791,null,null,null,null,null,null,0]
[792,null,null,null,null,null,null,0]
[793,null,null,null,null,null,null,0]
[794,null,null,null,null,null,null,0]
[795,null,null,null,null,null,null,0]
[796,null,null,null,null,null,null,0]
[797,null,null,null,null,null,null,0]
[798,null,null,null,null,null,null,0]
[799,null,null,null,null,null,null,0]
[800,null,null,null,null,null,null,0]
[801,null,null,null,null,null,null,0]
[802,null,null,null,null,null,null,0]
[803,null,null,null,null,null,null,0]
[804,null,null,null,null,null,null,0]
[805,null,null,null,null,null,null,0]
[{"$f":"+A811+1","v":806},null,null,null,null,null,null,0]
[807,null,null,null,null,null,null,0]
[808,null,null,null,null,null,null,0]
[809,null,null,null,null,null,null,0]
[810,null,null,null,null,null,null,0]
[811,null,null,null,null,null,null,0]
[812,null,null,null,null,null,null,0]
[813,null,null,null,null,null,null,{"$f":"G819*F819","v":0}]
[814,null,null,null,null,null,null,0]
[815,null,null,null,null,null,null,0]
[816,null,null,null,null,null,null,0]
[817,null,null,null,null,null,null,0]
[818,null,null,null,null,null,null,0]
[819,null,null,null,null,null,null,0]
[820,null,null,null,null,null,null,0]
[821,null,null,null,null,null,null,0]
[822,null,null,null,null,null,null,0]
[823,null,null,null,null,null,null,0]
[824,null,null,null,null,null,null,0]
[825,null,null,null,null,null,null,0]
[826,null,null,null,null,null,null,0]
[827,null,null,null,null,null,null,0]
[828,null,null,null,null,null,null,0]
[829,null,null,null,null,null,null,0]
[830,null,null,null,null,null,null,0]
[831,null,null,null,null,null,null,0]
[832,null,null,null,null,null,null,0]
[833,null,null,null,null,null,null,0]
[834,null,null,null,null,null,null,0]
[835,null,null,null,null,null,null,0]
[836,null,null,null,null,null,null,0]
[837,null,null,null,null,null,null,0]
[838,null,null,null,null,null,null,0]
[839,null,null,null,null,null,null,0]
[840,null,null,null,null,null,null,0]
[841,null,null,null,null,null,null,0]
[842,null,null,null,null,null,null,0]
[843,null,null,null,null,null,null,0]
[844,null,null,null,null,null,null,0]
[845,null,null,null,null,null,null,0]
[846,null,null,null,null,null,null,0]
[847,null,null,null,null,null,null,0]
[848,null,null,null,null,null,null,0]
[849,null,null,null,null,null,null,0]
[850,null,null,null,null,null,null,0]
[851,null,null,null,null,null,null,0]
[852,null,null,null,null,null,null,0]
[853,null,null,null,null,null,null,0]
[854,null,null,null,null,null,null,0]
[855,null,null,null,null,null,null,0]
[856,null,null,null,null,null,null,0]
[857,null,null,null,null,null,null,0]
[858,null,null,null,null,null,null,0]
[859,null,null,null,null,null,null,0]
[860,null,null,null,null,null,null,0]
[861,null,null,null,null,null,null,0]
[862,null,null,null,null,null,null,0]
[863,null,null,null,null,null,null,0]
[864,null,null,null,null,null,null,0]
[865,null,null,null,null,null,null,0]
[866,null,null,null,null,null,null,0]
[867,null,null,null,null,null,null,0]
[868,null,null,null,null,null,null,0]
[869,null,null,null,null,null,null,0]
[{"$f":"+A875+1","v":870},null,null,null,null,null,null,0]
[871,null,null,null,null,null,null,0]
[872,null,null,null,null,null,null,0]
[873,null,null,null,null,null,null,0]
[874,null,null,null,null,null,null,0]
[875,null,null,null,null,null,null,0]
[876,null,null,null,null,null,null,0]
[877,null,null,null,null,null,null,{"$f":"G883*F883","v":0}]
[878,null,null,null,null,null,null,0]
[879,null,null,null,null,null,null,0]
[880,null,null,null,null,null,null,0]
[881,null,null,null,null,null,null,0]
[882,null,null,null,null,null,null,0]
[883,null,null,null,null,null,null,0]
[884,null,null,null,null,null,null,0]
[885,null,null,null,null,null,null,0]
[886,null,null,null,null,null,null,0]
[887,null,null,null,null,null,null,0]
[888,null,null,null,null,null,null,0]
[889,null,null,null,null,null,null,0]
[890,null,null,null,null,null,null,0]
[891,null,null,null,null,null,null,0]
[892,null,null,null,null,null,null,0]
[893,null,null,null,null,null,null,0]
[894,null,null,null,null,null,null,0]
[895,null,null,null,null,null,null,0]
[896,null,null,null,null,null,null,0]
[897,null,null,null,null,null,null,0]
[898,null,null,null,null,null,null,0]
[899,null,null,null,null,null,null,0]
[900,null,null,null,null,null,null,0]
[901,null,null,null,null,null,null,0]
[902,null,null,null,null,null,null,0]
[903,null,null,null,null,null,null,0]
[904,null,null,null,null,null,null,0]
[905,null,null,null,null,null,null,0]
[906,null,null,null,null,null,null,0]
[907,null,null,null,null,null,null,0]
[908,null,null,null,null,null,null,0]
[909,null,null,null,null,null,null,0]
[910,null,null,null,null,null,null,0]
[911,null,null,null,null,null,null,0]
[912,null,null,null,null,null,null,0]
[913,null,null,null,null,null,null,0]
[914,null,null,null,null,null,null,0]
[915,null,null,null,null,null,null,0]
[916,null,null,null,null,null,null,0]
[917,null,null,null,null,null,null,0]
[918,null,null,null,null,null,null,0]
[919,null,null,null,null,null,null,0]
[920,null,null,null,null,null,null,0]
[921,null,null,null,null,null,null,0]
[922,null,null,null,null,null,null,0]
[923,null,null,null,null,null,null,0]
[924,null,null,null,null,null,null,0]
[925,null,null,null,null,null,null,0]
[926,null,null,null,null,null,null,0]
[927,null,null,null,null,null,null,0]
[928,null,null,null,null,null,null,0]
[929,null,null,null,null,null,null,0]
[930,null,null,null,null,null,null,0]
[931,null,null,null,null,null,null,0]
[932,null,null,null,null,null,null,0]
[933,null,null,null,null,null,null,0]
[{"$f":"+A939+1","v":934},null,null,null,null,null,null,0]
[935,null,null,null,null,null,null,0]
[936,null,null,null,null,null,null,0]
[937,null,null,null,null,null,null,0]
[938,null,null,null,null,null,null,0]
[939,null,null,null,null,null,null,0]
[940,null,null,null,null,null,null,0]
[941,null,null,null,null,null,null,{"$f":"G947*F947","v":0}]
[942,null,null,null,null,null,null,0]
[943,null,null,null,null,null,null,0]
[944,null,null,null,null,null,null,0]
[945,null,null,null,null,null,null,0]
[946,null,null,null,null,null,null,0]
[947,null,null,null,null,null,null,0]
[948,null,null,null,null,null,null,0]
[949,null,null,null,null,null,null,0]
[950,null,null,null,null,null,null,0]
[951,null,null,null,null,null,null,0]
[952,null,null,null,null,null,null,0]
[953,null,null,null,null,null,null,0]
[954,null,null,null,null,null,null,0]
[955,null,null,null,null,null,null,0]
[956,null,null,null,null,null,null,0]
[957,null,null,null,null,null,null,0]
[958,null,null,null,null,null,null,0]
[959,null,null,null,null,null,null,0]
[960,null,null,null,null,null,null,0]
[961,null,null,null,null,null,null,0]
[962,null,null,null,null,null,null,0]
[963,null,null,null,null,null,null,0]
[964,null,null,null,null,null,null,0]
[965,null,null,null,null,null,null,0]
[966,null,null,null,null,null,null,0]
[967,null,null,null,null,null,null,0]
[968,null,null,null,null,null,null,0]
[969,null,null,null,null,null,null,0]
[970,null,null,null,null,null,null,0]
[971,null,null,null,null,null,null,0]
[972,null,null,null,null,null,null,0]
[973,null,null,null,null,null,null,0]
[974,null,null,null,null,null,null,0]
[975,null,null,null,null,null,null,0]
[976,null,null,null,null,null,null,0]
[977,null,null,null,null,null,null,0]
[978,null,null,null,null,null,null,0]
[979,null,null,null,null,null,null,0]
[980,null,null,null,null,null,null,0]
[981,null,null,null,null,null,null,0]
[982,null,null,null,null,null,null,0]
[983,null,null,null,null,null,null,0]
[984,null,null,null,null,null,null,0]
[985,null,null,null,null,null,null,0]
[986,null,null,null,null,null,null,0]
[987,null,null,null,null,null,null,0]
[988,null,null,null,null,null,null,0]
[989,null,null,null,null,null,null,0]
[990,null,null,null,null,null,null,0]
[991,null,null,null,null,null,null,0]
[992,null,null,null,null,null,null,0]
[993,null,null,null,null,null,null,0]
[994,null,null,null,null,null,null,0]
[995,null,null,null,null,null,null,0]
[996,null,null,null,null,null,null,0]
[997,null,null,null,null,null,null,0]
[{"$f":"+A1003+1","v":998},null,null,null,null,null,null,0]
[{"$f":"+A1004+1","v":999},null,null,null,null,null,null,0]
[{"$f":"+A1005+1","v":1000},null,null,null,null,null,null,0]

{"sheet":"INVENT.Inst&Agen Importés -10","index":10,"n_rows":1006,"n_cols":8,"rows_kept":1006,"cut":false,"hidden":false,"merged":[]}
[null,null,{"$f":"'REFERENCES - 10'!D7","v":0},null,null,{"$f":"'REFERENCES - 10'!D9","v":0}]
[null,"INVENTAIRE DES MATERIELS EQUIPEMENTS IMPORTES"]
[null,null,null,null,null,null,null,"(En F. Cfa)"]
[null,"DESIGNATIONS DOUANIERES","N° NOMENCLATURE DOUANIERE","SPECIFICATIONS COMMERCIALES (1)","UNITE DE MESURE","QUAN.","VALEUR UNITAIRE","COÛT CAF"]
[]
[null,"Installations, Agencements & Aménagements",null,null,null,{"$f":"SUM(F7:F306)","v":0},null,{"$f":"SUM(H7:H306)","v":0}]
[1,null,null,null,null,null,null,{"$f":"G7*F7","v":0}]
[{"$f":"+A7+1","v":2},null,null,null,null,null,null,0]
[{"$f":"+A8+1","v":3},null,null,null,null,null,null,0]
[4,null,null,null,null,null,null,0]
[5,null,null,null,null,null,null,0]
[6,null,null,null,null,null,null,{"$f":"G12*F12","v":0}]
[7,null,null,null,null,null,null,0]
[8,null,null,null,null,null,null,0]
[9,null,null,null,null,null,null,0]
[10,null,null,null,null,null,null,0]
[11,null,null,null,null,null,null,0]
[12,null,null,null,null,null,null,0]
[13,null,null,null,null,null,null,0]
[14,null,null,null,null,null,null,0]
[15,null,null,null,null,null,null,0]
[16,null,null,null,null,null,null,0]
[17,null,null,null,null,null,null,0]
[18,null,null,null,null,null,null,0]
[19,null,null,null,null,null,null,0]
[20,null,null,null,null,null,null,0]
[21,null,null,null,null,null,null,0]
[22,null,null,null,null,null,null,0]
[23,null,null,null,null,null,null,0]
[24,null,null,null,null,null,null,0]
[25,null,null,null,null,null,null,0]
[26,null,null,null,null,null,null,0]
[27,null,null,null,null,null,null,0]
[28,null,null,null,null,null,null,0]
[29,null,null,null,null,null,null,0]
[30,null,null,null,null,null,null,0]
[31,null,null,null,null,null,null,0]
[32,null,null,null,null,null,null,0]
[33,null,null,null,null,null,null,0]
[34,null,null,null,null,null,null,0]
[35,null,null,null,null,null,null,0]
[36,null,null,null,null,null,null,0]
[37,null,null,null,null,null,null,0]
[38,null,null,null,null,null,null,0]
[39,null,null,null,null,null,null,0]
[40,null,null,null,null,null,null,0]
[41,null,null,null,null,null,null,0]
[42,null,null,null,null,null,null,0]
[43,null,null,null,null,null,null,0]
[44,null,null,null,null,null,null,0]
[45,null,null,null,null,null,null,0]
[46,null,null,null,null,null,null,0]
[47,null,null,null,null,null,null,0]
[48,null,null,null,null,null,null,0]
[49,null,null,null,null,null,null,0]
[50,null,null,null,null,null,null,0]
[51,null,null,null,null,null,null,0]
[52,null,null,null,null,null,null,0]
[53,null,null,null,null,null,null,0]
[54,null,null,null,null,null,null,0]
[55,null,null,null,null,null,null,0]
[56,null,null,null,null,null,null,0]
[57,null,null,null,null,null,null,0]
[58,null,null,null,null,null,null,0]
[59,null,null,null,null,null,null,0]
[60,null,null,null,null,null,null,0]
[61,null,null,null,null,null,null,0]
[62,null,null,null,null,null,null,0]
[63,null,null,null,null,null,null,0]
[64,null,null,null,null,null,null,0]
[65,null,null,null,null,null,null,{"$f":"G71*F71","v":0}]
[66,null,null,null,null,null,null,0]
[{"$f":"+A72+1","v":67},null,null,null,null,null,null,0]
[68,null,null,null,null,null,null,0]
[69,null,null,null,null,null,null,0]
[70,null,null,null,null,null,null,0]
[71,null,null,null,null,null,null,0]
[72,null,null,null,null,null,null,0]
[73,null,null,null,null,null,null,0]
[74,null,null,null,null,null,null,0]
[75,null,null,null,null,null,null,0]
[76,null,null,null,null,null,null,0]
[77,null,null,null,null,null,null,0]
[78,null,null,null,null,null,null,0]
[79,null,null,null,null,null,null,0]
[80,null,null,null,null,null,null,0]
[81,null,null,null,null,null,null,0]
[82,null,null,null,null,null,null,0]
[83,null,null,null,null,null,null,0]
[84,null,null,null,null,null,null,0]
[85,null,null,null,null,null,null,0]
[86,null,null,null,null,null,null,0]
[87,null,null,null,null,null,null,0]
[88,null,null,null,null,null,null,0]
[89,null,null,null,null,null,null,0]
[90,null,null,null,null,null,null,0]
[91,null,null,null,null,null,null,0]
[92,null,null,null,null,null,null,0]
[93,null,null,null,null,null,null,0]
[94,null,null,null,null,null,null,0]
[95,null,null,null,null,null,null,0]
[96,null,null,null,null,null,null,0]
[97,null,null,null,null,null,null,0]
[98,null,null,null,null,null,null,0]
[99,null,null,null,null,null,null,0]
[100,null,null,null,null,null,null,0]
[101,null,null,null,null,null,null,0]
[102,null,null,null,null,null,null,0]
[103,null,null,null,null,null,null,0]
[104,null,null,null,null,null,null,0]
[105,null,null,null,null,null,null,0]
[106,null,null,null,null,null,null,0]
[107,null,null,null,null,null,null,0]
[108,null,null,null,null,null,null,0]
[109,null,null,null,null,null,null,0]
[110,null,null,null,null,null,null,0]
[111,null,null,null,null,null,null,0]
[112,null,null,null,null,null,null,0]
[113,null,null,null,null,null,null,0]
[114,null,null,null,null,null,null,0]
[115,null,null,null,null,null,null,0]
[116,null,null,null,null,null,null,0]
[117,null,null,null,null,null,null,0]
[118,null,null,null,null,null,null,0]
[119,null,null,null,null,null,null,0]
[120,null,null,null,null,null,null,0]
[121,null,null,null,null,null,null,0]
[122,null,null,null,null,null,null,0]
[123,null,null,null,null,null,null,0]
[124,null,null,null,null,null,null,0]
[125,null,null,null,null,null,null,0]
[126,null,null,null,null,null,null,0]
[127,null,null,null,null,null,null,0]
[128,null,null,null,null,null,null,0]
[129,null,null,null,null,null,null,{"$f":"G135*F135","v":0}]
[130,null,null,null,null,null,null,0]
[{"$f":"+A136+1","v":131},null,null,null,null,null,null,0]
[132,null,null,null,null,null,null,0]
[133,null,null,null,null,null,null,0]
[134,null,null,null,null,null,null,0]
[135,null,null,null,null,null,null,0]
[136,null,null,null,null,null,null,0]
[137,null,null,null,null,null,null,0]
[138,null,null,null,null,null,null,0]
[139,null,null,null,null,null,null,0]
[140,null,null,null,null,null,null,0]
[141,null,null,null,null,null,null,0]
[142,null,null,null,null,null,null,0]
[143,null,null,null,null,null,null,0]
[144,null,null,null,null,null,null,0]
[145,null,null,null,null,null,null,0]
[146,null,null,null,null,null,null,0]
[147,null,null,null,null,null,null,0]
[148,null,null,null,null,null,null,0]
[149,null,null,null,null,null,null,0]
[150,null,null,null,null,null,null,0]
[151,null,null,null,null,null,null,0]
[152,null,null,null,null,null,null,0]
[153,null,null,null,null,null,null,0]
[154,null,null,null,null,null,null,0]
[155,null,null,null,null,null,null,0]
[156,null,null,null,null,null,null,0]
[157,null,null,null,null,null,null,0]
[158,null,null,null,null,null,null,0]
[159,null,null,null,null,null,null,0]
[160,null,null,null,null,null,null,0]
[161,null,null,null,null,null,null,0]
[162,null,null,null,null,null,null,0]
[163,null,null,null,null,null,null,0]
[164,null,null,null,null,null,null,0]
[165,null,null,null,null,null,null,0]
[166,null,null,null,null,null,null,0]
[167,null,null,null,null,null,null,0]
[168,null,null,null,null,null,null,0]
[169,null,null,null,null,null,null,0]
[170,null,null,null,null,null,null,0]
[171,null,null,null,null,null,null,0]
[172,null,null,null,null,null,null,0]
[173,null,null,null,null,null,null,0]
[174,null,null,null,null,null,null,0]
[175,null,null,null,null,null,null,0]
[176,null,null,null,null,null,null,0]
[177,null,null,null,null,null,null,0]
[178,null,null,null,null,null,null,0]
[179,null,null,null,null,null,null,0]
[180,null,null,null,null,null,null,0]
[181,null,null,null,null,null,null,0]
[182,null,null,null,null,null,null,0]
[183,null,null,null,null,null,null,0]
[184,null,null,null,null,null,null,0]
[185,null,null,null,null,null,null,0]
[186,null,null,null,null,null,null,0]
[187,null,null,null,null,null,null,0]
[188,null,null,null,null,null,null,0]
[189,null,null,null,null,null,null,0]
[190,null,null,null,null,null,null,0]
[191,null,null,null,null,null,null,0]
[192,null,null,null,null,null,null,0]
[193,null,null,null,null,null,null,{"$f":"G199*F199","v":0}]
[194,null,null,null,null,null,null,0]
[{"$f":"+A200+1","v":195},null,null,null,null,null,null,0]
[196,null,null,null,null,null,null,0]
[197,null,null,null,null,null,null,0]
[198,null,null,null,null,null,null,0]
[199,null,null,null,null,null,null,0]
[200,null,null,null,null,null,null,0]
[201,null,null,null,null,null,null,0]
[202,null,null,null,null,null,null,0]
[203,null,null,null,null,null,null,0]
[204,null,null,null,null,null,null,0]
[205,null,null,null,null,null,null,0]
[206,null,null,null,null,null,null,0]
[207,null,null,null,null,null,null,0]
[208,null,null,null,null,null,null,0]
[209,null,null,null,null,null,null,0]
[210,null,null,null,null,null,null,0]
[211,null,null,null,null,null,null,0]
[212,null,null,null,null,null,null,0]
[213,null,null,null,null,null,null,0]
[214,null,null,null,null,null,null,0]
[215,null,null,null,null,null,null,0]
[216,null,null,null,null,null,null,0]
[217,null,null,null,null,null,null,0]
[218,null,null,null,null,null,null,0]
[219,null,null,null,null,null,null,0]
[220,null,null,null,null,null,null,0]
[221,null,null,null,null,null,null,0]
[222,null,null,null,null,null,null,0]
[223,null,null,null,null,null,null,0]
[224,null,null,null,null,null,null,0]
[225,null,null,null,null,null,null,0]
[226,null,null,null,null,null,null,0]
[227,null,null,null,null,null,null,0]
[228,null,null,null,null,null,null,0]
[229,null,null,null,null,null,null,0]
[230,null,null,null,null,null,null,0]
[231,null,null,null,null,null,null,0]
[232,null,null,null,null,null,null,0]
[233,null,null,null,null,null,null,0]
[234,null,null,null,null,null,null,0]
[235,null,null,null,null,null,null,0]
[236,null,null,null,null,null,null,0]
[237,null,null,null,null,null,null,0]
[238,null,null,null,null,null,null,0]
[239,null,null,null,null,null,null,0]
[240,null,null,null,null,null,null,0]
[241,null,null,null,null,null,null,0]
[242,null,null,null,null,null,null,0]
[243,null,null,null,null,null,null,0]
[244,null,null,null,null,null,null,0]
[245,null,null,null,null,null,null,0]
[246,null,null,null,null,null,null,0]
[247,null,null,null,null,null,null,0]
[248,null,null,null,null,null,null,0]
[249,null,null,null,null,null,null,0]
[250,null,null,null,null,null,null,0]
[251,null,null,null,null,null,null,0]
[252,null,null,null,null,null,null,0]
[253,null,null,null,null,null,null,0]
[254,null,null,null,null,null,null,0]
[255,null,null,null,null,null,null,0]
[256,null,null,null,null,null,null,0]
[257,null,null,null,null,null,null,{"$f":"G263*F263","v":0}]
[258,null,null,null,null,null,null,0]
[{"$f":"+A264+1","v":259},null,null,null,null,null,null,0]
[260,null,null,null,null,null,null,0]
[261,null,null,null,null,null,null,0]
[262,null,null,null,null,null,null,0]
[263,null,null,null,null,null,null,0]
[264,null,null,null,null,null,null,0]
[265,null,null,null,null,null,null,0]
[266,null,null,null,null,null,null,0]
[267,null,null,null,null,null,null,0]
[268,null,null,null,null,null,null,0]
[269,null,null,null,null,null,null,0]
[270,null,null,null,null,null,null,0]
[271,null,null,null,null,null,null,0]
[272,null,null,null,null,null,null,0]
[273,null,null,null,null,null,null,0]
[274,null,null,null,null,null,null,0]
[275,null,null,null,null,null,null,0]
[276,null,null,null,null,null,null,0]
[277,null,null,null,null,null,null,0]
[278,null,null,null,null,null,null,0]
[279,null,null,null,null,null,null,0]
[280,null,null,null,null,null,null,0]
[281,null,null,null,null,null,null,0]
[282,null,null,null,null,null,null,0]
[283,null,null,null,null,null,null,0]
[284,null,null,null,null,null,null,0]
[285,null,null,null,null,null,null,0]
[286,null,null,null,null,null,null,0]
[287,null,null,null,null,null,null,0]
[288,null,null,null,null,null,null,0]
[289,null,null,null,null,null,null,0]
[290,null,null,null,null,null,null,0]
[291,null,null,null,null,null,null,0]
[292,null,null,null,null,null,null,0]
[293,null,null,null,null,null,null,0]
[294,null,null,null,null,null,null,0]
[295,null,null,null,null,null,null,0]
[296,null,null,null,null,null,null,0]
[297,null,null,null,null,null,null,0]
[298,null,null,null,null,null,null,0]
[299,null,null,null,null,null,null,0]
[300,null,null,null,null,null,null,0]
[301,null,null,null,null,null,null,{"$f":"G307*F307","v":0}]
[302,null,null,null,null,null,null,0]
[303,null,null,null,null,null,null,0]
[304,null,null,null,null,null,null,0]
[305,null,null,null,null,null,null,0]
[306,null,null,null,null,null,null,0]
[307,null,null,null,null,null,null,0]
[308,null,null,null,null,null,null,0]
[309,null,null,null,null,null,null,0]
[310,null,null,null,null,null,null,0]
[311,null,null,null,null,null,null,0]
[312,null,null,null,null,null,null,0]
[313,null,null,null,null,null,null,0]
[314,null,null,null,null,null,null,0]
[315,null,null,null,null,null,null,0]
[316,null,null,null,null,null,null,0]
[317,null,null,null,null,null,null,0]
[318,null,null,null,null,null,null,0]
[319,null,null,null,null,null,null,0]
[320,null,null,null,null,null,null,0]
[321,null,null,null,null,null,null,0]
[322,null,null,null,null,null,null,0]
[{"$f":"+A328+1","v":323},null,null,null,null,null,null,0]
[324,null,null,null,null,null,null,0]
[325,null,null,null,null,null,null,0]
[326,null,null,null,null,null,null,0]
[327,null,null,null,null,null,null,0]
[328,null,null,null,null,null,null,0]
[329,null,null,null,null,null,null,0]
[330,null,null,null,null,null,null,0]
[331,null,null,null,null,null,null,0]
[332,null,null,null,null,null,null,0]
[333,null,null,null,null,null,null,0]
[334,null,null,null,null,null,null,0]
[335,null,null,null,null,null,null,0]
[336,null,null,null,null,null,null,0]
[337,null,null,null,null,null,null,0]
[338,null,null,null,null,null,null,0]
[339,null,null,null,null,null,null,0]
[340,null,null,null,null,null,null,0]
[341,null,null,null,null,null,null,0]
[342,null,null,null,null,null,null,0]
[343,null,null,null,null,null,null,0]
[344,null,null,null,null,null,null,0]
[345,null,null,null,null,null,null,0]
[346,null,null,null,null,null,null,0]
[347,null,null,null,null,null,null,0]
[348,null,null,null,null,null,null,0]
[349,null,null,null,null,null,null,0]
[350,null,null,null,null,null,null,0]
[351,null,null,null,null,null,null,0]
[352,null,null,null,null,null,null,0]
[353,null,null,null,null,null,null,0]
[354,null,null,null,null,null,null,0]
[355,null,null,null,null,null,null,0]
[356,null,null,null,null,null,null,0]
[357,null,null,null,null,null,null,0]
[358,null,null,null,null,null,null,0]
[359,null,null,null,null,null,null,0]
[360,null,null,null,null,null,null,0]
[361,null,null,null,null,null,null,0]
[362,null,null,null,null,null,null,0]
[363,null,null,null,null,null,null,0]
[364,null,null,null,null,null,null,0]
[365,null,null,null,null,null,null,{"$f":"G371*F371","v":0}]
[366,null,null,null,null,null,null,0]
[367,null,null,null,null,null,null,0]
[368,null,null,null,null,null,null,0]
[369,null,null,null,null,null,null,0]
[370,null,null,null,null,null,null,0]
[371,null,null,null,null,null,null,0]
[372,null,null,null,null,null,null,0]
[373,null,null,null,null,null,null,0]
[374,null,null,null,null,null,null,0]
[375,null,null,null,null,null,null,0]
[376,null,null,null,null,null,null,0]
[377,null,null,null,null,null,null,0]
[378,null,null,null,null,null,null,0]
[379,null,null,null,null,null,null,0]
[380,null,null,null,null,null,null,0]
[381,null,null,null,null,null,null,0]
[382,null,null,null,null,null,null,0]
[383,null,null,null,null,null,null,0]
[384,null,null,null,null,null,null,0]
[385,null,null,null,null,null,null,0]
[386,null,null,null,null,null,null,0]
[{"$f":"+A392+1","v":387},null,null,null,null,null,null,0]
[388,null,null,null,null,null,null,0]
[389,null,null,null,null,null,null,0]
[390,null,null,null,null,null,null,0]
[391,null,null,null,null,null,null,0]
[392,null,null,null,null,null,null,0]
[393,null,null,null,null,null,null,0]
[394,null,null,null,null,null,null,0]
[395,null,null,null,null,null,null,0]
[396,null,null,null,null,null,null,0]
[397,null,null,null,null,null,null,0]
[398,null,null,null,null,null,null,0]
[399,null,null,null,null,null,null,0]
[400,null,null,null,null,null,null,0]
[401,null,null,null,null,null,null,0]
[402,null,null,null,null,null,null,0]
[403,null,null,null,null,null,null,0]
[404,null,null,null,null,null,null,0]
[405,null,null,null,null,null,null,0]
[406,null,null,null,null,null,null,0]
[407,null,null,null,null,null,null,0]
[408,null,null,null,null,null,null,0]
[409,null,null,null,null,null,null,0]
[410,null,null,null,null,null,null,0]
[411,null,null,null,null,null,null,0]
[412,null,null,null,null,null,null,0]
[413,null,null,null,null,null,null,0]
[414,null,null,null,null,null,null,0]
[415,null,null,null,null,null,null,0]
[416,null,null,null,null,null,null,0]
[417,null,null,null,null,null,null,0]
[418,null,null,null,null,null,null,0]
[419,null,null,null,null,null,null,0]
[420,null,null,null,null,null,null,0]
[421,null,null,null,null,null,null,0]
[422,null,null,null,null,null,null,0]
[423,null,null,null,null,null,null,0]
[424,null,null,null,null,null,null,0]
[425,null,null,null,null,null,null,0]
[426,null,null,null,null,null,null,0]
[427,null,null,null,null,null,null,0]
[428,null,null,null,null,null,null,0]
[429,null,null,null,null,null,null,{"$f":"G435*F435","v":0}]
[430,null,null,null,null,null,null,0]
[431,null,null,null,null,null,null,0]
[432,null,null,null,null,null,null,0]
[433,null,null,null,null,null,null,0]
[434,null,null,null,null,null,null,0]
[435,null,null,null,null,null,null,0]
[436,null,null,null,null,null,null,0]
[437,null,null,null,null,null,null,0]
[438,null,null,null,null,null,null,0]
[439,null,null,null,null,null,null,0]
[440,null,null,null,null,null,null,0]
[441,null,null,null,null,null,null,0]
[442,null,null,null,null,null,null,0]
[443,null,null,null,null,null,null,0]
[444,null,null,null,null,null,null,0]
[445,null,null,null,null,null,null,0]
[446,null,null,null,null,null,null,0]
[447,null,null,null,null,null,null,0]
[448,null,null,null,null,null,null,0]
[449,null,null,null,null,null,null,0]
[450,null,null,null,null,null,null,0]
[{"$f":"+A456+1","v":451},null,null,null,null,null,null,0]
[452,null,null,null,null,null,null,0]
[453,null,null,null,null,null,null,0]
[454,null,null,null,null,null,null,0]
[455,null,null,null,null,null,null,0]
[456,null,null,null,null,null,null,0]
[457,null,null,null,null,null,null,0]
[458,null,null,null,null,null,null,0]
[459,null,null,null,null,null,null,0]
[460,null,null,null,null,null,null,0]
[461,null,null,null,null,null,null,0]
[462,null,null,null,null,null,null,0]
[463,null,null,null,null,null,null,0]
[464,null,null,null,null,null,null,0]
[465,null,null,null,null,null,null,0]
[466,null,null,null,null,null,null,0]
[467,null,null,null,null,null,null,0]
[468,null,null,null,null,null,null,0]
[469,null,null,null,null,null,null,0]
[470,null,null,null,null,null,null,0]
[471,null,null,null,null,null,null,0]
[472,null,null,null,null,null,null,0]
[473,null,null,null,null,null,null,0]
[474,null,null,null,null,null,null,0]
[475,null,null,null,null,null,null,0]
[476,null,null,null,null,null,null,0]
[477,null,null,null,null,null,null,0]
[478,null,null,null,null,null,null,0]
[479,null,null,null,null,null,null,0]
[480,null,null,null,null,null,null,0]
[481,null,null,null,null,null,null,0]
[482,null,null,null,null,null,null,0]
[483,null,null,null,null,null,null,0]
[484,null,null,null,null,null,null,0]
[485,null,null,null,null,null,null,0]
[486,null,null,null,null,null,null,0]
[487,null,null,null,null,null,null,0]
[488,null,null,null,null,null,null,0]
[489,null,null,null,null,null,null,0]
[490,null,null,null,null,null,null,0]
[491,null,null,null,null,null,null,0]
[492,null,null,null,null,null,null,0]
[493,null,null,null,null,null,null,{"$f":"G499*F499","v":0}]
[494,null,null,null,null,null,null,0]
[495,null,null,null,null,null,null,0]
[496,null,null,null,null,null,null,0]
[497,null,null,null,null,null,null,0]
[498,null,null,null,null,null,null,0]
[499,null,null,null,null,null,null,0]
[500,null,null,null,null,null,null,0]
[501,null,null,null,null,null,null,0]
[502,null,null,null,null,null,null,0]
[503,null,null,null,null,null,null,0]
[504,null,null,null,null,null,null,0]
[505,null,null,null,null,null,null,0]
[506,null,null,null,null,null,null,0]
[507,null,null,null,null,null,null,0]
[508,null,null,null,null,null,null,0]
[509,null,null,null,null,null,null,0]
[510,null,null,null,null,null,null,0]
[511,null,null,null,null,null,null,0]
[512,null,null,null,null,null,null,0]
[513,null,null,null,null,null,null,0]
[514,null,null,null,null,null,null,0]
[{"$f":"+A520+1","v":515},null,null,null,null,null,null,0]
[516,null,null,null,null,null,null,0]
[517,null,null,null,null,null,null,0]
[518,null,null,null,null,null,null,0]
[519,null,null,null,null,null,null,0]
[520,null,null,null,null,null,null,0]
[521,null,null,null,null,null,null,0]
[522,null,null,null,null,null,null,0]
[523,null,null,null,null,null,null,0]
[524,null,null,null,null,null,null,0]
[525,null,null,null,null,null,null,0]
[526,null,null,null,null,null,null,0]
[527,null,null,null,null,null,null,0]
[528,null,null,null,null,null,null,0]
[529,null,null,null,null,null,null,0]
[530,null,null,null,null,null,null,0]
[531,null,null,null,null,null,null,0]
[532,null,null,null,null,null,null,0]
[533,null,null,null,null,null,null,0]
[534,null,null,null,null,null,null,0]
[535,null,null,null,null,null,null,0]
[536,null,null,null,null,null,null,0]
[537,null,null,null,null,null,null,0]
[538,null,null,null,null,null,null,0]
[539,null,null,null,null,null,null,0]
[540,null,null,null,null,null,null,0]
[541,null,null,null,null,null,null,0]
[542,null,null,null,null,null,null,0]
[543,null,null,null,null,null,null,0]
[544,null,null,null,null,null,null,0]
[545,null,null,null,null,null,null,0]
[546,null,null,null,null,null,null,0]
[547,null,null,null,null,null,null,0]
[548,null,null,null,null,null,null,0]
[549,null,null,null,null,null,null,0]
[550,null,null,null,null,null,null,0]
[551,null,null,null,null,null,null,0]
[552,null,null,null,null,null,null,0]
[553,null,null,null,null,null,null,0]
[554,null,null,null,null,null,null,0]
[555,null,null,null,null,null,null,0]
[556,null,null,null,null,null,null,0]
[557,null,null,null,null,null,null,{"$f":"G563*F563","v":0}]
[558,null,null,null,null,null,null,0]
[559,null,null,null,null,null,null,0]
[560,null,null,null,null,null,null,0]
[561,null,null,null,null,null,null,0]
[562,null,null,null,null,null,null,0]
[563,null,null,null,null,null,null,0]
[564,null,null,null,null,null,null,0]
[565,null,null,null,null,null,null,0]
[566,null,null,null,null,null,null,0]
[567,null,null,null,null,null,null,0]
[568,null,null,null,null,null,null,0]
[569,null,null,null,null,null,null,0]
[570,null,null,null,null,null,null,0]
[571,null,null,null,null,null,null,0]
[572,null,null,null,null,null,null,0]
[573,null,null,null,null,null,null,0]
[574,null,null,null,null,null,null,0]
[575,null,null,null,null,null,null,0]
[576,null,null,null,null,null,null,0]
[577,null,null,null,null,null,null,0]
[578,null,null,null,null,null,null,0]
[{"$f":"+A584+1","v":579},null,null,null,null,null,null,0]
[580,null,null,null,null,null,null,0]
[581,null,null,null,null,null,null,0]
[582,null,null,null,null,null,null,0]
[583,null,null,null,null,null,null,0]
[584,null,null,null,null,null,null,0]
[585,null,null,null,null,null,null,0]
[586,null,null,null,null,null,null,0]
[587,null,null,null,null,null,null,0]
[588,null,null,null,null,null,null,0]
[589,null,null,null,null,null,null,0]
[590,null,null,null,null,null,null,0]
[591,null,null,null,null,null,null,0]
[592,null,null,null,null,null,null,0]
[593,null,null,null,null,null,null,0]
[594,null,null,null,null,null,null,0]
[595,null,null,null,null,null,null,0]
[596,null,null,null,null,null,null,0]
[597,null,null,null,null,null,null,0]
[598,null,null,null,null,null,null,0]
[599,null,null,null,null,null,null,0]
[600,null,null,null,null,null,null,0]
[601,null,null,null,null,null,null,0]
[602,null,null,null,null,null,null,0]
[603,null,null,null,null,null,null,0]
[604,null,null,null,null,null,null,0]
[605,null,null,null,null,null,null,0]
[606,null,null,null,null,null,null,0]
[607,null,null,null,null,null,null,0]
[608,null,null,null,null,null,null,0]
[609,null,null,null,null,null,null,0]
[610,null,null,null,null,null,null,0]
[611,null,null,null,null,null,null,0]
[612,null,null,null,null,null,null,0]
[613,null,null,null,null,null,null,0]
[614,null,null,null,null,null,null,0]
[615,null,null,null,null,null,null,0]
[616,null,null,null,null,null,null,0]
[617,null,null,null,null,null,null,0]
[618,null,null,null,null,null,null,0]
[619,null,null,null,null,null,null,0]
[620,null,null,null,null,null,null,0]
[621,null,null,null,null,null,null,{"$f":"G627*F627","v":0}]
[622,null,null,null,null,null,null,0]
[623,null,null,null,null,null,null,0]
[624,null,null,null,null,null,null,0]
[625,null,null,null,null,null,null,0]
[626,null,null,null,null,null,null,0]
[627,null,null,null,null,null,null,0]
[628,null,null,null,null,null,null,0]
[629,null,null,null,null,null,null,0]
[630,null,null,null,null,null,null,0]
[631,null,null,null,null,null,null,0]
[632,null,null,null,null,null,null,0]
[633,null,null,null,null,null,null,0]
[634,null,null,null,null,null,null,0]
[635,null,null,null,null,null,null,0]
[636,null,null,null,null,null,null,0]
[637,null,null,null,null,null,null,0]
[638,null,null,null,null,null,null,0]
[639,null,null,null,null,null,null,0]
[640,null,null,null,null,null,null,0]
[641,null,null,null,null,null,null,0]
[642,null,null,null,null,null,null,0]
[{"$f":"+A648+1","v":643},null,null,null,null,null,null,0]
[644,null,null,null,null,null,null,0]
[645,null,null,null,null,null,null,0]
[646,null,null,null,null,null,null,0]
[647,null,null,null,null,null,null,0]
[648,null,null,null,null,null,null,0]
[649,null,null,null,null,null,null,0]
[650,null,null,null,null,null,null,0]
[651,null,null,null,null,null,null,0]
[652,null,null,null,null,null,null,0]
[653,null,null,null,null,null,null,0]
[654,null,null,null,null,null,null,0]
[655,null,null,null,null,null,null,0]
[656,null,null,null,null,null,null,0]
[657,null,null,null,null,null,null,0]
[658,null,null,null,null,null,null,0]
[659,null,null,null,null,null,null,0]
[660,null,null,null,null,null,null,0]
[661,null,null,null,null,null,null,0]
[662,null,null,null,null,null,null,0]
[663,null,null,null,null,null,null,0]
[664,null,null,null,null,null,null,0]
[665,null,null,null,null,null,null,0]
[666,null,null,null,null,null,null,0]
[667,null,null,null,null,null,null,0]
[668,null,null,null,null,null,null,0]
[669,null,null,null,null,null,null,0]
[670,null,null,null,null,null,null,0]
[671,null,null,null,null,null,null,0]
[672,null,null,null,null,null,null,0]
[673,null,null,null,null,null,null,0]
[674,null,null,null,null,null,null,0]
[675,null,null,null,null,null,null,0]
[676,null,null,null,null,null,null,0]
[677,null,null,null,null,null,null,0]
[678,null,null,null,null,null,null,0]
[679,null,null,null,null,null,null,0]
[680,null,null,null,null,null,null,0]
[681,null,null,null,null,null,null,0]
[682,null,null,null,null,null,null,0]
[683,null,null,null,null,null,null,0]
[684,null,null,null,null,null,null,0]
[685,null,null,null,null,null,null,{"$f":"G691*F691","v":0}]
[686,null,null,null,null,null,null,0]
[687,null,null,null,null,null,null,0]
[688,null,null,null,null,null,null,0]
[689,null,null,null,null,null,null,0]
[690,null,null,null,null,null,null,0]
[691,null,null,null,null,null,null,0]
[692,null,null,null,null,null,null,0]
[693,null,null,null,null,null,null,0]
[694,null,null,null,null,null,null,0]
[695,null,null,null,null,null,null,0]
[696,null,null,null,null,null,null,0]
[697,null,null,null,null,null,null,0]
[698,null,null,null,null,null,null,0]
[699,null,null,null,null,null,null,0]
[700,null,null,null,null,null,null,0]
[701,null,null,null,null,null,null,0]
[702,null,null,null,null,null,null,0]
[703,null,null,null,null,null,null,0]
[704,null,null,null,null,null,null,0]
[705,null,null,null,null,null,null,0]
[706,null,null,null,null,null,null,0]
[{"$f":"+A712+1","v":707},null,null,null,null,null,null,0]
[708,null,null,null,null,null,null,0]
[709,null,null,null,null,null,null,0]
[710,null,null,null,null,null,null,0]
[711,null,null,null,null,null,null,0]
[712,null,null,null,null,null,null,0]
[713,null,null,null,null,null,null,0]
[714,null,null,null,null,null,null,0]
[715,null,null,null,null,null,null,0]
[716,null,null,null,null,null,null,0]
[717,null,null,null,null,null,null,0]
[718,null,null,null,null,null,null,0]
[719,null,null,null,null,null,null,0]
[720,null,null,null,null,null,null,0]
[721,null,null,null,null,null,null,0]
[722,null,null,null,null,null,null,0]
[723,null,null,null,null,null,null,0]
[724,null,null,null,null,null,null,0]
[725,null,null,null,null,null,null,0]
[726,null,null,null,null,null,null,0]
[727,null,null,null,null,null,null,0]
[728,null,null,null,null,null,null,0]
[729,null,null,null,null,null,null,0]
[730,null,null,null,null,null,null,0]
[731,null,null,null,null,null,null,0]
[732,null,null,null,null,null,null,0]
[733,null,null,null,null,null,null,0]
[734,null,null,null,null,null,null,0]
[735,null,null,null,null,null,null,0]
[736,null,null,null,null,null,null,0]
[737,null,null,null,null,null,null,0]
[738,null,null,null,null,null,null,0]
[739,null,null,null,null,null,null,0]
[740,null,null,null,null,null,null,0]
[741,null,null,null,null,null,null,0]
[742,null,null,null,null,null,null,0]
[743,null,null,null,null,null,null,0]
[744,null,null,null,null,null,null,0]
[745,null,null,null,null,null,null,0]
[746,null,null,null,null,null,null,0]
[747,null,null,null,null,null,null,0]
[748,null,null,null,null,null,null,0]
[749,null,null,null,null,null,null,{"$f":"G755*F755","v":0}]
[750,null,null,null,null,null,null,0]
[751,null,null,null,null,null,null,0]
[752,null,null,null,null,null,null,0]
[753,null,null,null,null,null,null,0]
[754,null,null,null,null,null,null,0]
[755,null,null,null,null,null,null,0]
[756,null,null,null,null,null,null,0]
[757,null,null,null,null,null,null,0]
[758,null,null,null,null,null,null,0]
[759,null,null,null,null,null,null,0]
[760,null,null,null,null,null,null,0]
[761,null,null,null,null,null,null,0]
[762,null,null,null,null,null,null,0]
[763,null,null,null,null,null,null,0]
[764,null,null,null,null,null,null,0]
[765,null,null,null,null,null,null,0]
[766,null,null,null,null,null,null,0]
[767,null,null,null,null,null,null,0]
[768,null,null,null,null,null,null,0]
[769,null,null,null,null,null,null,0]
[770,null,null,null,null,null,null,0]
[{"$f":"+A776+1","v":771},null,null,null,null,null,null,0]
[772,null,null,null,null,null,null,0]
[773,null,null,null,null,null,null,0]
[774,null,null,null,null,null,null,0]
[775,null,null,null,null,null,null,0]
[776,null,null,null,null,null,null,0]
[777,null,null,null,null,null,null,0]
[778,null,null,null,null,null,null,0]
[779,null,null,null,null,null,null,0]
[780,null,null,null,null,null,null,0]
[781,null,null,null,null,null,null,0]
[782,null,null,null,null,null,null,0]
[783,null,null,null,null,null,null,0]
[784,null,null,null,null,null,null,0]
[785,null,null,null,null,null,null,0]
[786,null,null,null,null,null,null,0]
[787,null,null,null,null,null,null,0]
[788,null,null,null,null,null,null,0]
[789,null,null,null,null,null,null,0]
[790,null,null,null,null,null,null,0]
[791,null,null,null,null,null,null,0]
[792,null,null,null,null,null,null,0]
[793,null,null,null,null,null,null,0]
[794,null,null,null,null,null,null,0]
[795,null,null,null,null,null,null,0]
[796,null,null,null,null,null,null,0]
[797,null,null,null,null,null,null,0]
[798,null,null,null,null,null,null,0]
[799,null,null,null,null,null,null,0]
[800,null,null,null,null,null,null,0]
[801,null,null,null,null,null,null,0]
[802,null,null,null,null,null,null,0]
[803,null,null,null,null,null,null,0]
[804,null,null,null,null,null,null,0]
[805,null,null,null,null,null,null,0]
[806,null,null,null,null,null,null,0]
[807,null,null,null,null,null,null,0]
[808,null,null,null,null,null,null,0]
[809,null,null,null,null,null,null,0]
[810,null,null,null,null,null,null,0]
[811,null,null,null,null,null,null,0]
[812,null,null,null,null,null,null,0]
[813,null,null,null,null,null,null,{"$f":"G819*F819","v":0}]
[814,null,null,null,null,null,null,0]
[815,null,null,null,null,null,null,0]
[816,null,null,null,null,null,null,0]
[817,null,null,null,null,null,null,0]
[818,null,null,null,null,null,null,0]
[819,null,null,null,null,null,null,0]
[820,null,null,null,null,null,null,0]
[821,null,null,null,null,null,null,0]
[822,null,null,null,null,null,null,0]
[823,null,null,null,null,null,null,0]
[824,null,null,null,null,null,null,0]
[825,null,null,null,null,null,null,0]
[826,null,null,null,null,null,null,0]
[827,null,null,null,null,null,null,0]
[828,null,null,null,null,null,null,0]
[829,null,null,null,null,null,null,0]
[830,null,null,null,null,null,null,0]
[831,null,null,null,null,null,null,0]
[832,null,null,null,null,null,null,0]
[833,null,null,null,null,null,null,0]
[834,null,null,null,null,null,null,0]
[{"$f":"+A840+1","v":835},null,null,null,null,null,null,0]
[836,null,null,null,null,null,null,0]
[837,null,null,null,null,null,null,0]
[838,null,null,null,null,null,null,0]
[839,null,null,null,null,null,null,0]
[840,null,null,null,null,null,null,0]
[841,null,null,null,null,null,null,0]
[842,null,null,null,null,null,null,0]
[843,null,null,null,null,null,null,0]
[844,null,null,null,null,null,null,0]
[845,null,null,null,null,null,null,0]
[846,null,null,null,null,null,null,0]
[847,null,null,null,null,null,null,0]
[848,null,null,null,null,null,null,0]
[849,null,null,null,null,null,null,0]
[850,null,null,null,null,null,null,0]
[851,null,null,null,null,null,null,0]
[852,null,null,null,null,null,null,0]
[853,null,null,null,null,null,null,0]
[854,null,null,null,null,null,null,0]
[855,null,null,null,null,null,null,0]
[856,null,null,null,null,null,null,0]
[857,null,null,null,null,null,null,0]
[858,null,null,null,null,null,null,0]
[859,null,null,null,null,null,null,0]
[860,null,null,null,null,null,null,0]
[861,null,null,null,null,null,null,0]
[862,null,null,null,null,null,null,0]
[863,null,null,null,null,null,null,0]
[864,null,null,null,null,null,null,0]
[865,null,null,null,null,null,null,0]
[866,null,null,null,null,null,null,0]
[867,null,null,null,null,null,null,0]
[868,null,null,null,null,null,null,0]
[869,null,null,null,null,null,null,0]
[870,null,null,null,null,null,null,0]
[871,null,null,null,null,null,null,0]
[872,null,null,null,null,null,null,0]
[873,null,null,null,null,null,null,0]
[874,null,null,null,null,null,null,0]
[875,null,null,null,null,null,null,0]
[876,null,null,null,null,null,null,0]
[877,null,null,null,null,null,null,{"$f":"G883*F883","v":0}]
[878,null,null,null,null,null,null,0]
[879,null,null,null,null,null,null,0]
[880,null,null,null,null,null,null,0]
[881,null,null,null,null,null,null,0]
[882,null,null,null,null,null,null,0]
[883,null,null,null,null,null,null,0]
[884,null,null,null,null,null,null,0]
[885,null,null,null,null,null,null,0]
[886,null,null,null,null,null,null,0]
[887,null,null,null,null,null,null,0]
[888,null,null,null,null,null,null,0]
[889,null,null,null,null,null,null,0]
[890,null,null,null,null,null,null,0]
[891,null,null,null,null,null,null,0]
[892,null,null,null,null,null,null,0]
[893,null,null,null,null,null,null,0]
[894,null,null,null,null,null,null,0]
[895,null,null,null,null,null,null,0]
[896,null,null,null,null,null,null,0]
[897,null,null,null,null,null,null,0]
[898,null,null,null,null,null,null,0]
[{"$f":"+A904+1","v":899},null,null,null,null,null,null,0]
[900,null,null,null,null,null,null,0]
[901,null,null,null,null,null,null,0]
[902,null,null,null,null,null,null,0]
[903,null,null,null,null,null,null,0]
[904,null,null,null,null,null,null,0]
[905,null,null,null,null,null,null,0]
[906,null,null,null,null,null,null,0]
[907,null,null,null,null,null,null,0]
[908,null,null,null,null,null,null,0]
[909,null,null,null,null,null,null,0]
[910,null,null,null,null,null,null,0]
[911,null,null,null,null,null,null,0]
[912,null,null,null,null,null,null,0]
[913,null,null,null,null,null,null,0]
[914,null,null,null,null,null,null,0]
[915,null,null,null,null,null,null,0]
[916,null,null,null,null,null,null,0]
[917,null,null,null,null,null,null,0]
[918,null,null,null,null,null,null,0]
[919,null,null,null,null,null,null,0]
[920,null,null,null,null,null,null,0]
[921,null,null,null,null,null,null,0]
[922,null,null,null,null,null,null,0]
[923,null,null,null,null,null,null,0]
[924,null,null,null,null,null,null,0]
[925,null,null,null,null,null,null,0]
[926,null,null,null,null,null,null,0]
[927,null,null,null,null,null,null,0]
[928,null,null,null,null,null,null,0]
[929,null,null,null,null,null,null,0]
[930,null,null,null,null,null,null,0]
[931,null,null,null,null,null,null,0]
[932,null,null,null,null,null,null,0]
[933,null,null,null,null,null,null,0]
[934,null,null,null,null,null,null,0]
[935,null,null,null,null,null,null,0]
[936,null,null,null,null,null,null,0]
[937,null,null,null,null,null,null,0]
[938,null,null,null,null,null,null,0]
[939,null,null,null,null,null,null,0]
[940,null,null,null,null,null,null,0]
[941,null,null,null,null,null,null,{"$f":"G947*F947","v":0}]
[942,null,null,null,null,null,null,0]
[943,null,null,null,null,null,null,0]
[944,null,null,null,null,null,null,0]
[945,null,null,null,null,null,null,0]
[946,null,null,null,null,null,null,0]
[947,null,null,null,null,null,null,0]
[948,null,null,null,null,null,null,0]
[949,null,null,null,null,null,null,0]
[950,null,null,null,null,null,null,0]
[951,null,null,null,null,null,null,0]
[952,null,null,null,null,null,null,0]
[953,null,null,null,null,null,null,0]
[954,null,null,null,null,null,null,0]
[955,null,null,null,null,null,null,0]
[956,null,null,null,null,null,null,0]
[957,null,null,null,null,null,null,0]
[958,null,null,null,null,null,null,0]
[959,null,null,null,null,null,null,0]
[960,null,null,null,null,null,null,0]
[961,null,null,null,null,null,null,0]
[962,null,null,null,null,null,null,0]
[{"$f":"+A968+1","v":963},null,null,null,null,null,null,0]
[964,null,null,null,null,null,null,0]
[965,null,null,null,null,null,null,0]
[966,null,null,null,null,null,null,0]
[967,null,null,null,null,null,null,0]
[968,null,null,null,null,null,null,0]
[969,null,null,null,null,null,null,0]
[970,null,null,null,null,null,null,0]
[971,null,null,null,null,null,null,0]
[972,null,null,null,null,null,null,0]
[973,null,null,null,null,null,null,0]
[974,null,null,null,null,null,null,0]
[975,null,null,null,null,null,null,0]
[976,null,null,null,null,null,null,0]
[977,null,null,null,null,null,null,0]
[978,null,null,null,null,null,null,0]
[979,null,null,null,null,null,null,0]
[980,null,null,null,null,null,null,0]
[981,null,null,null,null,null,null,0]
[982,null,null,null,null,null,null,0]
[983,null,null,null,null,null,null,0]
[984,null,null,null,null,null,null,0]
[985,null,null,null,null,null,null,0]
[986,null,null,null,null,null,null,0]
[987,null,null,null,null,null,null,0]
[988,null,null,null,null,null,null,0]
[989,null,null,null,null,null,null,0]
[990,null,null,null,null,null,null,0]
[991,null,null,null,null,null,null,0]
[992,null,null,null,null,null,null,0]
[993,null,null,null,null,null,null,0]
[994,null,null,null,null,null,null,0]
[995,null,null,null,null,null,null,0]
[996,null,null,null,null,null,null,0]
[997,null,null,null,null,null,null,0]
[998,null,null,null,null,null,null,0]
[999,null,null,null,null,null,null,0]
[1000,null,null,null,null,null,null,0]

{"sheet":"INVENT.Mat&Outillag Importé -10","index":11,"n_rows":1006,"n_cols":8,"rows_kept":1006,"cut":false,"hidden":false,"merged":[]}
[null,null,{"$f":"'REFERENCES - 10'!D7","v":0},null,null,{"$f":"'REFERENCES - 10'!D9","v":0}]
[null,"INVENTAIRE DES MATERIELS EQUIPEMENTS IMPORTES"]
[null,null,null,null,null,null,null,"(En F. Cfa)"]
[null,"DESIGNATIONS DOUANIERES","N° NOMENCLATURE DOUANIERE","SPECIFICATIONS COMMERCIALES (1)","UNITE DE MESURE","QUAN.","VALEUR UNITAIRE","COÛT CAF"]
[]
[null,"Matériels & Outillages",null,null,null,{"$f":"SUM(F7:F306)","v":0},null,{"$f":"SUM(H7:H306)","v":0}]
[1,null,null,null,null,null,null,{"$f":"G7*F7","v":0}]
[{"$f":"+A7+1","v":2},null,null,null,null,null,null,0]
[{"$f":"+A8+1","v":3},null,null,null,null,null,null,0]
[4,null,null,null,null,null,null,0]
[5,null,null,null,null,null,null,0]
[6,null,null,null,null,null,null,{"$f":"G12*F12","v":0}]
[7,null,null,null,null,null,null,0]
[8,null,null,null,null,null,null,0]
[9,null,null,null,null,null,null,0]
[10,null,null,null,null,null,null,0]
[11,null,null,null,null,null,null,0]
[12,null,null,null,null,null,null,0]
[13,null,null,null,null,null,null,0]
[14,null,null,null,null,null,null,0]
[15,null,null,null,null,null,null,0]
[16,null,null,null,null,null,null,0]
[17,null,null,null,null,null,null,0]
[18,null,null,null,null,null,null,0]
[19,null,null,null,null,null,null,0]
[20,null,null,null,null,null,null,0]
[21,null,null,null,null,null,null,0]
[22,null,null,null,null,null,null,0]
[23,null,null,null,null,null,null,0]
[24,null,null,null,null,null,null,0]
[25,null,null,null,null,null,null,0]
[26,null,null,null,null,null,null,0]
[27,null,null,null,null,null,null,0]
[28,null,null,null,null,null,null,0]
[29,null,null,null,null,null,null,0]
[30,null,null,null,null,null,null,0]
[31,null,null,null,null,null,null,0]
[32,null,null,null,null,null,null,0]
[33,null,null,null,null,null,null,0]
[34,null,null,null,null,null,null,0]
[35,null,null,null,null,null,null,0]
[36,null,null,null,null,null,null,0]
[37,null,null,null,null,null,null,0]
[38,null,null,null,null,null,null,0]
[39,null,null,null,null,null,null,0]
[40,null,null,null,null,null,null,0]
[41,null,null,null,null,null,null,0]
[42,null,null,null,null,null,null,0]
[43,null,null,null,null,null,null,0]
[44,null,null,null,null,null,null,0]
[45,null,null,null,null,null,null,0]
[46,null,null,null,null,null,null,0]
[47,null,null,null,null,null,null,0]
[48,null,null,null,null,null,null,0]
[49,null,null,null,null,null,null,0]
[50,null,null,null,null,null,null,0]
[51,null,null,null,null,null,null,0]
[52,null,null,null,null,null,null,0]
[53,null,null,null,null,null,null,0]
[54,null,null,null,null,null,null,0]
[55,null,null,null,null,null,null,0]
[56,null,null,null,null,null,null,0]
[57,null,null,null,null,null,null,0]
[58,null,null,null,null,null,null,0]
[59,null,null,null,null,null,null,0]
[60,null,null,null,null,null,null,0]
[61,null,null,null,null,null,null,0]
[62,null,null,null,null,null,null,0]
[63,null,null,null,null,null,null,0]
[64,null,null,null,null,null,null,0]
[65,null,null,null,null,null,null,{"$f":"G71*F71","v":0}]
[66,null,null,null,null,null,null,0]
[{"$f":"+A72+1","v":67},null,null,null,null,null,null,0]
[68,null,null,null,null,null,null,0]
[69,null,null,null,null,null,null,0]
[70,null,null,null,null,null,null,0]
[71,null,null,null,null,null,null,0]
[72,null,null,null,null,null,null,0]
[73,null,null,null,null,null,null,0]
[74,null,null,null,null,null,null,0]
[75,null,null,null,null,null,null,0]
[76,null,null,null,null,null,null,0]
[77,null,null,null,null,null,null,0]
[78,null,null,null,null,null,null,0]
[79,null,null,null,null,null,null,0]
[80,null,null,null,null,null,null,0]
[81,null,null,null,null,null,null,0]
[82,null,null,null,null,null,null,0]
[83,null,null,null,null,null,null,0]
[84,null,null,null,null,null,null,0]
[85,null,null,null,null,null,null,0]
[86,null,null,null,null,null,null,0]
[87,null,null,null,null,null,null,0]
[88,null,null,null,null,null,null,0]
[89,null,null,null,null,null,null,0]
[90,null,null,null,null,null,null,0]
[91,null,null,null,null,null,null,0]
[92,null,null,null,null,null,null,0]
[93,null,null,null,null,null,null,0]
[94,null,null,null,null,null,null,0]
[95,null,null,null,null,null,null,0]
[96,null,null,null,null,null,null,0]
[97,null,null,null,null,null,null,0]
[98,null,null,null,null,null,null,0]
[99,null,null,null,null,null,null,0]
[100,null,null,null,null,null,null,{"$f":"G106*F106","v":0}]
[101,null,null,null,null,null,null,0]
[102,null,null,null,null,null,null,0]
[103,null,null,null,null,null,null,0]
[104,null,null,null,null,null,null,0]
[105,null,null,null,null,null,null,0]
[106,null,null,null,null,null,null,0]
[107,null,null,null,null,null,null,0]
[108,null,null,null,null,null,null,0]
[109,null,null,null,null,null,null,0]
[110,null,null,null,null,null,null,0]
[111,null,null,null,null,null,null,0]
[112,null,null,null,null,null,null,0]
[113,null,null,null,null,null,null,0]
[114,null,null,null,null,null,null,0]
[115,null,null,null,null,null,null,0]
[116,null,null,null,null,null,null,0]
[117,null,null,null,null,null,null,0]
[118,null,null,null,null,null,null,0]
[119,null,null,null,null,null,null,0]
[120,null,null,null,null,null,null,0]
[121,null,null,null,null,null,null,0]
[122,null,null,null,null,null,null,0]
[123,null,null,null,null,null,null,0]
[124,null,null,null,null,null,null,0]
[125,null,null,null,null,null,null,0]
[126,null,null,null,null,null,null,0]
[127,null,null,null,null,null,null,0]
[128,null,null,null,null,null,null,0]
[129,null,null,null,null,null,null,0]
[130,null,null,null,null,null,null,0]
[{"$f":"+A136+1","v":131},null,null,null,null,null,null,0]
[132,null,null,null,null,null,null,0]
[133,null,null,null,null,null,null,0]
[134,null,null,null,null,null,null,0]
[135,null,null,null,null,null,null,0]
[136,null,null,null,null,null,null,0]
[137,null,null,null,null,null,null,0]
[138,null,null,null,null,null,null,0]
[139,null,null,null,null,null,null,0]
[140,null,null,null,null,null,null,0]
[141,null,null,null,null,null,null,0]
[142,null,null,null,null,null,null,0]
[143,null,null,null,null,null,null,0]
[144,null,null,null,null,null,null,0]
[145,null,null,null,null,null,null,0]
[146,null,null,null,null,null,null,0]
[147,null,null,null,null,null,null,0]
[148,null,null,null,null,null,null,0]
[149,null,null,null,null,null,null,0]
[150,null,null,null,null,null,null,0]
[151,null,null,null,null,null,null,0]
[152,null,null,null,null,null,null,0]
[153,null,null,null,null,null,null,0]
[154,null,null,null,null,null,null,0]
[155,null,null,null,null,null,null,0]
[156,null,null,null,null,null,null,0]
[157,null,null,null,null,null,null,0]
[158,null,null,null,null,null,null,0]
[159,null,null,null,null,null,null,0]
[160,null,null,null,null,null,null,0]
[161,null,null,null,null,null,null,0]
[162,null,null,null,null,null,null,0]
[163,null,null,null,null,null,null,0]
[164,null,null,null,null,null,null,{"$f":"G170*F170","v":0}]
[165,null,null,null,null,null,null,0]
[166,null,null,null,null,null,null,0]
[167,null,null,null,null,null,null,0]
[168,null,null,null,null,null,null,0]
[169,null,null,null,null,null,null,0]
[170,null,null,null,null,null,null,0]
[171,null,null,null,null,null,null,0]
[172,null,null,null,null,null,null,0]
[173,null,null,null,null,null,null,0]
[174,null,null,null,null,null,null,0]
[175,null,null,null,null,null,null,0]
[176,null,null,null,null,null,null,0]
[177,null,null,null,null,null,null,0]
[178,null,null,null,null,null,null,0]
[179,null,null,null,null,null,null,0]
[180,null,null,null,null,null,null,0]
[181,null,null,null,null,null,null,0]
[182,null,null,null,null,null,null,0]
[183,null,null,null,null,null,null,0]
[184,null,null,null,null,null,null,0]
[185,null,null,null,null,null,null,0]
[186,null,null,null,null,null,null,0]
[187,null,null,null,null,null,null,0]
[188,null,null,null,null,null,null,0]
[189,null,null,null,null,null,null,0]
[190,null,null,null,null,null,null,0]
[191,null,null,null,null,null,null,0]
[192,null,null,null,null,null,null,0]
[193,null,null,null,null,null,null,0]
[194,null,null,null,null,null,null,0]
[{"$f":"+A200+1","v":195},null,null,null,null,null,null,0]
[196,null,null,null,null,null,null,0]
[197,null,null,null,null,null,null,0]
[198,null,null,null,null,null,null,0]
[199,null,null,null,null,null,null,0]
[200,null,null,null,null,null,null,{"$f":"G206*F206","v":0}]
[201,null,null,null,null,null,null,{"$f":"G207*F207","v":0}]
[202,null,null,null,null,null,null,{"$f":"G208*F208","v":0}]
[203,null,null,null,null,null,null,0]
[204,null,null,null,null,null,null,0]
[205,null,null,null,null,null,null,0]
[206,null,null,null,null,null,null,0]
[207,null,null,null,null,null,null,0]
[208,null,null,null,null,null,null,0]
[209,null,null,null,null,null,null,0]
[210,null,null,null,null,null,null,0]
[211,null,null,null,null,null,null,0]
[212,null,null,null,null,null,null,0]
[213,null,null,null,null,null,null,0]
[214,null,null,null,null,null,null,0]
[215,null,null,null,null,null,null,0]
[216,null,null,null,null,null,null,0]
[217,null,null,null,null,null,null,0]
[218,null,null,null,null,null,null,0]
[219,null,null,null,null,null,null,0]
[220,null,null,null,null,null,null,0]
[221,null,null,null,null,null,null,0]
[222,null,null,null,null,null,null,0]
[223,null,null,null,null,null,null,0]
[224,null,null,null,null,null,null,0]
[225,null,null,null,null,null,null,0]
[226,null,null,null,null,null,null,0]
[227,null,null,null,null,null,null,0]
[228,null,null,null,null,null,null,0]
[229,null,null,null,null,null,null,0]
[230,null,null,null,null,null,null,0]
[231,null,null,null,null,null,null,0]
[232,null,null,null,null,null,null,0]
[233,null,null,null,null,null,null,0]
[234,null,null,null,null,null,null,0]
[235,null,null,null,null,null,null,0]
[236,null,null,null,null,null,null,0]
[237,null,null,null,null,null,null,0]
[238,null,null,null,null,null,null,0]
[239,null,null,null,null,null,null,0]
[240,null,null,null,null,null,null,0]
[241,null,null,null,null,null,null,0]
[242,null,null,null,null,null,null,0]
[243,null,null,null,null,null,null,0]
[244,null,null,null,null,null,null,0]
[245,null,null,null,null,null,null,0]
[246,null,null,null,null,null,null,0]
[247,null,null,null,null,null,null,0]
[248,null,null,null,null,null,null,0]
[249,null,null,null,null,null,null,0]
[250,null,null,null,null,null,null,0]
[251,null,null,null,null,null,null,0]
[252,null,null,null,null,null,null,0]
[253,null,null,null,null,null,null,0]
[254,null,null,null,null,null,null,0]
[255,null,null,null,null,null,null,0]
[256,null,null,null,null,null,null,0]
[257,null,null,null,null,null,null,0]
[258,null,null,null,null,null,null,0]
[{"$f":"+A264+1","v":259},null,null,null,null,null,null,0]
[260,null,null,null,null,null,null,0]
[261,null,null,null,null,null,null,0]
[262,null,null,null,null,null,null,0]
[263,null,null,null,null,null,null,0]
[264,null,null,null,null,null,null,0]
[265,null,null,null,null,null,null,0]
[266,null,null,null,null,null,null,{"$f":"G272*F272","v":0}]
[267,null,null,null,null,null,null,0]
[268,null,null,null,null,null,null,0]
[269,null,null,null,null,null,null,0]
[270,null,null,null,null,null,null,0]
[271,null,null,null,null,null,null,0]
[272,null,null,null,null,null,null,0]
[273,null,null,null,null,null,null,0]
[274,null,null,null,null,null,null,0]
[275,null,null,null,null,null,null,0]
[276,null,null,null,null,null,null,0]
[277,null,null,null,null,null,null,0]
[278,null,null,null,null,null,null,0]
[279,null,null,null,null,null,null,0]
[280,null,null,null,null,null,null,0]
[281,null,null,null,null,null,null,0]
[282,null,null,null,null,null,null,0]
[283,null,null,null,null,null,null,0]
[284,null,null,null,null,null,null,0]
[285,null,null,null,null,null,null,0]
[286,null,null,null,null,null,null,0]
[287,null,null,null,null,null,null,0]
[288,null,null,null,null,null,null,0]
[289,null,null,null,null,null,null,0]
[290,null,null,null,null,null,null,0]
[291,null,null,null,null,null,null,0]
[292,null,null,null,null,null,null,0]
[293,null,null,null,null,null,null,0]
[294,null,null,null,null,null,null,0]
[295,null,null,null,null,null,null,0]
[296,null,null,null,null,null,null,0]
[297,null,null,null,null,null,null,0]
[298,null,null,null,null,null,null,0]
[299,null,null,null,null,null,null,0]
[300,null,null,null,null,null,null,0]
[301,null,null,null,null,null,null,{"$f":"G307*F307","v":0}]
[302,null,null,null,null,null,null,0]
[303,null,null,null,null,null,null,0]
[304,null,null,null,null,null,null,0]
[305,null,null,null,null,null,null,0]
[306,null,null,null,null,null,null,0]
[307,null,null,null,null,null,null,0]
[308,null,null,null,null,null,null,0]
[309,null,null,null,null,null,null,0]
[310,null,null,null,null,null,null,0]
[311,null,null,null,null,null,null,0]
[312,null,null,null,null,null,null,0]
[313,null,null,null,null,null,null,0]
[314,null,null,null,null,null,null,0]
[315,null,null,null,null,null,null,0]
[316,null,null,null,null,null,null,0]
[317,null,null,null,null,null,null,0]
[318,null,null,null,null,null,null,0]
[319,null,null,null,null,null,null,0]
[320,null,null,null,null,null,null,0]
[321,null,null,null,null,null,null,0]
[322,null,null,null,null,null,null,0]
[{"$f":"+A328+1","v":323},null,null,null,null,null,null,0]
[324,null,null,null,null,null,null,0]
[325,null,null,null,null,null,null,0]
[326,null,null,null,null,null,null,0]
[327,null,null,null,null,null,null,0]
[328,null,null,null,null,null,null,0]
[329,null,null,null,null,null,null,0]
[330,null,null,null,null,null,null,0]
[331,null,null,null,null,null,null,0]
[332,null,null,null,null,null,null,0]
[333,null,null,null,null,null,null,0]
[334,null,null,null,null,null,null,0]
[335,null,null,null,null,null,null,0]
[336,null,null,null,null,null,null,0]
[337,null,null,null,null,null,null,0]
[338,null,null,null,null,null,null,0]
[339,null,null,null,null,null,null,0]
[340,null,null,null,null,null,null,0]
[341,null,null,null,null,null,null,0]
[342,null,null,null,null,null,null,0]
[343,null,null,null,null,null,null,0]
[344,null,null,null,null,null,null,0]
[345,null,null,null,null,null,null,0]
[346,null,null,null,null,null,null,0]
[347,null,null,null,null,null,null,0]
[348,null,null,null,null,null,null,0]
[349,null,null,null,null,null,null,0]
[350,null,null,null,null,null,null,0]
[351,null,null,null,null,null,null,0]
[352,null,null,null,null,null,null,0]
[353,null,null,null,null,null,null,0]
[354,null,null,null,null,null,null,0]
[355,null,null,null,null,null,null,0]
[356,null,null,null,null,null,null,0]
[357,null,null,null,null,null,null,0]
[358,null,null,null,null,null,null,0]
[359,null,null,null,null,null,null,0]
[360,null,null,null,null,null,null,0]
[361,null,null,null,null,null,null,0]
[362,null,null,null,null,null,null,0]
[363,null,null,null,null,null,null,0]
[364,null,null,null,null,null,null,0]
[365,null,null,null,null,null,null,{"$f":"G371*F371","v":0}]
[366,null,null,null,null,null,null,0]
[367,null,null,null,null,null,null,0]
[368,null,null,null,null,null,null,0]
[369,null,null,null,null,null,null,0]
[370,null,null,null,null,null,null,0]
[371,null,null,null,null,null,null,0]
[372,null,null,null,null,null,null,0]
[373,null,null,null,null,null,null,0]
[374,null,null,null,null,null,null,0]
[375,null,null,null,null,null,null,0]
[376,null,null,null,null,null,null,0]
[377,null,null,null,null,null,null,0]
[378,null,null,null,null,null,null,0]
[379,null,null,null,null,null,null,0]
[380,null,null,null,null,null,null,0]
[381,null,null,null,null,null,null,0]
[382,null,null,null,null,null,null,0]
[383,null,null,null,null,null,null,0]
[384,null,null,null,null,null,null,0]
[385,null,null,null,null,null,null,0]
[386,null,null,null,null,null,null,0]
[{"$f":"+A392+1","v":387},null,null,null,null,null,null,0]
[388,null,null,null,null,null,null,0]
[389,null,null,null,null,null,null,0]
[390,null,null,null,null,null,null,0]
[391,null,null,null,null,null,null,0]
[392,null,null,null,null,null,null,0]
[393,null,null,null,null,null,null,0]
[394,null,null,null,null,null,null,0]
[395,null,null,null,null,null,null,0]
[396,null,null,null,null,null,null,0]
[397,null,null,null,null,null,null,0]
[398,null,null,null,null,null,null,0]
[399,null,null,null,null,null,null,0]
[400,null,null,null,null,null,null,0]
[401,null,null,null,null,null,null,0]
[402,null,null,null,null,null,null,0]
[403,null,null,null,null,null,null,0]
[404,null,null,null,null,null,null,0]
[405,null,null,null,null,null,null,0]
[406,null,null,null,null,null,null,0]
[407,null,null,null,null,null,null,0]
[408,null,null,null,null,null,null,0]
[409,null,null,null,null,null,null,0]
[410,null,null,null,null,null,null,0]
[411,null,null,null,null,null,null,0]
[412,null,null,null,null,null,null,0]
[413,null,null,null,null,null,null,0]
[414,null,null,null,null,null,null,0]
[415,null,null,null,null,null,null,0]
[416,null,null,null,null,null,null,0]
[417,null,null,null,null,null,null,0]
[418,null,null,null,null,null,null,0]
[419,null,null,null,null,null,null,0]
[420,null,null,null,null,null,null,0]
[421,null,null,null,null,null,null,0]
[422,null,null,null,null,null,null,0]
[423,null,null,null,null,null,null,0]
[424,null,null,null,null,null,null,0]
[425,null,null,null,null,null,null,0]
[426,null,null,null,null,null,null,0]
[427,null,null,null,null,null,null,0]
[428,null,null,null,null,null,null,0]
[429,null,null,null,null,null,null,{"$f":"G435*F435","v":0}]
[430,null,null,null,null,null,null,0]
[431,null,null,null,null,null,null,0]
[432,null,null,null,null,null,null,0]
[433,null,null,null,null,null,null,0]
[434,null,null,null,null,null,null,0]
[435,null,null,null,null,null,null,0]
[436,null,null,null,null,null,null,0]
[437,null,null,null,null,null,null,0]
[438,null,null,null,null,null,null,0]
[439,null,null,null,null,null,null,0]
[440,null,null,null,null,null,null,0]
[441,null,null,null,null,null,null,0]
[442,null,null,null,null,null,null,0]
[443,null,null,null,null,null,null,0]
[444,null,null,null,null,null,null,0]
[445,null,null,null,null,null,null,0]
[446,null,null,null,null,null,null,0]
[447,null,null,null,null,null,null,0]
[448,null,null,null,null,null,null,0]
[449,null,null,null,null,null,null,0]
[450,null,null,null,null,null,null,0]
[{"$f":"+A456+1","v":451},null,null,null,null,null,null,0]
[452,null,null,null,null,null,null,0]
[453,null,null,null,null,null,null,0]
[454,null,null,null,null,null,null,0]
[455,null,null,null,null,null,null,0]
[456,null,null,null,null,null,null,0]
[457,null,null,null,null,null,null,0]
[458,null,null,null,null,null,null,0]
[459,null,null,null,null,null,null,0]
[460,null,null,null,null,null,null,0]
[461,null,null,null,null,null,null,0]
[462,null,null,null,null,null,null,0]
[463,null,null,null,null,null,null,0]
[464,null,null,null,null,null,null,0]
[465,null,null,null,null,null,null,0]
[466,null,null,null,null,null,null,0]
[467,null,null,null,null,null,null,0]
[468,null,null,null,null,null,null,0]
[469,null,null,null,null,null,null,0]
[470,null,null,null,null,null,null,0]
[471,null,null,null,null,null,null,0]
[472,null,null,null,null,null,null,0]
[473,null,null,null,null,null,null,0]
[474,null,null,null,null,null,null,0]
[475,null,null,null,null,null,null,0]
[476,null,null,null,null,null,null,0]
[477,null,null,null,null,null,null,0]
[478,null,null,null,null,null,null,0]
[479,null,null,null,null,null,null,0]
[480,null,null,null,null,null,null,0]
[481,null,null,null,null,null,null,0]
[482,null,null,null,null,null,null,0]
[483,null,null,null,null,null,null,0]
[484,null,null,null,null,null,null,0]
[485,null,null,null,null,null,null,0]
[486,null,null,null,null,null,null,0]
[487,null,null,null,null,null,null,0]
[488,null,null,null,null,null,null,0]
[489,null,null,null,null,null,null,0]
[490,null,null,null,null,null,null,0]
[491,null,null,null,null,null,null,0]
[492,null,null,null,null,null,null,0]
[493,null,null,null,null,null,null,{"$f":"G499*F499","v":0}]
[494,null,null,null,null,null,null,0]
[495,null,null,null,null,null,null,0]
[496,null,null,null,null,null,null,0]
[497,null,null,null,null,null,null,0]
[498,null,null,null,null,null,null,0]
[499,null,null,null,null,null,null,0]
[500,null,null,null,null,null,null,0]
[501,null,null,null,null,null,null,0]
[502,null,null,null,null,null,null,0]
[503,null,null,null,null,null,null,0]
[504,null,null,null,null,null,null,0]
[505,null,null,null,null,null,null,0]
[506,null,null,null,null,null,null,0]
[507,null,null,null,null,null,null,0]
[508,null,null,null,null,null,null,0]
[509,null,null,null,null,null,null,0]
[510,null,null,null,null,null,null,0]
[511,null,null,null,null,null,null,0]
[512,null,null,null,null,null,null,0]
[513,null,null,null,null,null,null,0]
[514,null,null,null,null,null,null,0]
[{"$f":"+A520+1","v":515},null,null,null,null,null,null,0]
[516,null,null,null,null,null,null,0]
[517,null,null,null,null,null,null,0]
[518,null,null,null,null,null,null,0]
[519,null,null,null,null,null,null,0]
[520,null,null,null,null,null,null,0]
[521,null,null,null,null,null,null,0]
[522,null,null,null,null,null,null,0]
[523,null,null,null,null,null,null,0]
[524,null,null,null,null,null,null,0]
[525,null,null,null,null,null,null,0]
[526,null,null,null,null,null,null,0]
[527,null,null,null,null,null,null,0]
[528,null,null,null,null,null,null,0]
[529,null,null,null,null,null,null,0]
[530,null,null,null,null,null,null,0]
[531,null,null,null,null,null,null,0]
[532,null,null,null,null,null,null,0]
[533,null,null,null,null,null,null,0]
[534,null,null,null,null,null,null,0]
[535,null,null,null,null,null,null,0]
[536,null,null,null,null,null,null,0]
[537,null,null,null,null,null,null,0]
[538,null,null,null,null,null,null,0]
[539,null,null,null,null,null,null,0]
[540,null,null,null,null,null,null,0]
[541,null,null,null,null,null,null,0]
[542,null,null,null,null,null,null,0]
[543,null,null,null,null,null,null,0]
[544,null,null,null,null,null,null,0]
[545,null,null,null,null,null,null,0]
[546,null,null,null,null,null,null,0]
[547,null,null,null,null,null,null,0]
[548,null,null,null,null,null,null,0]
[549,null,null,null,null,null,null,0]
[550,null,null,null,null,null,null,0]
[551,null,null,null,null,null,null,0]
[552,null,null,null,null,null,null,0]
[553,null,null,null,null,null,null,0]
[554,null,null,null,null,null,null,0]
[555,null,null,null,null,null,null,0]
[556,null,null,null,null,null,null,0]
[557,null,null,null,null,null,null,{"$f":"G563*F563","v":0}]
[558,null,null,null,null,null,null,0]
[559,null,null,null,null,null,null,0]
[560,null,null,null,null,null,null,0]
[561,null,null,null,null,null,null,0]
[562,null,null,null,null,null,null,0]
[563,null,null,null,null,null,null,0]
[564,null,null,null,null,null,null,0]
[565,null,null,null,null,null,null,0]
[566,null,null,null,null,null,null,0]
[567,null,null,null,null,null,null,0]
[568,null,null,null,null,null,null,0]
[569,null,null,null,null,null,null,0]
[570,null,null,null,null,null,null,0]
[571,null,null,null,null,null,null,0]
[572,null,null,null,null,null,null,0]
[573,null,null,null,null,null,null,0]
[574,null,null,null,null,null,null,0]
[575,null,null,null,null,null,null,0]
[576,null,null,null,null,null,null,0]
[577,null,null,null,null,null,null,0]
[578,null,null,null,null,null,null,0]
[{"$f":"+A584+1","v":579},null,null,null,null,null,null,0]
[580,null,null,null,null,null,null,0]
[581,null,null,null,null,null,null,0]
[582,null,null,null,null,null,null,0]
[583,null,null,null,null,null,null,0]
[584,null,null,null,null,null,null,0]
[585,null,null,null,null,null,null,0]
[586,null,null,null,null,null,null,0]
[587,null,null,null,null,null,null,0]
[588,null,null,null,null,null,null,0]
[589,null,null,null,null,null,null,0]
[590,null,null,null,null,null,null,0]
[591,null,null,null,null,null,null,0]
[592,null,null,null,null,null,null,0]
[593,null,null,null,null,null,null,0]
[594,null,null,null,null,null,null,0]
[595,null,null,null,null,null,null,0]
[596,null,null,null,null,null,null,0]
[597,null,null,null,null,null,null,0]
[598,null,null,null,null,null,null,0]
[599,null,null,null,null,null,null,0]
[600,null,null,null,null,null,null,0]
[601,null,null,null,null,null,null,0]
[602,null,null,null,null,null,null,0]
[603,null,null,null,null,null,null,0]
[604,null,null,null,null,null,null,0]
[605,null,null,null,null,null,null,0]
[606,null,null,null,null,null,null,0]
[607,null,null,null,null,null,null,0]
[608,null,null,null,null,null,null,0]
[609,null,null,null,null,null,null,0]
[610,null,null,null,null,null,null,0]
[611,null,null,null,null,null,null,0]
[612,null,null,null,null,null,null,0]
[613,null,null,null,null,null,null,0]
[614,null,null,null,null,null,null,0]
[615,null,null,null,null,null,null,0]
[616,null,null,null,null,null,null,0]
[617,null,null,null,null,null,null,0]
[618,null,null,null,null,null,null,0]
[619,null,null,null,null,null,null,0]
[620,null,null,null,null,null,null,0]
[621,null,null,null,null,null,null,{"$f":"G627*F627","v":0}]
[622,null,null,null,null,null,null,0]
[623,null,null,null,null,null,null,0]
[624,null,null,null,null,null,null,0]
[625,null,null,null,null,null,null,0]
[626,null,null,null,null,null,null,0]
[627,null,null,null,null,null,null,0]
[628,null,null,null,null,null,null,0]
[629,null,null,null,null,null,null,0]
[630,null,null,null,null,null,null,0]
[631,null,null,null,null,null,null,0]
[632,null,null,null,null,null,null,0]
[633,null,null,null,null,null,null,0]
[634,null,null,null,null,null,null,0]
[635,null,null,null,null,null,null,0]
[636,null,null,null,null,null,null,0]
[637,null,null,null,null,null,null,0]
[638,null,null,null,null,null,null,0]
[639,null,null,null,null,null,null,0]
[640,null,null,null,null,null,null,0]
[641,null,null,null,null,null,null,0]
[642,null,null,null,null,null,null,0]
[{"$f":"+A648+1","v":643},null,null,null,null,null,null,0]
[644,null,null,null,null,null,null,0]
[645,null,null,null,null,null,null,0]
[646,null,null,null,null,null,null,0]
[647,null,null,null,null,null,null,0]
[648,null,null,null,null,null,null,0]
[649,null,null,null,null,null,null,0]
[650,null,null,null,null,null,null,0]
[651,null,null,null,null,null,null,0]
[652,null,null,null,null,null,null,0]
[653,null,null,null,null,null,null,0]
[654,null,null,null,null,null,null,0]
[655,null,null,null,null,null,null,0]
[656,null,null,null,null,null,null,0]
[657,null,null,null,null,null,null,0]
[658,null,null,null,null,null,null,0]
[659,null,null,null,null,null,null,0]
[660,null,null,null,null,null,null,0]
[661,null,null,null,null,null,null,0]
[662,null,null,null,null,null,null,0]
[663,null,null,null,null,null,null,0]
[664,null,null,null,null,null,null,0]
[665,null,null,null,null,null,null,0]
[666,null,null,null,null,null,null,0]
[667,null,null,null,null,null,null,0]
[668,null,null,null,null,null,null,0]
[669,null,null,null,null,null,null,0]
[670,null,null,null,null,null,null,0]
[671,null,null,null,null,null,null,0]
[672,null,null,null,null,null,null,0]
[673,null,null,null,null,null,null,0]
[674,null,null,null,null,null,null,0]
[675,null,null,null,null,null,null,0]
[676,null,null,null,null,null,null,0]
[677,null,null,null,null,null,null,0]
[678,null,null,null,null,null,null,0]
[679,null,null,null,null,null,null,0]
[680,null,null,null,null,null,null,0]
[681,null,null,null,null,null,null,0]
[682,null,null,null,null,null,null,0]
[683,null,null,null,null,null,null,0]
[684,null,null,null,null,null,null,0]
[685,null,null,null,null,null,null,{"$f":"G691*F691","v":0}]
[686,null,null,null,null,null,null,0]
[687,null,null,null,null,null,null,0]
[688,null,null,null,null,null,null,0]
[689,null,null,null,null,null,null,0]
[690,null,null,null,null,null,null,0]
[691,null,null,null,null,null,null,0]
[692,null,null,null,null,null,null,0]
[693,null,null,null,null,null,null,0]
[694,null,null,null,null,null,null,0]
[695,null,null,null,null,null,null,0]
[696,null,null,null,null,null,null,0]
[697,null,null,null,null,null,null,0]
[698,null,null,null,null,null,null,0]
[699,null,null,null,null,null,null,0]
[700,null,null,null,null,null,null,0]
[701,null,null,null,null,null,null,0]
[702,null,null,null,null,null,null,0]
[703,null,null,null,null,null,null,0]
[704,null,null,null,null,null,null,0]
[705,null,null,null,null,null,null,0]
[706,null,null,null,null,null,null,0]
[{"$f":"+A712+1","v":707},null,null,null,null,null,null,0]
[708,null,null,null,null,null,null,0]
[709,null,null,null,null,null,null,0]
[710,null,null,null,null,null,null,0]
[711,null,null,null,null,null,null,0]
[712,null,null,null,null,null,null,0]
[713,null,null,null,null,null,null,0]
[714,null,null,null,null,null,null,0]
[715,null,null,null,null,null,null,0]
[716,null,null,null,null,null,null,0]
[717,null,null,null,null,null,null,0]
[718,null,null,null,null,null,null,0]
[719,null,null,null,null,null,null,0]
[720,null,null,null,null,null,null,0]
[721,null,null,null,null,null,null,0]
[722,null,null,null,null,null,null,0]
[723,null,null,null,null,null,null,0]
[724,null,null,null,null,null,null,0]
[725,null,null,null,null,null,null,0]
[726,null,null,null,null,null,null,0]
[727,null,null,null,null,null,null,0]
[728,null,null,null,null,null,null,0]
[729,null,null,null,null,null,null,0]
[730,null,null,null,null,null,null,0]
[731,null,null,null,null,null,null,0]
[732,null,null,null,null,null,null,0]
[733,null,null,null,null,null,null,0]
[734,null,null,null,null,null,null,0]
[735,null,null,null,null,null,null,0]
[736,null,null,null,null,null,null,0]
[737,null,null,null,null,null,null,0]
[738,null,null,null,null,null,null,0]
[739,null,null,null,null,null,null,0]
[740,null,null,null,null,null,null,0]
[741,null,null,null,null,null,null,0]
[742,null,null,null,null,null,null,0]
[743,null,null,null,null,null,null,0]
[744,null,null,null,null,null,null,0]
[745,null,null,null,null,null,null,0]
[746,null,null,null,null,null,null,0]
[747,null,null,null,null,null,null,0]
[748,null,null,null,null,null,null,0]
[749,null,null,null,null,null,null,{"$f":"G755*F755","v":0}]
[750,null,null,null,null,null,null,0]
[751,null,null,null,null,null,null,0]
[752,null,null,null,null,null,null,0]
[753,null,null,null,null,null,null,0]
[754,null,null,null,null,null,null,0]
[755,null,null,null,null,null,null,0]
[756,null,null,null,null,null,null,0]
[757,null,null,null,null,null,null,0]
[758,null,null,null,null,null,null,0]
[759,null,null,null,null,null,null,0]
[760,null,null,null,null,null,null,0]
[761,null,null,null,null,null,null,0]
[762,null,null,null,null,null,null,0]
[763,null,null,null,null,null,null,0]
[764,null,null,null,null,null,null,0]
[765,null,null,null,null,null,null,0]
[766,null,null,null,null,null,null,0]
[767,null,null,null,null,null,null,0]
[768,null,null,null,null,null,null,0]
[769,null,null,null,null,null,null,0]
[770,null,null,null,null,null,null,0]
[{"$f":"+A776+1","v":771},null,null,null,null,null,null,0]
[772,null,null,null,null,null,null,0]
[773,null,null,null,null,null,null,0]
[774,null,null,null,null,null,null,0]
[775,null,null,null,null,null,null,0]
[776,null,null,null,null,null,null,0]
[777,null,null,null,null,null,null,0]
[778,null,null,null,null,null,null,0]
[779,null,null,null,null,null,null,0]
[780,null,null,null,null,null,null,0]
[781,null,null,null,null,null,null,0]
[782,null,null,null,null,null,null,0]
[783,null,null,null,null,null,null,0]
[784,null,null,null,null,null,null,0]
[785,null,null,null,null,null,null,0]
[786,null,null,null,null,null,null,0]
[787,null,null,null,null,null,null,0]
[788,null,null,null,null,null,null,0]
[789,null,null,null,null,null,null,0]
[790,null,null,null,null,null,null,0]
[791,null,null,null,null,null,null,0]
[792,null,null,null,null,null,null,0]
[793,null,null,null,null,null,null,0]
[794,null,null,null,null,null,null,0]
[795,null,null,null,null,null,null,0]
[796,null,null,null,null,null,null,0]
[797,null,null,null,null,null,null,0]
[798,null,null,null,null,null,null,0]
[799,null,null,null,null,null,null,0]
[800,null,null,null,null,null,null,0]
[801,null,null,null,null,null,null,0]
[802,null,null,null,null,null,null,0]
[803,null,null,null,null,null,null,0]
[804,null,null,null,null,null,null,0]
[805,null,null,null,null,null,null,0]
[806,null,null,null,null,null,null,0]
[807,null,null,null,null,null,null,0]
[808,null,null,null,null,null,null,0]
[809,null,null,null,null,null,null,0]
[810,null,null,null,null,null,null,0]
[811,null,null,null,null,null,null,0]
[812,null,null,null,null,null,null,0]
[813,null,null,null,null,null,null,{"$f":"G819*F819","v":0}]
[814,null,null,null,null,null,null,0]
[815,null,null,null,null,null,null,0]
[816,null,null,null,null,null,null,0]
[817,null,null,null,null,null,null,0]
[818,null,null,null,null,null,null,0]
[819,null,null,null,null,null,null,0]
[820,null,null,null,null,null,null,0]
[821,null,null,null,null,null,null,0]
[822,null,null,null,null,null,null,0]
[823,null,null,null,null,null,null,0]
[824,null,null,null,null,null,null,0]
[825,null,null,null,null,null,null,0]
[826,null,null,null,null,null,null,0]
[827,null,null,null,null,null,null,0]
[828,null,null,null,null,null,null,0]
[829,null,null,null,null,null,null,0]
[830,null,null,null,null,null,null,0]
[831,null,null,null,null,null,null,0]
[832,null,null,null,null,null,null,0]
[833,null,null,null,null,null,null,0]
[834,null,null,null,null,null,null,0]
[{"$f":"+A840+1","v":835},null,null,null,null,null,null,0]
[836,null,null,null,null,null,null,0]
[837,null,null,null,null,null,null,0]
[838,null,null,null,null,null,null,0]
[839,null,null,null,null,null,null,0]
[840,null,null,null,null,null,null,0]
[841,null,null,null,null,null,null,0]
[842,null,null,null,null,null,null,0]
[843,null,null,null,null,null,null,0]
[844,null,null,null,null,null,null,0]
[845,null,null,null,null,null,null,0]
[846,null,null,null,null,null,null,0]
[847,null,null,null,null,null,null,0]
[848,null,null,null,null,null,null,0]
[849,null,null,null,null,null,null,0]
[850,null,null,null,null,null,null,0]
[851,null,null,null,null,null,null,0]
[852,null,null,null,null,null,null,0]
[853,null,null,null,null,null,null,0]
[854,null,null,null,null,null,null,0]
[855,null,null,null,null,null,null,0]
[856,null,null,null,null,null,null,0]
[857,null,null,null,null,null,null,0]
[858,null,null,null,null,null,null,0]
[859,null,null,null,null,null,null,0]
[860,null,null,null,null,null,null,0]
[861,null,null,null,null,null,null,0]
[862,null,null,null,null,null,null,0]
[863,null,null,null,null,null,null,0]
[864,null,null,null,null,null,null,0]
[865,null,null,null,null,null,null,0]
[866,null,null,null,null,null,null,0]
[867,null,null,null,null,null,null,0]
[868,null,null,null,null,null,null,0]
[869,null,null,null,null,null,null,0]
[870,null,null,null,null,null,null,0]
[871,null,null,null,null,null,null,0]
[872,null,null,null,null,null,null,0]
[873,null,null,null,null,null,null,0]
[874,null,null,null,null,null,null,0]
[875,null,null,null,null,null,null,0]
[876,null,null,null,null,null,null,0]
[877,null,null,null,null,null,null,{"$f":"G883*F883","v":0}]
[878,null,null,null,null,null,null,0]
[879,null,null,null,null,null,null,0]
[880,null,null,null,null,null,null,0]
[881,null,null,null,null,null,null,0]
[882,null,null,null,null,null,null,0]
[883,null,null,null,null,null,null,0]
[884,null,null,null,null,null,null,0]
[885,null,null,null,null,null,null,0]
[886,null,null,null,null,null,null,0]
[887,null,null,null,null,null,null,0]
[888,null,null,null,null,null,null,0]
[889,null,null,null,null,null,null,0]
[890,null,null,null,null,null,null,0]
[891,null,null,null,null,null,null,0]
[892,null,null,null,null,null,null,0]
[893,null,null,null,null,null,null,0]
[894,null,null,null,null,null,null,0]
[895,null,null,null,null,null,null,0]
[896,null,null,null,null,null,null,0]
[897,null,null,null,null,null,null,0]
[898,null,null,null,null,null,null,0]
[{"$f":"+A904+1","v":899},null,null,null,null,null,null,0]
[900,null,null,null,null,null,null,0]
[901,null,null,null,null,null,null,0]
[902,null,null,null,null,null,null,0]
[903,null,null,null,null,null,null,0]
[904,null,null,null,null,null,null,0]
[905,null,null,null,null,null,null,0]
[906,null,null,null,null,null,null,0]
[907,null,null,null,null,null,null,0]
[908,null,null,null,null,null,null,0]
[909,null,null,null,null,null,null,0]
[910,null,null,null,null,null,null,0]
[911,null,null,null,null,null,null,0]
[912,null,null,null,null,null,null,0]
[913,null,null,null,null,null,null,0]
[914,null,null,null,null,null,null,0]
[915,null,null,null,null,null,null,0]
[916,null,null,null,null,null,null,0]
[917,null,null,null,null,null,null,0]
[918,null,null,null,null,null,null,0]
[919,null,null,null,null,null,null,0]
[920,null,null,null,null,null,null,0]
[921,null,null,null,null,null,null,0]
[922,null,null,null,null,null,null,0]
[923,null,null,null,null,null,null,0]
[924,null,null,null,null,null,null,0]
[925,null,null,null,null,null,null,0]
[926,null,null,null,null,null,null,0]
[927,null,null,null,null,null,null,0]
[928,null,null,null,null,null,null,0]
[929,null,null,null,null,null,null,0]
[930,null,null,null,null,null,null,0]
[931,null,null,null,null,null,null,0]
[932,null,null,null,null,null,null,0]
[933,null,null,null,null,null,null,0]
[934,null,null,null,null,null,null,0]
[935,null,null,null,null,null,null,0]
[936,null,null,null,null,null,null,0]
[937,null,null,null,null,null,null,0]
[938,null,null,null,null,null,null,0]
[939,null,null,null,null,null,null,0]
[940,null,null,null,null,null,null,0]
[941,null,null,null,null,null,null,{"$f":"G947*F947","v":0}]
[942,null,null,null,null,null,null,0]
[943,null,null,null,null,null,null,0]
[944,null,null,null,null,null,null,0]
[945,null,null,null,null,null,null,0]
[946,null,null,null,null,null,null,0]
[947,null,null,null,null,null,null,0]
[948,null,null,null,null,null,null,0]
[949,null,null,null,null,null,null,0]
[950,null,null,null,null,null,null,0]
[951,null,null,null,null,null,null,0]
[952,null,null,null,null,null,null,0]
[953,null,null,null,null,null,null,0]
[954,null,null,null,null,null,null,0]
[955,null,null,null,null,null,null,0]
[956,null,null,null,null,null,null,0]
[957,null,null,null,null,null,null,0]
[958,null,null,null,null,null,null,0]
[959,null,null,null,null,null,null,0]
[960,null,null,null,null,null,null,0]
[961,null,null,null,null,null,null,0]
[962,null,null,null,null,null,null,0]
[{"$f":"+A968+1","v":963},null,null,null,null,null,null,0]
[964,null,null,null,null,null,null,0]
[965,null,null,null,null,null,null,0]
[966,null,null,null,null,null,null,0]
[967,null,null,null,null,null,null,0]
[968,null,null,null,null,null,null,0]
[969,null,null,null,null,null,null,0]
[970,null,null,null,null,null,null,0]
[971,null,null,null,null,null,null,0]
[972,null,null,null,null,null,null,0]
[973,null,null,null,null,null,null,0]
[974,null,null,null,null,null,null,0]
[975,null,null,null,null,null,null,0]
[976,null,null,null,null,null,null,0]
[977,null,null,null,null,null,null,0]
[978,null,null,null,null,null,null,0]
[979,null,null,null,null,null,null,0]
[980,null,null,null,null,null,null,0]
[981,null,null,null,null,null,null,0]
[982,null,null,null,null,null,null,0]
[983,null,null,null,null,null,null,0]
[984,null,null,null,null,null,null,0]
[985,null,null,null,null,null,null,0]
[986,null,null,null,null,null,null,0]
[987,null,null,null,null,null,null,0]
[988,null,null,null,null,null,null,0]
[989,null,null,null,null,null,null,0]
[990,null,null,null,null,null,null,0]
[991,null,null,null,null,null,null,0]
[992,null,null,null,null,null,null,0]
[993,null,null,null,null,null,null,0]
[994,null,null,null,null,null,null,0]
[995,null,null,null,null,null,null,0]
[996,null,null,null,null,null,null,0]
[997,null,null,null,null,null,null,0]
[998,null,null,null,null,null,null,0]
[999,null,null,null,null,null,null,0]
[1000,null,null,null,null,null,null,0]

{"sheet":"INVENT.Mat Transp importés - 10","index":12,"n_rows":1006,"n_cols":8,"rows_kept":1006,"cut":false,"hidden":false,"merged":[]}
[null,null,{"$f":"'REFERENCES - 10'!D7","v":0},null,null,{"$f":"'REFERENCES - 10'!D9","v":0}]
[null,"INVENTAIRE DES MATERIELS EQUIPEMENTS IMPORTES"]
[null,null,null,null,null,null,null,"(En F. Cfa)"]
[null,"DESIGNATIONS DOUANIERES","N° NOMENCLATURE DOUANIERE","SPECIFICATIONS COMMERCIALES (1)","UNITE DE MESURE","QUAN.","VALEUR UNITAIRE","COÛT CAF"]
[]
[null,"Matériels de Transport",null,null,null,{"$f":"SUM(F7:F36)","v":0},null,{"$f":"SUM(H7:H36)","v":0}]
[1,null,null,null,null,null,null,{"$f":"G7*F7","v":0}]
[{"$f":"+A7+1","v":2},null,null,null,null,null,null,{"$f":"G8*F8","v":0}]
[{"$f":"+A8+1","v":3},null,null,null,null,null,null,{"$f":"G9*F9","v":0}]
[4,null,null,null,null,null,null,{"$f":"G10*F10","v":0}]
[5,null,null,null,null,null,null,{"$f":"G11*F11","v":0}]
[6,null,null,null,null,null,null,{"$f":"G12*F12","v":0}]
[7,null,null,null,null,null,null,0]
[8,null,null,null,null,null,null,0]
[9,null,null,null,null,null,null,0]
[10,null,null,null,null,null,null,0]
[11,null,null,null,null,null,null,0]
[12,null,null,null,null,null,null,0]
[13,null,null,null,null,null,null,0]
[14,null,null,null,null,null,null,0]
[15,null,null,null,null,null,null,0]
[16,null,null,null,null,null,null,0]
[17,null,null,null,null,null,null,0]
[18,null,null,null,null,null,null,0]
[19,null,null,null,null,null,null,0]
[20,null,null,null,null,null,null,0]
[21,null,null,null,null,null,null,0]
[22,null,null,null,null,null,null,0]
[23,null,null,null,null,null,null,0]
[24,null,null,null,null,null,null,0]
[25,null,null,null,null,null,null,0]
[26,null,null,null,null,null,null,0]
[27,null,null,null,null,null,null,0]
[28,null,null,null,null,null,null,0]
[29,null,null,null,null,null,null,0]
[30,null,null,null,null,null,null,{"$f":"G36*F36","v":0}]
[31,null,null,null,null,null,null,{"$f":"G37*F37","v":0}]
[32,null,null,null,null,null,null,0]
[33,null,null,null,null,null,null,0]
[34,null,null,null,null,null,null,0]
[35,null,null,null,null,null,null,0]
[36,null,null,null,null,null,null,0]
[37,null,null,null,null,null,null,0]
[38,null,null,null,null,null,null,0]
[39,null,null,null,null,null,null,0]
[40,null,null,null,null,null,null,0]
[41,null,null,null,null,null,null,0]
[42,null,null,null,null,null,null,0]
[43,null,null,null,null,null,null,0]
[44,null,null,null,null,null,null,0]
[45,null,null,null,null,null,null,0]
[46,null,null,null,null,null,null,0]
[47,null,null,null,null,null,null,0]
[48,null,null,null,null,null,null,0]
[49,null,null,null,null,null,null,0]
[50,null,null,null,null,null,null,0]
[51,null,null,null,null,null,null,0]
[52,null,null,null,null,null,null,0]
[53,null,null,null,null,null,null,0]
[54,null,null,null,null,null,null,0]
[55,null,null,null,null,null,null,0]
[56,null,null,null,null,null,null,0]
[57,null,null,null,null,null,null,0]
[58,null,null,null,null,null,null,0]
[59,null,null,null,null,null,null,0]
[60,null,null,null,null,null,null,0]
[61,null,null,null,null,null,null,0]
[62,null,null,null,null,null,null,0]
[63,null,null,null,null,null,null,0]
[64,null,null,null,null,null,null,0]
[65,null,null,null,null,null,null,0]
[66,null,null,null,null,null,null,0]
[{"$f":"+A72+1","v":67},null,null,null,null,null,null,0]
[68,null,null,null,null,null,null,0]
[69,null,null,null,null,null,null,0]
[70,null,null,null,null,null,null,0]
[71,null,null,null,null,null,null,0]
[72,null,null,null,null,null,null,0]
[73,null,null,null,null,null,null,0]
[74,null,null,null,null,null,null,0]
[75,null,null,null,null,null,null,0]
[76,null,null,null,null,null,null,0]
[77,null,null,null,null,null,null,0]
[78,null,null,null,null,null,null,0]
[79,null,null,null,null,null,null,0]
[80,null,null,null,null,null,null,0]
[81,null,null,null,null,null,null,0]
[82,null,null,null,null,null,null,0]
[83,null,null,null,null,null,null,0]
[84,null,null,null,null,null,null,0]
[85,null,null,null,null,null,null,0]
[86,null,null,null,null,null,null,0]
[87,null,null,null,null,null,null,0]
[88,null,null,null,null,null,null,0]
[89,null,null,null,null,null,null,0]
[90,null,null,null,null,null,null,0]
[91,null,null,null,null,null,null,0]
[92,null,null,null,null,null,null,0]
[93,null,null,null,null,null,null,0]
[94,null,null,null,null,null,null,0]
[95,null,null,null,null,null,null,{"$f":"G101*F101","v":0}]
[96,null,null,null,null,null,null,0]
[97,null,null,null,null,null,null,0]
[98,null,null,null,null,null,null,0]
[99,null,null,null,null,null,null,0]
[100,null,null,null,null,null,null,0]
[101,null,null,null,null,null,null,0]
[102,null,null,null,null,null,null,0]
[103,null,null,null,null,null,null,0]
[104,null,null,null,null,null,null,0]
[105,null,null,null,null,null,null,0]
[106,null,null,null,null,null,null,0]
[107,null,null,null,null,null,null,0]
[108,null,null,null,null,null,null,0]
[109,null,null,null,null,null,null,0]
[110,null,null,null,null,null,null,0]
[111,null,null,null,null,null,null,0]
[112,null,null,null,null,null,null,0]
[113,null,null,null,null,null,null,0]
[114,null,null,null,null,null,null,0]
[115,null,null,null,null,null,null,0]
[116,null,null,null,null,null,null,0]
[117,null,null,null,null,null,null,0]
[118,null,null,null,null,null,null,0]
[119,null,null,null,null,null,null,0]
[120,null,null,null,null,null,null,0]
[121,null,null,null,null,null,null,0]
[122,null,null,null,null,null,null,0]
[123,null,null,null,null,null,null,0]
[124,null,null,null,null,null,null,0]
[125,null,null,null,null,null,null,0]
[126,null,null,null,null,null,null,0]
[127,null,null,null,null,null,null,0]
[128,null,null,null,null,null,null,0]
[129,null,null,null,null,null,null,0]
[130,null,null,null,null,null,null,0]
[{"$f":"+A136+1","v":131},null,null,null,null,null,null,0]
[132,null,null,null,null,null,null,0]
[133,null,null,null,null,null,null,0]
[134,null,null,null,null,null,null,0]
[135,null,null,null,null,null,null,0]
[136,null,null,null,null,null,null,0]
[137,null,null,null,null,null,null,0]
[138,null,null,null,null,null,null,0]
[139,null,null,null,null,null,null,0]
[140,null,null,null,null,null,null,0]
[141,null,null,null,null,null,null,0]
[142,null,null,null,null,null,null,0]
[143,null,null,null,null,null,null,0]
[144,null,null,null,null,null,null,0]
[145,null,null,null,null,null,null,0]
[146,null,null,null,null,null,null,0]
[147,null,null,null,null,null,null,0]
[148,null,null,null,null,null,null,0]
[149,null,null,null,null,null,null,0]
[150,null,null,null,null,null,null,0]
[151,null,null,null,null,null,null,0]
[152,null,null,null,null,null,null,0]
[153,null,null,null,null,null,null,0]
[154,null,null,null,null,null,null,0]
[155,null,null,null,null,null,null,0]
[156,null,null,null,null,null,null,0]
[157,null,null,null,null,null,null,0]
[158,null,null,null,null,null,null,0]
[159,null,null,null,null,null,null,{"$f":"G165*F165","v":0}]
[160,null,null,null,null,null,null,0]
[161,null,null,null,null,null,null,0]
[162,null,null,null,null,null,null,0]
[163,null,null,null,null,null,null,0]
[164,null,null,null,null,null,null,0]
[165,null,null,null,null,null,null,0]
[166,null,null,null,null,null,null,0]
[167,null,null,null,null,null,null,0]
[168,null,null,null,null,null,null,0]
[169,null,null,null,null,null,null,0]
[170,null,null,null,null,null,null,0]
[171,null,null,null,null,null,null,0]
[172,null,null,null,null,null,null,0]
[173,null,null,null,null,null,null,0]
[174,null,null,null,null,null,null,0]
[175,null,null,null,null,null,null,0]
[176,null,null,null,null,null,null,0]
[177,null,null,null,null,null,null,0]
[178,null,null,null,null,null,null,0]
[179,null,null,null,null,null,null,0]
[180,null,null,null,null,null,null,0]
[181,null,null,null,null,null,null,0]
[182,null,null,null,null,null,null,0]
[183,null,null,null,null,null,null,0]
[184,null,null,null,null,null,null,0]
[185,null,null,null,null,null,null,0]
[186,null,null,null,null,null,null,0]
[187,null,null,null,null,null,null,0]
[188,null,null,null,null,null,null,0]
[189,null,null,null,null,null,null,0]
[190,null,null,null,null,null,null,0]
[191,null,null,null,null,null,null,0]
[192,null,null,null,null,null,null,0]
[193,null,null,null,null,null,null,0]
[194,null,null,null,null,null,null,0]
[{"$f":"+A200+1","v":195},null,null,null,null,null,null,0]
[196,null,null,null,null,null,null,0]
[197,null,null,null,null,null,null,0]
[198,null,null,null,null,null,null,0]
[199,null,null,null,null,null,null,0]
[200,null,null,null,null,null,null,0]
[201,null,null,null,null,null,null,0]
[202,null,null,null,null,null,null,0]
[203,null,null,null,null,null,null,0]
[204,null,null,null,null,null,null,0]
[205,null,null,null,null,null,null,0]
[206,null,null,null,null,null,null,0]
[207,null,null,null,null,null,null,0]
[208,null,null,null,null,null,null,0]
[209,null,null,null,null,null,null,0]
[210,null,null,null,null,null,null,0]
[211,null,null,null,null,null,null,0]
[212,null,null,null,null,null,null,0]
[213,null,null,null,null,null,null,0]
[214,null,null,null,null,null,null,0]
[215,null,null,null,null,null,null,0]
[216,null,null,null,null,null,null,0]
[217,null,null,null,null,null,null,0]
[218,null,null,null,null,null,null,0]
[219,null,null,null,null,null,null,0]
[220,null,null,null,null,null,null,0]
[221,null,null,null,null,null,null,0]
[222,null,null,null,null,null,null,0]
[223,null,null,null,null,null,null,{"$f":"G229*F229","v":0}]
[224,null,null,null,null,null,null,0]
[225,null,null,null,null,null,null,0]
[226,null,null,null,null,null,null,0]
[227,null,null,null,null,null,null,0]
[228,null,null,null,null,null,null,0]
[229,null,null,null,null,null,null,0]
[230,null,null,null,null,null,null,0]
[231,null,null,null,null,null,null,0]
[232,null,null,null,null,null,null,0]
[233,null,null,null,null,null,null,0]
[234,null,null,null,null,null,null,0]
[235,null,null,null,null,null,null,0]
[236,null,null,null,null,null,null,0]
[237,null,null,null,null,null,null,0]
[238,null,null,null,null,null,null,0]
[239,null,null,null,null,null,null,0]
[240,null,null,null,null,null,null,0]
[241,null,null,null,null,null,null,0]
[242,null,null,null,null,null,null,0]
[243,null,null,null,null,null,null,0]
[244,null,null,null,null,null,null,0]
[245,null,null,null,null,null,null,0]
[246,null,null,null,null,null,null,0]
[247,null,null,null,null,null,null,0]
[248,null,null,null,null,null,null,0]
[249,null,null,null,null,null,null,0]
[250,null,null,null,null,null,null,0]
[251,null,null,null,null,null,null,0]
[252,null,null,null,null,null,null,0]
[253,null,null,null,null,null,null,0]
[254,null,null,null,null,null,null,0]
[255,null,null,null,null,null,null,0]
[256,null,null,null,null,null,null,0]
[257,null,null,null,null,null,null,0]
[258,null,null,null,null,null,null,0]
[{"$f":"+A264+1","v":259},null,null,null,null,null,null,0]
[260,null,null,null,null,null,null,0]
[261,null,null,null,null,null,null,0]
[262,null,null,null,null,null,null,0]
[263,null,null,null,null,null,null,0]
[264,null,null,null,null,null,null,0]
[265,null,null,null,null,null,null,0]
[266,null,null,null,null,null,null,0]
[267,null,null,null,null,null,null,0]
[268,null,null,null,null,null,null,0]
[269,null,null,null,null,null,null,0]
[270,null,null,null,null,null,null,0]
[271,null,null,null,null,null,null,0]
[272,null,null,null,null,null,null,0]
[273,null,null,null,null,null,null,0]
[274,null,null,null,null,null,null,0]
[275,null,null,null,null,null,null,0]
[276,null,null,null,null,null,null,0]
[277,null,null,null,null,null,null,0]
[278,null,null,null,null,null,null,0]
[279,null,null,null,null,null,null,0]
[280,null,null,null,null,null,null,0]
[281,null,null,null,null,null,null,0]
[282,null,null,null,null,null,null,0]
[283,null,null,null,null,null,null,0]
[284,null,null,null,null,null,null,0]
[285,null,null,null,null,null,null,0]
[286,null,null,null,null,null,null,0]
[287,null,null,null,null,null,null,{"$f":"G293*F293","v":0}]
[288,null,null,null,null,null,null,0]
[289,null,null,null,null,null,null,0]
[290,null,null,null,null,null,null,0]
[291,null,null,null,null,null,null,0]
[292,null,null,null,null,null,null,0]
[293,null,null,null,null,null,null,0]
[294,null,null,null,null,null,null,0]
[295,null,null,null,null,null,null,0]
[296,null,null,null,null,null,null,0]
[297,null,null,null,null,null,null,0]
[298,null,null,null,null,null,null,0]
[299,null,null,null,null,null,null,0]
[300,null,null,null,null,null,null,0]
[301,null,null,null,null,null,null,0]
[302,null,null,null,null,null,null,0]
[303,null,null,null,null,null,null,0]
[304,null,null,null,null,null,null,0]
[305,null,null,null,null,null,null,0]
[306,null,null,null,null,null,null,0]
[307,null,null,null,null,null,null,0]
[308,null,null,null,null,null,null,0]
[309,null,null,null,null,null,null,0]
[310,null,null,null,null,null,null,0]
[311,null,null,null,null,null,null,0]
[312,null,null,null,null,null,null,0]
[313,null,null,null,null,null,null,0]
[314,null,null,null,null,null,null,0]
[315,null,null,null,null,null,null,0]
[316,null,null,null,null,null,null,0]
[317,null,null,null,null,null,null,0]
[318,null,null,null,null,null,null,0]
[319,null,null,null,null,null,null,0]
[320,null,null,null,null,null,null,0]
[321,null,null,null,null,null,null,0]
[322,null,null,null,null,null,null,0]
[{"$f":"+A328+1","v":323},null,null,null,null,null,null,0]
[324,null,null,null,null,null,null,0]
[325,null,null,null,null,null,null,0]
[326,null,null,null,null,null,null,0]
[327,null,null,null,null,null,null,0]
[328,null,null,null,null,null,null,0]
[329,null,null,null,null,null,null,0]
[330,null,null,null,null,null,null,0]
[331,null,null,null,null,null,null,0]
[332,null,null,null,null,null,null,0]
[333,null,null,null,null,null,null,0]
[334,null,null,null,null,null,null,0]
[335,null,null,null,null,null,null,0]
[336,null,null,null,null,null,null,0]
[337,null,null,null,null,null,null,0]
[338,null,null,null,null,null,null,0]
[339,null,null,null,null,null,null,0]
[340,null,null,null,null,null,null,0]
[341,null,null,null,null,null,null,0]
[342,null,null,null,null,null,null,0]
[343,null,null,null,null,null,null,0]
[344,null,null,null,null,null,null,0]
[345,null,null,null,null,null,null,0]
[346,null,null,null,null,null,null,0]
[347,null,null,null,null,null,null,0]
[348,null,null,null,null,null,null,0]
[349,null,null,null,null,null,null,0]
[350,null,null,null,null,null,null,0]
[351,null,null,null,null,null,null,{"$f":"G357*F357","v":0}]
[352,null,null,null,null,null,null,0]
[353,null,null,null,null,null,null,0]
[354,null,null,null,null,null,null,0]
[355,null,null,null,null,null,null,0]
[356,null,null,null,null,null,null,0]
[357,null,null,null,null,null,null,0]
[358,null,null,null,null,null,null,0]
[359,null,null,null,null,null,null,0]
[360,null,null,null,null,null,null,0]
[361,null,null,null,null,null,null,0]
[362,null,null,null,null,null,null,0]
[363,null,null,null,null,null,null,0]
[364,null,null,null,null,null,null,0]
[365,null,null,null,null,null,null,0]
[366,null,null,null,null,null,null,0]
[367,null,null,null,null,null,null,0]
[368,null,null,null,null,null,null,0]
[369,null,null,null,null,null,null,0]
[370,null,null,null,null,null,null,0]
[371,null,null,null,null,null,null,0]
[372,null,null,null,null,null,null,0]
[373,null,null,null,null,null,null,0]
[374,null,null,null,null,null,null,0]
[375,null,null,null,null,null,null,0]
[376,null,null,null,null,null,null,0]
[377,null,null,null,null,null,null,0]
[378,null,null,null,null,null,null,0]
[379,null,null,null,null,null,null,0]
[380,null,null,null,null,null,null,0]
[381,null,null,null,null,null,null,0]
[382,null,null,null,null,null,null,0]
[383,null,null,null,null,null,null,0]
[384,null,null,null,null,null,null,0]
[385,null,null,null,null,null,null,0]
[386,null,null,null,null,null,null,0]
[{"$f":"+A392+1","v":387},null,null,null,null,null,null,0]
[388,null,null,null,null,null,null,0]
[389,null,null,null,null,null,null,0]
[390,null,null,null,null,null,null,0]
[391,null,null,null,null,null,null,0]
[392,null,null,null,null,null,null,0]
[393,null,null,null,null,null,null,0]
[394,null,null,null,null,null,null,0]
[395,null,null,null,null,null,null,0]
[396,null,null,null,null,null,null,0]
[397,null,null,null,null,null,null,0]
[398,null,null,null,null,null,null,0]
[399,null,null,null,null,null,null,0]
[400,null,null,null,null,null,null,0]
[401,null,null,null,null,null,null,0]
[402,null,null,null,null,null,null,0]
[403,null,null,null,null,null,null,0]
[404,null,null,null,null,null,null,0]
[405,null,null,null,null,null,null,0]
[406,null,null,null,null,null,null,0]
[407,null,null,null,null,null,null,0]
[408,null,null,null,null,null,null,0]
[409,null,null,null,null,null,null,0]
[410,null,null,null,null,null,null,0]
[411,null,null,null,null,null,null,0]
[412,null,null,null,null,null,null,0]
[413,null,null,null,null,null,null,0]
[414,null,null,null,null,null,null,0]
[415,null,null,null,null,null,null,{"$f":"G421*F421","v":0}]
[416,null,null,null,null,null,null,0]
[417,null,null,null,null,null,null,0]
[418,null,null,null,null,null,null,0]
[419,null,null,null,null,null,null,0]
[420,null,null,null,null,null,null,0]
[421,null,null,null,null,null,null,0]
[422,null,null,null,null,null,null,0]
[423,null,null,null,null,null,null,0]
[424,null,null,null,null,null,null,0]
[425,null,null,null,null,null,null,0]
[426,null,null,null,null,null,null,0]
[427,null,null,null,null,null,null,0]
[428,null,null,null,null,null,null,0]
[429,null,null,null,null,null,null,0]
[430,null,null,null,null,null,null,0]
[431,null,null,null,null,null,null,0]
[432,null,null,null,null,null,null,0]
[433,null,null,null,null,null,null,0]
[434,null,null,null,null,null,null,0]
[435,null,null,null,null,null,null,0]
[436,null,null,null,null,null,null,0]
[437,null,null,null,null,null,null,0]
[438,null,null,null,null,null,null,0]
[439,null,null,null,null,null,null,0]
[440,null,null,null,null,null,null,0]
[441,null,null,null,null,null,null,0]
[442,null,null,null,null,null,null,0]
[443,null,null,null,null,null,null,0]
[444,null,null,null,null,null,null,0]
[445,null,null,null,null,null,null,0]
[446,null,null,null,null,null,null,0]
[447,null,null,null,null,null,null,0]
[448,null,null,null,null,null,null,0]
[449,null,null,null,null,null,null,0]
[450,null,null,null,null,null,null,0]
[{"$f":"+A456+1","v":451},null,null,null,null,null,null,0]
[452,null,null,null,null,null,null,0]
[453,null,null,null,null,null,null,0]
[454,null,null,null,null,null,null,0]
[455,null,null,null,null,null,null,0]
[456,null,null,null,null,null,null,0]
[457,null,null,null,null,null,null,0]
[458,null,null,null,null,null,null,0]
[459,null,null,null,null,null,null,0]
[460,null,null,null,null,null,null,0]
[461,null,null,null,null,null,null,0]
[462,null,null,null,null,null,null,0]
[463,null,null,null,null,null,null,0]
[464,null,null,null,null,null,null,0]
[465,null,null,null,null,null,null,0]
[466,null,null,null,null,null,null,0]
[467,null,null,null,null,null,null,0]
[468,null,null,null,null,null,null,0]
[469,null,null,null,null,null,null,0]
[470,null,null,null,null,null,null,0]
[471,null,null,null,null,null,null,0]
[472,null,null,null,null,null,null,0]
[473,null,null,null,null,null,null,0]
[474,null,null,null,null,null,null,0]
[475,null,null,null,null,null,null,0]
[476,null,null,null,null,null,null,0]
[477,null,null,null,null,null,null,0]
[478,null,null,null,null,null,null,0]
[479,null,null,null,null,null,null,{"$f":"G485*F485","v":0}]
[480,null,null,null,null,null,null,0]
[481,null,null,null,null,null,null,0]
[482,null,null,null,null,null,null,0]
[483,null,null,null,null,null,null,0]
[484,null,null,null,null,null,null,0]
[485,null,null,null,null,null,null,0]
[486,null,null,null,null,null,null,0]
[487,null,null,null,null,null,null,0]
[488,null,null,null,null,null,null,0]
[489,null,null,null,null,null,null,0]
[490,null,null,null,null,null,null,0]
[491,null,null,null,null,null,null,0]
[492,null,null,null,null,null,null,0]
[493,null,null,null,null,null,null,0]
[494,null,null,null,null,null,null,0]
[495,null,null,null,null,null,null,0]
[496,null,null,null,null,null,null,0]
[497,null,null,null,null,null,null,0]
[498,null,null,null,null,null,null,0]
[499,null,null,null,null,null,null,0]
[500,null,null,null,null,null,null,0]
[501,null,null,null,null,null,null,0]
[502,null,null,null,null,null,null,0]
[503,null,null,null,null,null,null,0]
[504,null,null,null,null,null,null,0]
[505,null,null,null,null,null,null,0]
[506,null,null,null,null,null,null,0]
[507,null,null,null,null,null,null,0]
[508,null,null,null,null,null,null,0]
[509,null,null,null,null,null,null,0]
[510,null,null,null,null,null,null,0]
[511,null,null,null,null,null,null,0]
[512,null,null,null,null,null,null,0]
[513,null,null,null,null,null,null,0]
[514,null,null,null,null,null,null,0]
[{"$f":"+A520+1","v":515},null,null,null,null,null,null,0]
[516,null,null,null,null,null,null,0]
[517,null,null,null,null,null,null,0]
[518,null,null,null,null,null,null,0]
[519,null,null,null,null,null,null,0]
[520,null,null,null,null,null,null,0]
[521,null,null,null,null,null,null,0]
[522,null,null,null,null,null,null,0]
[523,null,null,null,null,null,null,0]
[524,null,null,null,null,null,null,0]
[525,null,null,null,null,null,null,0]
[526,null,null,null,null,null,null,0]
[527,null,null,null,null,null,null,0]
[528,null,null,null,null,null,null,0]
[529,null,null,null,null,null,null,0]
[530,null,null,null,null,null,null,0]
[531,null,null,null,null,null,null,0]
[532,null,null,null,null,null,null,0]
[533,null,null,null,null,null,null,0]
[534,null,null,null,null,null,null,0]
[535,null,null,null,null,null,null,0]
[536,null,null,null,null,null,null,0]
[537,null,null,null,null,null,null,0]
[538,null,null,null,null,null,null,0]
[539,null,null,null,null,null,null,0]
[540,null,null,null,null,null,null,0]
[541,null,null,null,null,null,null,0]
[542,null,null,null,null,null,null,0]
[543,null,null,null,null,null,null,{"$f":"G549*F549","v":0}]
[544,null,null,null,null,null,null,0]
[545,null,null,null,null,null,null,0]
[546,null,null,null,null,null,null,0]
[547,null,null,null,null,null,null,0]
[548,null,null,null,null,null,null,0]
[549,null,null,null,null,null,null,0]
[550,null,null,null,null,null,null,0]
[551,null,null,null,null,null,null,0]
[552,null,null,null,null,null,null,0]
[553,null,null,null,null,null,null,0]
[554,null,null,null,null,null,null,0]
[555,null,null,null,null,null,null,0]
[556,null,null,null,null,null,null,0]
[557,null,null,null,null,null,null,0]
[558,null,null,null,null,null,null,0]
[559,null,null,null,null,null,null,0]
[560,null,null,null,null,null,null,0]
[561,null,null,null,null,null,null,0]
[562,null,null,null,null,null,null,0]
[563,null,null,null,null,null,null,0]
[564,null,null,null,null,null,null,0]
[565,null,null,null,null,null,null,0]
[566,null,null,null,null,null,null,0]
[567,null,null,null,null,null,null,0]
[568,null,null,null,null,null,null,0]
[569,null,null,null,null,null,null,0]
[570,null,null,null,null,null,null,0]
[571,null,null,null,null,null,null,0]
[572,null,null,null,null,null,null,0]
[573,null,null,null,null,null,null,0]
[574,null,null,null,null,null,null,0]
[575,null,null,null,null,null,null,0]
[576,null,null,null,null,null,null,0]
[577,null,null,null,null,null,null,0]
[578,null,null,null,null,null,null,0]
[{"$f":"+A584+1","v":579},null,null,null,null,null,null,0]
[580,null,null,null,null,null,null,0]
[581,null,null,null,null,null,null,0]
[582,null,null,null,null,null,null,0]
[583,null,null,null,null,null,null,0]
[584,null,null,null,null,null,null,0]
[585,null,null,null,null,null,null,0]
[586,null,null,null,null,null,null,0]
[587,null,null,null,null,null,null,0]
[588,null,null,null,null,null,null,0]
[589,null,null,null,null,null,null,0]
[590,null,null,null,null,null,null,0]
[591,null,null,null,null,null,null,0]
[592,null,null,null,null,null,null,0]
[593,null,null,null,null,null,null,0]
[594,null,null,null,null,null,null,0]
[595,null,null,null,null,null,null,0]
[596,null,null,null,null,null,null,0]
[597,null,null,null,null,null,null,0]
[598,null,null,null,null,null,null,0]
[599,null,null,null,null,null,null,0]
[600,null,null,null,null,null,null,0]
[601,null,null,null,null,null,null,0]
[602,null,null,null,null,null,null,0]
[603,null,null,null,null,null,null,0]
[604,null,null,null,null,null,null,0]
[605,null,null,null,null,null,null,0]
[606,null,null,null,null,null,null,0]
[607,null,null,null,null,null,null,{"$f":"G613*F613","v":0}]
[608,null,null,null,null,null,null,0]
[609,null,null,null,null,null,null,0]
[610,null,null,null,null,null,null,0]
[611,null,null,null,null,null,null,0]
[612,null,null,null,null,null,null,0]
[613,null,null,null,null,null,null,0]
[614,null,null,null,null,null,null,0]
[615,null,null,null,null,null,null,0]
[616,null,null,null,null,null,null,0]
[617,null,null,null,null,null,null,0]
[618,null,null,null,null,null,null,0]
[619,null,null,null,null,null,null,0]
[620,null,null,null,null,null,null,0]
[621,null,null,null,null,null,null,0]
[622,null,null,null,null,null,null,0]
[623,null,null,null,null,null,null,0]
[624,null,null,null,null,null,null,0]
[625,null,null,null,null,null,null,0]
[626,null,null,null,null,null,null,0]
[627,null,null,null,null,null,null,0]
[628,null,null,null,null,null,null,0]
[629,null,null,null,null,null,null,0]
[630,null,null,null,null,null,null,0]
[631,null,null,null,null,null,null,0]
[632,null,null,null,null,null,null,0]
[633,null,null,null,null,null,null,0]
[634,null,null,null,null,null,null,0]
[635,null,null,null,null,null,null,0]
[636,null,null,null,null,null,null,0]
[637,null,null,null,null,null,null,0]
[638,null,null,null,null,null,null,0]
[639,null,null,null,null,null,null,0]
[640,null,null,null,null,null,null,0]
[641,null,null,null,null,null,null,0]
[642,null,null,null,null,null,null,0]
[{"$f":"+A648+1","v":643},null,null,null,null,null,null,0]
[644,null,null,null,null,null,null,0]
[645,null,null,null,null,null,null,0]
[646,null,null,null,null,null,null,0]
[647,null,null,null,null,null,null,0]
[648,null,null,null,null,null,null,0]
[649,null,null,null,null,null,null,0]
[650,null,null,null,null,null,null,0]
[651,null,null,null,null,null,null,0]
[652,null,null,null,null,null,null,0]
[653,null,null,null,null,null,null,0]
[654,null,null,null,null,null,null,0]
[655,null,null,null,null,null,null,0]
[656,null,null,null,null,null,null,0]
[657,null,null,null,null,null,null,0]
[658,null,null,null,null,null,null,0]
[659,null,null,null,null,null,null,0]
[660,null,null,null,null,null,null,0]
[661,null,null,null,null,null,null,0]
[662,null,null,null,null,null,null,0]
[663,null,null,null,null,null,null,0]
[664,null,null,null,null,null,null,0]
[665,null,null,null,null,null,null,0]
[666,null,null,null,null,null,null,0]
[667,null,null,null,null,null,null,0]
[668,null,null,null,null,null,null,0]
[669,null,null,null,null,null,null,0]
[670,null,null,null,null,null,null,0]
[671,null,null,null,null,null,null,{"$f":"G677*F677","v":0}]
[672,null,null,null,null,null,null,0]
[673,null,null,null,null,null,null,0]
[674,null,null,null,null,null,null,0]
[675,null,null,null,null,null,null,0]
[676,null,null,null,null,null,null,0]
[677,null,null,null,null,null,null,0]
[678,null,null,null,null,null,null,0]
[679,null,null,null,null,null,null,0]
[680,null,null,null,null,null,null,0]
[681,null,null,null,null,null,null,0]
[682,null,null,null,null,null,null,0]
[683,null,null,null,null,null,null,0]
[684,null,null,null,null,null,null,0]
[685,null,null,null,null,null,null,0]
[686,null,null,null,null,null,null,0]
[687,null,null,null,null,null,null,0]
[688,null,null,null,null,null,null,0]
[689,null,null,null,null,null,null,0]
[690,null,null,null,null,null,null,0]
[691,null,null,null,null,null,null,0]
[692,null,null,null,null,null,null,0]
[693,null,null,null,null,null,null,0]
[694,null,null,null,null,null,null,0]
[695,null,null,null,null,null,null,0]
[696,null,null,null,null,null,null,0]
[697,null,null,null,null,null,null,0]
[698,null,null,null,null,null,null,0]
[699,null,null,null,null,null,null,0]
[700,null,null,null,null,null,null,0]
[701,null,null,null,null,null,null,0]
[702,null,null,null,null,null,null,0]
[703,null,null,null,null,null,null,0]
[704,null,null,null,null,null,null,0]
[705,null,null,null,null,null,null,0]
[706,null,null,null,null,null,null,0]
[{"$f":"+A712+1","v":707},null,null,null,null,null,null,0]
[708,null,null,null,null,null,null,0]
[709,null,null,null,null,null,null,0]
[710,null,null,null,null,null,null,0]
[711,null,null,null,null,null,null,0]
[712,null,null,null,null,null,null,0]
[713,null,null,null,null,null,null,0]
[714,null,null,null,null,null,null,0]
[715,null,null,null,null,null,null,0]
[716,null,null,null,null,null,null,0]
[717,null,null,null,null,null,null,0]
[718,null,null,null,null,null,null,0]
[719,null,null,null,null,null,null,0]
[720,null,null,null,null,null,null,0]
[721,null,null,null,null,null,null,0]
[722,null,null,null,null,null,null,0]
[723,null,null,null,null,null,null,0]
[724,null,null,null,null,null,null,0]
[725,null,null,null,null,null,null,0]
[726,null,null,null,null,null,null,0]
[727,null,null,null,null,null,null,0]
[728,null,null,null,null,null,null,0]
[729,null,null,null,null,null,null,0]
[730,null,null,null,null,null,null,0]
[731,null,null,null,null,null,null,0]
[732,null,null,null,null,null,null,0]
[733,null,null,null,null,null,null,0]
[734,null,null,null,null,null,null,0]
[735,null,null,null,null,null,null,{"$f":"G741*F741","v":0}]
[736,null,null,null,null,null,null,0]
[737,null,null,null,null,null,null,0]
[738,null,null,null,null,null,null,0]
[739,null,null,null,null,null,null,0]
[740,null,null,null,null,null,null,0]
[741,null,null,null,null,null,null,0]
[742,null,null,null,null,null,null,0]
[743,null,null,null,null,null,null,0]
[744,null,null,null,null,null,null,0]
[745,null,null,null,null,null,null,0]
[746,null,null,null,null,null,null,0]
[747,null,null,null,null,null,null,0]
[748,null,null,null,null,null,null,0]
[749,null,null,null,null,null,null,0]
[750,null,null,null,null,null,null,0]
[751,null,null,null,null,null,null,0]
[752,null,null,null,null,null,null,0]
[753,null,null,null,null,null,null,0]
[754,null,null,null,null,null,null,0]
[755,null,null,null,null,null,null,0]
[756,null,null,null,null,null,null,0]
[757,null,null,null,null,null,null,0]
[758,null,null,null,null,null,null,0]
[759,null,null,null,null,null,null,0]
[760,null,null,null,null,null,null,0]
[761,null,null,null,null,null,null,0]
[762,null,null,null,null,null,null,0]
[763,null,null,null,null,null,null,0]
[764,null,null,null,null,null,null,0]
[765,null,null,null,null,null,null,0]
[766,null,null,null,null,null,null,0]
[767,null,null,null,null,null,null,0]
[768,null,null,null,null,null,null,0]
[769,null,null,null,null,null,null,0]
[770,null,null,null,null,null,null,0]
[{"$f":"+A776+1","v":771},null,null,null,null,null,null,0]
[772,null,null,null,null,null,null,0]
[773,null,null,null,null,null,null,0]
[774,null,null,null,null,null,null,0]
[775,null,null,null,null,null,null,0]
[776,null,null,null,null,null,null,0]
[777,null,null,null,null,null,null,0]
[778,null,null,null,null,null,null,0]
[779,null,null,null,null,null,null,0]
[780,null,null,null,null,null,null,0]
[781,null,null,null,null,null,null,0]
[782,null,null,null,null,null,null,0]
[783,null,null,null,null,null,null,0]
[784,null,null,null,null,null,null,0]
[785,null,null,null,null,null,null,0]
[786,null,null,null,null,null,null,0]
[787,null,null,null,null,null,null,0]
[788,null,null,null,null,null,null,0]
[789,null,null,null,null,null,null,0]
[790,null,null,null,null,null,null,0]
[791,null,null,null,null,null,null,0]
[792,null,null,null,null,null,null,0]
[793,null,null,null,null,null,null,0]
[794,null,null,null,null,null,null,0]
[795,null,null,null,null,null,null,0]
[796,null,null,null,null,null,null,0]
[797,null,null,null,null,null,null,0]
[798,null,null,null,null,null,null,0]
[799,null,null,null,null,null,null,{"$f":"G805*F805","v":0}]
[800,null,null,null,null,null,null,0]
[801,null,null,null,null,null,null,0]
[802,null,null,null,null,null,null,0]
[803,null,null,null,null,null,null,0]
[804,null,null,null,null,null,null,0]
[805,null,null,null,null,null,null,0]
[806,null,null,null,null,null,null,0]
[807,null,null,null,null,null,null,0]
[808,null,null,null,null,null,null,0]
[809,null,null,null,null,null,null,0]
[810,null,null,null,null,null,null,0]
[811,null,null,null,null,null,null,0]
[812,null,null,null,null,null,null,0]
[813,null,null,null,null,null,null,0]
[814,null,null,null,null,null,null,0]
[815,null,null,null,null,null,null,0]
[816,null,null,null,null,null,null,0]
[817,null,null,null,null,null,null,0]
[818,null,null,null,null,null,null,0]
[819,null,null,null,null,null,null,0]
[820,null,null,null,null,null,null,0]
[821,null,null,null,null,null,null,0]
[822,null,null,null,null,null,null,0]
[823,null,null,null,null,null,null,0]
[824,null,null,null,null,null,null,0]
[825,null,null,null,null,null,null,0]
[826,null,null,null,null,null,null,0]
[827,null,null,null,null,null,null,0]
[828,null,null,null,null,null,null,0]
[829,null,null,null,null,null,null,0]
[830,null,null,null,null,null,null,0]
[831,null,null,null,null,null,null,0]
[832,null,null,null,null,null,null,0]
[833,null,null,null,null,null,null,0]
[834,null,null,null,null,null,null,0]
[{"$f":"+A840+1","v":835},null,null,null,null,null,null,0]
[836,null,null,null,null,null,null,0]
[837,null,null,null,null,null,null,0]
[838,null,null,null,null,null,null,0]
[839,null,null,null,null,null,null,0]
[840,null,null,null,null,null,null,0]
[841,null,null,null,null,null,null,0]
[842,null,null,null,null,null,null,0]
[843,null,null,null,null,null,null,0]
[844,null,null,null,null,null,null,0]
[845,null,null,null,null,null,null,0]
[846,null,null,null,null,null,null,0]
[847,null,null,null,null,null,null,0]
[848,null,null,null,null,null,null,0]
[849,null,null,null,null,null,null,0]
[850,null,null,null,null,null,null,0]
[851,null,null,null,null,null,null,0]
[852,null,null,null,null,null,null,0]
[853,null,null,null,null,null,null,0]
[854,null,null,null,null,null,null,0]
[855,null,null,null,null,null,null,0]
[856,null,null,null,null,null,null,0]
[857,null,null,null,null,null,null,0]
[858,null,null,null,null,null,null,0]
[859,null,null,null,null,null,null,0]
[860,null,null,null,null,null,null,0]
[861,null,null,null,null,null,null,0]
[862,null,null,null,null,null,null,0]
[863,null,null,null,null,null,null,{"$f":"G869*F869","v":0}]
[864,null,null,null,null,null,null,0]
[865,null,null,null,null,null,null,0]
[866,null,null,null,null,null,null,0]
[867,null,null,null,null,null,null,0]
[868,null,null,null,null,null,null,0]
[869,null,null,null,null,null,null,0]
[870,null,null,null,null,null,null,0]
[871,null,null,null,null,null,null,0]
[872,null,null,null,null,null,null,0]
[873,null,null,null,null,null,null,0]
[874,null,null,null,null,null,null,0]
[875,null,null,null,null,null,null,0]
[876,null,null,null,null,null,null,0]
[877,null,null,null,null,null,null,0]
[878,null,null,null,null,null,null,0]
[879,null,null,null,null,null,null,0]
[880,null,null,null,null,null,null,0]
[881,null,null,null,null,null,null,0]
[882,null,null,null,null,null,null,0]
[883,null,null,null,null,null,null,0]
[884,null,null,null,null,null,null,0]
[885,null,null,null,null,null,null,0]
[886,null,null,null,null,null,null,0]
[887,null,null,null,null,null,null,0]
[888,null,null,null,null,null,null,0]
[889,null,null,null,null,null,null,0]
[890,null,null,null,null,null,null,0]
[891,null,null,null,null,null,null,0]
[892,null,null,null,null,null,null,0]
[893,null,null,null,null,null,null,0]
[894,null,null,null,null,null,null,0]
[895,null,null,null,null,null,null,0]
[896,null,null,null,null,null,null,0]
[897,null,null,null,null,null,null,0]
[898,null,null,null,null,null,null,0]
[{"$f":"+A904+1","v":899},null,null,null,null,null,null,0]
[900,null,null,null,null,null,null,0]
[901,null,null,null,null,null,null,0]
[902,null,null,null,null,null,null,0]
[903,null,null,null,null,null,null,0]
[904,null,null,null,null,null,null,0]
[905,null,null,null,null,null,null,0]
[906,null,null,null,null,null,null,0]
[907,null,null,null,null,null,null,0]
[908,null,null,null,null,null,null,0]
[909,null,null,null,null,null,null,0]
[910,null,null,null,null,null,null,0]
[911,null,null,null,null,null,null,0]
[912,null,null,null,null,null,null,0]
[913,null,null,null,null,null,null,0]
[914,null,null,null,null,null,null,0]
[915,null,null,null,null,null,null,0]
[916,null,null,null,null,null,null,0]
[917,null,null,null,null,null,null,0]
[918,null,null,null,null,null,null,0]
[919,null,null,null,null,null,null,0]
[920,null,null,null,null,null,null,0]
[921,null,null,null,null,null,null,0]
[922,null,null,null,null,null,null,0]
[923,null,null,null,null,null,null,0]
[924,null,null,null,null,null,null,0]
[925,null,null,null,null,null,null,0]
[926,null,null,null,null,null,null,0]
[927,null,null,null,null,null,null,{"$f":"G933*F933","v":0}]
[928,null,null,null,null,null,null,0]
[929,null,null,null,null,null,null,0]
[930,null,null,null,null,null,null,0]
[931,null,null,null,null,null,null,0]
[932,null,null,null,null,null,null,0]
[933,null,null,null,null,null,null,0]
[934,null,null,null,null,null,null,0]
[935,null,null,null,null,null,null,0]
[936,null,null,null,null,null,null,0]
[937,null,null,null,null,null,null,0]
[938,null,null,null,null,null,null,0]
[939,null,null,null,null,null,null,0]
[940,null,null,null,null,null,null,0]
[941,null,null,null,null,null,null,0]
[942,null,null,null,null,null,null,0]
[943,null,null,null,null,null,null,0]
[944,null,null,null,null,null,null,0]
[945,null,null,null,null,null,null,0]
[946,null,null,null,null,null,null,0]
[947,null,null,null,null,null,null,0]
[948,null,null,null,null,null,null,0]
[949,null,null,null,null,null,null,0]
[950,null,null,null,null,null,null,0]
[951,null,null,null,null,null,null,0]
[952,null,null,null,null,null,null,0]
[953,null,null,null,null,null,null,0]
[954,null,null,null,null,null,null,0]
[955,null,null,null,null,null,null,0]
[956,null,null,null,null,null,null,0]
[957,null,null,null,null,null,null,0]
[958,null,null,null,null,null,null,0]
[959,null,null,null,null,null,null,0]
[960,null,null,null,null,null,null,0]
[961,null,null,null,null,null,null,0]
[962,null,null,null,null,null,null,0]
[{"$f":"+A968+1","v":963},null,null,null,null,null,null,0]
[964,null,null,null,null,null,null,0]
[965,null,null,null,null,null,null,0]
[966,null,null,null,null,null,null,0]
[967,null,null,null,null,null,null,0]
[968,null,null,null,null,null,null,0]
[969,null,null,null,null,null,null,0]
[970,null,null,null,null,null,null,0]
[971,null,null,null,null,null,null,0]
[972,null,null,null,null,null,null,0]
[973,null,null,null,null,null,null,0]
[974,null,null,null,null,null,null,0]
[975,null,null,null,null,null,null,0]
[976,null,null,null,null,null,null,0]
[977,null,null,null,null,null,null,0]
[978,null,null,null,null,null,null,0]
[979,null,null,null,null,null,null,0]
[980,null,null,null,null,null,null,0]
[981,null,null,null,null,null,null,0]
[982,null,null,null,null,null,null,0]
[983,null,null,null,null,null,null,0]
[984,null,null,null,null,null,null,0]
[985,null,null,null,null,null,null,0]
[986,null,null,null,null,null,null,0]
[987,null,null,null,null,null,null,0]
[988,null,null,null,null,null,null,0]
[989,null,null,null,null,null,null,0]
[990,null,null,null,null,null,null,0]
[991,null,null,null,null,null,null,{"$f":"G997*F997","v":0}]
[992,null,null,null,null,null,null,0]
[993,null,null,null,null,null,null,0]
[994,null,null,null,null,null,null,0]
[995,null,null,null,null,null,null,0]
[996,null,null,null,null,null,null,0]
[997,null,null,null,null,null,null,0]
[998,null,null,null,null,null,null,0]
[999,null,null,null,null,null,null,0]
[1000,null,null,null,null,null,null,0]

{"sheet":"INVENT.Mob&Mat Bur Importé - 10","index":13,"n_rows":1006,"n_cols":8,"rows_kept":1006,"cut":false,"hidden":false,"merged":[]}
[null,null,{"$f":"'REFERENCES - 10'!D7","v":0},null,null,{"$f":"'REFERENCES - 10'!D9","v":0}]
[null,"INVENTAIRE DES MATERIELS EQUIPEMENTS IMPORTES"]
[null,null,null,null,null,null,null,"(En F. Cfa)"]
[null,"DESIGNATIONS DOUANIERES","N° NOMENCLATURE DOUANIERE","SPECIFICATIONS COMMERCIALES (1)","UNITE DE MESURE","QUAN.","VALEUR UNITAIRE","COÛT CAF"]
[]
[null,"Mobiliers & Matériels de Bureau",null,null,null,{"$f":"SUM(F7:F36)","v":0},null,{"$f":"SUM(H7:H36)","v":0}]
[1,null,null,null,null,null,null,{"$f":"G7*F7","v":0}]
[{"$f":"+A7+1","v":2},null,null,null,null,null,null,{"$f":"G8*F8","v":0}]
[{"$f":"+A8+1","v":3},null,null,null,null,null,null,{"$f":"G9*F9","v":0}]
[4,null,null,null,null,null,null,{"$f":"G10*F10","v":0}]
[5,null,null,null,null,null,null,{"$f":"G11*F11","v":0}]
[6,null,null,null,null,null,null,{"$f":"G12*F12","v":0}]
[7,null,null,null,null,null,null,0]
[8,null,null,null,null,null,null,0]
[9,null,null,null,null,null,null,0]
[10,null,null,null,null,null,null,0]
[11,null,null,null,null,null,null,0]
[12,null,null,null,null,null,null,0]
[13,null,null,null,null,null,null,0]
[14,null,null,null,null,null,null,0]
[15,null,null,null,null,null,null,0]
[16,null,null,null,null,null,null,0]
[17,null,null,null,null,null,null,0]
[18,null,null,null,null,null,null,0]
[19,null,null,null,null,null,null,0]
[20,null,null,null,null,null,null,0]
[21,null,null,null,null,null,null,0]
[22,null,null,null,null,null,null,0]
[23,null,null,null,null,null,null,0]
[24,null,null,null,null,null,null,0]
[25,null,null,null,null,null,null,0]
[26,null,null,null,null,null,null,0]
[27,null,null,null,null,null,null,0]
[28,null,null,null,null,null,null,0]
[29,null,null,null,null,null,null,{"$f":"G35*F35","v":0}]
[{"$f":"+A35+1","v":30},null,null,null,null,null,null,{"$f":"G36*F36","v":0}]
[{"$f":"+A36+1","v":31},null,null,null,null,null,null,{"$f":"G37*F37","v":0}]
[32,null,null,null,null,null,null,0]
[33,null,null,null,null,null,null,0]
[34,null,null,null,null,null,null,0]
[35,null,null,null,null,null,null,0]
[36,null,null,null,null,null,null,0]
[37,null,null,null,null,null,null,0]
[38,null,null,null,null,null,null,0]
[39,null,null,null,null,null,null,0]
[40,null,null,null,null,null,null,0]
[41,null,null,null,null,null,null,0]
[42,null,null,null,null,null,null,0]
[43,null,null,null,null,null,null,0]
[44,null,null,null,null,null,null,0]
[45,null,null,null,null,null,null,0]
[46,null,null,null,null,null,null,0]
[47,null,null,null,null,null,null,0]
[48,null,null,null,null,null,null,0]
[49,null,null,null,null,null,null,0]
[50,null,null,null,null,null,null,0]
[51,null,null,null,null,null,null,0]
[52,null,null,null,null,null,null,0]
[53,null,null,null,null,null,null,0]
[54,null,null,null,null,null,null,0]
[55,null,null,null,null,null,null,0]
[56,null,null,null,null,null,null,0]
[57,null,null,null,null,null,null,0]
[58,null,null,null,null,null,null,0]
[59,null,null,null,null,null,null,0]
[60,null,null,null,null,null,null,0]
[61,null,null,null,null,null,null,0]
[62,null,null,null,null,null,null,0]
[63,null,null,null,null,null,null,0]
[64,null,null,null,null,null,null,0]
[65,null,null,null,null,null,null,0]
[66,null,null,null,null,null,null,0]
[67,null,null,null,null,null,null,0]
[68,null,null,null,null,null,null,0]
[69,null,null,null,null,null,null,0]
[70,null,null,null,null,null,null,0]
[71,null,null,null,null,null,null,0]
[72,null,null,null,null,null,null,0]
[73,null,null,null,null,null,null,0]
[74,null,null,null,null,null,null,0]
[75,null,null,null,null,null,null,0]
[76,null,null,null,null,null,null,0]
[77,null,null,null,null,null,null,0]
[78,null,null,null,null,null,null,0]
[79,null,null,null,null,null,null,0]
[80,null,null,null,null,null,null,0]
[81,null,null,null,null,null,null,0]
[82,null,null,null,null,null,null,0]
[83,null,null,null,null,null,null,0]
[84,null,null,null,null,null,null,0]
[85,null,null,null,null,null,null,0]
[86,null,null,null,null,null,null,0]
[87,null,null,null,null,null,null,0]
[88,null,null,null,null,null,null,0]
[89,null,null,null,null,null,null,0]
[90,null,null,null,null,null,null,0]
[91,null,null,null,null,null,null,0]
[92,null,null,null,null,null,null,0]
[93,null,null,null,null,null,null,0]
[94,null,null,null,null,null,null,0]
[{"$f":"+A100+1","v":95},null,null,null,null,null,null,{"$f":"G101*F101","v":0}]
[96,null,null,null,null,null,null,0]
[97,null,null,null,null,null,null,0]
[98,null,null,null,null,null,null,0]
[99,null,null,null,null,null,null,0]
[100,null,null,null,null,null,null,0]
[101,null,null,null,null,null,null,0]
[102,null,null,null,null,null,null,0]
[103,null,null,null,null,null,null,0]
[104,null,null,null,null,null,null,0]
[105,null,null,null,null,null,null,0]
[106,null,null,null,null,null,null,0]
[107,null,null,null,null,null,null,0]
[108,null,null,null,null,null,null,0]
[109,null,null,null,null,null,null,0]
[110,null,null,null,null,null,null,0]
[111,null,null,null,null,null,null,0]
[112,null,null,null,null,null,null,0]
[113,null,null,null,null,null,null,0]
[114,null,null,null,null,null,null,0]
[115,null,null,null,null,null,null,0]
[116,null,null,null,null,null,null,0]
[117,null,null,null,null,null,null,0]
[118,null,null,null,null,null,null,0]
[119,null,null,null,null,null,null,0]
[120,null,null,null,null,null,null,0]
[121,null,null,null,null,null,null,0]
[122,null,null,null,null,null,null,0]
[123,null,null,null,null,null,null,0]
[124,null,null,null,null,null,null,0]
[125,null,null,null,null,null,null,0]
[126,null,null,null,null,null,null,0]
[127,null,null,null,null,null,null,0]
[128,null,null,null,null,null,null,0]
[129,null,null,null,null,null,null,0]
[130,null,null,null,null,null,null,0]
[131,null,null,null,null,null,null,0]
[132,null,null,null,null,null,null,0]
[133,null,null,null,null,null,null,0]
[134,null,null,null,null,null,null,0]
[135,null,null,null,null,null,null,0]
[136,null,null,null,null,null,null,0]
[137,null,null,null,null,null,null,0]
[138,null,null,null,null,null,null,0]
[139,null,null,null,null,null,null,0]
[140,null,null,null,null,null,null,0]
[141,null,null,null,null,null,null,0]
[142,null,null,null,null,null,null,0]
[143,null,null,null,null,null,null,0]
[144,null,null,null,null,null,null,0]
[145,null,null,null,null,null,null,0]
[146,null,null,null,null,null,null,0]
[147,null,null,null,null,null,null,0]
[148,null,null,null,null,null,null,0]
[149,null,null,null,null,null,null,0]
[150,null,null,null,null,null,null,0]
[151,null,null,null,null,null,null,0]
[152,null,null,null,null,null,null,0]
[153,null,null,null,null,null,null,0]
[154,null,null,null,null,null,null,0]
[155,null,null,null,null,null,null,0]
[156,null,null,null,null,null,null,0]
[157,null,null,null,null,null,null,0]
[158,null,null,null,null,null,null,0]
[{"$f":"+A164+1","v":159},null,null,null,null,null,null,{"$f":"G165*F165","v":0}]
[160,null,null,null,null,null,null,0]
[161,null,null,null,null,null,null,0]
[162,null,null,null,null,null,null,0]
[163,null,null,null,null,null,null,0]
[164,null,null,null,null,null,null,0]
[165,null,null,null,null,null,null,0]
[166,null,null,null,null,null,null,0]
[167,null,null,null,null,null,null,0]
[168,null,null,null,null,null,null,0]
[169,null,null,null,null,null,null,0]
[170,null,null,null,null,null,null,0]
[171,null,null,null,null,null,null,0]
[172,null,null,null,null,null,null,0]
[173,null,null,null,null,null,null,0]
[174,null,null,null,null,null,null,0]
[175,null,null,null,null,null,null,0]
[176,null,null,null,null,null,null,0]
[177,null,null,null,null,null,null,0]
[178,null,null,null,null,null,null,0]
[179,null,null,null,null,null,null,0]
[180,null,null,null,null,null,null,0]
[181,null,null,null,null,null,null,0]
[182,null,null,null,null,null,null,0]
[183,null,null,null,null,null,null,0]
[184,null,null,null,null,null,null,0]
[185,null,null,null,null,null,null,0]
[186,null,null,null,null,null,null,0]
[187,null,null,null,null,null,null,0]
[188,null,null,null,null,null,null,0]
[189,null,null,null,null,null,null,0]
[190,null,null,null,null,null,null,0]
[191,null,null,null,null,null,null,0]
[192,null,null,null,null,null,null,0]
[193,null,null,null,null,null,null,0]
[194,null,null,null,null,null,null,0]
[195,null,null,null,null,null,null,0]
[196,null,null,null,null,null,null,0]
[197,null,null,null,null,null,null,0]
[198,null,null,null,null,null,null,0]
[199,null,null,null,null,null,null,0]
[200,null,null,null,null,null,null,0]
[201,null,null,null,null,null,null,0]
[202,null,null,null,null,null,null,0]
[203,null,null,null,null,null,null,0]
[204,null,null,null,null,null,null,0]
[205,null,null,null,null,null,null,0]
[206,null,null,null,null,null,null,0]
[207,null,null,null,null,null,null,0]
[208,null,null,null,null,null,null,0]
[209,null,null,null,null,null,null,0]
[210,null,null,null,null,null,null,0]
[211,null,null,null,null,null,null,0]
[212,null,null,null,null,null,null,0]
[213,null,null,null,null,null,null,0]
[214,null,null,null,null,null,null,0]
[215,null,null,null,null,null,null,0]
[216,null,null,null,null,null,null,0]
[217,null,null,null,null,null,null,0]
[218,null,null,null,null,null,null,0]
[219,null,null,null,null,null,null,0]
[220,null,null,null,null,null,null,0]
[221,null,null,null,null,null,null,0]
[222,null,null,null,null,null,null,0]
[{"$f":"+A228+1","v":223},null,null,null,null,null,null,{"$f":"G229*F229","v":0}]
[224,null,null,null,null,null,null,0]
[225,null,null,null,null,null,null,0]
[226,null,null,null,null,null,null,0]
[227,null,null,null,null,null,null,0]
[228,null,null,null,null,null,null,0]
[229,null,null,null,null,null,null,0]
[230,null,null,null,null,null,null,0]
[231,null,null,null,null,null,null,0]
[232,null,null,null,null,null,null,0]
[233,null,null,null,null,null,null,0]
[234,null,null,null,null,null,null,0]
[235,null,null,null,null,null,null,0]
[236,null,null,null,null,null,null,0]
[237,null,null,null,null,null,null,0]
[238,null,null,null,null,null,null,0]
[239,null,null,null,null,null,null,0]
[240,null,null,null,null,null,null,0]
[241,null,null,null,null,null,null,0]
[242,null,null,null,null,null,null,0]
[243,null,null,null,null,null,null,0]
[244,null,null,null,null,null,null,0]
[245,null,null,null,null,null,null,0]
[246,null,null,null,null,null,null,0]
[247,null,null,null,null,null,null,0]
[248,null,null,null,null,null,null,0]
[249,null,null,null,null,null,null,0]
[250,null,null,null,null,null,null,0]
[251,null,null,null,null,null,null,0]
[252,null,null,null,null,null,null,0]
[253,null,null,null,null,null,null,0]
[254,null,null,null,null,null,null,0]
[255,null,null,null,null,null,null,0]
[256,null,null,null,null,null,null,0]
[257,null,null,null,null,null,null,0]
[258,null,null,null,null,null,null,0]
[259,null,null,null,null,null,null,0]
[260,null,null,null,null,null,null,0]
[261,null,null,null,null,null,null,0]
[262,null,null,null,null,null,null,0]
[263,null,null,null,null,null,null,0]
[264,null,null,null,null,null,null,0]
[265,null,null,null,null,null,null,0]
[266,null,null,null,null,null,null,0]
[267,null,null,null,null,null,null,0]
[268,null,null,null,null,null,null,0]
[269,null,null,null,null,null,null,0]
[270,null,null,null,null,null,null,0]
[271,null,null,null,null,null,null,0]
[272,null,null,null,null,null,null,0]
[273,null,null,null,null,null,null,0]
[274,null,null,null,null,null,null,0]
[275,null,null,null,null,null,null,0]
[276,null,null,null,null,null,null,0]
[277,null,null,null,null,null,null,0]
[278,null,null,null,null,null,null,0]
[279,null,null,null,null,null,null,0]
[280,null,null,null,null,null,null,0]
[281,null,null,null,null,null,null,0]
[282,null,null,null,null,null,null,0]
[283,null,null,null,null,null,null,0]
[284,null,null,null,null,null,null,0]
[285,null,null,null,null,null,null,0]
[286,null,null,null,null,null,null,0]
[{"$f":"+A292+1","v":287},null,null,null,null,null,null,{"$f":"G293*F293","v":0}]
[288,null,null,null,null,null,null,0]
[289,null,null,null,null,null,null,0]
[290,null,null,null,null,null,null,0]
[291,null,null,null,null,null,null,0]
[292,null,null,null,null,null,null,0]
[293,null,null,null,null,null,null,0]
[294,null,null,null,null,null,null,0]
[295,null,null,null,null,null,null,0]
[296,null,null,null,null,null,null,0]
[297,null,null,null,null,null,null,0]
[298,null,null,null,null,null,null,0]
[299,null,null,null,null,null,null,0]
[300,null,null,null,null,null,null,0]
[301,null,null,null,null,null,null,0]
[302,null,null,null,null,null,null,0]
[303,null,null,null,null,null,null,0]
[304,null,null,null,null,null,null,0]
[305,null,null,null,null,null,null,0]
[306,null,null,null,null,null,null,0]
[307,null,null,null,null,null,null,0]
[308,null,null,null,null,null,null,0]
[309,null,null,null,null,null,null,0]
[310,null,null,null,null,null,null,0]
[311,null,null,null,null,null,null,0]
[312,null,null,null,null,null,null,0]
[313,null,null,null,null,null,null,0]
[314,null,null,null,null,null,null,0]
[315,null,null,null,null,null,null,0]
[316,null,null,null,null,null,null,0]
[317,null,null,null,null,null,null,0]
[318,null,null,null,null,null,null,0]
[319,null,null,null,null,null,null,0]
[320,null,null,null,null,null,null,0]
[321,null,null,null,null,null,null,0]
[322,null,null,null,null,null,null,0]
[323,null,null,null,null,null,null,0]
[324,null,null,null,null,null,null,0]
[325,null,null,null,null,null,null,0]
[326,null,null,null,null,null,null,0]
[327,null,null,null,null,null,null,0]
[328,null,null,null,null,null,null,0]
[329,null,null,null,null,null,null,0]
[330,null,null,null,null,null,null,0]
[331,null,null,null,null,null,null,0]
[332,null,null,null,null,null,null,0]
[333,null,null,null,null,null,null,0]
[334,null,null,null,null,null,null,0]
[335,null,null,null,null,null,null,0]
[336,null,null,null,null,null,null,0]
[337,null,null,null,null,null,null,0]
[338,null,null,null,null,null,null,0]
[339,null,null,null,null,null,null,0]
[340,null,null,null,null,null,null,0]
[341,null,null,null,null,null,null,0]
[342,null,null,null,null,null,null,0]
[343,null,null,null,null,null,null,0]
[344,null,null,null,null,null,null,0]
[345,null,null,null,null,null,null,0]
[346,null,null,null,null,null,null,0]
[347,null,null,null,null,null,null,0]
[348,null,null,null,null,null,null,0]
[349,null,null,null,null,null,null,0]
[350,null,null,null,null,null,null,0]
[{"$f":"+A356+1","v":351},null,null,null,null,null,null,{"$f":"G357*F357","v":0}]
[352,null,null,null,null,null,null,0]
[353,null,null,null,null,null,null,0]
[354,null,null,null,null,null,null,0]
[355,null,null,null,null,null,null,0]
[356,null,null,null,null,null,null,0]
[357,null,null,null,null,null,null,0]
[358,null,null,null,null,null,null,0]
[359,null,null,null,null,null,null,0]
[360,null,null,null,null,null,null,0]
[361,null,null,null,null,null,null,0]
[362,null,null,null,null,null,null,0]
[363,null,null,null,null,null,null,0]
[364,null,null,null,null,null,null,0]
[365,null,null,null,null,null,null,0]
[366,null,null,null,null,null,null,0]
[367,null,null,null,null,null,null,0]
[368,null,null,null,null,null,null,0]
[369,null,null,null,null,null,null,0]
[370,null,null,null,null,null,null,0]
[371,null,null,null,null,null,null,0]
[372,null,null,null,null,null,null,0]
[373,null,null,null,null,null,null,0]
[374,null,null,null,null,null,null,0]
[375,null,null,null,null,null,null,0]
[376,null,null,null,null,null,null,0]
[377,null,null,null,null,null,null,0]
[378,null,null,null,null,null,null,0]
[379,null,null,null,null,null,null,0]
[380,null,null,null,null,null,null,0]
[381,null,null,null,null,null,null,0]
[382,null,null,null,null,null,null,0]
[383,null,null,null,null,null,null,0]
[384,null,null,null,null,null,null,0]
[385,null,null,null,null,null,null,0]
[386,null,null,null,null,null,null,0]
[387,null,null,null,null,null,null,0]
[388,null,null,null,null,null,null,0]
[389,null,null,null,null,null,null,0]
[390,null,null,null,null,null,null,0]
[391,null,null,null,null,null,null,0]
[392,null,null,null,null,null,null,0]
[393,null,null,null,null,null,null,0]
[394,null,null,null,null,null,null,0]
[395,null,null,null,null,null,null,0]
[396,null,null,null,null,null,null,0]
[397,null,null,null,null,null,null,0]
[398,null,null,null,null,null,null,0]
[399,null,null,null,null,null,null,0]
[400,null,null,null,null,null,null,0]
[401,null,null,null,null,null,null,0]
[402,null,null,null,null,null,null,0]
[403,null,null,null,null,null,null,0]
[404,null,null,null,null,null,null,0]
[405,null,null,null,null,null,null,0]
[406,null,null,null,null,null,null,0]
[407,null,null,null,null,null,null,0]
[408,null,null,null,null,null,null,0]
[409,null,null,null,null,null,null,0]
[410,null,null,null,null,null,null,0]
[411,null,null,null,null,null,null,0]
[412,null,null,null,null,null,null,0]
[413,null,null,null,null,null,null,0]
[414,null,null,null,null,null,null,0]
[{"$f":"+A420+1","v":415},null,null,null,null,null,null,{"$f":"G421*F421","v":0}]
[416,null,null,null,null,null,null,0]
[417,null,null,null,null,null,null,0]
[418,null,null,null,null,null,null,0]
[419,null,null,null,null,null,null,0]
[420,null,null,null,null,null,null,0]
[421,null,null,null,null,null,null,0]
[422,null,null,null,null,null,null,0]
[423,null,null,null,null,null,null,0]
[424,null,null,null,null,null,null,0]
[425,null,null,null,null,null,null,0]
[426,null,null,null,null,null,null,0]
[427,null,null,null,null,null,null,0]
[428,null,null,null,null,null,null,0]
[429,null,null,null,null,null,null,0]
[430,null,null,null,null,null,null,0]
[431,null,null,null,null,null,null,0]
[432,null,null,null,null,null,null,0]
[433,null,null,null,null,null,null,0]
[434,null,null,null,null,null,null,0]
[435,null,null,null,null,null,null,0]
[436,null,null,null,null,null,null,0]
[437,null,null,null,null,null,null,0]
[438,null,null,null,null,null,null,0]
[439,null,null,null,null,null,null,0]
[440,null,null,null,null,null,null,0]
[441,null,null,null,null,null,null,0]
[442,null,null,null,null,null,null,0]
[443,null,null,null,null,null,null,0]
[444,null,null,null,null,null,null,0]
[445,null,null,null,null,null,null,0]
[446,null,null,null,null,null,null,0]
[447,null,null,null,null,null,null,0]
[448,null,null,null,null,null,null,0]
[449,null,null,null,null,null,null,0]
[450,null,null,null,null,null,null,0]
[451,null,null,null,null,null,null,0]
[452,null,null,null,null,null,null,0]
[453,null,null,null,null,null,null,0]
[454,null,null,null,null,null,null,0]
[455,null,null,null,null,null,null,0]
[456,null,null,null,null,null,null,0]
[457,null,null,null,null,null,null,0]
[458,null,null,null,null,null,null,0]
[459,null,null,null,null,null,null,0]
[460,null,null,null,null,null,null,0]
[461,null,null,null,null,null,null,0]
[462,null,null,null,null,null,null,0]
[463,null,null,null,null,null,null,0]
[464,null,null,null,null,null,null,0]
[465,null,null,null,null,null,null,0]
[466,null,null,null,null,null,null,0]
[467,null,null,null,null,null,null,0]
[468,null,null,null,null,null,null,0]
[469,null,null,null,null,null,null,0]
[470,null,null,null,null,null,null,0]
[471,null,null,null,null,null,null,0]
[472,null,null,null,null,null,null,0]
[473,null,null,null,null,null,null,0]
[474,null,null,null,null,null,null,0]
[475,null,null,null,null,null,null,0]
[476,null,null,null,null,null,null,0]
[477,null,null,null,null,null,null,0]
[478,null,null,null,null,null,null,0]
[{"$f":"+A484+1","v":479},null,null,null,null,null,null,{"$f":"G485*F485","v":0}]
[480,null,null,null,null,null,null,0]
[481,null,null,null,null,null,null,0]
[482,null,null,null,null,null,null,0]
[483,null,null,null,null,null,null,0]
[484,null,null,null,null,null,null,0]
[485,null,null,null,null,null,null,0]
[486,null,null,null,null,null,null,0]
[487,null,null,null,null,null,null,0]
[488,null,null,null,null,null,null,0]
[489,null,null,null,null,null,null,0]
[490,null,null,null,null,null,null,0]
[491,null,null,null,null,null,null,0]
[492,null,null,null,null,null,null,0]
[493,null,null,null,null,null,null,0]
[494,null,null,null,null,null,null,0]
[495,null,null,null,null,null,null,0]
[496,null,null,null,null,null,null,0]
[497,null,null,null,null,null,null,0]
[498,null,null,null,null,null,null,0]
[499,null,null,null,null,null,null,0]
[500,null,null,null,null,null,null,0]
[501,null,null,null,null,null,null,0]
[502,null,null,null,null,null,null,0]
[503,null,null,null,null,null,null,0]
[504,null,null,null,null,null,null,0]
[505,null,null,null,null,null,null,0]
[506,null,null,null,null,null,null,0]
[507,null,null,null,null,null,null,0]
[508,null,null,null,null,null,null,0]
[509,null,null,null,null,null,null,0]
[510,null,null,null,null,null,null,0]
[511,null,null,null,null,null,null,0]
[512,null,null,null,null,null,null,0]
[513,null,null,null,null,null,null,0]
[514,null,null,null,null,null,null,0]
[515,null,null,null,null,null,null,0]
[516,null,null,null,null,null,null,0]
[517,null,null,null,null,null,null,0]
[518,null,null,null,null,null,null,0]
[519,null,null,null,null,null,null,0]
[520,null,null,null,null,null,null,0]
[521,null,null,null,null,null,null,0]
[522,null,null,null,null,null,null,0]
[523,null,null,null,null,null,null,0]
[524,null,null,null,null,null,null,0]
[525,null,null,null,null,null,null,0]
[526,null,null,null,null,null,null,0]
[527,null,null,null,null,null,null,0]
[528,null,null,null,null,null,null,0]
[529,null,null,null,null,null,null,0]
[530,null,null,null,null,null,null,0]
[531,null,null,null,null,null,null,0]
[532,null,null,null,null,null,null,0]
[533,null,null,null,null,null,null,0]
[534,null,null,null,null,null,null,0]
[535,null,null,null,null,null,null,0]
[536,null,null,null,null,null,null,0]
[537,null,null,null,null,null,null,0]
[538,null,null,null,null,null,null,0]
[539,null,null,null,null,null,null,0]
[540,null,null,null,null,null,null,0]
[541,null,null,null,null,null,null,0]
[542,null,null,null,null,null,null,0]
[{"$f":"+A548+1","v":543},null,null,null,null,null,null,{"$f":"G549*F549","v":0}]
[544,null,null,null,null,null,null,0]
[545,null,null,null,null,null,null,0]
[546,null,null,null,null,null,null,0]
[547,null,null,null,null,null,null,0]
[548,null,null,null,null,null,null,0]
[549,null,null,null,null,null,null,0]
[550,null,null,null,null,null,null,0]
[551,null,null,null,null,null,null,0]
[552,null,null,null,null,null,null,0]
[553,null,null,null,null,null,null,0]
[554,null,null,null,null,null,null,0]
[555,null,null,null,null,null,null,0]
[556,null,null,null,null,null,null,0]
[557,null,null,null,null,null,null,0]
[558,null,null,null,null,null,null,0]
[559,null,null,null,null,null,null,0]
[560,null,null,null,null,null,null,0]
[561,null,null,null,null,null,null,0]
[562,null,null,null,null,null,null,0]
[563,null,null,null,null,null,null,0]
[564,null,null,null,null,null,null,0]
[565,null,null,null,null,null,null,0]
[566,null,null,null,null,null,null,0]
[567,null,null,null,null,null,null,0]
[568,null,null,null,null,null,null,0]
[569,null,null,null,null,null,null,0]
[570,null,null,null,null,null,null,0]
[571,null,null,null,null,null,null,0]
[572,null,null,null,null,null,null,0]
[573,null,null,null,null,null,null,0]
[574,null,null,null,null,null,null,0]
[575,null,null,null,null,null,null,0]
[576,null,null,null,null,null,null,0]
[577,null,null,null,null,null,null,0]
[578,null,null,null,null,null,null,0]
[579,null,null,null,null,null,null,0]
[580,null,null,null,null,null,null,0]
[581,null,null,null,null,null,null,0]
[582,null,null,null,null,null,null,0]
[583,null,null,null,null,null,null,0]
[584,null,null,null,null,null,null,0]
[585,null,null,null,null,null,null,0]
[586,null,null,null,null,null,null,0]
[587,null,null,null,null,null,null,0]
[588,null,null,null,null,null,null,0]
[589,null,null,null,null,null,null,0]
[590,null,null,null,null,null,null,0]
[591,null,null,null,null,null,null,0]
[592,null,null,null,null,null,null,0]
[593,null,null,null,null,null,null,0]
[594,null,null,null,null,null,null,0]
[595,null,null,null,null,null,null,0]
[596,null,null,null,null,null,null,0]
[597,null,null,null,null,null,null,0]
[598,null,null,null,null,null,null,0]
[599,null,null,null,null,null,null,0]
[600,null,null,null,null,null,null,0]
[601,null,null,null,null,null,null,0]
[602,null,null,null,null,null,null,0]
[603,null,null,null,null,null,null,0]
[604,null,null,null,null,null,null,0]
[605,null,null,null,null,null,null,0]
[606,null,null,null,null,null,null,0]
[{"$f":"+A612+1","v":607},null,null,null,null,null,null,{"$f":"G613*F613","v":0}]
[608,null,null,null,null,null,null,0]
[609,null,null,null,null,null,null,0]
[610,null,null,null,null,null,null,0]
[611,null,null,null,null,null,null,0]
[612,null,null,null,null,null,null,0]
[613,null,null,null,null,null,null,0]
[614,null,null,null,null,null,null,0]
[615,null,null,null,null,null,null,0]
[616,null,null,null,null,null,null,0]
[617,null,null,null,null,null,null,0]
[618,null,null,null,null,null,null,0]
[619,null,null,null,null,null,null,0]
[620,null,null,null,null,null,null,0]
[621,null,null,null,null,null,null,0]
[622,null,null,null,null,null,null,0]
[623,null,null,null,null,null,null,0]
[624,null,null,null,null,null,null,0]
[625,null,null,null,null,null,null,0]
[626,null,null,null,null,null,null,0]
[627,null,null,null,null,null,null,0]
[628,null,null,null,null,null,null,0]
[629,null,null,null,null,null,null,0]
[630,null,null,null,null,null,null,0]
[631,null,null,null,null,null,null,0]
[632,null,null,null,null,null,null,0]
[633,null,null,null,null,null,null,0]
[634,null,null,null,null,null,null,0]
[635,null,null,null,null,null,null,0]
[636,null,null,null,null,null,null,0]
[637,null,null,null,null,null,null,0]
[638,null,null,null,null,null,null,0]
[639,null,null,null,null,null,null,0]
[640,null,null,null,null,null,null,0]
[641,null,null,null,null,null,null,0]
[642,null,null,null,null,null,null,0]
[643,null,null,null,null,null,null,0]
[644,null,null,null,null,null,null,0]
[645,null,null,null,null,null,null,0]
[646,null,null,null,null,null,null,0]
[647,null,null,null,null,null,null,0]
[648,null,null,null,null,null,null,0]
[649,null,null,null,null,null,null,0]
[650,null,null,null,null,null,null,0]
[651,null,null,null,null,null,null,0]
[652,null,null,null,null,null,null,0]
[653,null,null,null,null,null,null,0]
[654,null,null,null,null,null,null,0]
[655,null,null,null,null,null,null,0]
[656,null,null,null,null,null,null,0]
[657,null,null,null,null,null,null,0]
[658,null,null,null,null,null,null,0]
[659,null,null,null,null,null,null,0]
[660,null,null,null,null,null,null,0]
[661,null,null,null,null,null,null,0]
[662,null,null,null,null,null,null,0]
[663,null,null,null,null,null,null,0]
[664,null,null,null,null,null,null,0]
[665,null,null,null,null,null,null,0]
[666,null,null,null,null,null,null,0]
[667,null,null,null,null,null,null,0]
[668,null,null,null,null,null,null,0]
[669,null,null,null,null,null,null,0]
[670,null,null,null,null,null,null,0]
[{"$f":"+A676+1","v":671},null,null,null,null,null,null,{"$f":"G677*F677","v":0}]
[672,null,null,null,null,null,null,0]
[673,null,null,null,null,null,null,0]
[674,null,null,null,null,null,null,0]
[675,null,null,null,null,null,null,0]
[676,null,null,null,null,null,null,0]
[677,null,null,null,null,null,null,0]
[678,null,null,null,null,null,null,0]
[679,null,null,null,null,null,null,0]
[680,null,null,null,null,null,null,0]
[681,null,null,null,null,null,null,0]
[682,null,null,null,null,null,null,0]
[683,null,null,null,null,null,null,0]
[684,null,null,null,null,null,null,0]
[685,null,null,null,null,null,null,0]
[686,null,null,null,null,null,null,0]
[687,null,null,null,null,null,null,0]
[688,null,null,null,null,null,null,0]
[689,null,null,null,null,null,null,0]
[690,null,null,null,null,null,null,0]
[691,null,null,null,null,null,null,0]
[692,null,null,null,null,null,null,0]
[693,null,null,null,null,null,null,0]
[694,null,null,null,null,null,null,0]
[695,null,null,null,null,null,null,0]
[696,null,null,null,null,null,null,0]
[697,null,null,null,null,null,null,0]
[698,null,null,null,null,null,null,0]
[699,null,null,null,null,null,null,0]
[700,null,null,null,null,null,null,0]
[701,null,null,null,null,null,null,0]
[702,null,null,null,null,null,null,0]
[703,null,null,null,null,null,null,0]
[704,null,null,null,null,null,null,0]
[705,null,null,null,null,null,null,0]
[706,null,null,null,null,null,null,0]
[707,null,null,null,null,null,null,0]
[708,null,null,null,null,null,null,0]
[709,null,null,null,null,null,null,0]
[710,null,null,null,null,null,null,0]
[711,null,null,null,null,null,null,0]
[712,null,null,null,null,null,null,0]
[713,null,null,null,null,null,null,0]
[714,null,null,null,null,null,null,0]
[715,null,null,null,null,null,null,0]
[716,null,null,null,null,null,null,0]
[717,null,null,null,null,null,null,0]
[718,null,null,null,null,null,null,0]
[719,null,null,null,null,null,null,0]
[720,null,null,null,null,null,null,0]
[721,null,null,null,null,null,null,0]
[722,null,null,null,null,null,null,0]
[723,null,null,null,null,null,null,0]
[724,null,null,null,null,null,null,0]
[725,null,null,null,null,null,null,0]
[726,null,null,null,null,null,null,0]
[727,null,null,null,null,null,null,0]
[728,null,null,null,null,null,null,0]
[729,null,null,null,null,null,null,0]
[730,null,null,null,null,null,null,0]
[731,null,null,null,null,null,null,0]
[732,null,null,null,null,null,null,0]
[733,null,null,null,null,null,null,0]
[734,null,null,null,null,null,null,0]
[{"$f":"+A740+1","v":735},null,null,null,null,null,null,{"$f":"G741*F741","v":0}]
[736,null,null,null,null,null,null,0]
[737,null,null,null,null,null,null,0]
[738,null,null,null,null,null,null,0]
[739,null,null,null,null,null,null,0]
[740,null,null,null,null,null,null,0]
[741,null,null,null,null,null,null,0]
[742,null,null,null,null,null,null,0]
[743,null,null,null,null,null,null,0]
[744,null,null,null,null,null,null,0]
[745,null,null,null,null,null,null,0]
[746,null,null,null,null,null,null,0]
[747,null,null,null,null,null,null,0]
[748,null,null,null,null,null,null,0]
[749,null,null,null,null,null,null,0]
[750,null,null,null,null,null,null,0]
[751,null,null,null,null,null,null,0]
[752,null,null,null,null,null,null,0]
[753,null,null,null,null,null,null,0]
[754,null,null,null,null,null,null,0]
[755,null,null,null,null,null,null,0]
[756,null,null,null,null,null,null,0]
[757,null,null,null,null,null,null,0]
[758,null,null,null,null,null,null,0]
[759,null,null,null,null,null,null,0]
[760,null,null,null,null,null,null,0]
[761,null,null,null,null,null,null,0]
[762,null,null,null,null,null,null,0]
[763,null,null,null,null,null,null,0]
[764,null,null,null,null,null,null,0]
[765,null,null,null,null,null,null,0]
[766,null,null,null,null,null,null,0]
[767,null,null,null,null,null,null,0]
[768,null,null,null,null,null,null,0]
[769,null,null,null,null,null,null,0]
[770,null,null,null,null,null,null,0]
[771,null,null,null,null,null,null,0]
[772,null,null,null,null,null,null,0]
[773,null,null,null,null,null,null,0]
[774,null,null,null,null,null,null,0]
[775,null,null,null,null,null,null,0]
[776,null,null,null,null,null,null,0]
[777,null,null,null,null,null,null,0]
[778,null,null,null,null,null,null,0]
[779,null,null,null,null,null,null,0]
[780,null,null,null,null,null,null,0]
[781,null,null,null,null,null,null,0]
[782,null,null,null,null,null,null,0]
[783,null,null,null,null,null,null,0]
[784,null,null,null,null,null,null,0]
[785,null,null,null,null,null,null,0]
[786,null,null,null,null,null,null,0]
[787,null,null,null,null,null,null,0]
[788,null,null,null,null,null,null,0]
[789,null,null,null,null,null,null,0]
[790,null,null,null,null,null,null,0]
[791,null,null,null,null,null,null,0]
[792,null,null,null,null,null,null,0]
[793,null,null,null,null,null,null,0]
[794,null,null,null,null,null,null,0]
[795,null,null,null,null,null,null,0]
[796,null,null,null,null,null,null,0]
[797,null,null,null,null,null,null,0]
[798,null,null,null,null,null,null,0]
[{"$f":"+A804+1","v":799},null,null,null,null,null,null,{"$f":"G805*F805","v":0}]
[800,null,null,null,null,null,null,0]
[801,null,null,null,null,null,null,0]
[802,null,null,null,null,null,null,0]
[803,null,null,null,null,null,null,0]
[804,null,null,null,null,null,null,0]
[805,null,null,null,null,null,null,0]
[806,null,null,null,null,null,null,0]
[807,null,null,null,null,null,null,0]
[808,null,null,null,null,null,null,0]
[809,null,null,null,null,null,null,0]
[810,null,null,null,null,null,null,0]
[811,null,null,null,null,null,null,0]
[812,null,null,null,null,null,null,0]
[813,null,null,null,null,null,null,0]
[814,null,null,null,null,null,null,0]
[815,null,null,null,null,null,null,0]
[816,null,null,null,null,null,null,0]
[817,null,null,null,null,null,null,0]
[818,null,null,null,null,null,null,0]
[819,null,null,null,null,null,null,0]
[820,null,null,null,null,null,null,0]
[821,null,null,null,null,null,null,0]
[822,null,null,null,null,null,null,0]
[823,null,null,null,null,null,null,0]
[824,null,null,null,null,null,null,0]
[825,null,null,null,null,null,null,0]
[826,null,null,null,null,null,null,0]
[827,null,null,null,null,null,null,0]
[828,null,null,null,null,null,null,0]
[829,null,null,null,null,null,null,0]
[830,null,null,null,null,null,null,0]
[831,null,null,null,null,null,null,0]
[832,null,null,null,null,null,null,0]
[833,null,null,null,null,null,null,0]
[834,null,null,null,null,null,null,0]
[835,null,null,null,null,null,null,0]
[836,null,null,null,null,null,null,0]
[837,null,null,null,null,null,null,0]
[838,null,null,null,null,null,null,0]
[839,null,null,null,null,null,null,0]
[840,null,null,null,null,null,null,0]
[841,null,null,null,null,null,null,0]
[842,null,null,null,null,null,null,0]
[843,null,null,null,null,null,null,0]
[844,null,null,null,null,null,null,0]
[845,null,null,null,null,null,null,0]
[846,null,null,null,null,null,null,0]
[847,null,null,null,null,null,null,0]
[848,null,null,null,null,null,null,0]
[849,null,null,null,null,null,null,0]
[850,null,null,null,null,null,null,0]
[851,null,null,null,null,null,null,0]
[852,null,null,null,null,null,null,0]
[853,null,null,null,null,null,null,0]
[854,null,null,null,null,null,null,0]
[855,null,null,null,null,null,null,0]
[856,null,null,null,null,null,null,0]
[857,null,null,null,null,null,null,0]
[858,null,null,null,null,null,null,0]
[859,null,null,null,null,null,null,0]
[860,null,null,null,null,null,null,0]
[861,null,null,null,null,null,null,0]
[862,null,null,null,null,null,null,0]
[{"$f":"+A868+1","v":863},null,null,null,null,null,null,{"$f":"G869*F869","v":0}]
[864,null,null,null,null,null,null,0]
[865,null,null,null,null,null,null,0]
[866,null,null,null,null,null,null,0]
[867,null,null,null,null,null,null,0]
[868,null,null,null,null,null,null,0]
[869,null,null,null,null,null,null,0]
[870,null,null,null,null,null,null,0]
[871,null,null,null,null,null,null,0]
[872,null,null,null,null,null,null,0]
[873,null,null,null,null,null,null,0]
[874,null,null,null,null,null,null,0]
[875,null,null,null,null,null,null,0]
[876,null,null,null,null,null,null,0]
[877,null,null,null,null,null,null,0]
[878,null,null,null,null,null,null,0]
[879,null,null,null,null,null,null,0]
[880,null,null,null,null,null,null,0]
[881,null,null,null,null,null,null,0]
[882,null,null,null,null,null,null,0]
[883,null,null,null,null,null,null,0]
[884,null,null,null,null,null,null,0]
[885,null,null,null,null,null,null,0]
[886,null,null,null,null,null,null,0]
[887,null,null,null,null,null,null,0]
[888,null,null,null,null,null,null,0]
[889,null,null,null,null,null,null,0]
[890,null,null,null,null,null,null,0]
[891,null,null,null,null,null,null,0]
[892,null,null,null,null,null,null,0]
[893,null,null,null,null,null,null,0]
[894,null,null,null,null,null,null,0]
[895,null,null,null,null,null,null,0]
[896,null,null,null,null,null,null,0]
[897,null,null,null,null,null,null,0]
[898,null,null,null,null,null,null,0]
[899,null,null,null,null,null,null,0]
[900,null,null,null,null,null,null,0]
[901,null,null,null,null,null,null,0]
[902,null,null,null,null,null,null,0]
[903,null,null,null,null,null,null,0]
[904,null,null,null,null,null,null,0]
[905,null,null,null,null,null,null,0]
[906,null,null,null,null,null,null,0]
[907,null,null,null,null,null,null,0]
[908,null,null,null,null,null,null,0]
[909,null,null,null,null,null,null,0]
[910,null,null,null,null,null,null,0]
[911,null,null,null,null,null,null,0]
[912,null,null,null,null,null,null,0]
[913,null,null,null,null,null,null,0]
[914,null,null,null,null,null,null,0]
[915,null,null,null,null,null,null,0]
[916,null,null,null,null,null,null,0]
[917,null,null,null,null,null,null,0]
[918,null,null,null,null,null,null,0]
[919,null,null,null,null,null,null,0]
[920,null,null,null,null,null,null,0]
[921,null,null,null,null,null,null,0]
[922,null,null,null,null,null,null,0]
[923,null,null,null,null,null,null,0]
[924,null,null,null,null,null,null,0]
[925,null,null,null,null,null,null,0]
[926,null,null,null,null,null,null,0]
[{"$f":"+A932+1","v":927},null,null,null,null,null,null,{"$f":"G933*F933","v":0}]
[928,null,null,null,null,null,null,0]
[929,null,null,null,null,null,null,0]
[930,null,null,null,null,null,null,0]
[931,null,null,null,null,null,null,0]
[932,null,null,null,null,null,null,0]
[933,null,null,null,null,null,null,0]
[934,null,null,null,null,null,null,0]
[935,null,null,null,null,null,null,0]
[936,null,null,null,null,null,null,0]
[937,null,null,null,null,null,null,0]
[938,null,null,null,null,null,null,0]
[939,null,null,null,null,null,null,0]
[940,null,null,null,null,null,null,0]
[941,null,null,null,null,null,null,0]
[942,null,null,null,null,null,null,0]
[943,null,null,null,null,null,null,0]
[944,null,null,null,null,null,null,0]
[945,null,null,null,null,null,null,0]
[946,null,null,null,null,null,null,0]
[947,null,null,null,null,null,null,0]
[948,null,null,null,null,null,null,0]
[949,null,null,null,null,null,null,0]
[950,null,null,null,null,null,null,0]
[951,null,null,null,null,null,null,0]
[952,null,null,null,null,null,null,0]
[953,null,null,null,null,null,null,0]
[954,null,null,null,null,null,null,0]
[955,null,null,null,null,null,null,0]
[956,null,null,null,null,null,null,0]
[957,null,null,null,null,null,null,0]
[958,null,null,null,null,null,null,0]
[959,null,null,null,null,null,null,0]
[960,null,null,null,null,null,null,0]
[961,null,null,null,null,null,null,0]
[962,null,null,null,null,null,null,0]
[963,null,null,null,null,null,null,0]
[964,null,null,null,null,null,null,0]
[965,null,null,null,null,null,null,0]
[966,null,null,null,null,null,null,0]
[967,null,null,null,null,null,null,0]
[968,null,null,null,null,null,null,0]
[969,null,null,null,null,null,null,0]
[970,null,null,null,null,null,null,0]
[971,null,null,null,null,null,null,0]
[972,null,null,null,null,null,null,0]
[973,null,null,null,null,null,null,0]
[974,null,null,null,null,null,null,0]
[975,null,null,null,null,null,null,0]
[976,null,null,null,null,null,null,0]
[977,null,null,null,null,null,null,0]
[978,null,null,null,null,null,null,0]
[979,null,null,null,null,null,null,0]
[980,null,null,null,null,null,null,0]
[981,null,null,null,null,null,null,0]
[982,null,null,null,null,null,null,0]
[983,null,null,null,null,null,null,0]
[984,null,null,null,null,null,null,0]
[985,null,null,null,null,null,null,0]
[986,null,null,null,null,null,null,0]
[987,null,null,null,null,null,null,0]
[988,null,null,null,null,null,null,0]
[989,null,null,null,null,null,null,0]
[990,null,null,null,null,null,null,0]
[{"$f":"+A996+1","v":991},null,null,null,null,null,null,{"$f":"G997*F997","v":0}]
[992,null,null,null,null,null,null,0]
[993,null,null,null,null,null,null,0]
[994,null,null,null,null,null,null,0]
[995,null,null,null,null,null,null,0]
[996,null,null,null,null,null,null,0]
[997,null,null,null,null,null,null,0]
[998,null,null,null,null,null,null,0]
[999,null,null,null,null,null,null,0]
[1000,null,null,null,null,null,null,0]

{"sheet":"INVENT.Ma Informatiq Importé-10","index":14,"n_rows":1006,"n_cols":8,"rows_kept":1006,"cut":false,"hidden":false,"merged":[]}
[null,null,{"$f":"'REFERENCES - 10'!D7","v":0},null,null,{"$f":"'REFERENCES - 10'!D9","v":0}]
[null,"INVENTAIRE DES MATERIELS EQUIPEMENTS IMPORTES"]
[null,null,null,null,null,null,null,"(En F. Cfa)"]
[null,"DESIGNATIONS DOUANIERES","N° NOMENCLATURE DOUANIERE","SPECIFICATIONS COMMERCIALES (1)","UNITE DE MESURE","QUAN.","VALEUR UNITAIRE","COÛT CAF"]
[]
[null,"Matériels Informatiques",null,null,null,{"$f":"SUM(F7:F36)","v":0},null,{"$f":"SUM(H7:H36)","v":0}]
[1,null,null,null,null,null,null,{"$f":"G7*F7","v":0}]
[{"$f":"+A7+1","v":2},null,null,null,null,null,null,{"$f":"G8*F8","v":0}]
[{"$f":"+A8+1","v":3},null,null,null,null,null,null,{"$f":"G9*F9","v":0}]
[4,null,null,null,null,null,null,{"$f":"G10*F10","v":0}]
[5,null,null,null,null,null,null,{"$f":"G11*F11","v":0}]
[6,null,null,null,null,null,null,{"$f":"G12*F12","v":0}]
[7,null,null,null,null,null,null,0]
[8,null,null,null,null,null,null,0]
[9,null,null,null,null,null,null,0]
[10,null,null,null,null,null,null,0]
[11,null,null,null,null,null,null,0]
[12,null,null,null,null,null,null,0]
[13,null,null,null,null,null,null,0]
[14,null,null,null,null,null,null,0]
[15,null,null,null,null,null,null,0]
[16,null,null,null,null,null,null,0]
[17,null,null,null,null,null,null,0]
[18,null,null,null,null,null,null,0]
[19,null,null,null,null,null,null,0]
[20,null,null,null,null,null,null,0]
[21,null,null,null,null,null,null,0]
[22,null,null,null,null,null,null,0]
[23,null,null,null,null,null,null,0]
[24,null,null,null,null,null,null,0]
[25,null,null,null,null,null,null,0]
[26,null,null,null,null,null,null,0]
[27,null,null,null,null,null,null,0]
[28,null,null,null,null,null,null,0]
[29,null,null,null,null,null,null,0]
[30,null,null,null,null,null,null,{"$f":"G36*F36","v":0}]
[31,null,null,null,null,null,null,{"$f":"G37*F37","v":0}]
[32,null,null,null,null,null,null,0]
[33,null,null,null,null,null,null,0]
[34,null,null,null,null,null,null,0]
[35,null,null,null,null,null,null,0]
[36,null,null,null,null,null,null,0]
[37,null,null,null,null,null,null,0]
[38,null,null,null,null,null,null,0]
[39,null,null,null,null,null,null,0]
[40,null,null,null,null,null,null,0]
[41,null,null,null,null,null,null,0]
[42,null,null,null,null,null,null,0]
[43,null,null,null,null,null,null,0]
[44,null,null,null,null,null,null,0]
[45,null,null,null,null,null,null,0]
[46,null,null,null,null,null,null,0]
[47,null,null,null,null,null,null,0]
[48,null,null,null,null,null,null,0]
[49,null,null,null,null,null,null,0]
[50,null,null,null,null,null,null,0]
[51,null,null,null,null,null,null,0]
[52,null,null,null,null,null,null,0]
[53,null,null,null,null,null,null,0]
[54,null,null,null,null,null,null,0]
[55,null,null,null,null,null,null,0]
[56,null,null,null,null,null,null,0]
[57,null,null,null,null,null,null,0]
[58,null,null,null,null,null,null,0]
[59,null,null,null,null,null,null,0]
[60,null,null,null,null,null,null,0]
[61,null,null,null,null,null,null,0]
[62,null,null,null,null,null,null,0]
[63,null,null,null,null,null,null,0]
[64,null,null,null,null,null,null,0]
[65,null,null,null,null,null,null,0]
[66,null,null,null,null,null,null,0]
[{"$f":"+A72+1","v":67},null,null,null,null,null,null,0]
[68,null,null,null,null,null,null,0]
[69,null,null,null,null,null,null,0]
[70,null,null,null,null,null,null,0]
[71,null,null,null,null,null,null,0]
[72,null,null,null,null,null,null,0]
[73,null,null,null,null,null,null,0]
[74,null,null,null,null,null,null,0]
[75,null,null,null,null,null,null,0]
[76,null,null,null,null,null,null,0]
[77,null,null,null,null,null,null,0]
[78,null,null,null,null,null,null,0]
[79,null,null,null,null,null,null,0]
[80,null,null,null,null,null,null,0]
[81,null,null,null,null,null,null,0]
[82,null,null,null,null,null,null,0]
[83,null,null,null,null,null,null,0]
[84,null,null,null,null,null,null,0]
[85,null,null,null,null,null,null,0]
[86,null,null,null,null,null,null,0]
[87,null,null,null,null,null,null,0]
[88,null,null,null,null,null,null,0]
[89,null,null,null,null,null,null,0]
[90,null,null,null,null,null,null,0]
[91,null,null,null,null,null,null,0]
[92,null,null,null,null,null,null,0]
[93,null,null,null,null,null,null,0]
[94,null,null,null,null,null,null,0]
[95,null,null,null,null,null,null,{"$f":"G101*F101","v":0}]
[96,null,null,null,null,null,null,0]
[97,null,null,null,null,null,null,0]
[98,null,null,null,null,null,null,0]
[99,null,null,null,null,null,null,0]
[100,null,null,null,null,null,null,0]
[101,null,null,null,null,null,null,0]
[102,null,null,null,null,null,null,0]
[103,null,null,null,null,null,null,0]
[104,null,null,null,null,null,null,0]
[105,null,null,null,null,null,null,0]
[106,null,null,null,null,null,null,0]
[107,null,null,null,null,null,null,0]
[108,null,null,null,null,null,null,0]
[109,null,null,null,null,null,null,0]
[110,null,null,null,null,null,null,0]
[111,null,null,null,null,null,null,0]
[112,null,null,null,null,null,null,0]
[113,null,null,null,null,null,null,0]
[114,null,null,null,null,null,null,0]
[115,null,null,null,null,null,null,0]
[116,null,null,null,null,null,null,0]
[117,null,null,null,null,null,null,0]
[118,null,null,null,null,null,null,0]
[119,null,null,null,null,null,null,0]
[120,null,null,null,null,null,null,0]
[121,null,null,null,null,null,null,0]
[122,null,null,null,null,null,null,0]
[123,null,null,null,null,null,null,0]
[124,null,null,null,null,null,null,0]
[125,null,null,null,null,null,null,0]
[126,null,null,null,null,null,null,0]
[127,null,null,null,null,null,null,0]
[128,null,null,null,null,null,null,0]
[129,null,null,null,null,null,null,0]
[130,null,null,null,null,null,null,0]
[{"$f":"+A136+1","v":131},null,null,null,null,null,null,0]
[132,null,null,null,null,null,null,0]
[133,null,null,null,null,null,null,0]
[134,null,null,null,null,null,null,0]
[135,null,null,null,null,null,null,0]
[136,null,null,null,null,null,null,0]
[137,null,null,null,null,null,null,0]
[138,null,null,null,null,null,null,0]
[139,null,null,null,null,null,null,0]
[140,null,null,null,null,null,null,0]
[141,null,null,null,null,null,null,0]
[142,null,null,null,null,null,null,0]
[143,null,null,null,null,null,null,0]
[144,null,null,null,null,null,null,0]
[145,null,null,null,null,null,null,0]
[146,null,null,null,null,null,null,0]
[147,null,null,null,null,null,null,0]
[148,null,null,null,null,null,null,0]
[149,null,null,null,null,null,null,0]
[150,null,null,null,null,null,null,0]
[151,null,null,null,null,null,null,0]
[152,null,null,null,null,null,null,0]
[153,null,null,null,null,null,null,0]
[154,null,null,null,null,null,null,0]
[155,null,null,null,null,null,null,0]
[156,null,null,null,null,null,null,0]
[157,null,null,null,null,null,null,0]
[158,null,null,null,null,null,null,0]
[159,null,null,null,null,null,null,{"$f":"G165*F165","v":0}]
[160,null,null,null,null,null,null,0]
[161,null,null,null,null,null,null,0]
[162,null,null,null,null,null,null,0]
[163,null,null,null,null,null,null,0]
[164,null,null,null,null,null,null,0]
[165,null,null,null,null,null,null,0]
[166,null,null,null,null,null,null,0]
[167,null,null,null,null,null,null,0]
[168,null,null,null,null,null,null,0]
[169,null,null,null,null,null,null,0]
[170,null,null,null,null,null,null,0]
[171,null,null,null,null,null,null,0]
[172,null,null,null,null,null,null,0]
[173,null,null,null,null,null,null,0]
[174,null,null,null,null,null,null,0]
[175,null,null,null,null,null,null,0]
[176,null,null,null,null,null,null,0]
[177,null,null,null,null,null,null,0]
[178,null,null,null,null,null,null,0]
[179,null,null,null,null,null,null,0]
[180,null,null,null,null,null,null,0]
[181,null,null,null,null,null,null,0]
[182,null,null,null,null,null,null,0]
[183,null,null,null,null,null,null,0]
[184,null,null,null,null,null,null,0]
[185,null,null,null,null,null,null,0]
[186,null,null,null,null,null,null,0]
[187,null,null,null,null,null,null,0]
[188,null,null,null,null,null,null,0]
[189,null,null,null,null,null,null,0]
[190,null,null,null,null,null,null,0]
[191,null,null,null,null,null,null,0]
[192,null,null,null,null,null,null,0]
[193,null,null,null,null,null,null,0]
[194,null,null,null,null,null,null,0]
[{"$f":"+A200+1","v":195},null,null,null,null,null,null,0]
[196,null,null,null,null,null,null,0]
[197,null,null,null,null,null,null,0]
[198,null,null,null,null,null,null,0]
[199,null,null,null,null,null,null,0]
[200,null,null,null,null,null,null,0]
[201,null,null,null,null,null,null,0]
[202,null,null,null,null,null,null,0]
[203,null,null,null,null,null,null,0]
[204,null,null,null,null,null,null,0]
[205,null,null,null,null,null,null,0]
[206,null,null,null,null,null,null,0]
[207,null,null,null,null,null,null,0]
[208,null,null,null,null,null,null,0]
[209,null,null,null,null,null,null,0]
[210,null,null,null,null,null,null,0]
[211,null,null,null,null,null,null,0]
[212,null,null,null,null,null,null,0]
[213,null,null,null,null,null,null,0]
[214,null,null,null,null,null,null,0]
[215,null,null,null,null,null,null,0]
[216,null,null,null,null,null,null,0]
[217,null,null,null,null,null,null,0]
[218,null,null,null,null,null,null,0]
[219,null,null,null,null,null,null,0]
[220,null,null,null,null,null,null,0]
[221,null,null,null,null,null,null,0]
[222,null,null,null,null,null,null,0]
[223,null,null,null,null,null,null,{"$f":"G229*F229","v":0}]
[224,null,null,null,null,null,null,0]
[225,null,null,null,null,null,null,0]
[226,null,null,null,null,null,null,0]
[227,null,null,null,null,null,null,0]
[228,null,null,null,null,null,null,0]
[229,null,null,null,null,null,null,0]
[230,null,null,null,null,null,null,0]
[231,null,null,null,null,null,null,0]
[232,null,null,null,null,null,null,0]
[233,null,null,null,null,null,null,0]
[234,null,null,null,null,null,null,0]
[235,null,null,null,null,null,null,0]
[236,null,null,null,null,null,null,0]
[237,null,null,null,null,null,null,0]
[238,null,null,null,null,null,null,0]
[239,null,null,null,null,null,null,0]
[240,null,null,null,null,null,null,0]
[241,null,null,null,null,null,null,0]
[242,null,null,null,null,null,null,0]
[243,null,null,null,null,null,null,0]
[244,null,null,null,null,null,null,0]
[245,null,null,null,null,null,null,0]
[246,null,null,null,null,null,null,0]
[247,null,null,null,null,null,null,0]
[248,null,null,null,null,null,null,0]
[249,null,null,null,null,null,null,0]
[250,null,null,null,null,null,null,0]
[251,null,null,null,null,null,null,0]
[252,null,null,null,null,null,null,0]
[253,null,null,null,null,null,null,0]
[254,null,null,null,null,null,null,0]
[255,null,null,null,null,null,null,0]
[256,null,null,null,null,null,null,0]
[257,null,null,null,null,null,null,0]
[258,null,null,null,null,null,null,0]
[{"$f":"+A264+1","v":259},null,null,null,null,null,null,0]
[260,null,null,null,null,null,null,0]
[261,null,null,null,null,null,null,0]
[262,null,null,null,null,null,null,0]
[263,null,null,null,null,null,null,0]
[264,null,null,null,null,null,null,0]
[265,null,null,null,null,null,null,0]
[266,null,null,null,null,null,null,0]
[267,null,null,null,null,null,null,0]
[268,null,null,null,null,null,null,0]
[269,null,null,null,null,null,null,0]
[270,null,null,null,null,null,null,0]
[271,null,null,null,null,null,null,0]
[272,null,null,null,null,null,null,0]
[273,null,null,null,null,null,null,0]
[274,null,null,null,null,null,null,0]
[275,null,null,null,null,null,null,0]
[276,null,null,null,null,null,null,0]
[277,null,null,null,null,null,null,0]
[278,null,null,null,null,null,null,0]
[279,null,null,null,null,null,null,0]
[280,null,null,null,null,null,null,0]
[281,null,null,null,null,null,null,0]
[282,null,null,null,null,null,null,0]
[283,null,null,null,null,null,null,0]
[284,null,null,null,null,null,null,0]
[285,null,null,null,null,null,null,0]
[286,null,null,null,null,null,null,0]
[287,null,null,null,null,null,null,{"$f":"G293*F293","v":0}]
[288,null,null,null,null,null,null,0]
[289,null,null,null,null,null,null,0]
[290,null,null,null,null,null,null,0]
[291,null,null,null,null,null,null,0]
[292,null,null,null,null,null,null,0]
[293,null,null,null,null,null,null,0]
[294,null,null,null,null,null,null,0]
[295,null,null,null,null,null,null,0]
[296,null,null,null,null,null,null,0]
[297,null,null,null,null,null,null,0]
[298,null,null,null,null,null,null,0]
[299,null,null,null,null,null,null,0]
[300,null,null,null,null,null,null,0]
[301,null,null,null,null,null,null,0]
[302,null,null,null,null,null,null,0]
[303,null,null,null,null,null,null,0]
[304,null,null,null,null,null,null,0]
[305,null,null,null,null,null,null,0]
[306,null,null,null,null,null,null,0]
[307,null,null,null,null,null,null,0]
[308,null,null,null,null,null,null,0]
[309,null,null,null,null,null,null,0]
[310,null,null,null,null,null,null,0]
[311,null,null,null,null,null,null,0]
[312,null,null,null,null,null,null,0]
[313,null,null,null,null,null,null,0]
[314,null,null,null,null,null,null,0]
[315,null,null,null,null,null,null,0]
[316,null,null,null,null,null,null,0]
[317,null,null,null,null,null,null,0]
[318,null,null,null,null,null,null,0]
[319,null,null,null,null,null,null,0]
[320,null,null,null,null,null,null,0]
[321,null,null,null,null,null,null,0]
[322,null,null,null,null,null,null,0]
[{"$f":"+A328+1","v":323},null,null,null,null,null,null,0]
[324,null,null,null,null,null,null,0]
[325,null,null,null,null,null,null,0]
[326,null,null,null,null,null,null,0]
[327,null,null,null,null,null,null,0]
[328,null,null,null,null,null,null,0]
[329,null,null,null,null,null,null,0]
[330,null,null,null,null,null,null,0]
[331,null,null,null,null,null,null,0]
[332,null,null,null,null,null,null,0]
[333,null,null,null,null,null,null,0]
[334,null,null,null,null,null,null,0]
[335,null,null,null,null,null,null,0]
[336,null,null,null,null,null,null,0]
[337,null,null,null,null,null,null,0]
[338,null,null,null,null,null,null,0]
[339,null,null,null,null,null,null,0]
[340,null,null,null,null,null,null,0]
[341,null,null,null,null,null,null,0]
[342,null,null,null,null,null,null,0]
[343,null,null,null,null,null,null,0]
[344,null,null,null,null,null,null,0]
[345,null,null,null,null,null,null,0]
[346,null,null,null,null,null,null,0]
[347,null,null,null,null,null,null,0]
[348,null,null,null,null,null,null,0]
[349,null,null,null,null,null,null,0]
[350,null,null,null,null,null,null,0]
[351,null,null,null,null,null,null,{"$f":"G357*F357","v":0}]
[352,null,null,null,null,null,null,0]
[353,null,null,null,null,null,null,0]
[354,null,null,null,null,null,null,0]
[355,null,null,null,null,null,null,0]
[356,null,null,null,null,null,null,0]
[357,null,null,null,null,null,null,0]
[358,null,null,null,null,null,null,0]
[359,null,null,null,null,null,null,0]
[360,null,null,null,null,null,null,0]
[361,null,null,null,null,null,null,0]
[362,null,null,null,null,null,null,0]
[363,null,null,null,null,null,null,0]
[364,null,null,null,null,null,null,0]
[365,null,null,null,null,null,null,0]
[366,null,null,null,null,null,null,0]
[367,null,null,null,null,null,null,0]
[368,null,null,null,null,null,null,0]
[369,null,null,null,null,null,null,0]
[370,null,null,null,null,null,null,0]
[371,null,null,null,null,null,null,0]
[372,null,null,null,null,null,null,0]
[373,null,null,null,null,null,null,0]
[374,null,null,null,null,null,null,0]
[375,null,null,null,null,null,null,0]
[376,null,null,null,null,null,null,0]
[377,null,null,null,null,null,null,0]
[378,null,null,null,null,null,null,0]
[379,null,null,null,null,null,null,0]
[380,null,null,null,null,null,null,0]
[381,null,null,null,null,null,null,0]
[382,null,null,null,null,null,null,0]
[383,null,null,null,null,null,null,0]
[384,null,null,null,null,null,null,0]
[385,null,null,null,null,null,null,0]
[386,null,null,null,null,null,null,0]
[{"$f":"+A392+1","v":387},null,null,null,null,null,null,0]
[388,null,null,null,null,null,null,0]
[389,null,null,null,null,null,null,0]
[390,null,null,null,null,null,null,0]
[391,null,null,null,null,null,null,0]
[392,null,null,null,null,null,null,0]
[393,null,null,null,null,null,null,0]
[394,null,null,null,null,null,null,0]
[395,null,null,null,null,null,null,0]
[396,null,null,null,null,null,null,0]
[397,null,null,null,null,null,null,0]
[398,null,null,null,null,null,null,0]
[399,null,null,null,null,null,null,0]
[400,null,null,null,null,null,null,0]
[401,null,null,null,null,null,null,0]
[402,null,null,null,null,null,null,0]
[403,null,null,null,null,null,null,0]
[404,null,null,null,null,null,null,0]
[405,null,null,null,null,null,null,0]
[406,null,null,null,null,null,null,0]
[407,null,null,null,null,null,null,0]
[408,null,null,null,null,null,null,0]
[409,null,null,null,null,null,null,0]
[410,null,null,null,null,null,null,0]
[411,null,null,null,null,null,null,0]
[412,null,null,null,null,null,null,0]
[413,null,null,null,null,null,null,0]
[414,null,null,null,null,null,null,0]
[415,null,null,null,null,null,null,{"$f":"G421*F421","v":0}]
[416,null,null,null,null,null,null,0]
[417,null,null,null,null,null,null,0]
[418,null,null,null,null,null,null,0]
[419,null,null,null,null,null,null,0]
[420,null,null,null,null,null,null,0]
[421,null,null,null,null,null,null,0]
[422,null,null,null,null,null,null,0]
[423,null,null,null,null,null,null,0]
[424,null,null,null,null,null,null,0]
[425,null,null,null,null,null,null,0]
[426,null,null,null,null,null,null,0]
[427,null,null,null,null,null,null,0]
[428,null,null,null,null,null,null,0]
[429,null,null,null,null,null,null,0]
[430,null,null,null,null,null,null,0]
[431,null,null,null,null,null,null,0]
[432,null,null,null,null,null,null,0]
[433,null,null,null,null,null,null,0]
[434,null,null,null,null,null,null,0]
[435,null,null,null,null,null,null,0]
[436,null,null,null,null,null,null,0]
[437,null,null,null,null,null,null,0]
[438,null,null,null,null,null,null,0]
[439,null,null,null,null,null,null,0]
[440,null,null,null,null,null,null,0]
[441,null,null,null,null,null,null,0]
[442,null,null,null,null,null,null,0]
[443,null,null,null,null,null,null,0]
[444,null,null,null,null,null,null,0]
[445,null,null,null,null,null,null,0]
[446,null,null,null,null,null,null,0]
[447,null,null,null,null,null,null,0]
[448,null,null,null,null,null,null,0]
[449,null,null,null,null,null,null,0]
[450,null,null,null,null,null,null,0]
[{"$f":"+A456+1","v":451},null,null,null,null,null,null,0]
[452,null,null,null,null,null,null,0]
[453,null,null,null,null,null,null,0]
[454,null,null,null,null,null,null,0]
[455,null,null,null,null,null,null,0]
[456,null,null,null,null,null,null,0]
[457,null,null,null,null,null,null,0]
[458,null,null,null,null,null,null,0]
[459,null,null,null,null,null,null,0]
[460,null,null,null,null,null,null,0]
[461,null,null,null,null,null,null,0]
[462,null,null,null,null,null,null,0]
[463,null,null,null,null,null,null,0]
[464,null,null,null,null,null,null,0]
[465,null,null,null,null,null,null,0]
[466,null,null,null,null,null,null,0]
[467,null,null,null,null,null,null,0]
[468,null,null,null,null,null,null,0]
[469,null,null,null,null,null,null,0]
[470,null,null,null,null,null,null,0]
[471,null,null,null,null,null,null,0]
[472,null,null,null,null,null,null,0]
[473,null,null,null,null,null,null,0]
[474,null,null,null,null,null,null,0]
[475,null,null,null,null,null,null,0]
[476,null,null,null,null,null,null,0]
[477,null,null,null,null,null,null,0]
[478,null,null,null,null,null,null,0]
[479,null,null,null,null,null,null,{"$f":"G485*F485","v":0}]
[480,null,null,null,null,null,null,0]
[481,null,null,null,null,null,null,0]
[482,null,null,null,null,null,null,0]
[483,null,null,null,null,null,null,0]
[484,null,null,null,null,null,null,0]
[485,null,null,null,null,null,null,0]
[486,null,null,null,null,null,null,0]
[487,null,null,null,null,null,null,0]
[488,null,null,null,null,null,null,0]
[489,null,null,null,null,null,null,0]
[490,null,null,null,null,null,null,0]
[491,null,null,null,null,null,null,0]
[492,null,null,null,null,null,null,0]
[493,null,null,null,null,null,null,0]
[494,null,null,null,null,null,null,0]
[495,null,null,null,null,null,null,0]
[496,null,null,null,null,null,null,0]
[497,null,null,null,null,null,null,0]
[498,null,null,null,null,null,null,0]
[499,null,null,null,null,null,null,0]
[500,null,null,null,null,null,null,0]
[501,null,null,null,null,null,null,0]
[502,null,null,null,null,null,null,0]
[503,null,null,null,null,null,null,0]
[504,null,null,null,null,null,null,0]
[505,null,null,null,null,null,null,0]
[506,null,null,null,null,null,null,0]
[507,null,null,null,null,null,null,0]
[508,null,null,null,null,null,null,0]
[509,null,null,null,null,null,null,0]
[510,null,null,null,null,null,null,0]
[511,null,null,null,null,null,null,0]
[512,null,null,null,null,null,null,0]
[513,null,null,null,null,null,null,0]
[514,null,null,null,null,null,null,0]
[{"$f":"+A520+1","v":515},null,null,null,null,null,null,0]
[516,null,null,null,null,null,null,0]
[517,null,null,null,null,null,null,0]
[518,null,null,null,null,null,null,0]
[519,null,null,null,null,null,null,0]
[520,null,null,null,null,null,null,0]
[521,null,null,null,null,null,null,0]
[522,null,null,null,null,null,null,0]
[523,null,null,null,null,null,null,0]
[524,null,null,null,null,null,null,0]
[525,null,null,null,null,null,null,0]
[526,null,null,null,null,null,null,0]
[527,null,null,null,null,null,null,0]
[528,null,null,null,null,null,null,0]
[529,null,null,null,null,null,null,0]
[530,null,null,null,null,null,null,0]
[531,null,null,null,null,null,null,0]
[532,null,null,null,null,null,null,0]
[533,null,null,null,null,null,null,0]
[534,null,null,null,null,null,null,0]
[535,null,null,null,null,null,null,0]
[536,null,null,null,null,null,null,0]
[537,null,null,null,null,null,null,0]
[538,null,null,null,null,null,null,0]
[539,null,null,null,null,null,null,0]
[540,null,null,null,null,null,null,0]
[541,null,null,null,null,null,null,0]
[542,null,null,null,null,null,null,0]
[543,null,null,null,null,null,null,{"$f":"G549*F549","v":0}]
[544,null,null,null,null,null,null,0]
[545,null,null,null,null,null,null,0]
[546,null,null,null,null,null,null,0]
[547,null,null,null,null,null,null,0]
[548,null,null,null,null,null,null,0]
[549,null,null,null,null,null,null,0]
[550,null,null,null,null,null,null,0]
[551,null,null,null,null,null,null,0]
[552,null,null,null,null,null,null,0]
[553,null,null,null,null,null,null,0]
[554,null,null,null,null,null,null,0]
[555,null,null,null,null,null,null,0]
[556,null,null,null,null,null,null,0]
[557,null,null,null,null,null,null,0]
[558,null,null,null,null,null,null,0]
[559,null,null,null,null,null,null,0]
[560,null,null,null,null,null,null,0]
[561,null,null,null,null,null,null,0]
[562,null,null,null,null,null,null,0]
[563,null,null,null,null,null,null,0]
[564,null,null,null,null,null,null,0]
[565,null,null,null,null,null,null,0]
[566,null,null,null,null,null,null,0]
[567,null,null,null,null,null,null,0]
[568,null,null,null,null,null,null,0]
[569,null,null,null,null,null,null,0]
[570,null,null,null,null,null,null,0]
[571,null,null,null,null,null,null,0]
[572,null,null,null,null,null,null,0]
[573,null,null,null,null,null,null,0]
[574,null,null,null,null,null,null,0]
[575,null,null,null,null,null,null,0]
[576,null,null,null,null,null,null,0]
[577,null,null,null,null,null,null,0]
[578,null,null,null,null,null,null,0]
[{"$f":"+A584+1","v":579},null,null,null,null,null,null,0]
[580,null,null,null,null,null,null,0]
[581,null,null,null,null,null,null,0]
[582,null,null,null,null,null,null,0]
[583,null,null,null,null,null,null,0]
[584,null,null,null,null,null,null,0]
[585,null,null,null,null,null,null,0]
[586,null,null,null,null,null,null,0]
[587,null,null,null,null,null,null,0]
[588,null,null,null,null,null,null,0]
[589,null,null,null,null,null,null,0]
[590,null,null,null,null,null,null,0]
[591,null,null,null,null,null,null,0]
[592,null,null,null,null,null,null,0]
[593,null,null,null,null,null,null,0]
[594,null,null,null,null,null,null,0]
[595,null,null,null,null,null,null,0]
[596,null,null,null,null,null,null,0]
[597,null,null,null,null,null,null,0]
[598,null,null,null,null,null,null,0]
[599,null,null,null,null,null,null,0]
[600,null,null,null,null,null,null,0]
[601,null,null,null,null,null,null,0]
[602,null,null,null,null,null,null,0]
[603,null,null,null,null,null,null,0]
[604,null,null,null,null,null,null,0]
[605,null,null,null,null,null,null,0]
[606,null,null,null,null,null,null,0]
[607,null,null,null,null,null,null,{"$f":"G613*F613","v":0}]
[608,null,null,null,null,null,null,0]
[609,null,null,null,null,null,null,0]
[610,null,null,null,null,null,null,0]
[611,null,null,null,null,null,null,0]
[612,null,null,null,null,null,null,0]
[613,null,null,null,null,null,null,0]
[614,null,null,null,null,null,null,0]
[615,null,null,null,null,null,null,0]
[616,null,null,null,null,null,null,0]
[617,null,null,null,null,null,null,0]
[618,null,null,null,null,null,null,0]
[619,null,null,null,null,null,null,0]
[620,null,null,null,null,null,null,0]
[621,null,null,null,null,null,null,0]
[622,null,null,null,null,null,null,0]
[623,null,null,null,null,null,null,0]
[624,null,null,null,null,null,null,0]
[625,null,null,null,null,null,null,0]
[626,null,null,null,null,null,null,0]
[627,null,null,null,null,null,null,0]
[628,null,null,null,null,null,null,0]
[629,null,null,null,null,null,null,0]
[630,null,null,null,null,null,null,0]
[631,null,null,null,null,null,null,0]
[632,null,null,null,null,null,null,0]
[633,null,null,null,null,null,null,0]
[634,null,null,null,null,null,null,0]
[635,null,null,null,null,null,null,0]
[636,null,null,null,null,null,null,0]
[637,null,null,null,null,null,null,0]
[638,null,null,null,null,null,null,0]
[639,null,null,null,null,null,null,0]
[640,null,null,null,null,null,null,0]
[641,null,null,null,null,null,null,0]
[642,null,null,null,null,null,null,0]
[{"$f":"+A648+1","v":643},null,null,null,null,null,null,0]
[644,null,null,null,null,null,null,0]
[645,null,null,null,null,null,null,0]
[646,null,null,null,null,null,null,0]
[647,null,null,null,null,null,null,0]
[648,null,null,null,null,null,null,0]
[649,null,null,null,null,null,null,0]
[650,null,null,null,null,null,null,0]
[651,null,null,null,null,null,null,0]
[652,null,null,null,null,null,null,0]
[653,null,null,null,null,null,null,0]
[654,null,null,null,null,null,null,0]
[655,null,null,null,null,null,null,0]
[656,null,null,null,null,null,null,0]
[657,null,null,null,null,null,null,0]
[658,null,null,null,null,null,null,0]
[659,null,null,null,null,null,null,0]
[660,null,null,null,null,null,null,0]
[661,null,null,null,null,null,null,0]
[662,null,null,null,null,null,null,0]
[663,null,null,null,null,null,null,0]
[664,null,null,null,null,null,null,0]
[665,null,null,null,null,null,null,0]
[666,null,null,null,null,null,null,0]
[667,null,null,null,null,null,null,0]
[668,null,null,null,null,null,null,0]
[669,null,null,null,null,null,null,0]
[670,null,null,null,null,null,null,0]
[671,null,null,null,null,null,null,{"$f":"G677*F677","v":0}]
[672,null,null,null,null,null,null,0]
[673,null,null,null,null,null,null,0]
[674,null,null,null,null,null,null,0]
[675,null,null,null,null,null,null,0]
[676,null,null,null,null,null,null,0]
[677,null,null,null,null,null,null,0]
[678,null,null,null,null,null,null,0]
[679,null,null,null,null,null,null,0]
[680,null,null,null,null,null,null,0]
[681,null,null,null,null,null,null,0]
[682,null,null,null,null,null,null,0]
[683,null,null,null,null,null,null,0]
[684,null,null,null,null,null,null,0]
[685,null,null,null,null,null,null,0]
[686,null,null,null,null,null,null,0]
[687,null,null,null,null,null,null,0]
[688,null,null,null,null,null,null,0]
[689,null,null,null,null,null,null,0]
[690,null,null,null,null,null,null,0]
[691,null,null,null,null,null,null,0]
[692,null,null,null,null,null,null,0]
[693,null,null,null,null,null,null,0]
[694,null,null,null,null,null,null,0]
[695,null,null,null,null,null,null,0]
[696,null,null,null,null,null,null,0]
[697,null,null,null,null,null,null,0]
[698,null,null,null,null,null,null,0]
[699,null,null,null,null,null,null,0]
[700,null,null,null,null,null,null,0]
[701,null,null,null,null,null,null,0]
[702,null,null,null,null,null,null,0]
[703,null,null,null,null,null,null,0]
[704,null,null,null,null,null,null,0]
[705,null,null,null,null,null,null,0]
[706,null,null,null,null,null,null,0]
[{"$f":"+A712+1","v":707},null,null,null,null,null,null,0]
[708,null,null,null,null,null,null,0]
[709,null,null,null,null,null,null,0]
[710,null,null,null,null,null,null,0]
[711,null,null,null,null,null,null,0]
[712,null,null,null,null,null,null,0]
[713,null,null,null,null,null,null,0]
[714,null,null,null,null,null,null,0]
[715,null,null,null,null,null,null,0]
[716,null,null,null,null,null,null,0]
[717,null,null,null,null,null,null,0]
[718,null,null,null,null,null,null,0]
[719,null,null,null,null,null,null,0]
[720,null,null,null,null,null,null,0]
[721,null,null,null,null,null,null,0]
[722,null,null,null,null,null,null,0]
[723,null,null,null,null,null,null,0]
[724,null,null,null,null,null,null,0]
[725,null,null,null,null,null,null,0]
[726,null,null,null,null,null,null,0]
[727,null,null,null,null,null,null,0]
[728,null,null,null,null,null,null,0]
[729,null,null,null,null,null,null,0]
[730,null,null,null,null,null,null,0]
[731,null,null,null,null,null,null,0]
[732,null,null,null,null,null,null,0]
[733,null,null,null,null,null,null,0]
[734,null,null,null,null,null,null,0]
[735,null,null,null,null,null,null,{"$f":"G741*F741","v":0}]
[736,null,null,null,null,null,null,0]
[737,null,null,null,null,null,null,0]
[738,null,null,null,null,null,null,0]
[739,null,null,null,null,null,null,0]
[740,null,null,null,null,null,null,0]
[741,null,null,null,null,null,null,0]
[742,null,null,null,null,null,null,0]
[743,null,null,null,null,null,null,0]
[744,null,null,null,null,null,null,0]
[745,null,null,null,null,null,null,0]
[746,null,null,null,null,null,null,0]
[747,null,null,null,null,null,null,0]
[748,null,null,null,null,null,null,0]
[749,null,null,null,null,null,null,0]
[750,null,null,null,null,null,null,0]
[751,null,null,null,null,null,null,0]
[752,null,null,null,null,null,null,0]
[753,null,null,null,null,null,null,0]
[754,null,null,null,null,null,null,0]
[755,null,null,null,null,null,null,0]
[756,null,null,null,null,null,null,0]
[757,null,null,null,null,null,null,0]
[758,null,null,null,null,null,null,0]
[759,null,null,null,null,null,null,0]
[760,null,null,null,null,null,null,0]
[761,null,null,null,null,null,null,0]
[762,null,null,null,null,null,null,0]
[763,null,null,null,null,null,null,0]
[764,null,null,null,null,null,null,0]
[765,null,null,null,null,null,null,0]
[766,null,null,null,null,null,null,0]
[767,null,null,null,null,null,null,0]
[768,null,null,null,null,null,null,0]
[769,null,null,null,null,null,null,0]
[770,null,null,null,null,null,null,0]
[{"$f":"+A776+1","v":771},null,null,null,null,null,null,0]
[772,null,null,null,null,null,null,0]
[773,null,null,null,null,null,null,0]
[774,null,null,null,null,null,null,0]
[775,null,null,null,null,null,null,0]
[776,null,null,null,null,null,null,0]
[777,null,null,null,null,null,null,0]
[778,null,null,null,null,null,null,0]
[779,null,null,null,null,null,null,0]
[780,null,null,null,null,null,null,0]
[781,null,null,null,null,null,null,0]
[782,null,null,null,null,null,null,0]
[783,null,null,null,null,null,null,0]
[784,null,null,null,null,null,null,0]
[785,null,null,null,null,null,null,0]
[786,null,null,null,null,null,null,0]
[787,null,null,null,null,null,null,0]
[788,null,null,null,null,null,null,0]
[789,null,null,null,null,null,null,0]
[790,null,null,null,null,null,null,0]
[791,null,null,null,null,null,null,0]
[792,null,null,null,null,null,null,0]
[793,null,null,null,null,null,null,0]
[794,null,null,null,null,null,null,0]
[795,null,null,null,null,null,null,0]
[796,null,null,null,null,null,null,0]
[797,null,null,null,null,null,null,0]
[798,null,null,null,null,null,null,0]
[799,null,null,null,null,null,null,{"$f":"G805*F805","v":0}]
[800,null,null,null,null,null,null,0]
[801,null,null,null,null,null,null,0]
[802,null,null,null,null,null,null,0]
[803,null,null,null,null,null,null,0]
[804,null,null,null,null,null,null,0]
[805,null,null,null,null,null,null,0]
[806,null,null,null,null,null,null,0]
[807,null,null,null,null,null,null,0]
[808,null,null,null,null,null,null,0]
[809,null,null,null,null,null,null,0]
[810,null,null,null,null,null,null,0]
[811,null,null,null,null,null,null,0]
[812,null,null,null,null,null,null,0]
[813,null,null,null,null,null,null,0]
[814,null,null,null,null,null,null,0]
[815,null,null,null,null,null,null,0]
[816,null,null,null,null,null,null,0]
[817,null,null,null,null,null,null,0]
[818,null,null,null,null,null,null,0]
[819,null,null,null,null,null,null,0]
[820,null,null,null,null,null,null,0]
[821,null,null,null,null,null,null,0]
[822,null,null,null,null,null,null,0]
[823,null,null,null,null,null,null,0]
[824,null,null,null,null,null,null,0]
[825,null,null,null,null,null,null,0]
[826,null,null,null,null,null,null,0]
[827,null,null,null,null,null,null,0]
[828,null,null,null,null,null,null,0]
[829,null,null,null,null,null,null,0]
[830,null,null,null,null,null,null,0]
[831,null,null,null,null,null,null,0]
[832,null,null,null,null,null,null,0]
[833,null,null,null,null,null,null,0]
[834,null,null,null,null,null,null,0]
[{"$f":"+A840+1","v":835},null,null,null,null,null,null,0]
[836,null,null,null,null,null,null,0]
[837,null,null,null,null,null,null,0]
[838,null,null,null,null,null,null,0]
[839,null,null,null,null,null,null,0]
[840,null,null,null,null,null,null,0]
[841,null,null,null,null,null,null,0]
[842,null,null,null,null,null,null,0]
[843,null,null,null,null,null,null,0]
[844,null,null,null,null,null,null,0]
[845,null,null,null,null,null,null,0]
[846,null,null,null,null,null,null,0]
[847,null,null,null,null,null,null,0]
[848,null,null,null,null,null,null,0]
[849,null,null,null,null,null,null,0]
[850,null,null,null,null,null,null,0]
[851,null,null,null,null,null,null,0]
[852,null,null,null,null,null,null,0]
[853,null,null,null,null,null,null,0]
[854,null,null,null,null,null,null,0]
[855,null,null,null,null,null,null,0]
[856,null,null,null,null,null,null,0]
[857,null,null,null,null,null,null,0]
[858,null,null,null,null,null,null,0]
[859,null,null,null,null,null,null,0]
[860,null,null,null,null,null,null,0]
[861,null,null,null,null,null,null,0]
[862,null,null,null,null,null,null,0]
[863,null,null,null,null,null,null,{"$f":"G869*F869","v":0}]
[864,null,null,null,null,null,null,0]
[865,null,null,null,null,null,null,0]
[866,null,null,null,null,null,null,0]
[867,null,null,null,null,null,null,0]
[868,null,null,null,null,null,null,0]
[869,null,null,null,null,null,null,0]
[870,null,null,null,null,null,null,0]
[871,null,null,null,null,null,null,0]
[872,null,null,null,null,null,null,0]
[873,null,null,null,null,null,null,0]
[874,null,null,null,null,null,null,0]
[875,null,null,null,null,null,null,0]
[876,null,null,null,null,null,null,0]
[877,null,null,null,null,null,null,0]
[878,null,null,null,null,null,null,0]
[879,null,null,null,null,null,null,0]
[880,null,null,null,null,null,null,0]
[881,null,null,null,null,null,null,0]
[882,null,null,null,null,null,null,0]
[883,null,null,null,null,null,null,0]
[884,null,null,null,null,null,null,0]
[885,null,null,null,null,null,null,0]
[886,null,null,null,null,null,null,0]
[887,null,null,null,null,null,null,0]
[888,null,null,null,null,null,null,0]
[889,null,null,null,null,null,null,0]
[890,null,null,null,null,null,null,0]
[891,null,null,null,null,null,null,0]
[892,null,null,null,null,null,null,0]
[893,null,null,null,null,null,null,0]
[894,null,null,null,null,null,null,0]
[895,null,null,null,null,null,null,0]
[896,null,null,null,null,null,null,0]
[897,null,null,null,null,null,null,0]
[898,null,null,null,null,null,null,0]
[{"$f":"+A904+1","v":899},null,null,null,null,null,null,0]
[900,null,null,null,null,null,null,0]
[901,null,null,null,null,null,null,0]
[902,null,null,null,null,null,null,0]
[903,null,null,null,null,null,null,0]
[904,null,null,null,null,null,null,0]
[905,null,null,null,null,null,null,0]
[906,null,null,null,null,null,null,0]
[907,null,null,null,null,null,null,0]
[908,null,null,null,null,null,null,0]
[909,null,null,null,null,null,null,0]
[910,null,null,null,null,null,null,0]
[911,null,null,null,null,null,null,0]
[912,null,null,null,null,null,null,0]
[913,null,null,null,null,null,null,0]
[914,null,null,null,null,null,null,0]
[915,null,null,null,null,null,null,0]
[916,null,null,null,null,null,null,0]
[917,null,null,null,null,null,null,0]
[918,null,null,null,null,null,null,0]
[919,null,null,null,null,null,null,0]
[920,null,null,null,null,null,null,0]
[921,null,null,null,null,null,null,0]
[922,null,null,null,null,null,null,0]
[923,null,null,null,null,null,null,0]
[924,null,null,null,null,null,null,0]
[925,null,null,null,null,null,null,0]
[926,null,null,null,null,null,null,0]
[927,null,null,null,null,null,null,{"$f":"G933*F933","v":0}]
[928,null,null,null,null,null,null,0]
[929,null,null,null,null,null,null,0]
[930,null,null,null,null,null,null,0]
[931,null,null,null,null,null,null,0]
[932,null,null,null,null,null,null,0]
[933,null,null,null,null,null,null,0]
[934,null,null,null,null,null,null,0]
[935,null,null,null,null,null,null,0]
[936,null,null,null,null,null,null,0]
[937,null,null,null,null,null,null,0]
[938,null,null,null,null,null,null,0]
[939,null,null,null,null,null,null,0]
[940,null,null,null,null,null,null,0]
[941,null,null,null,null,null,null,0]
[942,null,null,null,null,null,null,0]
[943,null,null,null,null,null,null,0]
[944,null,null,null,null,null,null,0]
[945,null,null,null,null,null,null,0]
[946,null,null,null,null,null,null,0]
[947,null,null,null,null,null,null,0]
[948,null,null,null,null,null,null,0]
[949,null,null,null,null,null,null,0]
[950,null,null,null,null,null,null,0]
[951,null,null,null,null,null,null,0]
[952,null,null,null,null,null,null,0]
[953,null,null,null,null,null,null,0]
[954,null,null,null,null,null,null,0]
[955,null,null,null,null,null,null,0]
[956,null,null,null,null,null,null,0]
[957,null,null,null,null,null,null,0]
[958,null,null,null,null,null,null,0]
[959,null,null,null,null,null,null,0]
[960,null,null,null,null,null,null,0]
[961,null,null,null,null,null,null,0]
[962,null,null,null,null,null,null,0]
[{"$f":"+A968+1","v":963},null,null,null,null,null,null,0]
[964,null,null,null,null,null,null,0]
[965,null,null,null,null,null,null,0]
[966,null,null,null,null,null,null,0]
[967,null,null,null,null,null,null,0]
[968,null,null,null,null,null,null,0]
[969,null,null,null,null,null,null,0]
[970,null,null,null,null,null,null,0]
[971,null,null,null,null,null,null,0]
[972,null,null,null,null,null,null,0]
[973,null,null,null,null,null,null,0]
[974,null,null,null,null,null,null,0]
[975,null,null,null,null,null,null,0]
[976,null,null,null,null,null,null,0]
[977,null,null,null,null,null,null,0]
[978,null,null,null,null,null,null,0]
[979,null,null,null,null,null,null,0]
[980,null,null,null,null,null,null,0]
[981,null,null,null,null,null,null,0]
[982,null,null,null,null,null,null,0]
[983,null,null,null,null,null,null,0]
[984,null,null,null,null,null,null,0]
[985,null,null,null,null,null,null,0]
[986,null,null,null,null,null,null,0]
[987,null,null,null,null,null,null,0]
[988,null,null,null,null,null,null,0]
[989,null,null,null,null,null,null,0]
[990,null,null,null,null,null,null,0]
[991,null,null,null,null,null,null,{"$f":"G997*F997","v":0}]
[992,null,null,null,null,null,null,0]
[993,null,null,null,null,null,null,0]
[994,null,null,null,null,null,null,0]
[995,null,null,null,null,null,null,0]
[996,null,null,null,null,null,null,0]
[997,null,null,null,null,null,null,0]
[998,null,null,null,null,null,null,0]
[999,null,null,null,null,null,null,0]
[1000,null,null,null,null,null,null,0]

{"sheet":"INVENT.Pieces Rech Importé - 10","index":15,"n_rows":306,"n_cols":8,"rows_kept":306,"cut":false,"hidden":false,"merged":[]}
[null,null,{"$f":"'REFERENCES - 10'!D7","v":0},null,null,{"$f":"'REFERENCES - 10'!D9","v":0}]
[null,"INVENTAIRE DES MATERIELS EQUIPEMENTS IMPORTES"]
[" ",null,null,null,null,null,null,"(En F. Cfa)"]
[null,"DESIGNATIONS DOUANIERES","N° NOMENCLATURE DOUANIERE","SPECIFICATIONS COMMERCIALES (1)","UNITE DE MESURE","QUAN.","VALEUR UNITAIRE","COÛT CAF"]
[]
[null,"Pièces de Rechange",null,null,null,{"$f":"SUM(F7:F306)","v":0},null,{"$f":"SUM(H7:H306)","v":0}]
[1,null,null,null,null,null,null,{"$f":"G7*F7","v":0}]
[{"$f":"+A7+1","v":2},null,null,null,null,null,null,0]
[{"$f":"+A8+1","v":3},null,null,null,null,null,null,0]
[4,null,null,null,null,null,null,0]
[5,null,null,null,null,null,null,0]
[6,null,null,null,null,null,null,{"$f":"G12*F12","v":0}]
[7,null,null,null,null,null,null,0]
[8,null,null,null,null,null,null,0]
[9,null,null,null,null,null,null,0]
[10,null,null,null,null,null,null,0]
[11,null,null,null,null,null,null,0]
[12,null,null,null,null,null,null,0]
[13,null,null,null,null,null,null,0]
[14,null,null,null,null,null,null,0]
[15,null,null,null,null,null,null,0]
[16,null,null,null,null,null,null,0]
[17,null,null,null,null,null,null,0]
[18,null,null,null,null,null,null,0]
[19,null,null,null,null,null,null,0]
[20,null,null,null,null,null,null,0]
[21,null,null,null,null,null,null,0]
[22,null,null,null,null,null,null,0]
[23,null,null,null,null,null,null,0]
[24,null,null,null,null,null,null,0]
[25,null,null,null,null,null,null,0]
[26,null,null,null,null,null,null,0]
[27,null,null,null,null,null,null,0]
[28,null,null,null,null,null,null,0]
[29,null,null,null,null,null,null,0]
[30,null,null,null,null,null,null,0]
[31,null,null,null,null,null,null,0]
[32,null,null,null,null,null,null,0]
[33,null,null,null,null,null,null,0]
[34,null,null,null,null,null,null,0]
[35,null,null,null,null,null,null,0]
[36,null,null,null,null,null,null,0]
[37,null,null,null,null,null,null,0]
[38,null,null,null,null,null,null,0]
[39,null,null,null,null,null,null,0]
[40,null,null,null,null,null,null,0]
[41,null,null,null,null,null,null,0]
[42,null,null,null,null,null,null,0]
[43,null,null,null,null,null,null,0]
[44,null,null,null,null,null,null,0]
[45,null,null,null,null,null,null,0]
[46,null,null,null,null,null,null,0]
[47,null,null,null,null,null,null,0]
[48,null,null,null,null,null,null,0]
[49,null,null,null,null,null,null,0]
[50,null,null,null,null,null,null,0]
[51,null,null,null,null,null,null,0]
[52,null,null,null,null,null,null,0]
[53,null,null,null,null,null,null,0]
[54,null,null,null,null,null,null,0]
[55,null,null,null,null,null,null,0]
[56,null,null,null,null,null,null,0]
[57,null,null,null,null,null,null,0]
[58,null,null,null,null,null,null,0]
[59,null,null,null,null,null,null,0]
[60,null,null,null,null,null,null,0]
[61,null,null,null,null,null,null,0]
[62,null,null,null,null,null,null,0]
[63,null,null,null,null,null,null,0]
[64,null,null,null,null,null,null,0]
[65,null,null,null,null,null,null,{"$f":"G71*F71","v":0}]
[66,null,null,null,null,null,null,0]
[{"$f":"+A72+1","v":67},null,null,null,null,null,null,0]
[68,null,null,null,null,null,null,0]
[69,null,null,null,null,null,null,0]
[70,null,null,null,null,null,null,0]
[71,null,null,null,null,null,null,0]
[72,null,null,null,null,null,null,0]
[73,null,null,null,null,null,null,0]
[74,null,null,null,null,null,null,0]
[75,null,null,null,null,null,null,0]
[76,null,null,null,null,null,null,0]
[77,null,null,null,null,null,null,0]
[78,null,null,null,null,null,null,0]
[79,null,null,null,null,null,null,0]
[80,null,null,null,null,null,null,0]
[81,null,null,null,null,null,null,0]
[82,null,null,null,null,null,null,0]
[83,null,null,null,null,null,null,0]
[84,null,null,null,null,null,null,0]
[85,null,null,null,null,null,null,0]
[86,null,null,null,null,null,null,0]
[87,null,null,null,null,null,null,0]
[88,null,null,null,null,null,null,0]
[89,null,null,null,null,null,null,0]
[90,null,null,null,null,null,null,0]
[91,null,null,null,null,null,null,0]
[92,null,null,null,null,null,null,0]
[93,null,null,null,null,null,null,0]
[94,null,null,null,null,null,null,0]
[95,null,null,null,null,null,null,0]
[96,null,null,null,null,null,null,0]
[97,null,null,null,null,null,null,0]
[98,null,null,null,null,null,null,0]
[99,null,null,null,null,null,null,0]
[100,null,null,null,null,null,null,0]
[101,null,null,null,null,null,null,0]
[102,null,null,null,null,null,null,0]
[103,null,null,null,null,null,null,0]
[104,null,null,null,null,null,null,0]
[105,null,null,null,null,null,null,0]
[106,null,null,null,null,null,null,0]
[107,null,null,null,null,null,null,0]
[108,null,null,null,null,null,null,0]
[109,null,null,null,null,null,null,0]
[110,null,null,null,null,null,null,0]
[111,null,null,null,null,null,null,0]
[112,null,null,null,null,null,null,0]
[113,null,null,null,null,null,null,0]
[114,null,null,null,null,null,null,0]
[115,null,null,null,null,null,null,0]
[116,null,null,null,null,null,null,0]
[117,null,null,null,null,null,null,0]
[118,null,null,null,null,null,null,0]
[119,null,null,null,null,null,null,0]
[120,null,null,null,null,null,null,0]
[121,null,null,null,null,null,null,0]
[122,null,null,null,null,null,null,0]
[123,null,null,null,null,null,null,0]
[124,null,null,null,null,null,null,0]
[125,null,null,null,null,null,null,0]
[126,null,null,null,null,null,null,0]
[127,null,null,null,null,null,null,0]
[128,null,null,null,null,null,null,0]
[129,null,null,null,null,null,null,{"$f":"G135*F135","v":0}]
[130,null,null,null,null,null,null,0]
[{"$f":"+A136+1","v":131},null,null,null,null,null,null,0]
[132,null,null,null,null,null,null,0]
[133,null,null,null,null,null,null,0]
[134,null,null,null,null,null,null,0]
[135,null,null,null,null,null,null,0]
[136,null,null,null,null,null,null,0]
[137,null,null,null,null,null,null,0]
[138,null,null,null,null,null,null,0]
[139,null,null,null,null,null,null,0]
[140,null,null,null,null,null,null,0]
[141,null,null,null,null,null,null,0]
[142,null,null,null,null,null,null,0]
[143,null,null,null,null,null,null,0]
[144,null,null,null,null,null,null,0]
[145,null,null,null,null,null,null,0]
[146,null,null,null,null,null,null,0]
[147,null,null,null,null,null,null,0]
[148,null,null,null,null,null,null,0]
[149,null,null,null,null,null,null,0]
[150,null,null,null,null,null,null,0]
[151,null,null,null,null,null,null,0]
[152,null,null,null,null,null,null,0]
[153,null,null,null,null,null,null,0]
[154,null,null,null,null,null,null,0]
[155,null,null,null,null,null,null,0]
[156,null,null,null,null,null,null,0]
[157,null,null,null,null,null,null,0]
[158,null,null,null,null,null,null,0]
[159,null,null,null,null,null,null,0]
[160,null,null,null,null,null,null,0]
[161,null,null,null,null,null,null,0]
[162,null,null,null,null,null,null,0]
[163,null,null,null,null,null,null,0]
[164,null,null,null,null,null,null,0]
[165,null,null,null,null,null,null,0]
[166,null,null,null,null,null,null,0]
[167,null,null,null,null,null,null,0]
[168,null,null,null,null,null,null,0]
[169,null,null,null,null,null,null,0]
[170,null,null,null,null,null,null,0]
[171,null,null,null,null,null,null,0]
[172,null,null,null,null,null,null,0]
[173,null,null,null,null,null,null,0]
[174,null,null,null,null,null,null,0]
[175,null,null,null,null,null,null,0]
[176,null,null,null,null,null,null,0]
[177,null,null,null,null,null,null,0]
[178,null,null,null,null,null,null,0]
[179,null,null,null,null,null,null,0]
[180,null,null,null,null,null,null,0]
[181,null,null,null,null,null,null,0]
[182,null,null,null,null,null,null,0]
[183,null,null,null,null,null,null,0]
[184,null,null,null,null,null,null,0]
[185,null,null,null,null,null,null,0]
[186,null,null,null,null,null,null,0]
[187,null,null,null,null,null,null,0]
[188,null,null,null,null,null,null,0]
[189,null,null,null,null,null,null,0]
[190,null,null,null,null,null,null,0]
[191,null,null,null,null,null,null,0]
[192,null,null,null,null,null,null,0]
[193,null,null,null,null,null,null,{"$f":"G199*F199","v":0}]
[194,null,null,null,null,null,null,0]
[{"$f":"+A200+1","v":195},null,null,null,null,null,null,0]
[196,null,null,null,null,null,null,0]
[197,null,null,null,null,null,null,0]
[198,null,null,null,null,null,null,0]
[199,null,null,null,null,null,null,0]
[200,null,null,null,null,null,null,0]
[201,null,null,null,null,null,null,0]
[202,null,null,null,null,null,null,0]
[203,null,null,null,null,null,null,0]
[204,null,null,null,null,null,null,0]
[205,null,null,null,null,null,null,0]
[206,null,null,null,null,null,null,0]
[207,null,null,null,null,null,null,0]
[208,null,null,null,null,null,null,0]
[209,null,null,null,null,null,null,0]
[210,null,null,null,null,null,null,0]
[211,null,null,null,null,null,null,0]
[212,null,null,null,null,null,null,0]
[213,null,null,null,null,null,null,0]
[214,null,null,null,null,null,null,0]
[215,null,null,null,null,null,null,0]
[216,null,null,null,null,null,null,0]
[217,null,null,null,null,null,null,0]
[218,null,null,null,null,null,null,0]
[219,null,null,null,null,null,null,0]
[220,null,null,null,null,null,null,0]
[221,null,null,null,null,null,null,0]
[222,null,null,null,null,null,null,0]
[223,null,null,null,null,null,null,0]
[224,null,null,null,null,null,null,0]
[225,null,null,null,null,null,null,0]
[226,null,null,null,null,null,null,0]
[227,null,null,null,null,null,null,0]
[228,null,null,null,null,null,null,0]
[229,null,null,null,null,null,null,0]
[230,null,null,null,null,null,null,0]
[231,null,null,null,null,null,null,0]
[232,null,null,null,null,null,null,0]
[233,null,null,null,null,null,null,0]
[234,null,null,null,null,null,null,0]
[235,null,null,null,null,null,null,0]
[236,null,null,null,null,null,null,0]
[237,null,null,null,null,null,null,0]
[238,null,null,null,null,null,null,0]
[239,null,null,null,null,null,null,0]
[240,null,null,null,null,null,null,0]
[241,null,null,null,null,null,null,0]
[242,null,null,null,null,null,null,0]
[243,null,null,null,null,null,null,0]
[244,null,null,null,null,null,null,0]
[245,null,null,null,null,null,null,0]
[246,null,null,null,null,null,null,0]
[247,null,null,null,null,null,null,0]
[248,null,null,null,null,null,null,0]
[249,null,null,null,null,null,null,0]
[250,null,null,null,null,null,null,0]
[251,null,null,null,null,null,null,0]
[252,null,null,null,null,null,null,0]
[253,null,null,null,null,null,null,0]
[254,null,null,null,null,null,null,0]
[255,null,null,null,null,null,null,0]
[256,null,null,null,null,null,null,0]
[257,null,null,null,null,null,null,{"$f":"G263*F263","v":0}]
[258,null,null,null,null,null,null,0]
[{"$f":"+A264+1","v":259},null,null,null,null,null,null,0]
[260,null,null,null,null,null,null,0]
[261,null,null,null,null,null,null,0]
[262,null,null,null,null,null,null,0]
[263,null,null,null,null,null,null,0]
[264,null,null,null,null,null,null,0]
[265,null,null,null,null,null,null,0]
[266,null,null,null,null,null,null,0]
[267,null,null,null,null,null,null,0]
[268,null,null,null,null,null,null,0]
[269,null,null,null,null,null,null,0]
[270,null,null,null,null,null,null,0]
[271,null,null,null,null,null,null,0]
[272,null,null,null,null,null,null,0]
[273,null,null,null,null,null,null,0]
[274,null,null,null,null,null,null,0]
[275,null,null,null,null,null,null,0]
[276,null,null,null,null,null,null,0]
[277,null,null,null,null,null,null,0]
[278,null,null,null,null,null,null,0]
[279,null,null,null,null,null,null,0]
[280,null,null,null,null,null,null,0]
[281,null,null,null,null,null,null,0]
[282,null,null,null,null,null,null,0]
[283,null,null,null,null,null,null,0]
[284,null,null,null,null,null,null,0]
[285,null,null,null,null,null,null,0]
[286,null,null,null,null,null,null,0]
[287,null,null,null,null,null,null,0]
[288,null,null,null,null,null,null,0]
[289,null,null,null,null,null,null,0]
[290,null,null,null,null,null,null,0]
[291,null,null,null,null,null,null,0]
[292,null,null,null,null,null,null,0]
[293,null,null,null,null,null,null,0]
[294,null,null,null,null,null,null,0]
[295,null,null,null,null,null,null,0]
[296,null,null,null,null,null,null,0]
[297,null,null,null,null,null,null,0]
[298,null,null,null,null,null,null,0]
[299,null,null,null,null,null,null,0]
[300,null,null,null,null,null,null,0]

{"sheet":"SYNT.INVENT.MAT&EQUIP IMPOR -10","index":16,"n_rows":16,"n_cols":6,"rows_kept":16,"cut":false,"hidden":false,"merged":[[1,1,1,5]]}
[null,{"$f":"'REFERENCES - 10'!D7","v":0},null,{"$f":"'REFERENCES - 10'!D9","v":0}]
[null,"INVENTAIRE DES MATERIELS EQUIPEMENTS ET PIECES DE RECHANGE IMPORTES"]
[null,null,null,null,null,"(En F. Cfa)"]
[null,"NATURE",null,"QUANTITE",null,"COÛT CAF"]
[]
[null,"Total Logiciels",null,{"$f":"'INVENT.Logiciels Importés - 10'!F6","v":0},null,{"$f":"'INVENT.Logiciels Importés - 10'!H6","v":0}]
[null,"Total Autres Immo. Incorporelles",null,{"$f":"'INVENT.Autre Im Inco Importé-10'!F6","v":0},null,{"$f":"'INVENT.Autre Im Inco Importé-10'!H6","v":0}]
[null,"Total Constructions & Bâtiments",null,{"$f":"'INVENT.Construc&Bat Importé -10'!F6","v":0},null,{"$f":"'INVENT.Construc&Bat Importé -10'!H6","v":0}]
[null,"Total Instal., Agencements & Aménagements",null,{"$f":"'INVENT.Inst&Agen Importés -10'!F6","v":0},null,{"$f":"'INVENT.Inst&Agen Importés -10'!H6","v":0}]
[null,"Total Matériels & Outillages",null,{"$f":"'INVENT.Mat&Outillag Importé -10'!F6","v":0},null,{"$f":"'INVENT.Mat&Outillag Importé -10'!H6","v":0}]
[null,"Total Matériels de Transport",null,{"$f":"'INVENT.Mat Transp importés - 10'!F6","v":0},null,{"$f":"'INVENT.Mat Transp importés - 10'!H6","v":0}]
[null,"Total Mobiliers & Matériels de Bureau",null,{"$f":"'INVENT.Mob&Mat Bur Importé - 10'!F6","v":0},null,{"$f":"'INVENT.Mob&Mat Bur Importé - 10'!H6","v":0}]
[null,"Total Matériels Informatiques",null,{"$f":"'INVENT.Ma Informatiq Importé-10'!F6","v":0},null,{"$f":"'INVENT.Ma Informatiq Importé-10'!H6","v":0}]
[null,"Total Pièces Rechange",null,{"$f":"'INVENT.Pieces Rech Importé - 10'!F6","v":0},null,{"$f":"'INVENT.Pieces Rech Importé - 10'!H6","v":0}]
[]
[null,"TOTAL",null,null,null,{"$f":"SUM(F6:F15)","v":0}]

{"sheet":"ACHAT.LOCAL.Logiciels -10","index":17,"n_rows":36,"n_cols":6,"rows_kept":36,"cut":false,"hidden":false,"merged":[]}
[null,{"$f":"'REFERENCES - 10'!D7","v":0},null,{"$f":"'REFERENCES - 10'!D9","v":0}]
[null,"ACHAT LOCAL DES MATERIELS EQUIPEMENTS"]
[null,null,null,null,null,"(En F. Cfa)"]
[null,"SPECIFICATIONS COMMERCIALES (1)","UNITE DE MESURE","QUAN.","VALEUR UNITAIRE","COÛT HTVA"]
[]
[null,"Logiciels",null,{"$f":"SUM(D7:D336)","v":0},null,{"$f":"SUM(F7:F336)","v":0}]
[1,null,null,null,null,{"$f":"E7*D7","v":0}]
[{"$f":"+A7+1","v":2},null,null,null,null,0]
[{"$f":"+A8+1","v":3},null,null,null,null,0]
[4,null,null,null,null,0]
[5,null,null,null,null,0]
[6,null,null,null,null,0]
[7,null,null,null,null,0]
[8,null,null,null,null,0]
[9,null,null,null,null,0]
[10,null,null,null,null,0]
[11,null,null,null,null,0]
[12,null,null,null,null,0]
[13,null,null,null,null,0]
[14,null,null,null,null,0]
[15,null,null,null,null,0]
[16,null,null,null,null,0]
[17,null,null,null,null,0]
[18,null,null,null,null,0]
[19,null,null,null,null,0]
[20,null,null,null,null,0]
[21,null,null,null,null,0]
[22,null,null,null,null,0]
[23,null,null,null,null,0]
[24,null,null,null,null,0]
[25,null,null,null,null,0]
[26,null,null,null,null,0]
[27,null,null,null,null,0]
[28,null,null,null,null,0]
[29,null,null,null,null,0]
[30,null,null,null,null,0]

{"sheet":"ACHAT.LOCAL.Autre Im Inco -10","index":18,"n_rows":36,"n_cols":6,"rows_kept":36,"cut":false,"hidden":false,"merged":[]}
[null,{"$f":"'REFERENCES - 10'!D7","v":0},null,{"$f":"'REFERENCES - 10'!D9","v":0}]
[null,"ACHAT LOCAL DES MATERIELS EQUIPEMENTS"]
[null,null,null,null,null,"(En F. Cfa)"]
[null,"SPECIFICATIONS COMMERCIALES (1)","UNITE DE MESURE","QUAN.","VALEUR UNITAIRE","COÛT HTVA"]
[]
[null,"Autres Immobilisations Incorporelles",null,{"$f":"SUM(D7:D336)","v":0},null,{"$f":"SUM(F7:F336)","v":0}]
[1,null,null,null,null,{"$f":"E7*D7","v":0}]
[{"$f":"+A7+1","v":2},null,null,null,null,0]
[{"$f":"+A8+1","v":3},null,null,null,null,0]
[4,null,null,null,null,0]
[5,null,null,null,null,0]
[6,null,null,null,null,0]
[7,null,null,null,null,0]
[8,null,null,null,null,0]
[9,null,null,null,null,0]
[10,null,null,null,null,0]
[11,null,null,null,null,0]
[12,null,null,null,null,0]
[13,null,null,null,null,0]
[14,null,null,null,null,0]
[15,null,null,null,null,0]
[16,null,null,null,null,0]
[17,null,null,null,null,0]
[18,null,null,null,null,0]
[19,null,null,null,null,0]
[20,null,null,null,null,0]
[21,null,null,null,null,0]
[22,null,null,null,null,0]
[23,null,null,null,null,0]
[24,null,null,null,null,0]
[25,null,null,null,null,0]
[26,null,null,null,null,0]
[27,null,null,null,null,0]
[28,null,null,null,null,0]
[29,null,null,null,null,0]
[30,null,null,null,null,0]

{"sheet":"ACHAT.LOCAL.Construc&Bat -10","index":19,"n_rows":36,"n_cols":6,"rows_kept":36,"cut":false,"hidden":false,"merged":[]}
[null,{"$f":"'REFERENCES - 10'!D7","v":0},null,{"$f":"'REFERENCES - 10'!D9","v":0}]
[null,"ACHAT LOCAL DES MATERIELS EQUIPEMENTS"]
[null,null,null,null,null,"(En F. Cfa)"]
[null,"SPECIFICATIONS COMMERCIALES (1)","UNITE DE MESURE","QUAN.","VALEUR UNITAIRE","COÛT HTVA"]
[]
[null,"Constructions & Bâtiments",null,{"$f":"SUM(D7:D336)","v":0},null,{"$f":"SUM(F7:F336)","v":0}]
[1,null,null,null,null,{"$f":"E7*D7","v":0}]
[{"$f":"+A7+1","v":2},null,null,null,null,0]
[{"$f":"+A8+1","v":3},null,null,null,null,0]
[4,null,null,null,null,0]
[5,null,null,null,null,0]
[6,null,null,null,null,0]
[7,null,null,null,null,0]
[8,null,null,null,null,0]
[9,null,null,null,null,0]
[10,null,null,null,null,0]
[11,null,null,null,null,0]
[12,null,null,null,null,0]
[13,null,null,null,null,0]
[14,null,null,null,null,0]
[15,null,null,null,null,0]
[16,null,null,null,null,0]
[17,null,null,null,null,0]
[18,null,null,null,null,0]
[19,null,null,null,null,0]
[20,null,null,null,null,0]
[21,null,null,null,null,0]
[22,null,null,null,null,0]
[23,null,null,null,null,0]
[24,null,null,null,null,0]
[25,null,null,null,null,0]
[26,null,null,null,null,0]
[27,null,null,null,null,0]
[28,null,null,null,null,0]
[29,null,null,null,null,0]
[30,null,null,null,null,0]

{"sheet":"ACHAT.LOCAL.Inst&Agen -10 ","index":20,"n_rows":36,"n_cols":6,"rows_kept":36,"cut":false,"hidden":false,"merged":[]}
[null,{"$f":"'REFERENCES - 10'!D7","v":0},null,{"$f":"'REFERENCES - 10'!D9","v":0}]
[null,"ACHAT LOCAL DES MATERIELS EQUIPEMENTS"]
[null,null,null,null,null,"(En F. Cfa)"]
[null,"SPECIFICATIONS COMMERCIALES (1)","UNITE DE MESURE","QUAN.","VALEUR UNITAIRE","COÛT HTVA"]
[]
[null,"Installations, Agencements & Aménagements",null,{"$f":"SUM(D7:D336)","v":0},null,{"$f":"SUM(F7:F336)","v":0}]
[1,null,null,null,null,{"$f":"E7*D7","v":0}]
[{"$f":"+A7+1","v":2},null,null,null,null,0]
[{"$f":"+A8+1","v":3},null,null,null,null,0]
[4,null,null,null,null,0]
[5,null,null,null,null,0]
[6,null,null,null,null,0]
[7,null,null,null,null,0]
[8,null,null,null,null,0]
[9,null,null,null,null,0]
[10,null,null,null,null,0]
[11,null,null,null,null,0]
[12,null,null,null,null,0]
[13,null,null,null,null,0]
[14,null,null,null,null,0]
[15,null,null,null,null,0]
[16,null,null,null,null,0]
[17,null,null,null,null,0]
[18,null,null,null,null,0]
[19,null,null,null,null,0]
[20,null,null,null,null,0]
[21,null,null,null,null,0]
[22,null,null,null,null,0]
[23,null,null,null,null,0]
[24,null,null,null,null,0]
[25,null,null,null,null,0]
[26,null,null,null,null,0]
[27,null,null,null,null,0]
[28,null,null,null,null,0]
[29,null,null,null,null,0]
[30,null,null,null,null,0]

{"sheet":"ACHAT.LOCAL.Mat&Outillag -10 ","index":21,"n_rows":36,"n_cols":6,"rows_kept":36,"cut":false,"hidden":false,"merged":[]}
[null,{"$f":"'REFERENCES - 10'!D7","v":0},null,{"$f":"'REFERENCES - 10'!D9","v":0}]
[null,"ACHAT LOCAL DES MATERIELS EQUIPEMENTS"]
[null,null,null,null,null,"(En F. Cfa)"]
[null,"SPECIFICATIONS COMMERCIALES (1)","UNITE DE MESURE","QUAN.","VALEUR UNITAIRE","COÛT HTVA"]
[]
[null,"Matériels & Outillages",null,{"$f":"SUM(D7:D336)","v":0},null,{"$f":"SUM(F7:F336)","v":0}]
[1,null,null,null,null,{"$f":"E7*D7","v":0}]
[{"$f":"+A7+1","v":2},null,null,null,null,0]
[{"$f":"+A8+1","v":3},null,null,null,null,0]
[4,null,null,null,null,0]
[5,null,null,null,null,0]
[6,null,null,null,null,0]
[7,null,null,null,null,0]
[8,null,null,null,null,0]
[9,null,null,null,null,0]
[10,null,null,null,null,0]
[11,null,null,null,null,0]
[12,null,null,null,null,0]
[13,null,null,null,null,0]
[14,null,null,null,null,0]
[15,null,null,null,null,0]
[16,null,null,null,null,0]
[17,null,null,null,null,0]
[18,null,null,null,null,0]
[19,null,null,null,null,0]
[20,null,null,null,null,0]
[21,null,null,null,null,0]
[22,null,null,null,null,0]
[23,null,null,null,null,0]
[24,null,null,null,null,0]
[25,null,null,null,null,0]
[26,null,null,null,null,0]
[27,null,null,null,null,0]
[28,null,null,null,null,0]
[29,null,null,null,null,0]
[30,null,null,null,null,0]

{"sheet":"ACHAT.LOCAL.Mat Transp -10","index":22,"n_rows":36,"n_cols":6,"rows_kept":36,"cut":false,"hidden":false,"merged":[]}
[null,{"$f":"'REFERENCES - 10'!D7","v":0},null,{"$f":"'REFERENCES - 10'!D9","v":0}]
[null,"ACHAT LOCAL DES MATERIELS EQUIPEMENTS"]
[null,null,null,null,null,"(En F. Cfa)"]
[null,"SPECIFICATIONS COMMERCIALES (1)","UNITE DE MESURE","QUAN.","VALEUR UNITAIRE","COÛT HTVA"]
[]
[null,"Matériels de Transport",null,{"$f":"SUM(D7:D336)","v":0},null,{"$f":"SUM(F7:F336)","v":0}]
[1,null,null,null,null,{"$f":"E7*D7","v":0}]
[{"$f":"+A7+1","v":2},null,null,null,null,0]
[{"$f":"+A8+1","v":3},null,null,null,null,0]
[4,null,null,null,null,0]
[5,null,null,null,null,0]
[6,null,null,null,null,0]
[7,null,null,null,null,0]
[8,null,null,null,null,0]
[9,null,null,null,null,0]
[10,null,null,null,null,0]
[11,null,null,null,null,0]
[12,null,null,null,null,0]
[13,null,null,null,null,0]
[14,null,null,null,null,0]
[15,null,null,null,null,0]
[16,null,null,null,null,0]
[17,null,null,null,null,0]
[18,null,null,null,null,0]
[19,null,null,null,null,0]
[20,null,null,null,null,0]
[21,null,null,null,null,0]
[22,null,null,null,null,0]
[23,null,null,null,null,0]
[24,null,null,null,null,0]
[25,null,null,null,null,0]
[26,null,null,null,null,0]
[27,null,null,null,null,0]
[28,null,null,null,null,0]
[29,null,null,null,null,0]
[30,null,null,null,null,0]

{"sheet":"ACHAT.LOCAL.Mob&Mat Bur -10","index":23,"n_rows":66,"n_cols":6,"rows_kept":66,"cut":false,"hidden":false,"merged":[]}
[null,{"$f":"'REFERENCES - 10'!D7","v":0},null,{"$f":"'REFERENCES - 10'!D9","v":0}]
[null,"ACHAT LOCAL DES MATERIELS EQUIPEMENTS"]
[null,null,null,null,null,"(En F. Cfa)"]
[null,"SPECIFICATIONS COMMERCIALES (1)","UNITE DE MESURE","QUAN.","VALEUR UNITAIRE","COÛT HTVA"]
[]
[null,"Mobiliers & Matériels de Bureau",null,{"$f":"SUM(D7:D366)","v":0},null,{"$f":"SUM(F7:F366)","v":0}]
[1,null,null,null,null,{"$f":"E7*D7","v":0}]
[{"$f":"+A7+1","v":2},null,null,null,null,0]
[{"$f":"+A8+1","v":3},null,null,null,null,0]
[4,null,null,null,null,0]
[5,null,null,null,null,0]
[6,null,null,null,null,0]
[7,null,null,null,null,0]
[8,null,null,null,null,0]
[9,null,null,null,null,0]
[10,null,null,null,null,0]
[11,null,null,null,null,0]
[12,null,null,null,null,0]
[13,null,null,null,null,0]
[14,null,null,null,null,0]
[15,null,null,null,null,0]
[16,null,null,null,null,0]
[17,null,null,null,null,0]
[18,null,null,null,null,0]
[19,null,null,null,null,0]
[20,null,null,null,null,0]
[21,null,null,null,null,0]
[22,null,null,null,null,0]
[23,null,null,null,null,0]
[24,null,null,null,null,0]
[25,null,null,null,null,0]
[26,null,null,null,null,0]
[27,null,null,null,null,0]
[28,null,null,null,null,0]
[29,null,null,null,null,0]
[30,null,null,null,null,0]
[31,null,null,null,null,{"$f":"E37*D37","v":0}]
[32,null,null,null,null,0]
[33,null,null,null,null,0]
[34,null,null,null,null,0]
[35,null,null,null,null,0]
[36,null,null,null,null,0]
[37,null,null,null,null,0]
[38,null,null,null,null,0]
[39,null,null,null,null,0]
[40,null,null,null,null,0]
[41,null,null,null,null,0]
[42,null,null,null,null,0]
[43,null,null,null,null,0]
[44,null,null,null,null,0]
[45,null,null,null,null,0]
[46,null,null,null,null,0]
[47,null,null,null,null,0]
[48,null,null,null,null,0]
[49,null,null,null,null,0]
[50,null,null,null,null,0]
[51,null,null,null,null,0]
[52,null,null,null,null,0]
[53,null,null,null,null,0]
[54,null,null,null,null,0]
[55,null,null,null,null,0]
[56,null,null,null,null,0]
[57,null,null,null,null,0]
[58,null,null,null,null,0]
[59,null,null,null,null,0]
[60,null,null,null,null,0]

{"sheet":"ACHAT.LOCAL.Ma Informatiq -10","index":24,"n_rows":66,"n_cols":6,"rows_kept":66,"cut":false,"hidden":false,"merged":[]}
[null,{"$f":"'REFERENCES - 10'!D7","v":0},null,{"$f":"'REFERENCES - 10'!D9","v":0}]
[null,"ACHAT LOCAL DES MATERIELS EQUIPEMENTS"]
[null,null,null,null,null,"(En F. Cfa)"]
[null,"SPECIFICATIONS COMMERCIALES (1)","UNITE DE MESURE","QUAN.","VALEUR UNITAIRE","COÛT HTVA"]
[]
[null,"Matériels Informatiques",null,{"$f":"SUM(D7:D66)","v":0},null,{"$f":"SUM(F7:F66)","v":0}]
[1,null,null,null,null,{"$f":"E7*D7","v":0}]
[{"$f":"+A7+1","v":2},null,null,null,null,0]
[{"$f":"+A8+1","v":3},null,null,null,null,0]
[4,null,null,null,null,0]
[5,null,null,null,null,0]
[6,null,null,null,null,0]
[7,null,null,null,null,0]
[8,null,null,null,null,0]
[9,null,null,null,null,0]
[10,null,null,null,null,0]
[11,null,null,null,null,0]
[12,null,null,null,null,0]
[13,null,null,null,null,0]
[14,null,null,null,null,0]
[15,null,null,null,null,0]
[16,null,null,null,null,0]
[17,null,null,null,null,0]
[18,null,null,null,null,0]
[19,null,null,null,null,0]
[20,null,null,null,null,0]
[21,null,null,null,null,0]
[22,null,null,null,null,0]
[23,null,null,null,null,0]
[24,null,null,null,null,0]
[25,null,null,null,null,0]
[26,null,null,null,null,0]
[27,null,null,null,null,0]
[28,null,null,null,null,0]
[29,null,null,null,null,0]
[30,null,null,null,null,0]
[31,null,null,null,null,{"$f":"E37*D37","v":0}]
[32,null,null,null,null,0]
[33,null,null,null,null,0]
[34,null,null,null,null,0]
[35,null,null,null,null,0]
[36,null,null,null,null,0]
[37,null,null,null,null,0]
[38,null,null,null,null,0]
[39,null,null,null,null,0]
[40,null,null,null,null,0]
[41,null,null,null,null,0]
[42,null,null,null,null,0]
[43,null,null,null,null,0]
[44,null,null,null,null,0]
[45,null,null,null,null,0]
[46,null,null,null,null,0]
[47,null,null,null,null,0]
[48,null,null,null,null,0]
[49,null,null,null,null,0]
[50,null,null,null,null,0]
[51,null,null,null,null,0]
[52,null,null,null,null,0]
[53,null,null,null,null,0]
[54,null,null,null,null,0]
[55,null,null,null,null,0]
[56,null,null,null,null,0]
[57,null,null,null,null,0]
[58,null,null,null,null,0]
[59,null,null,null,null,0]
[60,null,null,null,null,0]

{"sheet":"ACHAT.LOCAL.Pieces Rech -10","index":25,"n_rows":66,"n_cols":6,"rows_kept":66,"cut":false,"hidden":false,"merged":[]}
[null,{"$f":"'REFERENCES - 10'!D7","v":0},null,{"$f":"'REFERENCES - 10'!D9","v":0}]
[null,"ACHAT LOCAL DES MATERIELS EQUIPEMENTS"]
[null,null,null,null,null,"(En F. Cfa)"]
[null,"SPECIFICATIONS COMMERCIALES (1)","UNITE DE MESURE","QUAN.","VALEUR UNITAIRE","COÛT HTVA"]
[]
[null,"Pièces de Rechange",null,{"$f":"SUM(D7:D366)","v":0},null,{"$f":"SUM(F7:F366)","v":0}]
[1,null,null,null,null,{"$f":"E7*D7","v":0}]
[{"$f":"+A7+1","v":2},null,null,null,null,0]
[{"$f":"+A8+1","v":3},null,null,null,null,0]
[4,null,null,null,null,0]
[5,null,null,null,null,0]
[6,null,null,null,null,0]
[7,null,null,null,null,0]
[8,null,null,null,null,0]
[9,null,null,null,null,0]
[10,null,null,null,null,0]
[11,null,null,null,null,0]
[12,null,null,null,null,0]
[13,null,null,null,null,0]
[14,null,null,null,null,0]
[15,null,null,null,null,0]
[16,null,null,null,null,0]
[17,null,null,null,null,0]
[18,null,null,null,null,0]
[19,null,null,null,null,0]
[20,null,null,null,null,0]
[21,null,null,null,null,0]
[22,null,null,null,null,0]
[23,null,null,null,null,0]
[24,null,null,null,null,0]
[25,null,null,null,null,0]
[26,null,null,null,null,0]
[27,null,null,null,null,0]
[28,null,null,null,null,0]
[29,null,null,null,null,0]
[30,null,null,null,null,0]
[31,null,null,null,null,0]
[32,null,null,null,null,0]
[33,null,null,null,null,0]
[34,null,null,null,null,0]
[35,null,null,null,null,0]
[36,null,null,null,null,0]
[37,null,null,null,null,0]
[38,null,null,null,null,0]
[39,null,null,null,null,0]
[40,null,null,null,null,0]
[41,null,null,null,null,0]
[42,null,null,null,null,0]
[43,null,null,null,null,0]
[44,null,null,null,null,0]
[45,null,null,null,null,0]
[46,null,null,null,null,0]
[47,null,null,null,null,0]
[48,null,null,null,null,0]
[49,null,null,null,null,0]
[50,null,null,null,null,0]
[51,null,null,null,null,0]
[52,null,null,null,null,0]
[53,null,null,null,null,0]
[54,null,null,null,null,0]
[55,null,null,null,null,0]
[56,null,null,null,null,0]
[57,null,null,null,null,0]
[58,null,null,null,null,0]
[59,null,null,null,null,0]
[60,null,null,null,null,0]

{"sheet":"SYNT.ACHAT.LOCAL.MAT&EQUIP -10","index":26,"n_rows":16,"n_cols":6,"rows_kept":16,"cut":false,"hidden":false,"merged":[[1,1,1,5]]}
[null,{"$f":"'REFERENCES - 10'!D7","v":0},null,{"$f":"'REFERENCES - 10'!D9","v":0}]
[null,"ACHAT LOCAL DES MATERIELS EQUIPEMENTS ET PIECES DE RECHANGE"]
[null,null,null,null,null,"(En F. Cfa)"]
[null,"NATURE",null,"QUANTITE",null,"COÛT CAF"]
[]
[null,"Total Logiciels",null,{"$f":"'ACHAT.LOCAL.Logiciels -10'!D6","v":0},null,{"$f":"'ACHAT.LOCAL.Logiciels -10'!F6","v":0}]
[null,"Total Autres Immo. Incorporelles",null,{"$f":"'ACHAT.LOCAL.Autre Im Inco -10'!D6","v":0},null,{"$f":"'ACHAT.LOCAL.Autre Im Inco -10'!F6","v":0}]
[null,"Total Constructions & Bâtiments",null,{"$f":"'ACHAT.LOCAL.Construc&Bat -10'!D6","v":0},null,{"$f":"'ACHAT.LOCAL.Construc&Bat -10'!F6","v":0}]
[null,"Total Instal., Agencements & Aménagements",null,{"$f":"'ACHAT.LOCAL.Inst&Agen -10 '!D6","v":0},null,{"$f":"'ACHAT.LOCAL.Inst&Agen -10 '!F6","v":0}]
[null,"Total Matériels & Outillages",null,{"$f":"'ACHAT.LOCAL.Mat&Outillag -10 '!D6","v":0},null,{"$f":"'ACHAT.LOCAL.Mat&Outillag -10 '!F6","v":0}]
[null,"Total Matériels de Transport",null,{"$f":"'ACHAT.LOCAL.Mat Transp -10'!D6","v":0},null,{"$f":"'ACHAT.LOCAL.Mat Transp -10'!F6","v":0}]
[null,"Total Mobiliers & Matériels de Bureau",null,{"$f":"'ACHAT.LOCAL.Mob&Mat Bur -10'!D6","v":0},null,{"$f":"'ACHAT.LOCAL.Mob&Mat Bur -10'!F6","v":0}]
[null,"Total Matériels Informatiques",null,{"$f":"'ACHAT.LOCAL.Ma Informatiq -10'!D6","v":0},null,{"$f":"'ACHAT.LOCAL.Ma Informatiq -10'!F6","v":0}]
[null,"Total Pièces Rechange",null,{"$f":"'ACHAT.LOCAL.Pieces Rech -10'!D6","v":0},null,{"$f":"'ACHAT.LOCAL.Pieces Rech -10'!F6","v":0}]
[]
[null,"TOTAL",null,null,null,{"$f":"SUM(F6:F15)","v":0}]

{"sheet":"INVEST Frais d'établissment -10","index":27,"n_rows":55,"n_cols":17,"rows_kept":55,"cut":false,"hidden":false,"merged":[[2,0,4,0],[3,4,3,5],[2,1,4,1],[3,10,4,10],[3,2,4,2],[3,3,4,3],[3,6,4,6],[3,8,4,8],[3,9,4,9],[2,15,2,16],[3,7,4,7],[3,15,4,15],[3,16,4,16],[3,11,4,11],[3,12,4,12],[3,13,4,13],[3,14,4,14]]}
[null,null,{"$f":"'REFERENCES - 10'!D7","v":0},null,{"$f":"'REFERENCES - 10'!D9","v":0}]
[null,"INVESTISSEMENTS PREVUS SUR LA PERIODE DE REALISATION DU PROJET",null,null,null,null,null,null,null,null,null,null,null,null,null,"(En F. Cfa)"]
["N°","Désignation","ACHAT A L'ETRANGER (en F. Cfa)",null,null,null,null,null,null,null,null,"ACHAT EN COTE D'IVOIRE (en F. Cfa)",null,null,null,"Coût total des Investissements "]
[null,null,"Position tarifaire","Cout CAF","Droit de douane / Droit fiscaux",null,"RSTAT (1%)","PCS \n(1%)","PCC       (0,5%)","TVA sur Droit de Douane","Total Achat à l'étranger","Achats HT"," Coûts locaux (Transport, montage,..)","T.V.A","Total Achat en RCI","Coût total HT","Coût total TTC"]
[null,null,null,null,"Taux","Montant"]
[]
[null,"FRAIS D'ETABLISSEMENT",null,{"$f":"SUM(D8:D55)","v":0},null,{"$f":"SUM(F8:F55)","v":0},0,0,0,0,0,0,0,0,0,0,0]
[1,null,null,null,null,{"$f":"E8*D8","v":0},{"$f":"D8*1%","v":0},{"$f":"D8*1%","v":0},{"$f":"D8*0.5%","v":0},{"$f":"(D8+F8+G8)*18%","v":0},{"$f":"SUM(F8:J8)+D8","v":0},null,null,{"$f":"(L8+M8)*18%","v":0},{"$f":"N8+M8+L8","v":0},{"$f":"+Q8-N8-J8","v":0},{"$f":"O8+K8","v":0}]
[{"$f":"+A8+1","v":2},null,null,null,null,0,{"$f":"D9*1%","v":0},{"$f":"D9*1%","v":0},{"$f":"D9*0.5%","v":0},0,0,null,null,0,0,0,0]
[{"$f":"+A9+1","v":3},null,null,null,null,0,0,0,0,0,0,null,null,0,0,0,0]
[4,null,null,null,null,0,0,0,0,0,0,null,null,0,0,0,0]
[5,null,null,null,null,0,0,0,0,0,0,null,null,0,0,0,0]
[6,null,null,null,null,0,0,0,0,0,0,null,null,0,0,0,0]
[7,null,null,null,null,0,0,0,0,0,0,null,null,0,0,0,0]
[8,null,null,null,null,0,0,0,0,0,0,null,null,0,0,0,0]
[9,null,null,null,null,0,0,0,0,0,0,null,null,0,0,0,0]
[10,null,null,null,null,0,0,0,0,0,0,null,null,0,0,0,0]
[11,null,null,null,null,0,0,0,0,0,0,null,null,0,0,0,0]
[12,null,null,null,null,0,0,0,0,0,0,null,null,0,0,0,0]
[13,null,null,null,null,0,0,0,0,0,0,null,null,0,0,0,0]
[14,null,null,null,null,0,0,0,0,0,0,null,null,0,0,0,0]
[{"$f":"+A21+1","v":15},null,null,null,null,0,0,0,0,0,0,null,null,0,0,0,0]
[16,null,null,null,null,0,0,0,0,0,0,null,null,0,0,0,0]
[17,null,null,null,null,0,0,0,0,0,0,null,null,0,0,0,0]
[18,null,null,null,null,0,0,0,0,0,0,null,null,0,0,0,0]
[19,null,null,null,null,0,0,0,0,0,0,null,null,0,0,0,0]
[20,null,null,null,null,0,0,0,0,0,0,null,null,0,0,0,0]
[21,null,null,null,null,0,0,0,0,0,0,null,null,0,0,0,0]
[22,null,null,null,null,0,0,0,0,0,0,null,null,0,0,0,0]
[23,null,null,null,null,0,0,0,0,0,0,null,null,0,0,0,0]
[24,null,null,null,null,0,0,0,0,0,0,null,null,0,0,0,0]
[25,null,null,null,null,0,0,0,0,0,0,null,null,0,0,0,0]
[26,null,null,null,null,0,0,0,0,0,0,null,null,0,0,0,0]
[27,null,null,null,null,0,0,0,0,0,0,null,null,0,0,0,0]
[28,null,null,null,null,0,0,0,0,0,0,null,null,0,0,0,0]
[29,null,null,null,null,0,0,0,0,0,0,null,null,0,0,0,0]
[30,null,null,null,null,0,0,0,0,0,0,null,null,0,0,0,0]
[31,null,null,null,null,0,0,0,0,0,0,null,null,0,0,0,0]
[32,null,null,null,null,0,0,0,0,0,0,null,null,0,0,0,0]
[33,null,null,null,null,0,0,0,0,0,0,null,null,0,0,0,0]
[34,null,null,null,null,0,0,0,0,0,0,null,null,0,0,0,0]
[35,null,null,null,null,0,0,0,0,0,0,null,null,0,0,0,0]
[36,null,null,null,null,0,0,0,0,0,0,null,null,0,0,0,0]
[37,null,null,null,null,0,0,0,0,0,0,null,null,0,0,0,0]
[38,null,null,null,null,0,0,0,0,0,0,null,null,0,0,0,0]
[39,null,null,null,null,0,0,0,0,0,0,null,null,0,0,0,0]
[40,null,null,null,null,0,0,0,0,0,0,null,null,0,0,0,0]
[41,null,null,null,null,0,0,0,0,0,0,null,null,0,0,0,0]
[42,null,null,null,null,0,0,0,0,0,0,null,null,0,0,0,0]
[43,null,null,null,null,0,0,0,0,0,0,null,null,0,0,0,0]
[44,null,null,null,null,0,0,0,0,0,0,null,null,0,0,0,0]
[45,null,null,null,null,0,0,0,0,0,0,null,null,0,0,0,0]
[46,null,null,null,null,0,0,0,0,0,0,null,null,0,0,0,0]
[47,null,null,null,null,{"$f":"E54*D54","v":0},0,0,0,{"$f":"(D54+F54+G54)*18%","v":0},0,null,null,{"$f":"(L54+M54)*18%","v":0},{"$f":"N54+M54+L54","v":0},{"$f":"+Q54-N54-J54","v":0},{"$f":"O54+K54","v":0}]
[48,null,null,null,null,{"$f":"E55*D55","v":0},0,0,0,{"$f":"(D55+F55+G55)*18%","v":0},0,null,null,{"$f":"(L55+M55)*18%","v":0},{"$f":"N55+M55+L55","v":0},{"$f":"+Q55-N55-J55","v":0},{"$f":"O55+K55","v":0}]

{"sheet":"INVEST Logiciels - 10","index":28,"n_rows":73,"n_cols":18,"rows_kept":73,"cut":false,"hidden":false,"merged":[[3,16,4,16],[2,2,4,2],[3,8,4,8],[2,0,4,0],[3,17,4,17],[2,1,4,1],[2,16,2,17],[3,3,4,3],[3,4,4,4],[3,5,3,6],[3,7,4,7],[3,9,4,9],[3,10,4,10],[3,11,4,11],[3,12,4,12],[3,13,4,13],[3,14,4,14],[3,15,4,15]]}
[null,null,null,{"$f":"'REFERENCES - 10'!D7","v":0},null,{"$f":"'REFERENCES - 10'!D9","v":0}]
[null,"INVESTISSEMENTS PREVUS SUR LA PERIODE DE REALISATION DU PROJET",null,null,null,null,null,null,null,null,null,null,null,null,null,null,null,"(En F. Cfa)"]
["N°","Désignation","Quantité","ACHAT A L'ETRANGER (en F. Cfa)",null,null,null,null,null,null,null,null,"ACHAT EN COTE D'IVOIRE (en F. Cfa)",null,null,null,"Coût total des Investissements "]
[null,null,null,"Position tarifaire","Cout CAF","Droit de douane / Droit fiscaux",null,"RSTAT (1%)","PCS \n(1%)","PCC       (0,5%)","TVA sur Droit de Douane","Total Achat à l'étranger","Achats HT"," Coûts locaux (Transport, montage,..)","T.V.A","Total Achat en RCI","Coût total HT","Coût total TTC"]
[null,null,null,null,null,"Taux","Montant"]
[]
[null,"LOGICIELS",null,null,{"$f":"SUM(E8:E55)","v":0},null,{"$f":"SUM(G8:G55)","v":0},0,0,0,0,0,0,0,0,0,0,0]
[1,{"$f":"'INVENT.Logiciels Importés - 10'!B7","v":0},{"$f":"'INVENT.Logiciels Importés - 10'!F7","v":0},{"$f":"'INVENT.Logiciels Importés - 10'!C7","v":0},{"$f":"'INVENT.Logiciels Importés - 10'!H7","v":0},null,{"$f":"F8*E8","v":0},{"$f":"E8*1%","v":0},{"$f":"E8*1%","v":0},{"$f":"E8*0.5%","v":0},{"$f":"(E8+G8+H8)*18%","v":0},{"$f":"SUM(G8:K8)+E8","v":0},null,null,{"$f":"(M8+N8)*18%","v":0},{"$f":"O8+N8+M8","v":0},{"$f":"+R8-O8-K8","v":0},{"$f":"P8+L8","v":0}]
[{"$f":"+A8+1","v":2},{"$f":"'INVENT.Logiciels Importés - 10'!B8","v":0},{"$f":"'INVENT.Logiciels Importés - 10'!F8","v":0},{"$f":"'INVENT.Logiciels Importés - 10'!C8","v":0},{"$f":"'INVENT.Logiciels Importés - 10'!H8","v":0},null,0,{"$f":"E9*1%","v":0},{"$f":"E9*1%","v":0},{"$f":"E9*0.5%","v":0},0,0,null,null,0,0,0,0]
[3,{"$f":"'INVENT.Logiciels Importés - 10'!B9","v":0},{"$f":"'INVENT.Logiciels Importés - 10'!F9","v":0},{"$f":"'INVENT.Logiciels Importés - 10'!C9","v":0},{"$f":"'INVENT.Logiciels Importés - 10'!H9","v":0},null,0,0,0,0,0,0,null,null,0,0,0,0]
[4,{"$f":"'INVENT.Logiciels Importés - 10'!B10","v":0},{"$f":"'INVENT.Logiciels Importés - 10'!F10","v":0},{"$f":"'INVENT.Logiciels Importés - 10'!C10","v":0},{"$f":"'INVENT.Logiciels Importés - 10'!H10","v":0},null,0,0,0,0,0,0,null,null,0,0,0,0]
[5,{"$f":"'INVENT.Logiciels Importés - 10'!B11","v":0},{"$f":"'INVENT.Logiciels Importés - 10'!F11","v":0},{"$f":"'INVENT.Logiciels Importés - 10'!C11","v":0},{"$f":"'INVENT.Logiciels Importés - 10'!H11","v":0},null,0,0,0,0,0,0,null,null,0,0,0,0]
[6,{"$f":"'INVENT.Logiciels Importés - 10'!B12","v":0},{"$f":"'INVENT.Logiciels Importés - 10'!F12","v":0},{"$f":"'INVENT.Logiciels Importés - 10'!C12","v":0},{"$f":"'INVENT.Logiciels Importés - 10'!H12","v":0},null,0,0,0,0,0,0,null,null,0,0,0,0]
[7,{"$f":"'INVENT.Logiciels Importés - 10'!B13","v":0},{"$f":"'INVENT.Logiciels Importés - 10'!F13","v":0},{"$f":"'INVENT.Logiciels Importés - 10'!C13","v":0},{"$f":"'INVENT.Logiciels Importés - 10'!H13","v":0},null,0,0,0,0,0,0,null,null,0,0,0,0]
[8,{"$f":"'INVENT.Logiciels Importés - 10'!B14","v":0},{"$f":"'INVENT.Logiciels Importés - 10'!F14","v":0},{"$f":"'INVENT.Logiciels Importés - 10'!C14","v":0},{"$f":"'INVENT.Logiciels Importés - 10'!H14","v":0},null,0,0,0,0,0,0,null,null,0,0,0,0]
[9,{"$f":"'INVENT.Logiciels Importés - 10'!B15","v":0},{"$f":"'INVENT.Logiciels Importés - 10'!F15","v":0},{"$f":"'INVENT.Logiciels Importés - 10'!C15","v":0},{"$f":"'INVENT.Logiciels Importés - 10'!H15","v":0},null,0,0,0,0,0,0,null,null,0,0,0,0]
[10,{"$f":"'INVENT.Logiciels Importés - 10'!B16","v":0},{"$f":"'INVENT.Logiciels Importés - 10'!F16","v":0},{"$f":"'INVENT.Logiciels Importés - 10'!C16","v":0},{"$f":"'INVENT.Logiciels Importés - 10'!H16","v":0},null,0,0,0,0,0,0,null,null,0,0,0,0]
[11,{"$f":"'INVENT.Logiciels Importés - 10'!B17","v":0},{"$f":"'INVENT.Logiciels Importés - 10'!F17","v":0},{"$f":"'INVENT.Logiciels Importés - 10'!C17","v":0},{"$f":"'INVENT.Logiciels Importés - 10'!H17","v":0},null,0,0,0,0,0,0,null,null,0,0,0,0]
[12,{"$f":"'INVENT.Logiciels Importés - 10'!B18","v":0},{"$f":"'INVENT.Logiciels Importés - 10'!F18","v":0},{"$f":"'INVENT.Logiciels Importés - 10'!C18","v":0},{"$f":"'INVENT.Logiciels Importés - 10'!H18","v":0},null,0,0,0,0,0,0,null,null,0,0,0,0]
[13,{"$f":"'INVENT.Logiciels Importés - 10'!B19","v":0},{"$f":"'INVENT.Logiciels Importés - 10'!F19","v":0},{"$f":"'INVENT.Logiciels Importés - 10'!C19","v":0},{"$f":"'INVENT.Logiciels Importés - 10'!H19","v":0},null,0,0,0,0,0,0,null,null,0,0,0,0]
[14,{"$f":"'INVENT.Logiciels Importés - 10'!B20","v":0},{"$f":"'INVENT.Logiciels Importés - 10'!F20","v":0},{"$f":"'INVENT.Logiciels Importés - 10'!C20","v":0},{"$f":"'INVENT.Logiciels Importés - 10'!H20","v":0},null,0,0,0,0,0,0,null,null,0,0,0,0]
[15,{"$f":"'INVENT.Logiciels Importés - 10'!B21","v":0},{"$f":"'INVENT.Logiciels Importés - 10'!F21","v":0},{"$f":"'INVENT.Logiciels Importés - 10'!C21","v":0},{"$f":"'INVENT.Logiciels Importés - 10'!H21","v":0},null,0,0,0,0,0,0,null,null,0,0,0,0]
[16,{"$f":"'INVENT.Logiciels Importés - 10'!B22","v":0},{"$f":"'INVENT.Logiciels Importés - 10'!F22","v":0},{"$f":"'INVENT.Logiciels Importés - 10'!C22","v":0},{"$f":"'INVENT.Logiciels Importés - 10'!H22","v":0},null,0,0,0,0,0,0,null,null,0,0,0,0]
[17,{"$f":"'INVENT.Logiciels Importés - 10'!B23","v":0},{"$f":"'INVENT.Logiciels Importés - 10'!F23","v":0},{"$f":"'INVENT.Logiciels Importés - 10'!C23","v":0},{"$f":"'INVENT.Logiciels Importés - 10'!H23","v":0},null,0,0,0,0,0,0,null,null,0,0,0,0]
[18,{"$f":"'INVENT.Logiciels Importés - 10'!B24","v":0},{"$f":"'INVENT.Logiciels Importés - 10'!F24","v":0},{"$f":"'INVENT.Logiciels Importés - 10'!C24","v":0},{"$f":"'INVENT.Logiciels Importés - 10'!H24","v":0},null,{"$f":"F25*E25","v":0},0,0,0,{"$f":"(E25+G25+H25)*18%","v":0},0,null,null,{"$f":"(M25+N25)*18%","v":0},{"$f":"O25+N25+M25","v":0},{"$f":"+R25-O25-K25","v":0},{"$f":"P25+L25","v":0}]
[19,{"$f":"'INVENT.Logiciels Importés - 10'!B25","v":0},{"$f":"'INVENT.Logiciels Importés - 10'!F25","v":0},{"$f":"'INVENT.Logiciels Importés - 10'!C25","v":0},{"$f":"'INVENT.Logiciels Importés - 10'!H25","v":0},null,0,0,0,0,0,0,null,null,0,0,0,0]
[20,{"$f":"'INVENT.Logiciels Importés - 10'!B26","v":0},{"$f":"'INVENT.Logiciels Importés - 10'!F26","v":0},{"$f":"'INVENT.Logiciels Importés - 10'!C26","v":0},{"$f":"'INVENT.Logiciels Importés - 10'!H26","v":0},null,0,0,0,0,0,0,null,null,0,0,0,0]
[21,{"$f":"'INVENT.Logiciels Importés - 10'!B27","v":0},{"$f":"'INVENT.Logiciels Importés - 10'!F27","v":0},{"$f":"'INVENT.Logiciels Importés - 10'!C27","v":0},{"$f":"'INVENT.Logiciels Importés - 10'!H27","v":0},null,0,0,0,0,0,0,null,null,0,0,0,0]
[22,{"$f":"'INVENT.Logiciels Importés - 10'!B28","v":0},{"$f":"'INVENT.Logiciels Importés - 10'!F28","v":0},{"$f":"'INVENT.Logiciels Importés - 10'!C28","v":0},{"$f":"'INVENT.Logiciels Importés - 10'!H28","v":0},null,0,0,0,0,0,0,null,null,0,0,0,0]
[23,{"$f":"'INVENT.Logiciels Importés - 10'!B29","v":0},{"$f":"'INVENT.Logiciels Importés - 10'!F29","v":0},{"$f":"'INVENT.Logiciels Importés - 10'!C29","v":0},{"$f":"'INVENT.Logiciels Importés - 10'!H29","v":0},null,0,0,0,0,0,0,null,null,0,0,0,0]
[24,{"$f":"'INVENT.Logiciels Importés - 10'!B30","v":0},{"$f":"'INVENT.Logiciels Importés - 10'!F30","v":0},{"$f":"'INVENT.Logiciels Importés - 10'!C30","v":0},{"$f":"'INVENT.Logiciels Importés - 10'!H30","v":0},null,0,0,0,0,0,0,null,null,0,0,0,0]
[25,{"$f":"'INVENT.Logiciels Importés - 10'!B31","v":0},{"$f":"'INVENT.Logiciels Importés - 10'!F31","v":0},{"$f":"'INVENT.Logiciels Importés - 10'!C31","v":0},{"$f":"'INVENT.Logiciels Importés - 10'!H31","v":0},null,0,0,0,0,0,0,null,null,0,0,0,0]
[26,{"$f":"'INVENT.Logiciels Importés - 10'!B32","v":0},{"$f":"'INVENT.Logiciels Importés - 10'!F32","v":0},{"$f":"'INVENT.Logiciels Importés - 10'!C32","v":0},{"$f":"'INVENT.Logiciels Importés - 10'!H32","v":0},null,0,0,0,0,0,0,null,null,0,0,0,0]
[27,{"$f":"'INVENT.Logiciels Importés - 10'!B33","v":0},{"$f":"'INVENT.Logiciels Importés - 10'!F33","v":0},{"$f":"'INVENT.Logiciels Importés - 10'!C33","v":0},{"$f":"'INVENT.Logiciels Importés - 10'!H33","v":0},null,0,0,0,0,0,0,null,null,0,0,0,0]
[28,{"$f":"'INVENT.Logiciels Importés - 10'!B34","v":0},{"$f":"'INVENT.Logiciels Importés - 10'!F34","v":0},{"$f":"'INVENT.Logiciels Importés - 10'!C34","v":0},{"$f":"'INVENT.Logiciels Importés - 10'!H34","v":0},null,0,0,0,0,0,0,null,null,0,0,0,0]
[29,{"$f":"'INVENT.Logiciels Importés - 10'!B35","v":0},{"$f":"'INVENT.Logiciels Importés - 10'!F35","v":0},{"$f":"'INVENT.Logiciels Importés - 10'!C35","v":0},{"$f":"'INVENT.Logiciels Importés - 10'!H35","v":0},null,0,0,0,0,0,0,null,null,0,0,0,0]
[30,{"$f":"'INVENT.Logiciels Importés - 10'!B36","v":0},{"$f":"'INVENT.Logiciels Importés - 10'!F36","v":0},{"$f":"'INVENT.Logiciels Importés - 10'!C36","v":0},{"$f":"'INVENT.Logiciels Importés - 10'!H36","v":0},null,0,0,0,0,0,0,null,null,0,0,0,0]
[31,null,null,null,null,null,0,0,0,0,0,0,null,null,0,0,0,0]
[32,null,null,null,null,null,0,0,0,0,0,0,null,null,0,0,0,0]
[33,null,null,null,null,null,0,0,0,0,0,0,null,null,0,0,0,0]
[34,null,null,null,null,null,0,0,0,0,0,0,null,null,0,0,0,0]
[35,null,null,null,null,null,0,0,0,0,0,0,null,null,0,0,0,0]
[36,null,null,null,null,null,0,0,0,0,0,0,null,null,0,0,0,0]
[37,null,null,null,null,null,0,0,0,0,0,0,null,null,0,0,0,0]
[38,null,null,null,null,null,0,0,0,0,0,0,null,null,0,0,0,0]
[39,null,null,null,null,null,0,0,0,0,0,0,null,null,0,0,0,0]
[40,null,null,null,null,null,{"$f":"F47*E47","v":0},0,0,0,{"$f":"(E47+G47+H47)*18%","v":0},0,null,null,{"$f":"(M47+N47)*18%","v":0},{"$f":"O47+N47+M47","v":0},{"$f":"+R47-O47-K47","v":0},{"$f":"P47+L47","v":0}]
[41,null,null,null,null,null,0,0,0,0,0,0,null,null,0,0,0,0]
[42,null,null,null,null,null,0,0,0,0,0,0,null,null,0,0,0,0]
[43,null,null,null,null,null,0,0,0,0,0,0,null,null,0,0,0,0]
[44,null,null,null,null,null,0,0,0,0,0,0,null,null,0,0,0,0]
[45,null,null,null,null,null,0,0,0,0,0,0,null,null,0,0,0,0]
[46,null,null,null,null,null,0,0,0,0,0,0,null,null,0,0,0,0]
[47,null,null,null,null,null,{"$f":"F54*E54","v":0},0,0,0,{"$f":"(E54+G54+H54)*18%","v":0},0,null,null,{"$f":"(M54+N54)*18%","v":0},{"$f":"O54+N54+M54","v":0},{"$f":"+R54-O54-K54","v":0},{"$f":"P54+L54","v":0}]
[48,null,null,null,null,null,{"$f":"F55*E55","v":0},0,0,0,{"$f":"(E55+G55+H55)*18%","v":0},0,null,null,{"$f":"(M55+N55)*18%","v":0},{"$f":"O55+N55+M55","v":0},{"$f":"+R55-O55-K55","v":0},{"$f":"P55+L55","v":0}]
[49,null,null,null,null,null,{"$f":"F56*E56","v":0},{"$f":"E56*1%","v":0},{"$f":"E56*1%","v":0},{"$f":"E56*0.5%","v":0},{"$f":"(E56+G56+H56)*18%","v":0},{"$f":"SUM(G56:K56)+E56","v":0},null,null,{"$f":"(M56+N56)*18%","v":0},{"$f":"O56+N56+M56","v":0},{"$f":"+R56-O56-K56","v":0},{"$f":"P56+L56","v":0}]
[50,null,null,null,null,null,0,0,0,0,0,0,null,null,0,0,0,0]
[51,null,null,null,null,null,0,0,0,0,0,0,null,null,0,0,0,0]
[52,null,null,null,null,null,0,0,0,0,0,0,null,null,0,0,0,0]
[53,null,null,null,null,null,0,0,0,0,0,0,null,null,0,0,0,0]
[54,null,null,null,null,null,0,0,0,0,0,0,null,null,0,0,0,0]
[55,null,null,null,null,null,0,0,0,0,0,0,null,null,0,0,0,0]
[56,null,null,null,null,null,0,0,0,0,0,0,null,null,0,0,0,0]
[57,null,null,null,null,null,0,0,0,0,0,0,null,null,0,0,0,0]
[58,null,null,null,null,null,0,0,0,0,0,0,null,null,0,0,0,0]
[59,null,null,null,null,null,0,0,0,0,0,0,null,null,0,0,0,0]
[60,null,null,null,null,null,0,0,0,0,0,0,null,null,0,0,0,0]
[61,null,null,null,null,null,0,0,0,0,0,0,null,null,0,0,0,0]
[62,null,null,null,null,null,0,0,0,0,0,0,null,null,0,0,0,0]
[63,null,null,null,null,null,0,0,0,0,0,0,null,null,0,0,0,0]
[64,null,null,null,null,null,0,0,0,0,0,0,null,null,0,0,0,0]
[65,null,null,null,null,null,0,0,0,0,0,0,null,null,0,0,0,0]
[{"$f":"+A72+1","v":66},null,null,null,null,null,0,0,0,0,0,0,null,null,0,0,0,0]

{"sheet":"INVEST.Autres Immo Incorpo - 10","index":29,"n_rows":55,"n_cols":18,"rows_kept":55,"cut":false,"hidden":false,"merged":[[3,16,4,16],[2,2,4,2],[3,8,4,8],[2,0,4,0],[3,17,4,17],[2,1,4,1],[2,16,2,17],[3,3,4,3],[3,4,4,4],[3,5,3,6],[3,7,4,7],[3,9,4,9],[3,10,4,10],[3,11,4,11],[3,12,4,12],[3,13,4,13],[3,14,4,14],[3,15,4,15]]}
[null,null,null,{"$f":"'REFERENCES - 10'!D7","v":0},null,{"$f":"'REFERENCES - 10'!D9","v":0}]
[null,"INVESTISSEMENTS PREVUS SUR LA PERIODE DE REALISATION DU PROJET",null,null,null,null,null,null,null,null,null,null,null,null,null,null,null,"(En F. Cfa)"]
["N°","Désignation","Quantité","ACHAT A L'ETRANGER (en F. Cfa)",null,null,null,null,null,null,null,null,"ACHAT EN COTE D'IVOIRE (en F. Cfa)",null,null,null,"Coût total des Investissements "]
[null,null,null,"Position tarifaire","Cout CAF","Droit de douane / Droit fiscaux",null,"RSTAT (1%)","PCS\n(1%)","PCC\n (0,5%)","TVA sur Droit de Douane","Total Achat à l'étranger","Achats HT"," Coûts locaux (Transport, montage,..)","T.V.A","Total Achat en RCI","Coût total HT","Coût total TTC"]
[null,null,null,null,null,"Taux","Montant"]
[]
[null,"AUTRES IMMOB. INCORPORELLES",null,null,{"$f":"SUM(E8:E55)","v":0},null,{"$f":"SUM(G8:G55)","v":0},0,null,0,0,0,0,0,0,0,0,0]
[1,{"$f":"'INVENT.Autre Im Inco Importé-10'!B7","v":0},{"$f":"'INVENT.Autre Im Inco Importé-10'!F7","v":0},{"$f":"'INVENT.Autre Im Inco Importé-10'!C7","v":0},{"$f":"'INVENT.Autre Im Inco Importé-10'!H7","v":0},null,{"$f":"F8*E8","v":0},{"$f":"E8*1%","v":0},{"$f":"E8*1%","v":0},{"$f":"E8*0.5%","v":0},{"$f":"(E8+G8+H8)*18%","v":0},{"$f":"SUM(G8:K8)+E8","v":0},null,null,{"$f":"(M8+N8)*18%","v":0},{"$f":"O8+N8+M8","v":0},{"$f":"+R8-O8-K8","v":0},{"$f":"P8+L8","v":0}]
[{"$f":"+A8+1","v":2},{"$f":"'INVENT.Autre Im Inco Importé-10'!B8","v":0},{"$f":"'INVENT.Autre Im Inco Importé-10'!F8","v":0},{"$f":"'INVENT.Autre Im Inco Importé-10'!C8","v":0},{"$f":"'INVENT.Autre Im Inco Importé-10'!H8","v":0},null,{"$f":"F9*E9","v":0},{"$f":"E9*1%","v":0},{"$f":"E9*1%","v":0},{"$f":"E9*0.5%","v":0},{"$f":"(E9+G9+H9)*18%","v":0},0,null,null,{"$f":"(M9+N9)*18%","v":0},{"$f":"O9+N9+M9","v":0},{"$f":"+R9-O9-K9","v":0},{"$f":"P9+L9","v":0}]
[{"$f":"+A9+1","v":3},{"$f":"'INVENT.Autre Im Inco Importé-10'!B9","v":0},{"$f":"'INVENT.Autre Im Inco Importé-10'!F9","v":0},{"$f":"'INVENT.Autre Im Inco Importé-10'!C9","v":0},{"$f":"'INVENT.Autre Im Inco Importé-10'!H9","v":0},null,{"$f":"F10*E10","v":0},0,0,0,{"$f":"(E10+G10+H10)*18%","v":0},0,null,null,{"$f":"(M10+N10)*18%","v":0},{"$f":"O10+N10+M10","v":0},{"$f":"+R10-O10-K10","v":0},{"$f":"P10+L10","v":0}]
[4,{"$f":"'INVENT.Autre Im Inco Importé-10'!B10","v":0},{"$f":"'INVENT.Autre Im Inco Importé-10'!F10","v":0},{"$f":"'INVENT.Autre Im Inco Importé-10'!C10","v":0},{"$f":"'INVENT.Autre Im Inco Importé-10'!H10","v":0},null,{"$f":"F11*E11","v":0},0,0,0,{"$f":"(E11+G11+H11)*18%","v":0},0,null,null,{"$f":"(M11+N11)*18%","v":0},{"$f":"O11+N11+M11","v":0},{"$f":"+R11-O11-K11","v":0},{"$f":"P11+L11","v":0}]
[5,{"$f":"'INVENT.Autre Im Inco Importé-10'!B11","v":0},{"$f":"'INVENT.Autre Im Inco Importé-10'!F11","v":0},{"$f":"'INVENT.Autre Im Inco Importé-10'!C11","v":0},{"$f":"'INVENT.Autre Im Inco Importé-10'!H11","v":0},null,0,0,0,0,0,0,null,null,0,0,0,0]
[6,{"$f":"'INVENT.Autre Im Inco Importé-10'!B12","v":0},{"$f":"'INVENT.Autre Im Inco Importé-10'!F12","v":0},{"$f":"'INVENT.Autre Im Inco Importé-10'!C12","v":0},{"$f":"'INVENT.Autre Im Inco Importé-10'!H12","v":0},null,0,0,0,0,0,0,null,null,0,0,0,0]
[7,{"$f":"'INVENT.Autre Im Inco Importé-10'!B13","v":0},{"$f":"'INVENT.Autre Im Inco Importé-10'!F13","v":0},{"$f":"'INVENT.Autre Im Inco Importé-10'!C13","v":0},{"$f":"'INVENT.Autre Im Inco Importé-10'!H13","v":0},null,0,0,0,0,0,0,null,null,0,0,0,0]
[8,{"$f":"'INVENT.Autre Im Inco Importé-10'!B14","v":0},{"$f":"'INVENT.Autre Im Inco Importé-10'!F14","v":0},{"$f":"'INVENT.Autre Im Inco Importé-10'!C14","v":0},{"$f":"'INVENT.Autre Im Inco Importé-10'!H14","v":0},null,0,0,0,0,0,0,null,null,0,0,0,0]
[9,{"$f":"'INVENT.Autre Im Inco Importé-10'!B15","v":0},{"$f":"'INVENT.Autre Im Inco Importé-10'!F15","v":0},{"$f":"'INVENT.Autre Im Inco Importé-10'!C15","v":0},{"$f":"'INVENT.Autre Im Inco Importé-10'!H15","v":0},null,0,0,0,0,0,0,null,null,0,0,0,0]
[10,{"$f":"'INVENT.Autre Im Inco Importé-10'!B16","v":0},{"$f":"'INVENT.Autre Im Inco Importé-10'!F16","v":0},{"$f":"'INVENT.Autre Im Inco Importé-10'!C16","v":0},{"$f":"'INVENT.Autre Im Inco Importé-10'!H16","v":0},null,0,0,0,0,0,0,null,null,0,0,0,0]
[11,{"$f":"'INVENT.Autre Im Inco Importé-10'!B17","v":0},{"$f":"'INVENT.Autre Im Inco Importé-10'!F17","v":0},{"$f":"'INVENT.Autre Im Inco Importé-10'!C17","v":0},{"$f":"'INVENT.Autre Im Inco Importé-10'!H17","v":0},null,0,0,0,0,0,0,null,null,0,0,0,0]
[12,{"$f":"'INVENT.Autre Im Inco Importé-10'!B18","v":0},{"$f":"'INVENT.Autre Im Inco Importé-10'!F18","v":0},{"$f":"'INVENT.Autre Im Inco Importé-10'!C18","v":0},{"$f":"'INVENT.Autre Im Inco Importé-10'!H18","v":0},null,0,0,0,0,0,0,null,null,0,0,0,0]
[13,{"$f":"'INVENT.Autre Im Inco Importé-10'!B19","v":0},{"$f":"'INVENT.Autre Im Inco Importé-10'!F19","v":0},{"$f":"'INVENT.Autre Im Inco Importé-10'!C19","v":0},{"$f":"'INVENT.Autre Im Inco Importé-10'!H19","v":0},null,0,0,0,0,0,0,null,null,0,0,0,0]
[14,{"$f":"'INVENT.Autre Im Inco Importé-10'!B20","v":0},{"$f":"'INVENT.Autre Im Inco Importé-10'!F20","v":0},{"$f":"'INVENT.Autre Im Inco Importé-10'!C20","v":0},{"$f":"'INVENT.Autre Im Inco Importé-10'!H20","v":0},null,0,0,0,0,0,0,null,null,0,0,0,0]
[15,{"$f":"'INVENT.Autre Im Inco Importé-10'!B21","v":0},{"$f":"'INVENT.Autre Im Inco Importé-10'!F21","v":0},{"$f":"'INVENT.Autre Im Inco Importé-10'!C21","v":0},{"$f":"'INVENT.Autre Im Inco Importé-10'!H21","v":0},null,0,0,0,0,0,0,null,null,0,0,0,0]
[16,{"$f":"'INVENT.Autre Im Inco Importé-10'!B22","v":0},{"$f":"'INVENT.Autre Im Inco Importé-10'!F22","v":0},{"$f":"'INVENT.Autre Im Inco Importé-10'!C22","v":0},{"$f":"'INVENT.Autre Im Inco Importé-10'!H22","v":0},null,0,0,0,0,0,0,null,null,0,0,0,0]
[17,{"$f":"'INVENT.Autre Im Inco Importé-10'!B23","v":0},{"$f":"'INVENT.Autre Im Inco Importé-10'!F23","v":0},{"$f":"'INVENT.Autre Im Inco Importé-10'!C23","v":0},{"$f":"'INVENT.Autre Im Inco Importé-10'!H23","v":0},null,0,0,0,0,0,0,null,null,0,0,0,0]
[18,{"$f":"'INVENT.Autre Im Inco Importé-10'!B24","v":0},{"$f":"'INVENT.Autre Im Inco Importé-10'!F24","v":0},{"$f":"'INVENT.Autre Im Inco Importé-10'!C24","v":0},{"$f":"'INVENT.Autre Im Inco Importé-10'!H24","v":0},null,0,0,0,0,0,0,null,null,0,0,0,0]
[19,{"$f":"'INVENT.Autre Im Inco Importé-10'!B25","v":0},{"$f":"'INVENT.Autre Im Inco Importé-10'!F25","v":0},{"$f":"'INVENT.Autre Im Inco Importé-10'!C25","v":0},{"$f":"'INVENT.Autre Im Inco Importé-10'!H25","v":0},null,0,0,0,0,0,0,null,null,0,0,0,0]
[20,{"$f":"'INVENT.Autre Im Inco Importé-10'!B26","v":0},{"$f":"'INVENT.Autre Im Inco Importé-10'!F26","v":0},{"$f":"'INVENT.Autre Im Inco Importé-10'!C26","v":0},{"$f":"'INVENT.Autre Im Inco Importé-10'!H26","v":0},null,0,0,0,0,0,0,null,null,0,0,0,0]
[21,{"$f":"'INVENT.Autre Im Inco Importé-10'!B27","v":0},{"$f":"'INVENT.Autre Im Inco Importé-10'!F27","v":0},{"$f":"'INVENT.Autre Im Inco Importé-10'!C27","v":0},{"$f":"'INVENT.Autre Im Inco Importé-10'!H27","v":0},null,0,0,0,0,0,0,null,null,0,0,0,0]
[22,{"$f":"'INVENT.Autre Im Inco Importé-10'!B28","v":0},{"$f":"'INVENT.Autre Im Inco Importé-10'!F28","v":0},{"$f":"'INVENT.Autre Im Inco Importé-10'!C28","v":0},{"$f":"'INVENT.Autre Im Inco Importé-10'!H28","v":0},null,0,0,0,0,0,0,null,null,0,0,0,0]
[23,{"$f":"'INVENT.Autre Im Inco Importé-10'!B29","v":0},{"$f":"'INVENT.Autre Im Inco Importé-10'!F29","v":0},{"$f":"'INVENT.Autre Im Inco Importé-10'!C29","v":0},{"$f":"'INVENT.Autre Im Inco Importé-10'!H29","v":0},null,0,0,0,0,0,0,null,null,0,0,0,0]
[24,{"$f":"'INVENT.Autre Im Inco Importé-10'!B30","v":0},{"$f":"'INVENT.Autre Im Inco Importé-10'!F30","v":0},{"$f":"'INVENT.Autre Im Inco Importé-10'!C30","v":0},{"$f":"'INVENT.Autre Im Inco Importé-10'!H30","v":0},null,0,0,0,0,0,0,null,null,0,0,0,0]
[25,{"$f":"'INVENT.Autre Im Inco Importé-10'!B31","v":0},{"$f":"'INVENT.Autre Im Inco Importé-10'!F31","v":0},{"$f":"'INVENT.Autre Im Inco Importé-10'!C31","v":0},{"$f":"'INVENT.Autre Im Inco Importé-10'!H31","v":0},null,0,0,0,0,0,0,null,null,0,0,0,0]
[26,{"$f":"'INVENT.Autre Im Inco Importé-10'!B32","v":0},{"$f":"'INVENT.Autre Im Inco Importé-10'!F32","v":0},{"$f":"'INVENT.Autre Im Inco Importé-10'!C32","v":0},{"$f":"'INVENT.Autre Im Inco Importé-10'!H32","v":0},null,0,0,0,0,0,0,null,null,0,0,0,0]
[27,{"$f":"'INVENT.Autre Im Inco Importé-10'!B33","v":0},{"$f":"'INVENT.Autre Im Inco Importé-10'!F33","v":0},{"$f":"'INVENT.Autre Im Inco Importé-10'!C33","v":0},{"$f":"'INVENT.Autre Im Inco Importé-10'!H33","v":0},null,0,0,0,0,0,0,null,null,0,0,0,0]
[28,{"$f":"'INVENT.Autre Im Inco Importé-10'!B34","v":0},{"$f":"'INVENT.Autre Im Inco Importé-10'!F34","v":0},{"$f":"'INVENT.Autre Im Inco Importé-10'!C34","v":0},{"$f":"'INVENT.Autre Im Inco Importé-10'!H34","v":0},null,0,0,0,0,0,0,null,null,0,0,0,0]
[29,{"$f":"'INVENT.Autre Im Inco Importé-10'!B35","v":0},{"$f":"'INVENT.Autre Im Inco Importé-10'!F35","v":0},{"$f":"'INVENT.Autre Im Inco Importé-10'!C35","v":0},{"$f":"'INVENT.Autre Im Inco Importé-10'!H35","v":0},null,0,0,0,0,0,0,null,null,0,0,0,0]
[30,{"$f":"'INVENT.Autre Im Inco Importé-10'!B36","v":0},{"$f":"'INVENT.Autre Im Inco Importé-10'!F36","v":0},{"$f":"'INVENT.Autre Im Inco Importé-10'!C36","v":0},{"$f":"'INVENT.Autre Im Inco Importé-10'!H36","v":0},null,0,0,0,0,0,0,null,null,0,0,0,0]
[31,{"$f":"'INVENT.Autre Im Inco Importé-10'!B37","v":0},{"$f":"'INVENT.Autre Im Inco Importé-10'!F37","v":0},{"$f":"'INVENT.Autre Im Inco Importé-10'!C37","v":0},{"$f":"'INVENT.Autre Im Inco Importé-10'!H37","v":0},null,0,0,0,0,0,0,null,null,0,0,0,0]
[32,{"$f":"'INVENT.Autre Im Inco Importé-10'!B38","v":0},{"$f":"'INVENT.Autre Im Inco Importé-10'!F38","v":0},{"$f":"'INVENT.Autre Im Inco Importé-10'!C38","v":0},{"$f":"'INVENT.Autre Im Inco Importé-10'!H38","v":0},null,0,0,0,0,0,0,null,null,0,0,0,0]
[33,{"$f":"'INVENT.Autre Im Inco Importé-10'!B39","v":0},{"$f":"'INVENT.Autre Im Inco Importé-10'!F39","v":0},{"$f":"'INVENT.Autre Im Inco Importé-10'!C39","v":0},{"$f":"'INVENT.Autre Im Inco Importé-10'!H39","v":0},null,0,0,0,0,0,0,null,null,0,0,0,0]
[34,{"$f":"'INVENT.Autre Im Inco Importé-10'!B40","v":0},{"$f":"'INVENT.Autre Im Inco Importé-10'!F40","v":0},{"$f":"'INVENT.Autre Im Inco Importé-10'!C40","v":0},{"$f":"'INVENT.Autre Im Inco Importé-10'!H40","v":0},null,0,0,0,0,0,0,null,null,0,0,0,0]
[35,{"$f":"'INVENT.Autre Im Inco Importé-10'!B41","v":0},{"$f":"'INVENT.Autre Im Inco Importé-10'!F41","v":0},{"$f":"'INVENT.Autre Im Inco Importé-10'!C41","v":0},{"$f":"'INVENT.Autre Im Inco Importé-10'!H41","v":0},null,0,0,0,0,0,0,null,null,0,0,0,0]
[36,{"$f":"'INVENT.Autre Im Inco Importé-10'!B42","v":0},{"$f":"'INVENT.Autre Im Inco Importé-10'!F42","v":0},{"$f":"'INVENT.Autre Im Inco Importé-10'!C42","v":0},{"$f":"'INVENT.Autre Im Inco Importé-10'!H42","v":0},null,0,0,0,0,0,0,null,null,0,0,0,0]
[37,{"$f":"'INVENT.Autre Im Inco Importé-10'!B43","v":0},{"$f":"'INVENT.Autre Im Inco Importé-10'!F43","v":0},{"$f":"'INVENT.Autre Im Inco Importé-10'!C43","v":0},{"$f":"'INVENT.Autre Im Inco Importé-10'!H43","v":0},null,0,0,0,0,0,0,null,null,0,0,0,0]
[38,{"$f":"'INVENT.Autre Im Inco Importé-10'!B44","v":0},{"$f":"'INVENT.Autre Im Inco Importé-10'!F44","v":0},{"$f":"'INVENT.Autre Im Inco Importé-10'!C44","v":0},{"$f":"'INVENT.Autre Im Inco Importé-10'!H44","v":0},null,0,0,0,0,0,0,null,null,0,0,0,0]
[39,{"$f":"'INVENT.Autre Im Inco Importé-10'!B45","v":0},{"$f":"'INVENT.Autre Im Inco Importé-10'!F45","v":0},{"$f":"'INVENT.Autre Im Inco Importé-10'!C45","v":0},{"$f":"'INVENT.Autre Im Inco Importé-10'!H45","v":0},null,0,0,0,0,0,0,null,null,0,0,0,0]
[{"$f":"+A46+1","v":40},{"$f":"'INVENT.Autre Im Inco Importé-10'!B46","v":0},{"$f":"'INVENT.Autre Im Inco Importé-10'!F46","v":0},{"$f":"'INVENT.Autre Im Inco Importé-10'!C46","v":0},{"$f":"'INVENT.Autre Im Inco Importé-10'!H46","v":0},null,{"$f":"F47*E47","v":0},0,0,0,{"$f":"(E47+G47+H47)*18%","v":0},0,null,null,{"$f":"(M47+N47)*18%","v":0},{"$f":"O47+N47+M47","v":0},{"$f":"+R47-O47-K47","v":0},{"$f":"P47+L47","v":0}]
[41,{"$f":"'INVENT.Autre Im Inco Importé-10'!B47","v":0},{"$f":"'INVENT.Autre Im Inco Importé-10'!F47","v":0},{"$f":"'INVENT.Autre Im Inco Importé-10'!C47","v":0},{"$f":"'INVENT.Autre Im Inco Importé-10'!H47","v":0},null,0,0,0,0,0,0,null,null,0,0,0,0]
[42,{"$f":"'INVENT.Autre Im Inco Importé-10'!B48","v":0},{"$f":"'INVENT.Autre Im Inco Importé-10'!F48","v":0},{"$f":"'INVENT.Autre Im Inco Importé-10'!C48","v":0},{"$f":"'INVENT.Autre Im Inco Importé-10'!H48","v":0},null,0,0,0,0,0,0,null,null,0,0,0,0]
[43,{"$f":"'INVENT.Autre Im Inco Importé-10'!B49","v":0},{"$f":"'INVENT.Autre Im Inco Importé-10'!F49","v":0},{"$f":"'INVENT.Autre Im Inco Importé-10'!C49","v":0},{"$f":"'INVENT.Autre Im Inco Importé-10'!H49","v":0},null,0,0,0,0,0,0,null,null,0,0,0,0]
[44,{"$f":"'INVENT.Autre Im Inco Importé-10'!B50","v":0},{"$f":"'INVENT.Autre Im Inco Importé-10'!F50","v":0},{"$f":"'INVENT.Autre Im Inco Importé-10'!C50","v":0},{"$f":"'INVENT.Autre Im Inco Importé-10'!H50","v":0},null,0,0,0,0,0,0,null,null,0,0,0,0]
[45,{"$f":"'INVENT.Autre Im Inco Importé-10'!B51","v":0},{"$f":"'INVENT.Autre Im Inco Importé-10'!F51","v":0},{"$f":"'INVENT.Autre Im Inco Importé-10'!C51","v":0},{"$f":"'INVENT.Autre Im Inco Importé-10'!H51","v":0},null,0,0,0,0,0,0,null,null,0,0,0,0]
[46,{"$f":"'INVENT.Autre Im Inco Importé-10'!B52","v":0},{"$f":"'INVENT.Autre Im Inco Importé-10'!F52","v":0},{"$f":"'INVENT.Autre Im Inco Importé-10'!C52","v":0},{"$f":"'INVENT.Autre Im Inco Importé-10'!H52","v":0},null,0,0,0,0,0,0,null,null,0,0,0,0]
[47,{"$f":"'INVENT.Autre Im Inco Importé-10'!B53","v":0},{"$f":"'INVENT.Autre Im Inco Importé-10'!F53","v":0},{"$f":"'INVENT.Autre Im Inco Importé-10'!C53","v":0},{"$f":"'INVENT.Autre Im Inco Importé-10'!H53","v":0},null,0,0,0,0,0,0,null,null,0,0,0,0]
[48,{"$f":"'INVENT.Autre Im Inco Importé-10'!B54","v":0},{"$f":"'INVENT.Autre Im Inco Importé-10'!F54","v":0},{"$f":"'INVENT.Autre Im Inco Importé-10'!C54","v":0},{"$f":"'INVENT.Autre Im Inco Importé-10'!H54","v":0},null,0,0,0,0,0,0,null,null,0,0,0,0]

{"sheet":"INVEST Terrains - 10","index":30,"n_rows":55,"n_cols":17,"rows_kept":55,"cut":false,"hidden":false,"merged":[[2,0,4,0],[3,16,4,16],[2,1,4,1],[2,15,2,16],[3,2,4,2],[3,3,4,3],[3,4,3,5],[3,6,4,6],[3,8,4,8],[3,9,4,9],[3,10,4,10],[3,11,4,11],[3,12,4,12],[3,13,4,13],[3,14,4,14],[3,15,4,15],[3,7,4,7]]}
[null,null,{"$f":"'REFERENCES - 10'!D7","v":0},null,{"$f":"'REFERENCES - 10'!D9","v":0}]
[null,"INVESTISSEMENTS PREVUS SUR LA PERIODE DE REALISATION DU PROJET",null,null,null,null,null,null,null,null,null,null,null,null,null,null,"(En F. Cfa)"]
["N°","Désignation","ACHAT A L'ETRANGER (en F. Cfa)",null,null,null,null,null,null,null,null,"ACHAT EN COTE D'IVOIRE (en F. Cfa)",null,null,null,"Coût total des Investissements "]
[null,null,"Position tarifaire","Cout CAF","Droit de douane / Droit fiscaux",null,"RSTAT (1%)","PCS \n(1%)","PCC\n (0,5%)","TVA sur Droit de Douane","Total Achat à l'étranger","Achats HT"," Coûts locaux (Transport, montage,..)","T.V.A","Total Achat en RCI","Coût total HT","Coût total TTC"]
[null,null,null,null,"Taux","Montant"]
[]
[null,"TERRAINS",null,{"$f":"SUM(D8:D55)","v":0},null,{"$f":"SUM(F8:F55)","v":0},0,0,0,0,0,0,0,0,0,0,0]
[1,null,null,null,null,{"$f":"E8*D8","v":0},{"$f":"D8*1%","v":0},{"$f":"D8*1%","v":0},{"$f":"D8*0.5%","v":0},{"$f":"(D8+F8+G8)*18%","v":0},{"$f":"SUM(F8:J8)+D8","v":0},null,null,{"$f":"(L8+M8)*0%","v":0},{"$f":"N8+M8+L8","v":0},{"$f":"+Q8-N8-J8","v":0},{"$f":"O8+K8","v":0}]
[{"$f":"+A8+1","v":2},null,null,null,null,{"$f":"E9*D9","v":0},{"$f":"D9*1%","v":0},{"$f":"D9*1%","v":0},{"$f":"D9*0.5%","v":0},{"$f":"(D9+F9+G9)*18%","v":0},0,null,null,{"$f":"(L9+M9)*0%","v":0},{"$f":"N9+M9+L9","v":0},{"$f":"+Q9-N9-J9","v":0},{"$f":"O9+K9","v":0}]
[{"$f":"+A9+1","v":3},null,null,null,null,{"$f":"E10*D10","v":0},0,0,0,{"$f":"(D10+F10+G10)*18%","v":0},0,null,null,0,{"$f":"N10+M10+L10","v":0},{"$f":"+Q10-N10-J10","v":0},{"$f":"O10+K10","v":0}]
[4,null,null,null,null,0,0,0,0,0,0,null,null,0,0,0,0]
[5,null,null,null,null,0,0,0,0,0,0,null,null,0,0,0,0]
[6,null,null,null,null,{"$f":"E13*D13","v":0},0,0,0,{"$f":"(D13+F13+G13)*18%","v":0},0,null,null,0,{"$f":"N13+M13+L13","v":0},{"$f":"+Q13-N13-J13","v":0},{"$f":"O13+K13","v":0}]
[7,null,null,null,null,0,0,0,0,0,{"$f":"SUM(F14:J14)+D14","v":0},null,null,0,0,0,0]
[8,null,null,null,null,0,0,0,0,0,0,null,null,0,0,0,0]
[9,null,null,null,null,0,0,0,0,0,0,null,null,0,0,0,0]
[10,null,null,null,null,0,0,0,0,0,0,null,null,0,0,0,0]
[11,null,null,null,null,0,0,0,0,0,0,null,null,0,0,0,0]
[12,null,null,null,null,0,0,0,0,0,0,null,null,0,0,0,0]
[13,null,null,null,null,0,0,0,0,0,0,null,null,0,0,0,0]
[14,null,null,null,null,0,0,0,0,0,0,null,null,0,0,0,0]
[15,null,null,null,null,0,0,0,0,0,0,null,null,0,0,0,0]
[16,null,null,null,null,0,0,0,0,0,0,null,null,0,0,0,0]
[17,null,null,null,null,0,0,0,0,0,0,null,null,0,0,0,0]
[18,null,null,null,null,0,0,0,0,0,0,null,null,0,0,0,0]
[19,null,null,null,null,0,0,0,0,0,0,null,null,0,0,0,0]
[20,null,null,null,null,0,0,0,0,0,0,null,null,0,0,0,0]
[21,null,null,null,null,0,0,0,0,0,0,null,null,0,0,0,0]
[22,null,null,null,null,0,0,0,0,0,0,null,null,0,0,0,0]
[23,null,null,null,null,0,0,0,0,0,0,null,null,0,0,0,0]
[24,null,null,null,null,0,0,0,0,0,0,null,null,0,0,0,0]
[25,null,null,null,null,0,0,0,0,0,0,null,null,0,0,0,0]
[26,null,null,null,null,0,0,0,0,0,0,null,null,0,0,0,0]
[27,null,null,null,null,0,0,0,0,0,0,null,null,0,0,0,0]
[28,null,null,null,null,0,0,0,0,0,0,null,null,0,0,0,0]
[29,null,null,null,null,0,0,0,0,0,0,null,null,0,0,0,0]
[30,null,null,null,null,0,0,0,0,0,0,null,null,0,0,0,0]
[31,null,null,null,null,0,0,0,0,0,0,null,null,0,0,0,0]
[32,null,null,null,null,0,0,0,0,0,0,null,null,0,0,0,0]
[33,null,null,null,null,0,0,0,0,0,0,null,null,0,0,0,0]
[34,null,null,null,null,0,0,0,0,0,0,null,null,0,0,0,0]
[35,null,null,null,null,0,0,0,0,0,0,null,null,0,0,0,0]
[36,null,null,null,null,0,0,0,0,0,0,null,null,0,0,0,0]
[37,null,null,null,null,0,0,0,0,0,0,null,null,0,0,0,0]
[38,null,null,null,null,0,0,0,0,0,0,null,null,0,0,0,0]
[39,null,null,null,null,0,0,0,0,0,0,null,null,0,0,0,0]
[{"$f":"+A46+1","v":40},null,null,null,null,{"$f":"E47*D47","v":0},0,0,0,{"$f":"(D47+F47+G47)*18%","v":0},0,null,null,0,{"$f":"N47+M47+L47","v":0},{"$f":"+Q47-N47-J47","v":0},{"$f":"O47+K47","v":0}]
[41,null,null,null,null,0,0,0,0,0,0,null,null,0,0,0,0]
[42,null,null,null,null,0,0,0,0,0,0,null,null,0,0,0,0]
[43,null,null,null,null,0,0,0,0,0,0,null,null,0,0,0,0]
[44,null,null,null,null,0,0,0,0,0,0,null,null,0,0,0,0]
[45,null,null,null,null,0,0,0,0,0,0,null,null,0,0,0,0]
[46,null,null,null,null,0,0,0,0,0,0,null,null,0,0,0,0]
[47,null,null,null,null,0,0,0,0,0,0,null,null,0,0,0,0]
[{"$f":"+A54+1","v":48},null,null,null,null,{"$f":"E55*D55","v":0},0,0,0,{"$f":"(D55+F55+G55)*18%","v":0},0,null,null,0,{"$f":"N55+M55+L55","v":0},{"$f":"+Q55-N55-J55","v":0},{"$f":"O55+K55","v":0}]

{"sheet":"INVEST.Constructions & Bât - 10","index":31,"n_rows":507,"n_cols":18,"rows_kept":507,"cut":false,"hidden":false,"merged":[[3,16,4,16],[2,2,4,2],[2,0,4,0],[3,17,4,17],[2,1,4,1],[2,16,2,17],[3,3,4,3],[3,4,4,4],[3,5,3,6],[3,7,4,7],[3,9,4,9],[3,10,4,10],[3,11,4,11],[3,12,4,12],[3,13,4,13],[3,14,4,14],[3,15,4,15],[3,8,4,8]]}
[null,null,null,{"$f":"'REFERENCES - 10'!D7","v":0},null,{"$f":"'REFERENCES - 10'!D9","v":0}]
[null,"INVESTISSEMENTS PREVUS SUR LA PERIODE DE REALISATION DU PROJET",null,null,null,null,null,null,null,null,null,null,null,null,null,null,null,"(En F. Cfa)"]
["N°","Désignation","Quantité","ACHAT A L'ETRANGER (en F. Cfa)",null,null,null,null,null,null,null,null,"ACHAT EN COTE D'IVOIRE (en F. Cfa)",null,null,null,"Coût total des Investissements "]
[null,null,null,"Position tarifaire","Cout CAF","Droit de douane / Droit fiscaux",null,"RSTAT (1%)","PCS \n(1%)","PCC \n(0,5%)","TVA sur Droit de Douane","Total Achat à l'étranger","Achats HT"," Coûts locaux (Transport, montage,..)","T.V.A","Total Achat en RCI","Coût total HT","Coût total TTC"]
[null,null,null,null,null,"Taux","Montant"]
[]
[null,"CONSTRUCTIONS & BÂTIMENTS",null,null,{"$f":"SUM(E8:E507)","v":0},null,{"$f":"SUM(G8:G507)","v":0},0,0,0,0,0,0,0,0,0,0,0]
[1,{"$f":"'INVENT.Construc&Bat Importé -10'!B7","v":0},{"$f":"'INVENT.Construc&Bat Importé -10'!F7","v":0},{"$f":"'INVENT.Construc&Bat Importé -10'!C7","v":0},{"$f":"'INVENT.Construc&Bat Importé -10'!H7","v":0},null,{"$f":"F8*E8","v":0},{"$f":"E8*1%","v":0},{"$f":"E8*1%","v":0},{"$f":"E8*0.5%","v":0},{"$f":"(E8+G8+H8)*18%","v":0},{"$f":"SUM(G8:K8)+E8","v":0},null,null,{"$f":"(M8+N8)*18%","v":0},{"$f":"O8+N8+M8","v":0},{"$f":"+R8-O8-K8","v":0},{"$f":"P8+L8","v":0}]
[{"$f":"+A8+1","v":2},{"$f":"'INVENT.Construc&Bat Importé -10'!B8","v":0},{"$f":"'INVENT.Construc&Bat Importé -10'!F8","v":0},{"$f":"'INVENT.Construc&Bat Importé -10'!C8","v":0},{"$f":"'INVENT.Construc&Bat Importé -10'!H8","v":0},null,{"$f":"F9*E9","v":0},{"$f":"E9*1%","v":0},{"$f":"E9*1%","v":0},{"$f":"E9*0.5%","v":0},{"$f":"(E9+G9+H9)*18%","v":0},0,null,null,{"$f":"(M9+N9)*18%","v":0},{"$f":"O9+N9+M9","v":0},{"$f":"+R9-O9-K9","v":0},{"$f":"P9+L9","v":0}]
[{"$f":"+A9+1","v":3},{"$f":"'INVENT.Construc&Bat Importé -10'!B9","v":0},{"$f":"'INVENT.Construc&Bat Importé -10'!F9","v":0},{"$f":"'INVENT.Construc&Bat Importé -10'!C9","v":0},{"$f":"'INVENT.Construc&Bat Importé -10'!H9","v":0},null,{"$f":"F10*E10","v":0},0,0,0,{"$f":"(E10+G10+H10)*18%","v":0},0,null,null,{"$f":"(M10+N10)*18%","v":0},{"$f":"O10+N10+M10","v":0},{"$f":"+R10-O10-K10","v":0},{"$f":"P10+L10","v":0}]
[4,{"$f":"'INVENT.Construc&Bat Importé -10'!B10","v":0},{"$f":"'INVENT.Construc&Bat Importé -10'!F10","v":0},{"$f":"'INVENT.Construc&Bat Importé -10'!C10","v":0},{"$f":"'INVENT.Construc&Bat Importé -10'!H10","v":0},null,0,0,0,0,0,0,null,null,0,0,0,0]
[5,{"$f":"'INVENT.Construc&Bat Importé -10'!B11","v":0},{"$f":"'INVENT.Construc&Bat Importé -10'!F11","v":0},{"$f":"'INVENT.Construc&Bat Importé -10'!C11","v":0},{"$f":"'INVENT.Construc&Bat Importé -10'!H11","v":0},null,0,0,0,0,0,0,null,null,0,0,0,0]
[6,{"$f":"'INVENT.Construc&Bat Importé -10'!B12","v":0},{"$f":"'INVENT.Construc&Bat Importé -10'!F12","v":0},{"$f":"'INVENT.Construc&Bat Importé -10'!C12","v":0},{"$f":"'INVENT.Construc&Bat Importé -10'!H12","v":0},null,0,0,0,0,0,0,null,null,0,0,0,0]
[7,{"$f":"'INVENT.Construc&Bat Importé -10'!B13","v":0},{"$f":"'INVENT.Construc&Bat Importé -10'!F13","v":0},{"$f":"'INVENT.Construc&Bat Importé -10'!C13","v":0},{"$f":"'INVENT.Construc&Bat Importé -10'!H13","v":0},null,0,0,0,0,0,0,null,null,0,0,0,0]
[8,{"$f":"'INVENT.Construc&Bat Importé -10'!B14","v":0},{"$f":"'INVENT.Construc&Bat Importé -10'!F14","v":0},{"$f":"'INVENT.Construc&Bat Importé -10'!C14","v":0},{"$f":"'INVENT.Construc&Bat Importé -10'!H14","v":0},null,0,0,0,0,0,0,null,null,0,0,0,0]
[9,{"$f":"'INVENT.Construc&Bat Importé -10'!B15","v":0},{"$f":"'INVENT.Construc&Bat Importé -10'!F15","v":0},{"$f":"'INVENT.Construc&Bat Importé -10'!C15","v":0},{"$f":"'INVENT.Construc&Bat Importé -10'!H15","v":0},null,0,0,0,0,0,0,null,null,0,0,0,0]
[10,{"$f":"'INVENT.Construc&Bat Importé -10'!B16","v":0},{"$f":"'INVENT.Construc&Bat Importé -10'!F16","v":0},{"$f":"'INVENT.Construc&Bat Importé -10'!C16","v":0},{"$f":"'INVENT.Construc&Bat Importé -10'!H16","v":0},null,0,0,0,0,0,0,null,null,0,0,0,0]
[11,{"$f":"'INVENT.Construc&Bat Importé -10'!B17","v":0},{"$f":"'INVENT.Construc&Bat Importé -10'!F17","v":0},{"$f":"'INVENT.Construc&Bat Importé -10'!C17","v":0},{"$f":"'INVENT.Construc&Bat Importé -10'!H17","v":0},null,{"$f":"F18*E18","v":0},0,0,0,{"$f":"(E18+G18+H18)*18%","v":0},0,null,null,{"$f":"(M18+N18)*18%","v":0},{"$f":"O18+N18+M18","v":0},{"$f":"+R18-O18-K18","v":0},{"$f":"P18+L18","v":0}]
[12,{"$f":"'INVENT.Construc&Bat Importé -10'!B18","v":0},{"$f":"'INVENT.Construc&Bat Importé -10'!F18","v":0},{"$f":"'INVENT.Construc&Bat Importé -10'!C18","v":0},{"$f":"'INVENT.Construc&Bat Importé -10'!H18","v":0},null,0,0,0,0,0,0,null,null,0,0,0,0]
[13,{"$f":"'INVENT.Construc&Bat Importé -10'!B19","v":0},{"$f":"'INVENT.Construc&Bat Importé -10'!F19","v":0},{"$f":"'INVENT.Construc&Bat Importé -10'!C19","v":0},{"$f":"'INVENT.Construc&Bat Importé -10'!H19","v":0},null,0,0,0,0,0,0,null,null,0,0,0,0]
[14,{"$f":"'INVENT.Construc&Bat Importé -10'!B20","v":0},{"$f":"'INVENT.Construc&Bat Importé -10'!F20","v":0},{"$f":"'INVENT.Construc&Bat Importé -10'!C20","v":0},{"$f":"'INVENT.Construc&Bat Importé -10'!H20","v":0},null,0,0,0,0,0,0,null,null,0,0,0,0]
[15,{"$f":"'INVENT.Construc&Bat Importé -10'!B21","v":0},{"$f":"'INVENT.Construc&Bat Importé -10'!F21","v":0},{"$f":"'INVENT.Construc&Bat Importé -10'!C21","v":0},{"$f":"'INVENT.Construc&Bat Importé -10'!H21","v":0},null,0,0,0,0,0,0,null,null,0,0,0,0]
[16,{"$f":"'INVENT.Construc&Bat Importé -10'!B22","v":0},{"$f":"'INVENT.Construc&Bat Importé -10'!F22","v":0},{"$f":"'INVENT.Construc&Bat Importé -10'!C22","v":0},{"$f":"'INVENT.Construc&Bat Importé -10'!H22","v":0},null,0,0,0,0,0,0,null,null,0,0,0,0]
[17,{"$f":"'INVENT.Construc&Bat Importé -10'!B23","v":0},{"$f":"'INVENT.Construc&Bat Importé -10'!F23","v":0},{"$f":"'INVENT.Construc&Bat Importé -10'!C23","v":0},{"$f":"'INVENT.Construc&Bat Importé -10'!H23","v":0},null,0,0,0,0,0,0,null,null,0,0,0,0]
[18,{"$f":"'INVENT.Construc&Bat Importé -10'!B24","v":0},{"$f":"'INVENT.Construc&Bat Importé -10'!F24","v":0},{"$f":"'INVENT.Construc&Bat Importé -10'!C24","v":0},{"$f":"'INVENT.Construc&Bat Importé -10'!H24","v":0},null,0,0,0,0,0,0,null,null,0,0,0,0]
[19,{"$f":"'INVENT.Construc&Bat Importé -10'!B25","v":0},{"$f":"'INVENT.Construc&Bat Importé -10'!F25","v":0},{"$f":"'INVENT.Construc&Bat Importé -10'!C25","v":0},{"$f":"'INVENT.Construc&Bat Importé -10'!H25","v":0},null,0,0,0,0,0,0,null,null,0,0,0,0]
[20,{"$f":"'INVENT.Construc&Bat Importé -10'!B26","v":0},{"$f":"'INVENT.Construc&Bat Importé -10'!F26","v":0},{"$f":"'INVENT.Construc&Bat Importé -10'!C26","v":0},{"$f":"'INVENT.Construc&Bat Importé -10'!H26","v":0},null,0,0,0,0,0,0,null,null,0,0,0,0]
[21,{"$f":"'INVENT.Construc&Bat Importé -10'!B27","v":0},{"$f":"'INVENT.Construc&Bat Importé -10'!F27","v":0},{"$f":"'INVENT.Construc&Bat Importé -10'!C27","v":0},{"$f":"'INVENT.Construc&Bat Importé -10'!H27","v":0},null,0,0,0,0,0,0,null,null,0,0,0,0]
[22,{"$f":"'INVENT.Construc&Bat Importé -10'!B28","v":0},{"$f":"'INVENT.Construc&Bat Importé -10'!F28","v":0},{"$f":"'INVENT.Construc&Bat Importé -10'!C28","v":0},{"$f":"'INVENT.Construc&Bat Importé -10'!H28","v":0},null,0,0,0,0,0,0,null,null,0,0,0,0]
[23,{"$f":"'INVENT.Construc&Bat Importé -10'!B29","v":0},{"$f":"'INVENT.Construc&Bat Importé -10'!F29","v":0},{"$f":"'INVENT.Construc&Bat Importé -10'!C29","v":0},{"$f":"'INVENT.Construc&Bat Importé -10'!H29","v":0},null,0,0,0,0,0,0,null,null,0,0,0,0]
[24,{"$f":"'INVENT.Construc&Bat Importé -10'!B30","v":0},{"$f":"'INVENT.Construc&Bat Importé -10'!F30","v":0},{"$f":"'INVENT.Construc&Bat Importé -10'!C30","v":0},{"$f":"'INVENT.Construc&Bat Importé -10'!H30","v":0},null,0,0,0,0,0,0,null,null,0,0,0,0]
[25,{"$f":"'INVENT.Construc&Bat Importé -10'!B31","v":0},{"$f":"'INVENT.Construc&Bat Importé -10'!F31","v":0},{"$f":"'INVENT.Construc&Bat Importé -10'!C31","v":0},{"$f":"'INVENT.Construc&Bat Importé -10'!H31","v":0},null,0,0,0,0,0,0,null,null,0,0,0,0]
[26,{"$f":"'INVENT.Construc&Bat Importé -10'!B32","v":0},{"$f":"'INVENT.Construc&Bat Importé -10'!F32","v":0},{"$f":"'INVENT.Construc&Bat Importé -10'!C32","v":0},{"$f":"'INVENT.Construc&Bat Importé -10'!H32","v":0},null,0,0,0,0,0,0,null,null,0,0,0,0]
[27,{"$f":"'INVENT.Construc&Bat Importé -10'!B33","v":0},{"$f":"'INVENT.Construc&Bat Importé -10'!F33","v":0},{"$f":"'INVENT.Construc&Bat Importé -10'!C33","v":0},{"$f":"'INVENT.Construc&Bat Importé -10'!H33","v":0},null,0,0,0,0,0,0,null,null,0,0,0,0]
[28,{"$f":"'INVENT.Construc&Bat Importé -10'!B34","v":0},{"$f":"'INVENT.Construc&Bat Importé -10'!F34","v":0},{"$f":"'INVENT.Construc&Bat Importé -10'!C34","v":0},{"$f":"'INVENT.Construc&Bat Importé -10'!H34","v":0},null,0,0,0,0,0,0,null,null,0,0,0,0]
[29,{"$f":"'INVENT.Construc&Bat Importé -10'!B35","v":0},{"$f":"'INVENT.Construc&Bat Importé -10'!F35","v":0},{"$f":"'INVENT.Construc&Bat Importé -10'!C35","v":0},{"$f":"'INVENT.Construc&Bat Importé -10'!H35","v":0},null,0,0,0,0,0,0,null,null,0,0,0,0]
[30,{"$f":"'INVENT.Construc&Bat Importé -10'!B36","v":0},{"$f":"'INVENT.Construc&Bat Importé -10'!F36","v":0},{"$f":"'INVENT.Construc&Bat Importé -10'!C36","v":0},{"$f":"'INVENT.Construc&Bat Importé -10'!H36","v":0},null,0,0,0,0,0,0,null,null,0,0,0,0]
[31,{"$f":"'INVENT.Construc&Bat Importé -10'!B37","v":0},{"$f":"'INVENT.Construc&Bat Importé -10'!F37","v":0},{"$f":"'INVENT.Construc&Bat Importé -10'!C37","v":0},{"$f":"'INVENT.Construc&Bat Importé -10'!H37","v":0},null,0,0,0,0,0,0,null,null,0,0,0,0]
[32,{"$f":"'INVENT.Construc&Bat Importé -10'!B38","v":0},{"$f":"'INVENT.Construc&Bat Importé -10'!F38","v":0},{"$f":"'INVENT.Construc&Bat Importé -10'!C38","v":0},{"$f":"'INVENT.Construc&Bat Importé -10'!H38","v":0},null,0,0,0,0,0,0,null,null,0,0,0,0]
[33,{"$f":"'INVENT.Construc&Bat Importé -10'!B39","v":0},{"$f":"'INVENT.Construc&Bat Importé -10'!F39","v":0},{"$f":"'INVENT.Construc&Bat Importé -10'!C39","v":0},{"$f":"'INVENT.Construc&Bat Importé -10'!H39","v":0},null,0,0,0,0,0,0,null,null,0,0,0,0]
[34,{"$f":"'INVENT.Construc&Bat Importé -10'!B40","v":0},{"$f":"'INVENT.Construc&Bat Importé -10'!F40","v":0},{"$f":"'INVENT.Construc&Bat Importé -10'!C40","v":0},{"$f":"'INVENT.Construc&Bat Importé -10'!H40","v":0},null,0,0,0,0,0,0,null,null,0,0,0,0]
[35,{"$f":"'INVENT.Construc&Bat Importé -10'!B41","v":0},{"$f":"'INVENT.Construc&Bat Importé -10'!F41","v":0},{"$f":"'INVENT.Construc&Bat Importé -10'!C41","v":0},{"$f":"'INVENT.Construc&Bat Importé -10'!H41","v":0},null,0,0,0,0,0,0,null,null,0,0,0,0]
[36,{"$f":"'INVENT.Construc&Bat Importé -10'!B42","v":0},{"$f":"'INVENT.Construc&Bat Importé -10'!F42","v":0},{"$f":"'INVENT.Construc&Bat Importé -10'!C42","v":0},{"$f":"'INVENT.Construc&Bat Importé -10'!H42","v":0},null,0,0,0,0,0,0,null,null,0,0,0,0]
[37,{"$f":"'INVENT.Construc&Bat Importé -10'!B43","v":0},{"$f":"'INVENT.Construc&Bat Importé -10'!F43","v":0},{"$f":"'INVENT.Construc&Bat Importé -10'!C43","v":0},{"$f":"'INVENT.Construc&Bat Importé -10'!H43","v":0},null,0,0,0,0,0,0,null,null,0,0,0,0]
[38,{"$f":"'INVENT.Construc&Bat Importé -10'!B44","v":0},{"$f":"'INVENT.Construc&Bat Importé -10'!F44","v":0},{"$f":"'INVENT.Construc&Bat Importé -10'!C44","v":0},{"$f":"'INVENT.Construc&Bat Importé -10'!H44","v":0},null,0,0,0,0,0,0,null,null,0,0,0,0]
[39,{"$f":"'INVENT.Construc&Bat Importé -10'!B45","v":0},{"$f":"'INVENT.Construc&Bat Importé -10'!F45","v":0},{"$f":"'INVENT.Construc&Bat Importé -10'!C45","v":0},{"$f":"'INVENT.Construc&Bat Importé -10'!H45","v":0},null,0,0,0,0,0,0,null,null,0,0,0,0]
[{"$f":"+A46+1","v":40},{"$f":"'INVENT.Construc&Bat Importé -10'!B46","v":0},{"$f":"'INVENT.Construc&Bat Importé -10'!F46","v":0},{"$f":"'INVENT.Construc&Bat Importé -10'!C46","v":0},{"$f":"'INVENT.Construc&Bat Importé -10'!H46","v":0},null,{"$f":"F47*E47","v":0},0,0,0,{"$f":"(E47+G47+H47)*18%","v":0},0,null,null,{"$f":"(M47+N47)*18%","v":0},{"$f":"O47+N47+M47","v":0},{"$f":"+R47-O47-K47","v":0},{"$f":"P47+L47","v":0}]
[41,{"$f":"'INVENT.Construc&Bat Importé -10'!B47","v":0},{"$f":"'INVENT.Construc&Bat Importé -10'!F47","v":0},{"$f":"'INVENT.Construc&Bat Importé -10'!C47","v":0},{"$f":"'INVENT.Construc&Bat Importé -10'!H47","v":0},null,0,0,0,0,0,0,null,null,0,0,0,0]
[42,{"$f":"'INVENT.Construc&Bat Importé -10'!B48","v":0},{"$f":"'INVENT.Construc&Bat Importé -10'!F48","v":0},{"$f":"'INVENT.Construc&Bat Importé -10'!C48","v":0},{"$f":"'INVENT.Construc&Bat Importé -10'!H48","v":0},null,0,0,0,0,0,0,null,null,0,0,0,0]
[43,{"$f":"'INVENT.Construc&Bat Importé -10'!B49","v":0},{"$f":"'INVENT.Construc&Bat Importé -10'!F49","v":0},{"$f":"'INVENT.Construc&Bat Importé -10'!C49","v":0},{"$f":"'INVENT.Construc&Bat Importé -10'!H49","v":0},null,0,0,0,0,0,0,null,null,0,0,0,0]
[44,{"$f":"'INVENT.Construc&Bat Importé -10'!B50","v":0},{"$f":"'INVENT.Construc&Bat Importé -10'!F50","v":0},{"$f":"'INVENT.Construc&Bat Importé -10'!C50","v":0},{"$f":"'INVENT.Construc&Bat Importé -10'!H50","v":0},null,0,0,0,0,0,0,null,null,0,0,0,0]
[45,{"$f":"'INVENT.Construc&Bat Importé -10'!B51","v":0},{"$f":"'INVENT.Construc&Bat Importé -10'!F51","v":0},{"$f":"'INVENT.Construc&Bat Importé -10'!C51","v":0},{"$f":"'INVENT.Construc&Bat Importé -10'!H51","v":0},null,0,0,0,0,0,0,null,null,0,0,0,0]
[46,{"$f":"'INVENT.Construc&Bat Importé -10'!B52","v":0},{"$f":"'INVENT.Construc&Bat Importé -10'!F52","v":0},{"$f":"'INVENT.Construc&Bat Importé -10'!C52","v":0},{"$f":"'INVENT.Construc&Bat Importé -10'!H52","v":0},null,0,0,0,0,0,0,null,null,0,0,0,0]
[47,{"$f":"'INVENT.Construc&Bat Importé -10'!B53","v":0},{"$f":"'INVENT.Construc&Bat Importé -10'!F53","v":0},{"$f":"'INVENT.Construc&Bat Importé -10'!C53","v":0},{"$f":"'INVENT.Construc&Bat Importé -10'!H53","v":0},null,0,0,0,0,0,0,null,null,0,0,0,0]
[48,{"$f":"'INVENT.Construc&Bat Importé -10'!B54","v":0},{"$f":"'INVENT.Construc&Bat Importé -10'!F54","v":0},{"$f":"'INVENT.Construc&Bat Importé -10'!C54","v":0},{"$f":"'INVENT.Construc&Bat Importé -10'!H54","v":0},null,{"$f":"F55*E55","v":0},0,0,0,{"$f":"(E55+G55+H55)*18%","v":0},{"$f":"SUM(G55:K55)+E55","v":0},null,null,{"$f":"(M55+N55)*18%","v":0},{"$f":"O55+N55+M55","v":0},{"$f":"+R55-O55-K55","v":0},{"$f":"P55+L55","v":0}]
[49,{"$f":"'INVENT.Construc&Bat Importé -10'!B55","v":0},{"$f":"'INVENT.Construc&Bat Importé -10'!F55","v":0},{"$f":"'INVENT.Construc&Bat Importé -10'!C55","v":0},{"$f":"'INVENT.Construc&Bat Importé -10'!H55","v":0},null,0,0,0,0,0,0,null,null,0,0,0,0]
[50,{"$f":"'INVENT.Construc&Bat Importé -10'!B56","v":0},{"$f":"'INVENT.Construc&Bat Importé -10'!F56","v":0},{"$f":"'INVENT.Construc&Bat Importé -10'!C56","v":0},{"$f":"'INVENT.Construc&Bat Importé -10'!H56","v":0},null,0,0,0,0,0,0,null,null,0,0,0,0]
[51,{"$f":"'INVENT.Construc&Bat Importé -10'!B57","v":0},{"$f":"'INVENT.Construc&Bat Importé -10'!F57","v":0},{"$f":"'INVENT.Construc&Bat Importé -10'!C57","v":0},{"$f":"'INVENT.Construc&Bat Importé -10'!H57","v":0},null,0,0,0,0,0,0,null,null,0,0,0,0]
[52,{"$f":"'INVENT.Construc&Bat Importé -10'!B58","v":0},{"$f":"'INVENT.Construc&Bat Importé -10'!F58","v":0},{"$f":"'INVENT.Construc&Bat Importé -10'!C58","v":0},{"$f":"'INVENT.Construc&Bat Importé -10'!H58","v":0},null,0,0,0,0,0,0,null,null,0,0,0,0]
[53,{"$f":"'INVENT.Construc&Bat Importé -10'!B59","v":0},{"$f":"'INVENT.Construc&Bat Importé -10'!F59","v":0},{"$f":"'INVENT.Construc&Bat Importé -10'!C59","v":0},{"$f":"'INVENT.Construc&Bat Importé -10'!H59","v":0},null,0,0,0,0,0,0,null,null,0,0,0,0]
[54,{"$f":"'INVENT.Construc&Bat Importé -10'!B60","v":0},{"$f":"'INVENT.Construc&Bat Importé -10'!F60","v":0},{"$f":"'INVENT.Construc&Bat Importé -10'!C60","v":0},{"$f":"'INVENT.Construc&Bat Importé -10'!H60","v":0},null,0,0,0,0,0,0,null,null,0,0,0,0]
[55,{"$f":"'INVENT.Construc&Bat Importé -10'!B61","v":0},{"$f":"'INVENT.Construc&Bat Importé -10'!F61","v":0},{"$f":"'INVENT.Construc&Bat Importé -10'!C61","v":0},{"$f":"'INVENT.Construc&Bat Importé -10'!H61","v":0},null,0,0,0,0,0,0,null,null,0,0,0,0]
[56,{"$f":"'INVENT.Construc&Bat Importé -10'!B62","v":0},{"$f":"'INVENT.Construc&Bat Importé -10'!F62","v":0},{"$f":"'INVENT.Construc&Bat Importé -10'!C62","v":0},{"$f":"'INVENT.Construc&Bat Importé -10'!H62","v":0},null,0,0,0,0,0,0,null,null,0,0,0,0]
[57,{"$f":"'INVENT.Construc&Bat Importé -10'!B63","v":0},{"$f":"'INVENT.Construc&Bat Importé -10'!F63","v":0},{"$f":"'INVENT.Construc&Bat Importé -10'!C63","v":0},{"$f":"'INVENT.Construc&Bat Importé -10'!H63","v":0},null,0,0,0,0,0,0,null,null,0,0,0,0]
[58,{"$f":"'INVENT.Construc&Bat Importé -10'!B64","v":0},{"$f":"'INVENT.Construc&Bat Importé -10'!F64","v":0},{"$f":"'INVENT.Construc&Bat Importé -10'!C64","v":0},{"$f":"'INVENT.Construc&Bat Importé -10'!H64","v":0},null,0,0,0,0,0,0,null,null,0,0,0,0]
[59,{"$f":"'INVENT.Construc&Bat Importé -10'!B65","v":0},{"$f":"'INVENT.Construc&Bat Importé -10'!F65","v":0},{"$f":"'INVENT.Construc&Bat Importé -10'!C65","v":0},{"$f":"'INVENT.Construc&Bat Importé -10'!H65","v":0},null,0,0,0,0,0,0,null,null,0,0,0,0]
[60,{"$f":"'INVENT.Construc&Bat Importé -10'!B66","v":0},{"$f":"'INVENT.Construc&Bat Importé -10'!F66","v":0},{"$f":"'INVENT.Construc&Bat Importé -10'!C66","v":0},{"$f":"'INVENT.Construc&Bat Importé -10'!H66","v":0},null,0,0,0,0,0,0,null,null,0,0,0,0]
[61,{"$f":"'INVENT.Construc&Bat Importé -10'!B67","v":0},{"$f":"'INVENT.Construc&Bat Importé -10'!F67","v":0},{"$f":"'INVENT.Construc&Bat Importé -10'!C67","v":0},{"$f":"'INVENT.Construc&Bat Importé -10'!H67","v":0},null,0,0,0,0,0,0,null,null,0,0,0,0]
[62,{"$f":"'INVENT.Construc&Bat Importé -10'!B68","v":0},{"$f":"'INVENT.Construc&Bat Importé -10'!F68","v":0},{"$f":"'INVENT.Construc&Bat Importé -10'!C68","v":0},{"$f":"'INVENT.Construc&Bat Importé -10'!H68","v":0},null,0,0,0,0,0,0,null,null,0,0,0,0]
[63,{"$f":"'INVENT.Construc&Bat Importé -10'!B69","v":0},{"$f":"'INVENT.Construc&Bat Importé -10'!F69","v":0},{"$f":"'INVENT.Construc&Bat Importé -10'!C69","v":0},{"$f":"'INVENT.Construc&Bat Importé -10'!H69","v":0},null,0,0,0,0,0,0,null,null,0,0,0,0]
[64,{"$f":"'INVENT.Construc&Bat Importé -10'!B70","v":0},{"$f":"'INVENT.Construc&Bat Importé -10'!F70","v":0},{"$f":"'INVENT.Construc&Bat Importé -10'!C70","v":0},{"$f":"'INVENT.Construc&Bat Importé -10'!H70","v":0},null,0,0,0,0,0,0,null,null,0,0,0,0]
[65,{"$f":"'INVENT.Construc&Bat Importé -10'!B71","v":0},{"$f":"'INVENT.Construc&Bat Importé -10'!F71","v":0},{"$f":"'INVENT.Construc&Bat Importé -10'!C71","v":0},{"$f":"'INVENT.Construc&Bat Importé -10'!H71","v":0},null,0,0,0,0,0,0,null,null,0,0,0,0]
[66,{"$f":"'INVENT.Construc&Bat Importé -10'!B72","v":0},{"$f":"'INVENT.Construc&Bat Importé -10'!F72","v":0},{"$f":"'INVENT.Construc&Bat Importé -10'!C72","v":0},{"$f":"'INVENT.Construc&Bat Importé -10'!H72","v":0},null,0,{"$f":"E73*1%","v":0},{"$f":"E73*1%","v":0},{"$f":"E73*0.5%","v":0},0,0,null,null,0,0,0,0]
[67,{"$f":"'INVENT.Construc&Bat Importé -10'!B73","v":0},{"$f":"'INVENT.Construc&Bat Importé -10'!F73","v":0},{"$f":"'INVENT.Construc&Bat Importé -10'!C73","v":0},{"$f":"'INVENT.Construc&Bat Importé -10'!H73","v":0},null,0,0,0,0,0,0,null,null,0,0,0,0]
[68,{"$f":"'INVENT.Construc&Bat Importé -10'!B74","v":0},{"$f":"'INVENT.Construc&Bat Importé -10'!F74","v":0},{"$f":"'INVENT.Construc&Bat Importé -10'!C74","v":0},{"$f":"'INVENT.Construc&Bat Importé -10'!H74","v":0},null,0,0,0,0,0,0,null,null,0,0,0,0]
[69,{"$f":"'INVENT.Construc&Bat Importé -10'!B75","v":0},{"$f":"'INVENT.Construc&Bat Importé -10'!F75","v":0},{"$f":"'INVENT.Construc&Bat Importé -10'!C75","v":0},{"$f":"'INVENT.Construc&Bat Importé -10'!H75","v":0},null,0,0,0,0,0,0,null,null,0,0,0,0]
[70,{"$f":"'INVENT.Construc&Bat Importé -10'!B76","v":0},{"$f":"'INVENT.Construc&Bat Importé -10'!F76","v":0},{"$f":"'INVENT.Construc&Bat Importé -10'!C76","v":0},{"$f":"'INVENT.Construc&Bat Importé -10'!H76","v":0},null,0,0,0,0,0,0,null,null,0,0,0,0]
[71,{"$f":"'INVENT.Construc&Bat Importé -10'!B77","v":0},{"$f":"'INVENT.Construc&Bat Importé -10'!F77","v":0},{"$f":"'INVENT.Construc&Bat Importé -10'!C77","v":0},{"$f":"'INVENT.Construc&Bat Importé -10'!H77","v":0},null,0,0,0,0,0,0,null,null,0,0,0,0]
[72,{"$f":"'INVENT.Construc&Bat Importé -10'!B78","v":0},{"$f":"'INVENT.Construc&Bat Importé -10'!F78","v":0},{"$f":"'INVENT.Construc&Bat Importé -10'!C78","v":0},{"$f":"'INVENT.Construc&Bat Importé -10'!H78","v":0},null,0,0,0,0,0,0,null,null,0,0,0,0]
[73,{"$f":"'INVENT.Construc&Bat Importé -10'!B79","v":0},{"$f":"'INVENT.Construc&Bat Importé -10'!F79","v":0},{"$f":"'INVENT.Construc&Bat Importé -10'!C79","v":0},{"$f":"'INVENT.Construc&Bat Importé -10'!H79","v":0},null,0,0,0,0,0,0,null,null,0,0,0,0]
[74,{"$f":"'INVENT.Construc&Bat Importé -10'!B80","v":0},{"$f":"'INVENT.Construc&Bat Importé -10'!F80","v":0},{"$f":"'INVENT.Construc&Bat Importé -10'!C80","v":0},{"$f":"'INVENT.Construc&Bat Importé -10'!H80","v":0},null,0,0,0,0,0,0,null,null,0,0,0,0]
[75,{"$f":"'INVENT.Construc&Bat Importé -10'!B81","v":0},{"$f":"'INVENT.Construc&Bat Importé -10'!F81","v":0},{"$f":"'INVENT.Construc&Bat Importé -10'!C81","v":0},{"$f":"'INVENT.Construc&Bat Importé -10'!H81","v":0},null,0,0,0,0,0,0,null,null,0,0,0,0]
[76,{"$f":"'INVENT.Construc&Bat Importé -10'!B82","v":0},{"$f":"'INVENT.Construc&Bat Importé -10'!F82","v":0},{"$f":"'INVENT.Construc&Bat Importé -10'!C82","v":0},{"$f":"'INVENT.Construc&Bat Importé -10'!H82","v":0},null,0,0,0,0,0,0,null,null,0,0,0,0]
[77,{"$f":"'INVENT.Construc&Bat Importé -10'!B83","v":0},{"$f":"'INVENT.Construc&Bat Importé -10'!F83","v":0},{"$f":"'INVENT.Construc&Bat Importé -10'!C83","v":0},{"$f":"'INVENT.Construc&Bat Importé -10'!H83","v":0},null,0,0,0,0,0,0,null,null,0,0,0,0]
[78,{"$f":"'INVENT.Construc&Bat Importé -10'!B84","v":0},{"$f":"'INVENT.Construc&Bat Importé -10'!F84","v":0},{"$f":"'INVENT.Construc&Bat Importé -10'!C84","v":0},{"$f":"'INVENT.Construc&Bat Importé -10'!H84","v":0},null,0,0,0,0,0,0,null,null,0,0,0,0]
[79,{"$f":"'INVENT.Construc&Bat Importé -10'!B85","v":0},{"$f":"'INVENT.Construc&Bat Importé -10'!F85","v":0},{"$f":"'INVENT.Construc&Bat Importé -10'!C85","v":0},{"$f":"'INVENT.Construc&Bat Importé -10'!H85","v":0},null,0,0,0,0,0,0,null,null,0,0,0,0]
[80,{"$f":"'INVENT.Construc&Bat Importé -10'!B86","v":0},{"$f":"'INVENT.Construc&Bat Importé -10'!F86","v":0},{"$f":"'INVENT.Construc&Bat Importé -10'!C86","v":0},{"$f":"'INVENT.Construc&Bat Importé -10'!H86","v":0},null,0,0,0,0,0,0,null,null,0,0,0,0]
[81,{"$f":"'INVENT.Construc&Bat Importé -10'!B87","v":0},{"$f":"'INVENT.Construc&Bat Importé -10'!F87","v":0},{"$f":"'INVENT.Construc&Bat Importé -10'!C87","v":0},{"$f":"'INVENT.Construc&Bat Importé -10'!H87","v":0},null,0,0,0,0,0,0,null,null,0,0,0,0]
[82,{"$f":"'INVENT.Construc&Bat Importé -10'!B88","v":0},{"$f":"'INVENT.Construc&Bat Importé -10'!F88","v":0},{"$f":"'INVENT.Construc&Bat Importé -10'!C88","v":0},{"$f":"'INVENT.Construc&Bat Importé -10'!H88","v":0},null,0,0,0,0,0,0,null,null,0,0,0,0]
[83,{"$f":"'INVENT.Construc&Bat Importé -10'!B89","v":0},{"$f":"'INVENT.Construc&Bat Importé -10'!F89","v":0},{"$f":"'INVENT.Construc&Bat Importé -10'!C89","v":0},{"$f":"'INVENT.Construc&Bat Importé -10'!H89","v":0},null,0,0,0,0,0,0,null,null,0,0,0,0]
[84,{"$f":"'INVENT.Construc&Bat Importé -10'!B90","v":0},{"$f":"'INVENT.Construc&Bat Importé -10'!F90","v":0},{"$f":"'INVENT.Construc&Bat Importé -10'!C90","v":0},{"$f":"'INVENT.Construc&Bat Importé -10'!H90","v":0},null,0,0,0,0,0,0,null,null,0,0,0,0]
[85,{"$f":"'INVENT.Construc&Bat Importé -10'!B91","v":0},{"$f":"'INVENT.Construc&Bat Importé -10'!F91","v":0},{"$f":"'INVENT.Construc&Bat Importé -10'!C91","v":0},{"$f":"'INVENT.Construc&Bat Importé -10'!H91","v":0},null,0,0,0,0,0,0,null,null,0,0,0,0]
[86,{"$f":"'INVENT.Construc&Bat Importé -10'!B92","v":0},{"$f":"'INVENT.Construc&Bat Importé -10'!F92","v":0},{"$f":"'INVENT.Construc&Bat Importé -10'!C92","v":0},{"$f":"'INVENT.Construc&Bat Importé -10'!H92","v":0},null,0,0,0,0,0,0,null,null,0,0,0,0]
[87,{"$f":"'INVENT.Construc&Bat Importé -10'!B93","v":0},{"$f":"'INVENT.Construc&Bat Importé -10'!F93","v":0},{"$f":"'INVENT.Construc&Bat Importé -10'!C93","v":0},{"$f":"'INVENT.Construc&Bat Importé -10'!H93","v":0},null,0,0,0,0,0,0,null,null,0,0,0,0]
[88,{"$f":"'INVENT.Construc&Bat Importé -10'!B94","v":0},{"$f":"'INVENT.Construc&Bat Importé -10'!F94","v":0},{"$f":"'INVENT.Construc&Bat Importé -10'!C94","v":0},{"$f":"'INVENT.Construc&Bat Importé -10'!H94","v":0},null,0,0,0,0,0,0,null,null,0,0,0,0]
[89,{"$f":"'INVENT.Construc&Bat Importé -10'!B95","v":0},{"$f":"'INVENT.Construc&Bat Importé -10'!F95","v":0},{"$f":"'INVENT.Construc&Bat Importé -10'!C95","v":0},{"$f":"'INVENT.Construc&Bat Importé -10'!H95","v":0},null,0,0,0,0,0,0,null,null,0,0,0,0]
[90,{"$f":"'INVENT.Construc&Bat Importé -10'!B96","v":0},{"$f":"'INVENT.Construc&Bat Importé -10'!F96","v":0},{"$f":"'INVENT.Construc&Bat Importé -10'!C96","v":0},{"$f":"'INVENT.Construc&Bat Importé -10'!H96","v":0},null,0,0,0,0,0,0,null,null,0,0,0,0]
[91,{"$f":"'INVENT.Construc&Bat Importé -10'!B97","v":0},{"$f":"'INVENT.Construc&Bat Importé -10'!F97","v":0},{"$f":"'INVENT.Construc&Bat Importé -10'!C97","v":0},{"$f":"'INVENT.Construc&Bat Importé -10'!H97","v":0},null,0,0,0,0,0,0,null,null,0,0,0,0]
[92,{"$f":"'INVENT.Construc&Bat Importé -10'!B98","v":0},{"$f":"'INVENT.Construc&Bat Importé -10'!F98","v":0},{"$f":"'INVENT.Construc&Bat Importé -10'!C98","v":0},{"$f":"'INVENT.Construc&Bat Importé -10'!H98","v":0},null,0,0,0,0,0,0,null,null,0,0,0,0]
[93,{"$f":"'INVENT.Construc&Bat Importé -10'!B99","v":0},{"$f":"'INVENT.Construc&Bat Importé -10'!F99","v":0},{"$f":"'INVENT.Construc&Bat Importé -10'!C99","v":0},{"$f":"'INVENT.Construc&Bat Importé -10'!H99","v":0},null,0,0,0,0,0,0,null,null,0,0,0,0]
[94,{"$f":"'INVENT.Construc&Bat Importé -10'!B100","v":0},{"$f":"'INVENT.Construc&Bat Importé -10'!F100","v":0},{"$f":"'INVENT.Construc&Bat Importé -10'!C100","v":0},{"$f":"'INVENT.Construc&Bat Importé -10'!H100","v":0},null,0,0,0,0,0,0,null,null,0,0,0,0]
[95,{"$f":"'INVENT.Construc&Bat Importé -10'!B101","v":0},{"$f":"'INVENT.Construc&Bat Importé -10'!F101","v":0},{"$f":"'INVENT.Construc&Bat Importé -10'!C101","v":0},{"$f":"'INVENT.Construc&Bat Importé -10'!H101","v":0},null,0,0,0,0,0,0,null,null,0,0,0,0]
[96,{"$f":"'INVENT.Construc&Bat Importé -10'!B102","v":0},{"$f":"'INVENT.Construc&Bat Importé -10'!F102","v":0},{"$f":"'INVENT.Construc&Bat Importé -10'!C102","v":0},{"$f":"'INVENT.Construc&Bat Importé -10'!H102","v":0},null,0,0,0,0,0,0,null,null,0,0,0,0]
[97,{"$f":"'INVENT.Construc&Bat Importé -10'!B103","v":0},{"$f":"'INVENT.Construc&Bat Importé -10'!F103","v":0},{"$f":"'INVENT.Construc&Bat Importé -10'!C103","v":0},{"$f":"'INVENT.Construc&Bat Importé -10'!H103","v":0},null,0,0,0,0,0,0,null,null,0,0,0,0]
[98,{"$f":"'INVENT.Construc&Bat Importé -10'!B104","v":0},{"$f":"'INVENT.Construc&Bat Importé -10'!F104","v":0},{"$f":"'INVENT.Construc&Bat Importé -10'!C104","v":0},{"$f":"'INVENT.Construc&Bat Importé -10'!H104","v":0},null,0,0,0,0,0,0,null,null,0,0,0,0]
[99,{"$f":"'INVENT.Construc&Bat Importé -10'!B105","v":0},{"$f":"'INVENT.Construc&Bat Importé -10'!F105","v":0},{"$f":"'INVENT.Construc&Bat Importé -10'!C105","v":0},{"$f":"'INVENT.Construc&Bat Importé -10'!H105","v":0},null,0,0,0,0,0,0,null,null,0,0,0,0]
[100,{"$f":"'INVENT.Construc&Bat Importé -10'!B106","v":0},{"$f":"'INVENT.Construc&Bat Importé -10'!F106","v":0},{"$f":"'INVENT.Construc&Bat Importé -10'!C106","v":0},{"$f":"'INVENT.Construc&Bat Importé -10'!H106","v":0},null,0,0,0,0,0,0,null,null,0,0,0,0]
[101,{"$f":"'INVENT.Construc&Bat Importé -10'!B107","v":0},{"$f":"'INVENT.Construc&Bat Importé -10'!F107","v":0},{"$f":"'INVENT.Construc&Bat Importé -10'!C107","v":0},{"$f":"'INVENT.Construc&Bat Importé -10'!H107","v":0},null,0,0,0,0,0,0,null,null,0,0,0,0]
[102,{"$f":"'INVENT.Construc&Bat Importé -10'!B108","v":0},{"$f":"'INVENT.Construc&Bat Importé -10'!F108","v":0},{"$f":"'INVENT.Construc&Bat Importé -10'!C108","v":0},{"$f":"'INVENT.Construc&Bat Importé -10'!H108","v":0},null,0,0,0,0,0,0,null,null,0,0,0,0]
[103,{"$f":"'INVENT.Construc&Bat Importé -10'!B109","v":0},{"$f":"'INVENT.Construc&Bat Importé -10'!F109","v":0},{"$f":"'INVENT.Construc&Bat Importé -10'!C109","v":0},{"$f":"'INVENT.Construc&Bat Importé -10'!H109","v":0},null,0,0,0,0,0,0,null,null,0,0,0,0]
[{"$f":"+A110+1","v":104},{"$f":"'INVENT.Construc&Bat Importé -10'!B110","v":0},{"$f":"'INVENT.Construc&Bat Importé -10'!F110","v":0},{"$f":"'INVENT.Construc&Bat Importé -10'!C110","v":0},{"$f":"'INVENT.Construc&Bat Importé -10'!H110","v":0},null,0,0,0,0,0,0,null,null,0,0,0,0]
[105,{"$f":"'INVENT.Construc&Bat Importé -10'!B111","v":0},{"$f":"'INVENT.Construc&Bat Importé -10'!F111","v":0},{"$f":"'INVENT.Construc&Bat Importé -10'!C111","v":0},{"$f":"'INVENT.Construc&Bat Importé -10'!H111","v":0},null,0,0,0,0,0,0,null,null,0,0,0,0]
[106,{"$f":"'INVENT.Construc&Bat Importé -10'!B112","v":0},{"$f":"'INVENT.Construc&Bat Importé -10'!F112","v":0},{"$f":"'INVENT.Construc&Bat Importé -10'!C112","v":0},{"$f":"'INVENT.Construc&Bat Importé -10'!H112","v":0},null,0,0,0,0,0,0,null,null,0,0,0,0]
[107,{"$f":"'INVENT.Construc&Bat Importé -10'!B113","v":0},{"$f":"'INVENT.Construc&Bat Importé -10'!F113","v":0},{"$f":"'INVENT.Construc&Bat Importé -10'!C113","v":0},{"$f":"'INVENT.Construc&Bat Importé -10'!H113","v":0},null,0,0,0,0,0,0,null,null,0,0,0,0]
[108,{"$f":"'INVENT.Construc&Bat Importé -10'!B114","v":0},{"$f":"'INVENT.Construc&Bat Importé -10'!F114","v":0},{"$f":"'INVENT.Construc&Bat Importé -10'!C114","v":0},{"$f":"'INVENT.Construc&Bat Importé -10'!H114","v":0},null,0,0,0,0,0,0,null,null,0,0,0,0]
[109,{"$f":"'INVENT.Construc&Bat Importé -10'!B115","v":0},{"$f":"'INVENT.Construc&Bat Importé -10'!F115","v":0},{"$f":"'INVENT.Construc&Bat Importé -10'!C115","v":0},{"$f":"'INVENT.Construc&Bat Importé -10'!H115","v":0},null,0,0,0,0,0,0,null,null,0,0,0,0]
[110,{"$f":"'INVENT.Construc&Bat Importé -10'!B116","v":0},{"$f":"'INVENT.Construc&Bat Importé -10'!F116","v":0},{"$f":"'INVENT.Construc&Bat Importé -10'!C116","v":0},{"$f":"'INVENT.Construc&Bat Importé -10'!H116","v":0},null,0,0,0,0,0,0,null,null,0,0,0,0]
[111,{"$f":"'INVENT.Construc&Bat Importé -10'!B117","v":0},{"$f":"'INVENT.Construc&Bat Importé -10'!F117","v":0},{"$f":"'INVENT.Construc&Bat Importé -10'!C117","v":0},{"$f":"'INVENT.Construc&Bat Importé -10'!H117","v":0},null,0,0,0,0,0,0,null,null,0,0,0,0]
[112,{"$f":"'INVENT.Construc&Bat Importé -10'!B118","v":0},{"$f":"'INVENT.Construc&Bat Importé -10'!F118","v":0},{"$f":"'INVENT.Construc&Bat Importé -10'!C118","v":0},{"$f":"'INVENT.Construc&Bat Importé -10'!H118","v":0},null,{"$f":"F119*E119","v":0},0,0,0,{"$f":"(E119+G119+H119)*18%","v":0},{"$f":"SUM(G119:K119)+E119","v":0},null,null,{"$f":"(M119+N119)*18%","v":0},{"$f":"O119+N119+M119","v":0},{"$f":"+R119-O119-K119","v":0},{"$f":"P119+L119","v":0}]
[113,{"$f":"'INVENT.Construc&Bat Importé -10'!B119","v":0},{"$f":"'INVENT.Construc&Bat Importé -10'!F119","v":0},{"$f":"'INVENT.Construc&Bat Importé -10'!C119","v":0},{"$f":"'INVENT.Construc&Bat Importé -10'!H119","v":0},null,0,0,0,0,0,0,null,null,0,0,0,0]
[114,{"$f":"'INVENT.Construc&Bat Importé -10'!B120","v":0},{"$f":"'INVENT.Construc&Bat Importé -10'!F120","v":0},{"$f":"'INVENT.Construc&Bat Importé -10'!C120","v":0},{"$f":"'INVENT.Construc&Bat Importé -10'!H120","v":0},null,0,0,0,0,0,0,null,null,0,0,0,0]
[115,{"$f":"'INVENT.Construc&Bat Importé -10'!B121","v":0},{"$f":"'INVENT.Construc&Bat Importé -10'!F121","v":0},{"$f":"'INVENT.Construc&Bat Importé -10'!C121","v":0},{"$f":"'INVENT.Construc&Bat Importé -10'!H121","v":0},null,0,0,0,0,0,0,null,null,0,0,0,0]
[116,{"$f":"'INVENT.Construc&Bat Importé -10'!B122","v":0},{"$f":"'INVENT.Construc&Bat Importé -10'!F122","v":0},{"$f":"'INVENT.Construc&Bat Importé -10'!C122","v":0},{"$f":"'INVENT.Construc&Bat Importé -10'!H122","v":0},null,0,0,0,0,0,0,null,null,0,0,0,0]
[117,{"$f":"'INVENT.Construc&Bat Importé -10'!B123","v":0},{"$f":"'INVENT.Construc&Bat Importé -10'!F123","v":0},{"$f":"'INVENT.Construc&Bat Importé -10'!C123","v":0},{"$f":"'INVENT.Construc&Bat Importé -10'!H123","v":0},null,0,0,0,0,0,0,null,null,0,0,0,0]
[118,{"$f":"'INVENT.Construc&Bat Importé -10'!B124","v":0},{"$f":"'INVENT.Construc&Bat Importé -10'!F124","v":0},{"$f":"'INVENT.Construc&Bat Importé -10'!C124","v":0},{"$f":"'INVENT.Construc&Bat Importé -10'!H124","v":0},null,0,0,0,0,0,0,null,null,0,0,0,0]
[119,{"$f":"'INVENT.Construc&Bat Importé -10'!B125","v":0},{"$f":"'INVENT.Construc&Bat Importé -10'!F125","v":0},{"$f":"'INVENT.Construc&Bat Importé -10'!C125","v":0},{"$f":"'INVENT.Construc&Bat Importé -10'!H125","v":0},null,0,0,0,0,0,0,null,null,0,0,0,0]
[120,{"$f":"'INVENT.Construc&Bat Importé -10'!B126","v":0},{"$f":"'INVENT.Construc&Bat Importé -10'!F126","v":0},{"$f":"'INVENT.Construc&Bat Importé -10'!C126","v":0},{"$f":"'INVENT.Construc&Bat Importé -10'!H126","v":0},null,0,0,0,0,0,0,null,null,0,0,0,0]
[121,{"$f":"'INVENT.Construc&Bat Importé -10'!B127","v":0},{"$f":"'INVENT.Construc&Bat Importé -10'!F127","v":0},{"$f":"'INVENT.Construc&Bat Importé -10'!C127","v":0},{"$f":"'INVENT.Construc&Bat Importé -10'!H127","v":0},null,0,0,0,0,0,0,null,null,0,0,0,0]
[122,{"$f":"'INVENT.Construc&Bat Importé -10'!B128","v":0},{"$f":"'INVENT.Construc&Bat Importé -10'!F128","v":0},{"$f":"'INVENT.Construc&Bat Importé -10'!C128","v":0},{"$f":"'INVENT.Construc&Bat Importé -10'!H128","v":0},null,0,0,0,0,0,0,null,null,0,0,0,0]
[123,{"$f":"'INVENT.Construc&Bat Importé -10'!B129","v":0},{"$f":"'INVENT.Construc&Bat Importé -10'!F129","v":0},{"$f":"'INVENT.Construc&Bat Importé -10'!C129","v":0},{"$f":"'INVENT.Construc&Bat Importé -10'!H129","v":0},null,0,0,0,0,0,0,null,null,0,0,0,0]
[124,{"$f":"'INVENT.Construc&Bat Importé -10'!B130","v":0},{"$f":"'INVENT.Construc&Bat Importé -10'!F130","v":0},{"$f":"'INVENT.Construc&Bat Importé -10'!C130","v":0},{"$f":"'INVENT.Construc&Bat Importé -10'!H130","v":0},null,0,0,0,0,0,0,null,null,0,0,0,0]
[125,{"$f":"'INVENT.Construc&Bat Importé -10'!B131","v":0},{"$f":"'INVENT.Construc&Bat Importé -10'!F131","v":0},{"$f":"'INVENT.Construc&Bat Importé -10'!C131","v":0},{"$f":"'INVENT.Construc&Bat Importé -10'!H131","v":0},null,0,0,0,0,0,0,null,null,0,0,0,0]
[126,{"$f":"'INVENT.Construc&Bat Importé -10'!B132","v":0},{"$f":"'INVENT.Construc&Bat Importé -10'!F132","v":0},{"$f":"'INVENT.Construc&Bat Importé -10'!C132","v":0},{"$f":"'INVENT.Construc&Bat Importé -10'!H132","v":0},null,0,0,0,0,0,0,null,null,0,0,0,0]
[127,{"$f":"'INVENT.Construc&Bat Importé -10'!B133","v":0},{"$f":"'INVENT.Construc&Bat Importé -10'!F133","v":0},{"$f":"'INVENT.Construc&Bat Importé -10'!C133","v":0},{"$f":"'INVENT.Construc&Bat Importé -10'!H133","v":0},null,0,0,0,0,0,0,null,null,0,0,0,0]
[128,{"$f":"'INVENT.Construc&Bat Importé -10'!B134","v":0},{"$f":"'INVENT.Construc&Bat Importé -10'!F134","v":0},{"$f":"'INVENT.Construc&Bat Importé -10'!C134","v":0},{"$f":"'INVENT.Construc&Bat Importé -10'!H134","v":0},null,0,0,0,0,0,0,null,null,0,0,0,0]
[129,{"$f":"'INVENT.Construc&Bat Importé -10'!B135","v":0},{"$f":"'INVENT.Construc&Bat Importé -10'!F135","v":0},{"$f":"'INVENT.Construc&Bat Importé -10'!C135","v":0},{"$f":"'INVENT.Construc&Bat Importé -10'!H135","v":0},null,0,0,0,0,0,0,null,null,0,0,0,0]
[130,{"$f":"'INVENT.Construc&Bat Importé -10'!B136","v":0},{"$f":"'INVENT.Construc&Bat Importé -10'!F136","v":0},{"$f":"'INVENT.Construc&Bat Importé -10'!C136","v":0},{"$f":"'INVENT.Construc&Bat Importé -10'!H136","v":0},null,0,{"$f":"E137*1%","v":0},{"$f":"E137*1%","v":0},{"$f":"E137*0.5%","v":0},0,0,null,null,0,0,0,0]
[131,{"$f":"'INVENT.Construc&Bat Importé -10'!B137","v":0},{"$f":"'INVENT.Construc&Bat Importé -10'!F137","v":0},{"$f":"'INVENT.Construc&Bat Importé -10'!C137","v":0},{"$f":"'INVENT.Construc&Bat Importé -10'!H137","v":0},null,0,0,0,0,0,0,null,null,0,0,0,0]
[132,{"$f":"'INVENT.Construc&Bat Importé -10'!B138","v":0},{"$f":"'INVENT.Construc&Bat Importé -10'!F138","v":0},{"$f":"'INVENT.Construc&Bat Importé -10'!C138","v":0},{"$f":"'INVENT.Construc&Bat Importé -10'!H138","v":0},null,0,0,0,0,0,0,null,null,0,0,0,0]
[133,{"$f":"'INVENT.Construc&Bat Importé -10'!B139","v":0},{"$f":"'INVENT.Construc&Bat Importé -10'!F139","v":0},{"$f":"'INVENT.Construc&Bat Importé -10'!C139","v":0},{"$f":"'INVENT.Construc&Bat Importé -10'!H139","v":0},null,0,0,0,0,0,0,null,null,0,0,0,0]
[134,{"$f":"'INVENT.Construc&Bat Importé -10'!B140","v":0},{"$f":"'INVENT.Construc&Bat Importé -10'!F140","v":0},{"$f":"'INVENT.Construc&Bat Importé -10'!C140","v":0},{"$f":"'INVENT.Construc&Bat Importé -10'!H140","v":0},null,0,0,0,0,0,0,null,null,0,0,0,0]
[135,{"$f":"'INVENT.Construc&Bat Importé -10'!B141","v":0},{"$f":"'INVENT.Construc&Bat Importé -10'!F141","v":0},{"$f":"'INVENT.Construc&Bat Importé -10'!C141","v":0},{"$f":"'INVENT.Construc&Bat Importé -10'!H141","v":0},null,0,0,0,0,0,0,null,null,0,0,0,0]
[136,{"$f":"'INVENT.Construc&Bat Importé -10'!B142","v":0},{"$f":"'INVENT.Construc&Bat Importé -10'!F142","v":0},{"$f":"'INVENT.Construc&Bat Importé -10'!C142","v":0},{"$f":"'INVENT.Construc&Bat Importé -10'!H142","v":0},null,0,0,0,0,0,0,null,null,0,0,0,0]
[137,{"$f":"'INVENT.Construc&Bat Importé -10'!B143","v":0},{"$f":"'INVENT.Construc&Bat Importé -10'!F143","v":0},{"$f":"'INVENT.Construc&Bat Importé -10'!C143","v":0},{"$f":"'INVENT.Construc&Bat Importé -10'!H143","v":0},null,0,0,0,0,0,0,null,null,0,0,0,0]
[138,{"$f":"'INVENT.Construc&Bat Importé -10'!B144","v":0},{"$f":"'INVENT.Construc&Bat Importé -10'!F144","v":0},{"$f":"'INVENT.Construc&Bat Importé -10'!C144","v":0},{"$f":"'INVENT.Construc&Bat Importé -10'!H144","v":0},null,0,0,0,0,0,0,null,null,0,0,0,0]
[139,{"$f":"'INVENT.Construc&Bat Importé -10'!B145","v":0},{"$f":"'INVENT.Construc&Bat Importé -10'!F145","v":0},{"$f":"'INVENT.Construc&Bat Importé -10'!C145","v":0},{"$f":"'INVENT.Construc&Bat Importé -10'!H145","v":0},null,0,0,0,0,0,0,null,null,0,0,0,0]
[140,{"$f":"'INVENT.Construc&Bat Importé -10'!B146","v":0},{"$f":"'INVENT.Construc&Bat Importé -10'!F146","v":0},{"$f":"'INVENT.Construc&Bat Importé -10'!C146","v":0},{"$f":"'INVENT.Construc&Bat Importé -10'!H146","v":0},null,0,0,0,0,0,0,null,null,0,0,0,0]
[141,{"$f":"'INVENT.Construc&Bat Importé -10'!B147","v":0},{"$f":"'INVENT.Construc&Bat Importé -10'!F147","v":0},{"$f":"'INVENT.Construc&Bat Importé -10'!C147","v":0},{"$f":"'INVENT.Construc&Bat Importé -10'!H147","v":0},null,0,0,0,0,0,0,null,null,0,0,0,0]
[142,{"$f":"'INVENT.Construc&Bat Importé -10'!B148","v":0},{"$f":"'INVENT.Construc&Bat Importé -10'!F148","v":0},{"$f":"'INVENT.Construc&Bat Importé -10'!C148","v":0},{"$f":"'INVENT.Construc&Bat Importé -10'!H148","v":0},null,0,0,0,0,0,0,null,null,0,0,0,0]
[143,{"$f":"'INVENT.Construc&Bat Importé -10'!B149","v":0},{"$f":"'INVENT.Construc&Bat Importé -10'!F149","v":0},{"$f":"'INVENT.Construc&Bat Importé -10'!C149","v":0},{"$f":"'INVENT.Construc&Bat Importé -10'!H149","v":0},null,0,0,0,0,0,0,null,null,0,0,0,0]
[144,{"$f":"'INVENT.Construc&Bat Importé -10'!B150","v":0},{"$f":"'INVENT.Construc&Bat Importé -10'!F150","v":0},{"$f":"'INVENT.Construc&Bat Importé -10'!C150","v":0},{"$f":"'INVENT.Construc&Bat Importé -10'!H150","v":0},null,0,0,0,0,0,0,null,null,0,0,0,0]
[145,{"$f":"'INVENT.Construc&Bat Importé -10'!B151","v":0},{"$f":"'INVENT.Construc&Bat Importé -10'!F151","v":0},{"$f":"'INVENT.Construc&Bat Importé -10'!C151","v":0},{"$f":"'INVENT.Construc&Bat Importé -10'!H151","v":0},null,0,0,0,0,0,0,null,null,0,0,0,0]
[146,{"$f":"'INVENT.Construc&Bat Importé -10'!B152","v":0},{"$f":"'INVENT.Construc&Bat Importé -10'!F152","v":0},{"$f":"'INVENT.Construc&Bat Importé -10'!C152","v":0},{"$f":"'INVENT.Construc&Bat Importé -10'!H152","v":0},null,0,0,0,0,0,0,null,null,0,0,0,0]
[147,{"$f":"'INVENT.Construc&Bat Importé -10'!B153","v":0},{"$f":"'INVENT.Construc&Bat Importé -10'!F153","v":0},{"$f":"'INVENT.Construc&Bat Importé -10'!C153","v":0},{"$f":"'INVENT.Construc&Bat Importé -10'!H153","v":0},null,0,0,0,0,0,0,null,null,0,0,0,0]
[148,{"$f":"'INVENT.Construc&Bat Importé -10'!B154","v":0},{"$f":"'INVENT.Construc&Bat Importé -10'!F154","v":0},{"$f":"'INVENT.Construc&Bat Importé -10'!C154","v":0},{"$f":"'INVENT.Construc&Bat Importé -10'!H154","v":0},null,0,0,0,0,0,0,null,null,0,0,0,0]
[149,{"$f":"'INVENT.Construc&Bat Importé -10'!B155","v":0},{"$f":"'INVENT.Construc&Bat Importé -10'!F155","v":0},{"$f":"'INVENT.Construc&Bat Importé -10'!C155","v":0},{"$f":"'INVENT.Construc&Bat Importé -10'!H155","v":0},null,0,0,0,0,0,0,null,null,0,0,0,0]
[150,{"$f":"'INVENT.Construc&Bat Importé -10'!B156","v":0},{"$f":"'INVENT.Construc&Bat Importé -10'!F156","v":0},{"$f":"'INVENT.Construc&Bat Importé -10'!C156","v":0},{"$f":"'INVENT.Construc&Bat Importé -10'!H156","v":0},null,0,0,0,0,0,0,null,null,0,0,0,0]
[151,{"$f":"'INVENT.Construc&Bat Importé -10'!B157","v":0},{"$f":"'INVENT.Construc&Bat Importé -10'!F157","v":0},{"$f":"'INVENT.Construc&Bat Importé -10'!C157","v":0},{"$f":"'INVENT.Construc&Bat Importé -10'!H157","v":0},null,0,0,0,0,0,0,null,null,0,0,0,0]
[152,{"$f":"'INVENT.Construc&Bat Importé -10'!B158","v":0},{"$f":"'INVENT.Construc&Bat Importé -10'!F158","v":0},{"$f":"'INVENT.Construc&Bat Importé -10'!C158","v":0},{"$f":"'INVENT.Construc&Bat Importé -10'!H158","v":0},null,0,0,0,0,0,0,null,null,0,0,0,0]
[153,{"$f":"'INVENT.Construc&Bat Importé -10'!B159","v":0},{"$f":"'INVENT.Construc&Bat Importé -10'!F159","v":0},{"$f":"'INVENT.Construc&Bat Importé -10'!C159","v":0},{"$f":"'INVENT.Construc&Bat Importé -10'!H159","v":0},null,0,0,0,0,0,0,null,null,0,0,0,0]
[154,{"$f":"'INVENT.Construc&Bat Importé -10'!B160","v":0},{"$f":"'INVENT.Construc&Bat Importé -10'!F160","v":0},{"$f":"'INVENT.Construc&Bat Importé -10'!C160","v":0},{"$f":"'INVENT.Construc&Bat Importé -10'!H160","v":0},null,0,0,0,0,0,0,null,null,0,0,0,0]
[155,{"$f":"'INVENT.Construc&Bat Importé -10'!B161","v":0},{"$f":"'INVENT.Construc&Bat Importé -10'!F161","v":0},{"$f":"'INVENT.Construc&Bat Importé -10'!C161","v":0},{"$f":"'INVENT.Construc&Bat Importé -10'!H161","v":0},null,0,0,0,0,0,0,null,null,0,0,0,0]
[156,{"$f":"'INVENT.Construc&Bat Importé -10'!B162","v":0},{"$f":"'INVENT.Construc&Bat Importé -10'!F162","v":0},{"$f":"'INVENT.Construc&Bat Importé -10'!C162","v":0},{"$f":"'INVENT.Construc&Bat Importé -10'!H162","v":0},null,0,0,0,0,0,0,null,null,0,0,0,0]
[157,{"$f":"'INVENT.Construc&Bat Importé -10'!B163","v":0},{"$f":"'INVENT.Construc&Bat Importé -10'!F163","v":0},{"$f":"'INVENT.Construc&Bat Importé -10'!C163","v":0},{"$f":"'INVENT.Construc&Bat Importé -10'!H163","v":0},null,0,0,0,0,0,0,null,null,0,0,0,0]
[158,{"$f":"'INVENT.Construc&Bat Importé -10'!B164","v":0},{"$f":"'INVENT.Construc&Bat Importé -10'!F164","v":0},{"$f":"'INVENT.Construc&Bat Importé -10'!C164","v":0},{"$f":"'INVENT.Construc&Bat Importé -10'!H164","v":0},null,0,0,0,0,0,0,null,null,0,0,0,0]
[159,{"$f":"'INVENT.Construc&Bat Importé -10'!B165","v":0},{"$f":"'INVENT.Construc&Bat Importé -10'!F165","v":0},{"$f":"'INVENT.Construc&Bat Importé -10'!C165","v":0},{"$f":"'INVENT.Construc&Bat Importé -10'!H165","v":0},null,0,0,0,0,0,0,null,null,0,0,0,0]
[160,{"$f":"'INVENT.Construc&Bat Importé -10'!B166","v":0},{"$f":"'INVENT.Construc&Bat Importé -10'!F166","v":0},{"$f":"'INVENT.Construc&Bat Importé -10'!C166","v":0},{"$f":"'INVENT.Construc&Bat Importé -10'!H166","v":0},null,0,0,0,0,0,0,null,null,0,0,0,0]
[161,{"$f":"'INVENT.Construc&Bat Importé -10'!B167","v":0},{"$f":"'INVENT.Construc&Bat Importé -10'!F167","v":0},{"$f":"'INVENT.Construc&Bat Importé -10'!C167","v":0},{"$f":"'INVENT.Construc&Bat Importé -10'!H167","v":0},null,0,0,0,0,0,0,null,null,0,0,0,0]
[162,{"$f":"'INVENT.Construc&Bat Importé -10'!B168","v":0},{"$f":"'INVENT.Construc&Bat Importé -10'!F168","v":0},{"$f":"'INVENT.Construc&Bat Importé -10'!C168","v":0},{"$f":"'INVENT.Construc&Bat Importé -10'!H168","v":0},null,0,0,0,0,0,0,null,null,0,0,0,0]
[163,{"$f":"'INVENT.Construc&Bat Importé -10'!B169","v":0},{"$f":"'INVENT.Construc&Bat Importé -10'!F169","v":0},{"$f":"'INVENT.Construc&Bat Importé -10'!C169","v":0},{"$f":"'INVENT.Construc&Bat Importé -10'!H169","v":0},null,0,0,0,0,0,0,null,null,0,0,0,0]
[164,{"$f":"'INVENT.Construc&Bat Importé -10'!B170","v":0},{"$f":"'INVENT.Construc&Bat Importé -10'!F170","v":0},{"$f":"'INVENT.Construc&Bat Importé -10'!C170","v":0},{"$f":"'INVENT.Construc&Bat Importé -10'!H170","v":0},null,0,0,0,0,0,0,null,null,0,0,0,0]
[165,{"$f":"'INVENT.Construc&Bat Importé -10'!B171","v":0},{"$f":"'INVENT.Construc&Bat Importé -10'!F171","v":0},{"$f":"'INVENT.Construc&Bat Importé -10'!C171","v":0},{"$f":"'INVENT.Construc&Bat Importé -10'!H171","v":0},null,0,0,0,0,0,0,null,null,0,0,0,0]
[166,{"$f":"'INVENT.Construc&Bat Importé -10'!B172","v":0},{"$f":"'INVENT.Construc&Bat Importé -10'!F172","v":0},{"$f":"'INVENT.Construc&Bat Importé -10'!C172","v":0},{"$f":"'INVENT.Construc&Bat Importé -10'!H172","v":0},null,0,0,0,0,0,0,null,null,0,0,0,0]
[167,{"$f":"'INVENT.Construc&Bat Importé -10'!B173","v":0},{"$f":"'INVENT.Construc&Bat Importé -10'!F173","v":0},{"$f":"'INVENT.Construc&Bat Importé -10'!C173","v":0},{"$f":"'INVENT.Construc&Bat Importé -10'!H173","v":0},null,0,0,0,0,0,0,null,null,0,0,0,0]
[{"$f":"+A174+1","v":168},{"$f":"'INVENT.Construc&Bat Importé -10'!B174","v":0},{"$f":"'INVENT.Construc&Bat Importé -10'!F174","v":0},{"$f":"'INVENT.Construc&Bat Importé -10'!C174","v":0},{"$f":"'INVENT.Construc&Bat Importé -10'!H174","v":0},null,0,0,0,0,0,0,null,null,0,0,0,0]
[169,{"$f":"'INVENT.Construc&Bat Importé -10'!B175","v":0},{"$f":"'INVENT.Construc&Bat Importé -10'!F175","v":0},{"$f":"'INVENT.Construc&Bat Importé -10'!C175","v":0},{"$f":"'INVENT.Construc&Bat Importé -10'!H175","v":0},null,0,0,0,0,0,0,null,null,0,0,0,0]
[170,{"$f":"'INVENT.Construc&Bat Importé -10'!B176","v":0},{"$f":"'INVENT.Construc&Bat Importé -10'!F176","v":0},{"$f":"'INVENT.Construc&Bat Importé -10'!C176","v":0},{"$f":"'INVENT.Construc&Bat Importé -10'!H176","v":0},null,0,0,0,0,0,0,null,null,0,0,0,0]
[171,{"$f":"'INVENT.Construc&Bat Importé -10'!B177","v":0},{"$f":"'INVENT.Construc&Bat Importé -10'!F177","v":0},{"$f":"'INVENT.Construc&Bat Importé -10'!C177","v":0},{"$f":"'INVENT.Construc&Bat Importé -10'!H177","v":0},null,0,0,0,0,0,0,null,null,0,0,0,0]
[172,{"$f":"'INVENT.Construc&Bat Importé -10'!B178","v":0},{"$f":"'INVENT.Construc&Bat Importé -10'!F178","v":0},{"$f":"'INVENT.Construc&Bat Importé -10'!C178","v":0},{"$f":"'INVENT.Construc&Bat Importé -10'!H178","v":0},null,0,0,0,0,0,0,null,null,0,0,0,0]
[173,{"$f":"'INVENT.Construc&Bat Importé -10'!B179","v":0},{"$f":"'INVENT.Construc&Bat Importé -10'!F179","v":0},{"$f":"'INVENT.Construc&Bat Importé -10'!C179","v":0},{"$f":"'INVENT.Construc&Bat Importé -10'!H179","v":0},null,0,0,0,0,0,0,null,null,0,0,0,0]
[174,{"$f":"'INVENT.Construc&Bat Importé -10'!B180","v":0},{"$f":"'INVENT.Construc&Bat Importé -10'!F180","v":0},{"$f":"'INVENT.Construc&Bat Importé -10'!C180","v":0},{"$f":"'INVENT.Construc&Bat Importé -10'!H180","v":0},null,0,0,0,0,0,0,null,null,0,0,0,0]
[175,{"$f":"'INVENT.Construc&Bat Importé -10'!B181","v":0},{"$f":"'INVENT.Construc&Bat Importé -10'!F181","v":0},{"$f":"'INVENT.Construc&Bat Importé -10'!C181","v":0},{"$f":"'INVENT.Construc&Bat Importé -10'!H181","v":0},null,0,0,0,0,0,0,null,null,0,0,0,0]
[176,{"$f":"'INVENT.Construc&Bat Importé -10'!B182","v":0},{"$f":"'INVENT.Construc&Bat Importé -10'!F182","v":0},{"$f":"'INVENT.Construc&Bat Importé -10'!C182","v":0},{"$f":"'INVENT.Construc&Bat Importé -10'!H182","v":0},null,{"$f":"F183*E183","v":0},0,0,0,{"$f":"(E183+G183+H183)*18%","v":0},{"$f":"SUM(G183:K183)+E183","v":0},null,null,{"$f":"(M183+N183)*18%","v":0},{"$f":"O183+N183+M183","v":0},{"$f":"+R183-O183-K183","v":0},{"$f":"P183+L183","v":0}]
[177,{"$f":"'INVENT.Construc&Bat Importé -10'!B183","v":0},{"$f":"'INVENT.Construc&Bat Importé -10'!F183","v":0},{"$f":"'INVENT.Construc&Bat Importé -10'!C183","v":0},{"$f":"'INVENT.Construc&Bat Importé -10'!H183","v":0},null,0,0,0,0,0,0,null,null,0,0,0,0]
[178,{"$f":"'INVENT.Construc&Bat Importé -10'!B184","v":0},{"$f":"'INVENT.Construc&Bat Importé -10'!F184","v":0},{"$f":"'INVENT.Construc&Bat Importé -10'!C184","v":0},{"$f":"'INVENT.Construc&Bat Importé -10'!H184","v":0},null,0,0,0,0,0,0,null,null,0,0,0,0]
[179,{"$f":"'INVENT.Construc&Bat Importé -10'!B185","v":0},{"$f":"'INVENT.Construc&Bat Importé -10'!F185","v":0},{"$f":"'INVENT.Construc&Bat Importé -10'!C185","v":0},{"$f":"'INVENT.Construc&Bat Importé -10'!H185","v":0},null,0,0,0,0,0,0,null,null,0,0,0,0]
[180,{"$f":"'INVENT.Construc&Bat Importé -10'!B186","v":0},{"$f":"'INVENT.Construc&Bat Importé -10'!F186","v":0},{"$f":"'INVENT.Construc&Bat Importé -10'!C186","v":0},{"$f":"'INVENT.Construc&Bat Importé -10'!H186","v":0},null,0,0,0,0,0,0,null,null,0,0,0,0]
[181,{"$f":"'INVENT.Construc&Bat Importé -10'!B187","v":0},{"$f":"'INVENT.Construc&Bat Importé -10'!F187","v":0},{"$f":"'INVENT.Construc&Bat Importé -10'!C187","v":0},{"$f":"'INVENT.Construc&Bat Importé -10'!H187","v":0},null,0,0,0,0,0,0,null,null,0,0,0,0]
[182,{"$f":"'INVENT.Construc&Bat Importé -10'!B188","v":0},{"$f":"'INVENT.Construc&Bat Importé -10'!F188","v":0},{"$f":"'INVENT.Construc&Bat Importé -10'!C188","v":0},{"$f":"'INVENT.Construc&Bat Importé -10'!H188","v":0},null,0,0,0,0,0,0,null,null,0,0,0,0]
[183,{"$f":"'INVENT.Construc&Bat Importé -10'!B189","v":0},{"$f":"'INVENT.Construc&Bat Importé -10'!F189","v":0},{"$f":"'INVENT.Construc&Bat Importé -10'!C189","v":0},{"$f":"'INVENT.Construc&Bat Importé -10'!H189","v":0},null,0,0,0,0,0,0,null,null,0,0,0,0]
[184,{"$f":"'INVENT.Construc&Bat Importé -10'!B190","v":0},{"$f":"'INVENT.Construc&Bat Importé -10'!F190","v":0},{"$f":"'INVENT.Construc&Bat Importé -10'!C190","v":0},{"$f":"'INVENT.Construc&Bat Importé -10'!H190","v":0},null,0,0,0,0,0,0,null,null,0,0,0,0]
[185,{"$f":"'INVENT.Construc&Bat Importé -10'!B191","v":0},{"$f":"'INVENT.Construc&Bat Importé -10'!F191","v":0},{"$f":"'INVENT.Construc&Bat Importé -10'!C191","v":0},{"$f":"'INVENT.Construc&Bat Importé -10'!H191","v":0},null,0,0,0,0,0,0,null,null,0,0,0,0]
[186,{"$f":"'INVENT.Construc&Bat Importé -10'!B192","v":0},{"$f":"'INVENT.Construc&Bat Importé -10'!F192","v":0},{"$f":"'INVENT.Construc&Bat Importé -10'!C192","v":0},{"$f":"'INVENT.Construc&Bat Importé -10'!H192","v":0},null,0,0,0,0,0,0,null,null,0,0,0,0]
[187,{"$f":"'INVENT.Construc&Bat Importé -10'!B193","v":0},{"$f":"'INVENT.Construc&Bat Importé -10'!F193","v":0},{"$f":"'INVENT.Construc&Bat Importé -10'!C193","v":0},{"$f":"'INVENT.Construc&Bat Importé -10'!H193","v":0},null,0,0,0,0,0,0,null,null,0,0,0,0]
[188,{"$f":"'INVENT.Construc&Bat Importé -10'!B194","v":0},{"$f":"'INVENT.Construc&Bat Importé -10'!F194","v":0},{"$f":"'INVENT.Construc&Bat Importé -10'!C194","v":0},{"$f":"'INVENT.Construc&Bat Importé -10'!H194","v":0},null,0,0,0,0,0,0,null,null,0,0,0,0]
[189,{"$f":"'INVENT.Construc&Bat Importé -10'!B195","v":0},{"$f":"'INVENT.Construc&Bat Importé -10'!F195","v":0},{"$f":"'INVENT.Construc&Bat Importé -10'!C195","v":0},{"$f":"'INVENT.Construc&Bat Importé -10'!H195","v":0},null,0,0,0,0,0,0,null,null,0,0,0,0]
[190,{"$f":"'INVENT.Construc&Bat Importé -10'!B196","v":0},{"$f":"'INVENT.Construc&Bat Importé -10'!F196","v":0},{"$f":"'INVENT.Construc&Bat Importé -10'!C196","v":0},{"$f":"'INVENT.Construc&Bat Importé -10'!H196","v":0},null,0,0,0,0,0,0,null,null,0,0,0,0]
[191,{"$f":"'INVENT.Construc&Bat Importé -10'!B197","v":0},{"$f":"'INVENT.Construc&Bat Importé -10'!F197","v":0},{"$f":"'INVENT.Construc&Bat Importé -10'!C197","v":0},{"$f":"'INVENT.Construc&Bat Importé -10'!H197","v":0},null,0,0,0,0,0,0,null,null,0,0,0,0]
[192,{"$f":"'INVENT.Construc&Bat Importé -10'!B198","v":0},{"$f":"'INVENT.Construc&Bat Importé -10'!F198","v":0},{"$f":"'INVENT.Construc&Bat Importé -10'!C198","v":0},{"$f":"'INVENT.Construc&Bat Importé -10'!H198","v":0},null,0,0,0,0,0,0,null,null,0,0,0,0]
[193,{"$f":"'INVENT.Construc&Bat Importé -10'!B199","v":0},{"$f":"'INVENT.Construc&Bat Importé -10'!F199","v":0},{"$f":"'INVENT.Construc&Bat Importé -10'!C199","v":0},{"$f":"'INVENT.Construc&Bat Importé -10'!H199","v":0},null,0,0,0,0,0,0,null,null,0,0,0,0]
[194,{"$f":"'INVENT.Construc&Bat Importé -10'!B200","v":0},{"$f":"'INVENT.Construc&Bat Importé -10'!F200","v":0},{"$f":"'INVENT.Construc&Bat Importé -10'!C200","v":0},{"$f":"'INVENT.Construc&Bat Importé -10'!H200","v":0},null,0,{"$f":"E201*1%","v":0},{"$f":"E201*1%","v":0},{"$f":"E201*0.5%","v":0},0,0,null,null,0,0,0,0]
[195,{"$f":"'INVENT.Construc&Bat Importé -10'!B201","v":0},{"$f":"'INVENT.Construc&Bat Importé -10'!F201","v":0},{"$f":"'INVENT.Construc&Bat Importé -10'!C201","v":0},{"$f":"'INVENT.Construc&Bat Importé -10'!H201","v":0},null,0,0,0,0,0,0,null,null,0,0,0,0]
[196,{"$f":"'INVENT.Construc&Bat Importé -10'!B202","v":0},{"$f":"'INVENT.Construc&Bat Importé -10'!F202","v":0},{"$f":"'INVENT.Construc&Bat Importé -10'!C202","v":0},{"$f":"'INVENT.Construc&Bat Importé -10'!H202","v":0},null,0,0,0,0,0,0,null,null,0,0,0,0]
[197,{"$f":"'INVENT.Construc&Bat Importé -10'!B203","v":0},{"$f":"'INVENT.Construc&Bat Importé -10'!F203","v":0},{"$f":"'INVENT.Construc&Bat Importé -10'!C203","v":0},{"$f":"'INVENT.Construc&Bat Importé -10'!H203","v":0},null,0,0,0,0,0,0,null,null,0,0,0,0]
[198,{"$f":"'INVENT.Construc&Bat Importé -10'!B204","v":0},{"$f":"'INVENT.Construc&Bat Importé -10'!F204","v":0},{"$f":"'INVENT.Construc&Bat Importé -10'!C204","v":0},{"$f":"'INVENT.Construc&Bat Importé -10'!H204","v":0},null,0,0,0,0,0,0,null,null,0,0,0,0]
[199,{"$f":"'INVENT.Construc&Bat Importé -10'!B205","v":0},{"$f":"'INVENT.Construc&Bat Importé -10'!F205","v":0},{"$f":"'INVENT.Construc&Bat Importé -10'!C205","v":0},{"$f":"'INVENT.Construc&Bat Importé -10'!H205","v":0},null,0,0,0,0,0,0,null,null,0,0,0,0]
[200,{"$f":"'INVENT.Construc&Bat Importé -10'!B206","v":0},{"$f":"'INVENT.Construc&Bat Importé -10'!F206","v":0},{"$f":"'INVENT.Construc&Bat Importé -10'!C206","v":0},{"$f":"'INVENT.Construc&Bat Importé -10'!H206","v":0},null,0,0,0,0,0,0,null,null,0,0,0,0]
[201,{"$f":"'INVENT.Construc&Bat Importé -10'!B207","v":0},{"$f":"'INVENT.Construc&Bat Importé -10'!F207","v":0},{"$f":"'INVENT.Construc&Bat Importé -10'!C207","v":0},{"$f":"'INVENT.Construc&Bat Importé -10'!H207","v":0},null,0,0,0,0,0,0,null,null,0,0,0,0]
[202,{"$f":"'INVENT.Construc&Bat Importé -10'!B208","v":0},{"$f":"'INVENT.Construc&Bat Importé -10'!F208","v":0},{"$f":"'INVENT.Construc&Bat Importé -10'!C208","v":0},{"$f":"'INVENT.Construc&Bat Importé -10'!H208","v":0},null,0,0,0,0,0,0,null,null,0,0,0,0]
[203,{"$f":"'INVENT.Construc&Bat Importé -10'!B209","v":0},{"$f":"'INVENT.Construc&Bat Importé -10'!F209","v":0},{"$f":"'INVENT.Construc&Bat Importé -10'!C209","v":0},{"$f":"'INVENT.Construc&Bat Importé -10'!H209","v":0},null,0,0,0,0,0,0,null,null,0,0,0,0]
[204,{"$f":"'INVENT.Construc&Bat Importé -10'!B210","v":0},{"$f":"'INVENT.Construc&Bat Importé -10'!F210","v":0},{"$f":"'INVENT.Construc&Bat Importé -10'!C210","v":0},{"$f":"'INVENT.Construc&Bat Importé -10'!H210","v":0},null,0,0,0,0,0,0,null,null,0,0,0,0]
[205,{"$f":"'INVENT.Construc&Bat Importé -10'!B211","v":0},{"$f":"'INVENT.Construc&Bat Importé -10'!F211","v":0},{"$f":"'INVENT.Construc&Bat Importé -10'!C211","v":0},{"$f":"'INVENT.Construc&Bat Importé -10'!H211","v":0},null,0,0,0,0,0,0,null,null,0,0,0,0]
[206,{"$f":"'INVENT.Construc&Bat Importé -10'!B212","v":0},{"$f":"'INVENT.Construc&Bat Importé -10'!F212","v":0},{"$f":"'INVENT.Construc&Bat Importé -10'!C212","v":0},{"$f":"'INVENT.Construc&Bat Importé -10'!H212","v":0},null,0,0,0,0,0,0,null,null,0,0,0,0]
[207,{"$f":"'INVENT.Construc&Bat Importé -10'!B213","v":0},{"$f":"'INVENT.Construc&Bat Importé -10'!F213","v":0},{"$f":"'INVENT.Construc&Bat Importé -10'!C213","v":0},{"$f":"'INVENT.Construc&Bat Importé -10'!H213","v":0},null,0,0,0,0,0,0,null,null,0,0,0,0]
[208,{"$f":"'INVENT.Construc&Bat Importé -10'!B214","v":0},{"$f":"'INVENT.Construc&Bat Importé -10'!F214","v":0},{"$f":"'INVENT.Construc&Bat Importé -10'!C214","v":0},{"$f":"'INVENT.Construc&Bat Importé -10'!H214","v":0},null,0,0,0,0,0,0,null,null,0,0,0,0]
[209,{"$f":"'INVENT.Construc&Bat Importé -10'!B215","v":0},{"$f":"'INVENT.Construc&Bat Importé -10'!F215","v":0},{"$f":"'INVENT.Construc&Bat Importé -10'!C215","v":0},{"$f":"'INVENT.Construc&Bat Importé -10'!H215","v":0},null,0,0,0,0,0,0,null,null,0,0,0,0]
[210,{"$f":"'INVENT.Construc&Bat Importé -10'!B216","v":0},{"$f":"'INVENT.Construc&Bat Importé -10'!F216","v":0},{"$f":"'INVENT.Construc&Bat Importé -10'!C216","v":0},{"$f":"'INVENT.Construc&Bat Importé -10'!H216","v":0},null,0,0,0,0,0,0,null,null,0,0,0,0]
[211,{"$f":"'INVENT.Construc&Bat Importé -10'!B217","v":0},{"$f":"'INVENT.Construc&Bat Importé -10'!F217","v":0},{"$f":"'INVENT.Construc&Bat Importé -10'!C217","v":0},{"$f":"'INVENT.Construc&Bat Importé -10'!H217","v":0},null,0,0,0,0,0,0,null,null,0,0,0,0]
[212,{"$f":"'INVENT.Construc&Bat Importé -10'!B218","v":0},{"$f":"'INVENT.Construc&Bat Importé -10'!F218","v":0},{"$f":"'INVENT.Construc&Bat Importé -10'!C218","v":0},{"$f":"'INVENT.Construc&Bat Importé -10'!H218","v":0},null,0,0,0,0,0,0,null,null,0,0,0,0]
[213,{"$f":"'INVENT.Construc&Bat Importé -10'!B219","v":0},{"$f":"'INVENT.Construc&Bat Importé -10'!F219","v":0},{"$f":"'INVENT.Construc&Bat Importé -10'!C219","v":0},{"$f":"'INVENT.Construc&Bat Importé -10'!H219","v":0},null,0,0,0,0,0,0,null,null,0,0,0,0]
[214,{"$f":"'INVENT.Construc&Bat Importé -10'!B220","v":0},{"$f":"'INVENT.Construc&Bat Importé -10'!F220","v":0},{"$f":"'INVENT.Construc&Bat Importé -10'!C220","v":0},{"$f":"'INVENT.Construc&Bat Importé -10'!H220","v":0},null,0,0,0,0,0,0,null,null,0,0,0,0]
[215,{"$f":"'INVENT.Construc&Bat Importé -10'!B221","v":0},{"$f":"'INVENT.Construc&Bat Importé -10'!F221","v":0},{"$f":"'INVENT.Construc&Bat Importé -10'!C221","v":0},{"$f":"'INVENT.Construc&Bat Importé -10'!H221","v":0},null,0,0,0,0,0,0,null,null,0,0,0,0]
[216,{"$f":"'INVENT.Construc&Bat Importé -10'!B222","v":0},{"$f":"'INVENT.Construc&Bat Importé -10'!F222","v":0},{"$f":"'INVENT.Construc&Bat Importé -10'!C222","v":0},{"$f":"'INVENT.Construc&Bat Importé -10'!H222","v":0},null,0,0,0,0,0,0,null,null,0,0,0,0]
[217,{"$f":"'INVENT.Construc&Bat Importé -10'!B223","v":0},{"$f":"'INVENT.Construc&Bat Importé -10'!F223","v":0},{"$f":"'INVENT.Construc&Bat Importé -10'!C223","v":0},{"$f":"'INVENT.Construc&Bat Importé -10'!H223","v":0},null,0,0,0,0,0,0,null,null,0,0,0,0]
[218,{"$f":"'INVENT.Construc&Bat Importé -10'!B224","v":0},{"$f":"'INVENT.Construc&Bat Importé -10'!F224","v":0},{"$f":"'INVENT.Construc&Bat Importé -10'!C224","v":0},{"$f":"'INVENT.Construc&Bat Importé -10'!H224","v":0},null,0,0,0,0,0,0,null,null,0,0,0,0]
[219,{"$f":"'INVENT.Construc&Bat Importé -10'!B225","v":0},{"$f":"'INVENT.Construc&Bat Importé -10'!F225","v":0},{"$f":"'INVENT.Construc&Bat Importé -10'!C225","v":0},{"$f":"'INVENT.Construc&Bat Importé -10'!H225","v":0},null,0,0,0,0,0,0,null,null,0,0,0,0]
[220,{"$f":"'INVENT.Construc&Bat Importé -10'!B226","v":0},{"$f":"'INVENT.Construc&Bat Importé -10'!F226","v":0},{"$f":"'INVENT.Construc&Bat Importé -10'!C226","v":0},{"$f":"'INVENT.Construc&Bat Importé -10'!H226","v":0},null,0,0,0,0,0,0,null,null,0,0,0,0]
[221,{"$f":"'INVENT.Construc&Bat Importé -10'!B227","v":0},{"$f":"'INVENT.Construc&Bat Importé -10'!F227","v":0},{"$f":"'INVENT.Construc&Bat Importé -10'!C227","v":0},{"$f":"'INVENT.Construc&Bat Importé -10'!H227","v":0},null,0,0,0,0,0,0,null,null,0,0,0,0]
[222,{"$f":"'INVENT.Construc&Bat Importé -10'!B228","v":0},{"$f":"'INVENT.Construc&Bat Importé -10'!F228","v":0},{"$f":"'INVENT.Construc&Bat Importé -10'!C228","v":0},{"$f":"'INVENT.Construc&Bat Importé -10'!H228","v":0},null,0,0,0,0,0,0,null,null,0,0,0,0]
[223,{"$f":"'INVENT.Construc&Bat Importé -10'!B229","v":0},{"$f":"'INVENT.Construc&Bat Importé -10'!F229","v":0},{"$f":"'INVENT.Construc&Bat Importé -10'!C229","v":0},{"$f":"'INVENT.Construc&Bat Importé -10'!H229","v":0},null,0,0,0,0,0,0,null,null,0,0,0,0]
[224,{"$f":"'INVENT.Construc&Bat Importé -10'!B230","v":0},{"$f":"'INVENT.Construc&Bat Importé -10'!F230","v":0},{"$f":"'INVENT.Construc&Bat Importé -10'!C230","v":0},{"$f":"'INVENT.Construc&Bat Importé -10'!H230","v":0},null,0,0,0,0,0,0,null,null,0,0,0,0]
[225,{"$f":"'INVENT.Construc&Bat Importé -10'!B231","v":0},{"$f":"'INVENT.Construc&Bat Importé -10'!F231","v":0},{"$f":"'INVENT.Construc&Bat Importé -10'!C231","v":0},{"$f":"'INVENT.Construc&Bat Importé -10'!H231","v":0},null,0,0,0,0,0,0,null,null,0,0,0,0]
[226,{"$f":"'INVENT.Construc&Bat Importé -10'!B232","v":0},{"$f":"'INVENT.Construc&Bat Importé -10'!F232","v":0},{"$f":"'INVENT.Construc&Bat Importé -10'!C232","v":0},{"$f":"'INVENT.Construc&Bat Importé -10'!H232","v":0},null,0,0,0,0,0,0,null,null,0,0,0,0]
[227,{"$f":"'INVENT.Construc&Bat Importé -10'!B233","v":0},{"$f":"'INVENT.Construc&Bat Importé -10'!F233","v":0},{"$f":"'INVENT.Construc&Bat Importé -10'!C233","v":0},{"$f":"'INVENT.Construc&Bat Importé -10'!H233","v":0},null,0,0,0,0,0,0,null,null,0,0,0,0]
[228,{"$f":"'INVENT.Construc&Bat Importé -10'!B234","v":0},{"$f":"'INVENT.Construc&Bat Importé -10'!F234","v":0},{"$f":"'INVENT.Construc&Bat Importé -10'!C234","v":0},{"$f":"'INVENT.Construc&Bat Importé -10'!H234","v":0},null,0,0,0,0,0,0,null,null,0,0,0,0]
[229,{"$f":"'INVENT.Construc&Bat Importé -10'!B235","v":0},{"$f":"'INVENT.Construc&Bat Importé -10'!F235","v":0},{"$f":"'INVENT.Construc&Bat Importé -10'!C235","v":0},{"$f":"'INVENT.Construc&Bat Importé -10'!H235","v":0},null,0,0,0,0,0,0,null,null,0,0,0,0]
[230,{"$f":"'INVENT.Construc&Bat Importé -10'!B236","v":0},{"$f":"'INVENT.Construc&Bat Importé -10'!F236","v":0},{"$f":"'INVENT.Construc&Bat Importé -10'!C236","v":0},{"$f":"'INVENT.Construc&Bat Importé -10'!H236","v":0},null,0,0,0,0,0,0,null,null,0,0,0,0]
[231,{"$f":"'INVENT.Construc&Bat Importé -10'!B237","v":0},{"$f":"'INVENT.Construc&Bat Importé -10'!F237","v":0},{"$f":"'INVENT.Construc&Bat Importé -10'!C237","v":0},{"$f":"'INVENT.Construc&Bat Importé -10'!H237","v":0},null,0,0,0,0,0,0,null,null,0,0,0,0]
[{"$f":"+A238+1","v":232},{"$f":"'INVENT.Construc&Bat Importé -10'!B238","v":0},{"$f":"'INVENT.Construc&Bat Importé -10'!F238","v":0},{"$f":"'INVENT.Construc&Bat Importé -10'!C238","v":0},{"$f":"'INVENT.Construc&Bat Importé -10'!H238","v":0},null,0,0,0,0,0,0,null,null,0,0,0,0]
[233,{"$f":"'INVENT.Construc&Bat Importé -10'!B239","v":0},{"$f":"'INVENT.Construc&Bat Importé -10'!F239","v":0},{"$f":"'INVENT.Construc&Bat Importé -10'!C239","v":0},{"$f":"'INVENT.Construc&Bat Importé -10'!H239","v":0},null,0,0,0,0,0,0,null,null,0,0,0,0]
[234,{"$f":"'INVENT.Construc&Bat Importé -10'!B240","v":0},{"$f":"'INVENT.Construc&Bat Importé -10'!F240","v":0},{"$f":"'INVENT.Construc&Bat Importé -10'!C240","v":0},{"$f":"'INVENT.Construc&Bat Importé -10'!H240","v":0},null,0,0,0,0,0,0,null,null,0,0,0,0]
[235,{"$f":"'INVENT.Construc&Bat Importé -10'!B241","v":0},{"$f":"'INVENT.Construc&Bat Importé -10'!F241","v":0},{"$f":"'INVENT.Construc&Bat Importé -10'!C241","v":0},{"$f":"'INVENT.Construc&Bat Importé -10'!H241","v":0},null,0,0,0,0,0,0,null,null,0,0,0,0]
[236,{"$f":"'INVENT.Construc&Bat Importé -10'!B242","v":0},{"$f":"'INVENT.Construc&Bat Importé -10'!F242","v":0},{"$f":"'INVENT.Construc&Bat Importé -10'!C242","v":0},{"$f":"'INVENT.Construc&Bat Importé -10'!H242","v":0},null,0,0,0,0,0,0,null,null,0,0,0,0]
[237,{"$f":"'INVENT.Construc&Bat Importé -10'!B243","v":0},{"$f":"'INVENT.Construc&Bat Importé -10'!F243","v":0},{"$f":"'INVENT.Construc&Bat Importé -10'!C243","v":0},{"$f":"'INVENT.Construc&Bat Importé -10'!H243","v":0},null,0,0,0,0,0,0,null,null,0,0,0,0]
[238,{"$f":"'INVENT.Construc&Bat Importé -10'!B244","v":0},{"$f":"'INVENT.Construc&Bat Importé -10'!F244","v":0},{"$f":"'INVENT.Construc&Bat Importé -10'!C244","v":0},{"$f":"'INVENT.Construc&Bat Importé -10'!H244","v":0},null,0,0,0,0,0,0,null,null,0,0,0,0]
[239,{"$f":"'INVENT.Construc&Bat Importé -10'!B245","v":0},{"$f":"'INVENT.Construc&Bat Importé -10'!F245","v":0},{"$f":"'INVENT.Construc&Bat Importé -10'!C245","v":0},{"$f":"'INVENT.Construc&Bat Importé -10'!H245","v":0},null,0,0,0,0,0,0,null,null,0,0,0,0]
[240,{"$f":"'INVENT.Construc&Bat Importé -10'!B246","v":0},{"$f":"'INVENT.Construc&Bat Importé -10'!F246","v":0},{"$f":"'INVENT.Construc&Bat Importé -10'!C246","v":0},{"$f":"'INVENT.Construc&Bat Importé -10'!H246","v":0},null,{"$f":"F247*E247","v":0},0,0,0,{"$f":"(E247+G247+H247)*18%","v":0},{"$f":"SUM(G247:K247)+E247","v":0},null,null,{"$f":"(M247+N247)*18%","v":0},{"$f":"O247+N247+M247","v":0},{"$f":"+R247-O247-K247","v":0},{"$f":"P247+L247","v":0}]
[241,{"$f":"'INVENT.Construc&Bat Importé -10'!B247","v":0},{"$f":"'INVENT.Construc&Bat Importé -10'!F247","v":0},{"$f":"'INVENT.Construc&Bat Importé -10'!C247","v":0},{"$f":"'INVENT.Construc&Bat Importé -10'!H247","v":0},null,0,0,0,0,0,0,null,null,0,0,0,0]
[242,{"$f":"'INVENT.Construc&Bat Importé -10'!B248","v":0},{"$f":"'INVENT.Construc&Bat Importé -10'!F248","v":0},{"$f":"'INVENT.Construc&Bat Importé -10'!C248","v":0},{"$f":"'INVENT.Construc&Bat Importé -10'!H248","v":0},null,0,0,0,0,0,0,null,null,0,0,0,0]
[243,{"$f":"'INVENT.Construc&Bat Importé -10'!B249","v":0},{"$f":"'INVENT.Construc&Bat Importé -10'!F249","v":0},{"$f":"'INVENT.Construc&Bat Importé -10'!C249","v":0},{"$f":"'INVENT.Construc&Bat Importé -10'!H249","v":0},null,0,0,0,0,0,0,null,null,0,0,0,0]
[244,{"$f":"'INVENT.Construc&Bat Importé -10'!B250","v":0},{"$f":"'INVENT.Construc&Bat Importé -10'!F250","v":0},{"$f":"'INVENT.Construc&Bat Importé -10'!C250","v":0},{"$f":"'INVENT.Construc&Bat Importé -10'!H250","v":0},null,0,0,0,0,0,0,null,null,0,0,0,0]
[245,{"$f":"'INVENT.Construc&Bat Importé -10'!B251","v":0},{"$f":"'INVENT.Construc&Bat Importé -10'!F251","v":0},{"$f":"'INVENT.Construc&Bat Importé -10'!C251","v":0},{"$f":"'INVENT.Construc&Bat Importé -10'!H251","v":0},null,0,0,0,0,0,0,null,null,0,0,0,0]
[246,{"$f":"'INVENT.Construc&Bat Importé -10'!B252","v":0},{"$f":"'INVENT.Construc&Bat Importé -10'!F252","v":0},{"$f":"'INVENT.Construc&Bat Importé -10'!C252","v":0},{"$f":"'INVENT.Construc&Bat Importé -10'!H252","v":0},null,0,0,0,0,0,0,null,null,0,0,0,0]
[247,{"$f":"'INVENT.Construc&Bat Importé -10'!B253","v":0},{"$f":"'INVENT.Construc&Bat Importé -10'!F253","v":0},{"$f":"'INVENT.Construc&Bat Importé -10'!C253","v":0},{"$f":"'INVENT.Construc&Bat Importé -10'!H253","v":0},null,0,0,0,0,0,0,null,null,0,0,0,0]
[248,{"$f":"'INVENT.Construc&Bat Importé -10'!B254","v":0},{"$f":"'INVENT.Construc&Bat Importé -10'!F254","v":0},{"$f":"'INVENT.Construc&Bat Importé -10'!C254","v":0},{"$f":"'INVENT.Construc&Bat Importé -10'!H254","v":0},null,0,0,0,0,0,0,null,null,0,0,0,0]
[249,{"$f":"'INVENT.Construc&Bat Importé -10'!B255","v":0},{"$f":"'INVENT.Construc&Bat Importé -10'!F255","v":0},{"$f":"'INVENT.Construc&Bat Importé -10'!C255","v":0},{"$f":"'INVENT.Construc&Bat Importé -10'!H255","v":0},null,0,0,0,0,0,0,null,null,0,0,0,0]
[250,{"$f":"'INVENT.Construc&Bat Importé -10'!B256","v":0},{"$f":"'INVENT.Construc&Bat Importé -10'!F256","v":0},{"$f":"'INVENT.Construc&Bat Importé -10'!C256","v":0},{"$f":"'INVENT.Construc&Bat Importé -10'!H256","v":0},null,0,0,0,0,0,0,null,null,0,0,0,0]
[251,{"$f":"'INVENT.Construc&Bat Importé -10'!B257","v":0},{"$f":"'INVENT.Construc&Bat Importé -10'!F257","v":0},{"$f":"'INVENT.Construc&Bat Importé -10'!C257","v":0},{"$f":"'INVENT.Construc&Bat Importé -10'!H257","v":0},null,0,0,0,0,0,0,null,null,0,0,0,0]
[252,{"$f":"'INVENT.Construc&Bat Importé -10'!B258","v":0},{"$f":"'INVENT.Construc&Bat Importé -10'!F258","v":0},{"$f":"'INVENT.Construc&Bat Importé -10'!C258","v":0},{"$f":"'INVENT.Construc&Bat Importé -10'!H258","v":0},null,0,0,0,0,0,0,null,null,0,0,0,0]
[253,{"$f":"'INVENT.Construc&Bat Importé -10'!B259","v":0},{"$f":"'INVENT.Construc&Bat Importé -10'!F259","v":0},{"$f":"'INVENT.Construc&Bat Importé -10'!C259","v":0},{"$f":"'INVENT.Construc&Bat Importé -10'!H259","v":0},null,0,0,0,0,0,0,null,null,0,0,0,0]
[254,{"$f":"'INVENT.Construc&Bat Importé -10'!B260","v":0},{"$f":"'INVENT.Construc&Bat Importé -10'!F260","v":0},{"$f":"'INVENT.Construc&Bat Importé -10'!C260","v":0},{"$f":"'INVENT.Construc&Bat Importé -10'!H260","v":0},null,0,0,0,0,0,0,null,null,0,0,0,0]
[255,{"$f":"'INVENT.Construc&Bat Importé -10'!B261","v":0},{"$f":"'INVENT.Construc&Bat Importé -10'!F261","v":0},{"$f":"'INVENT.Construc&Bat Importé -10'!C261","v":0},{"$f":"'INVENT.Construc&Bat Importé -10'!H261","v":0},null,0,0,0,0,0,0,null,null,0,0,0,0]
[256,{"$f":"'INVENT.Construc&Bat Importé -10'!B262","v":0},{"$f":"'INVENT.Construc&Bat Importé -10'!F262","v":0},{"$f":"'INVENT.Construc&Bat Importé -10'!C262","v":0},{"$f":"'INVENT.Construc&Bat Importé -10'!H262","v":0},null,0,0,0,0,0,0,null,null,0,0,0,0]
[257,{"$f":"'INVENT.Construc&Bat Importé -10'!B263","v":0},{"$f":"'INVENT.Construc&Bat Importé -10'!F263","v":0},{"$f":"'INVENT.Construc&Bat Importé -10'!C263","v":0},{"$f":"'INVENT.Construc&Bat Importé -10'!H263","v":0},null,0,0,0,0,0,0,null,null,0,0,0,0]
[258,{"$f":"'INVENT.Construc&Bat Importé -10'!B264","v":0},{"$f":"'INVENT.Construc&Bat Importé -10'!F264","v":0},{"$f":"'INVENT.Construc&Bat Importé -10'!C264","v":0},{"$f":"'INVENT.Construc&Bat Importé -10'!H264","v":0},null,0,{"$f":"E265*1%","v":0},{"$f":"E265*1%","v":0},{"$f":"E265*0.5%","v":0},0,0,null,null,0,0,0,0]
[259,{"$f":"'INVENT.Construc&Bat Importé -10'!B265","v":0},{"$f":"'INVENT.Construc&Bat Importé -10'!F265","v":0},{"$f":"'INVENT.Construc&Bat Importé -10'!C265","v":0},{"$f":"'INVENT.Construc&Bat Importé -10'!H265","v":0},null,0,0,0,0,0,0,null,null,0,0,0,0]
[260,{"$f":"'INVENT.Construc&Bat Importé -10'!B266","v":0},{"$f":"'INVENT.Construc&Bat Importé -10'!F266","v":0},{"$f":"'INVENT.Construc&Bat Importé -10'!C266","v":0},{"$f":"'INVENT.Construc&Bat Importé -10'!H266","v":0},null,0,0,0,0,0,0,null,null,0,0,0,0]
[261,{"$f":"'INVENT.Construc&Bat Importé -10'!B267","v":0},{"$f":"'INVENT.Construc&Bat Importé -10'!F267","v":0},{"$f":"'INVENT.Construc&Bat Importé -10'!C267","v":0},{"$f":"'INVENT.Construc&Bat Importé -10'!H267","v":0},null,0,0,0,0,0,0,null,null,0,0,0,0]
[262,{"$f":"'INVENT.Construc&Bat Importé -10'!B268","v":0},{"$f":"'INVENT.Construc&Bat Importé -10'!F268","v":0},{"$f":"'INVENT.Construc&Bat Importé -10'!C268","v":0},{"$f":"'INVENT.Construc&Bat Importé -10'!H268","v":0},null,0,0,0,0,0,0,null,null,0,0,0,0]
[263,{"$f":"'INVENT.Construc&Bat Importé -10'!B269","v":0},{"$f":"'INVENT.Construc&Bat Importé -10'!F269","v":0},{"$f":"'INVENT.Construc&Bat Importé -10'!C269","v":0},{"$f":"'INVENT.Construc&Bat Importé -10'!H269","v":0},null,0,0,0,0,0,0,null,null,0,0,0,0]
[264,{"$f":"'INVENT.Construc&Bat Importé -10'!B270","v":0},{"$f":"'INVENT.Construc&Bat Importé -10'!F270","v":0},{"$f":"'INVENT.Construc&Bat Importé -10'!C270","v":0},{"$f":"'INVENT.Construc&Bat Importé -10'!H270","v":0},null,0,0,0,0,0,0,null,null,0,0,0,0]
[265,{"$f":"'INVENT.Construc&Bat Importé -10'!B271","v":0},{"$f":"'INVENT.Construc&Bat Importé -10'!F271","v":0},{"$f":"'INVENT.Construc&Bat Importé -10'!C271","v":0},{"$f":"'INVENT.Construc&Bat Importé -10'!H271","v":0},null,0,0,0,0,0,0,null,null,0,0,0,0]
[266,{"$f":"'INVENT.Construc&Bat Importé -10'!B272","v":0},{"$f":"'INVENT.Construc&Bat Importé -10'!F272","v":0},{"$f":"'INVENT.Construc&Bat Importé -10'!C272","v":0},{"$f":"'INVENT.Construc&Bat Importé -10'!H272","v":0},null,0,0,0,0,0,0,null,null,0,0,0,0]
[267,{"$f":"'INVENT.Construc&Bat Importé -10'!B273","v":0},{"$f":"'INVENT.Construc&Bat Importé -10'!F273","v":0},{"$f":"'INVENT.Construc&Bat Importé -10'!C273","v":0},{"$f":"'INVENT.Construc&Bat Importé -10'!H273","v":0},null,0,0,0,0,0,0,null,null,0,0,0,0]
[268,{"$f":"'INVENT.Construc&Bat Importé -10'!B274","v":0},{"$f":"'INVENT.Construc&Bat Importé -10'!F274","v":0},{"$f":"'INVENT.Construc&Bat Importé -10'!C274","v":0},{"$f":"'INVENT.Construc&Bat Importé -10'!H274","v":0},null,0,0,0,0,0,0,null,null,0,0,0,0]
[269,{"$f":"'INVENT.Construc&Bat Importé -10'!B275","v":0},{"$f":"'INVENT.Construc&Bat Importé -10'!F275","v":0},{"$f":"'INVENT.Construc&Bat Importé -10'!C275","v":0},{"$f":"'INVENT.Construc&Bat Importé -10'!H275","v":0},null,0,0,0,0,0,0,null,null,0,0,0,0]
[270,{"$f":"'INVENT.Construc&Bat Importé -10'!B276","v":0},{"$f":"'INVENT.Construc&Bat Importé -10'!F276","v":0},{"$f":"'INVENT.Construc&Bat Importé -10'!C276","v":0},{"$f":"'INVENT.Construc&Bat Importé -10'!H276","v":0},null,0,0,0,0,0,0,null,null,0,0,0,0]
[271,{"$f":"'INVENT.Construc&Bat Importé -10'!B277","v":0},{"$f":"'INVENT.Construc&Bat Importé -10'!F277","v":0},{"$f":"'INVENT.Construc&Bat Importé -10'!C277","v":0},{"$f":"'INVENT.Construc&Bat Importé -10'!H277","v":0},null,0,0,0,0,0,0,null,null,0,0,0,0]
[272,{"$f":"'INVENT.Construc&Bat Importé -10'!B278","v":0},{"$f":"'INVENT.Construc&Bat Importé -10'!F278","v":0},{"$f":"'INVENT.Construc&Bat Importé -10'!C278","v":0},{"$f":"'INVENT.Construc&Bat Importé -10'!H278","v":0},null,0,0,0,0,0,0,null,null,0,0,0,0]
[273,{"$f":"'INVENT.Construc&Bat Importé -10'!B279","v":0},{"$f":"'INVENT.Construc&Bat Importé -10'!F279","v":0},{"$f":"'INVENT.Construc&Bat Importé -10'!C279","v":0},{"$f":"'INVENT.Construc&Bat Importé -10'!H279","v":0},null,0,0,0,0,0,0,null,null,0,0,0,0]
[274,{"$f":"'INVENT.Construc&Bat Importé -10'!B280","v":0},{"$f":"'INVENT.Construc&Bat Importé -10'!F280","v":0},{"$f":"'INVENT.Construc&Bat Importé -10'!C280","v":0},{"$f":"'INVENT.Construc&Bat Importé -10'!H280","v":0},null,0,0,0,0,0,0,null,null,0,0,0,0]
[275,{"$f":"'INVENT.Construc&Bat Importé -10'!B281","v":0},{"$f":"'INVENT.Construc&Bat Importé -10'!F281","v":0},{"$f":"'INVENT.Construc&Bat Importé -10'!C281","v":0},{"$f":"'INVENT.Construc&Bat Importé -10'!H281","v":0},null,0,0,0,0,0,0,null,null,0,0,0,0]
[276,{"$f":"'INVENT.Construc&Bat Importé -10'!B282","v":0},{"$f":"'INVENT.Construc&Bat Importé -10'!F282","v":0},{"$f":"'INVENT.Construc&Bat Importé -10'!C282","v":0},{"$f":"'INVENT.Construc&Bat Importé -10'!H282","v":0},null,0,0,0,0,0,0,null,null,0,0,0,0]
[277,{"$f":"'INVENT.Construc&Bat Importé -10'!B283","v":0},{"$f":"'INVENT.Construc&Bat Importé -10'!F283","v":0},{"$f":"'INVENT.Construc&Bat Importé -10'!C283","v":0},{"$f":"'INVENT.Construc&Bat Importé -10'!H283","v":0},null,0,0,0,0,0,0,null,null,0,0,0,0]
[278,{"$f":"'INVENT.Construc&Bat Importé -10'!B284","v":0},{"$f":"'INVENT.Construc&Bat Importé -10'!F284","v":0},{"$f":"'INVENT.Construc&Bat Importé -10'!C284","v":0},{"$f":"'INVENT.Construc&Bat Importé -10'!H284","v":0},null,0,0,0,0,0,0,null,null,0,0,0,0]
[279,{"$f":"'INVENT.Construc&Bat Importé -10'!B285","v":0},{"$f":"'INVENT.Construc&Bat Importé -10'!F285","v":0},{"$f":"'INVENT.Construc&Bat Importé -10'!C285","v":0},{"$f":"'INVENT.Construc&Bat Importé -10'!H285","v":0},null,0,0,0,0,0,0,null,null,0,0,0,0]
[280,{"$f":"'INVENT.Construc&Bat Importé -10'!B286","v":0},{"$f":"'INVENT.Construc&Bat Importé -10'!F286","v":0},{"$f":"'INVENT.Construc&Bat Importé -10'!C286","v":0},{"$f":"'INVENT.Construc&Bat Importé -10'!H286","v":0},null,0,0,0,0,0,0,null,null,0,0,0,0]
[281,{"$f":"'INVENT.Construc&Bat Importé -10'!B287","v":0},{"$f":"'INVENT.Construc&Bat Importé -10'!F287","v":0},{"$f":"'INVENT.Construc&Bat Importé -10'!C287","v":0},{"$f":"'INVENT.Construc&Bat Importé -10'!H287","v":0},null,0,0,0,0,0,0,null,null,0,0,0,0]
[282,{"$f":"'INVENT.Construc&Bat Importé -10'!B288","v":0},{"$f":"'INVENT.Construc&Bat Importé -10'!F288","v":0},{"$f":"'INVENT.Construc&Bat Importé -10'!C288","v":0},{"$f":"'INVENT.Construc&Bat Importé -10'!H288","v":0},null,0,0,0,0,0,0,null,null,0,0,0,0]
[283,{"$f":"'INVENT.Construc&Bat Importé -10'!B289","v":0},{"$f":"'INVENT.Construc&Bat Importé -10'!F289","v":0},{"$f":"'INVENT.Construc&Bat Importé -10'!C289","v":0},{"$f":"'INVENT.Construc&Bat Importé -10'!H289","v":0},null,0,0,0,0,0,0,null,null,0,0,0,0]
[284,{"$f":"'INVENT.Construc&Bat Importé -10'!B290","v":0},{"$f":"'INVENT.Construc&Bat Importé -10'!F290","v":0},{"$f":"'INVENT.Construc&Bat Importé -10'!C290","v":0},{"$f":"'INVENT.Construc&Bat Importé -10'!H290","v":0},null,0,0,0,0,0,0,null,null,0,0,0,0]
[285,{"$f":"'INVENT.Construc&Bat Importé -10'!B291","v":0},{"$f":"'INVENT.Construc&Bat Importé -10'!F291","v":0},{"$f":"'INVENT.Construc&Bat Importé -10'!C291","v":0},{"$f":"'INVENT.Construc&Bat Importé -10'!H291","v":0},null,0,0,0,0,0,0,null,null,0,0,0,0]
[286,{"$f":"'INVENT.Construc&Bat Importé -10'!B292","v":0},{"$f":"'INVENT.Construc&Bat Importé -10'!F292","v":0},{"$f":"'INVENT.Construc&Bat Importé -10'!C292","v":0},{"$f":"'INVENT.Construc&Bat Importé -10'!H292","v":0},null,0,0,0,0,0,0,null,null,0,0,0,0]
[287,{"$f":"'INVENT.Construc&Bat Importé -10'!B293","v":0},{"$f":"'INVENT.Construc&Bat Importé -10'!F293","v":0},{"$f":"'INVENT.Construc&Bat Importé -10'!C293","v":0},{"$f":"'INVENT.Construc&Bat Importé -10'!H293","v":0},null,0,0,0,0,0,0,null,null,0,0,0,0]
[288,{"$f":"'INVENT.Construc&Bat Importé -10'!B294","v":0},{"$f":"'INVENT.Construc&Bat Importé -10'!F294","v":0},{"$f":"'INVENT.Construc&Bat Importé -10'!C294","v":0},{"$f":"'INVENT.Construc&Bat Importé -10'!H294","v":0},null,0,0,0,0,0,0,null,null,0,0,0,0]
[289,{"$f":"'INVENT.Construc&Bat Importé -10'!B295","v":0},{"$f":"'INVENT.Construc&Bat Importé -10'!F295","v":0},{"$f":"'INVENT.Construc&Bat Importé -10'!C295","v":0},{"$f":"'INVENT.Construc&Bat Importé -10'!H295","v":0},null,0,0,0,0,0,0,null,null,0,0,0,0]
[290,{"$f":"'INVENT.Construc&Bat Importé -10'!B296","v":0},{"$f":"'INVENT.Construc&Bat Importé -10'!F296","v":0},{"$f":"'INVENT.Construc&Bat Importé -10'!C296","v":0},{"$f":"'INVENT.Construc&Bat Importé -10'!H296","v":0},null,0,0,0,0,0,0,null,null,0,0,0,0]
[291,{"$f":"'INVENT.Construc&Bat Importé -10'!B297","v":0},{"$f":"'INVENT.Construc&Bat Importé -10'!F297","v":0},{"$f":"'INVENT.Construc&Bat Importé -10'!C297","v":0},{"$f":"'INVENT.Construc&Bat Importé -10'!H297","v":0},null,0,0,0,0,0,0,null,null,0,0,0,0]
[292,{"$f":"'INVENT.Construc&Bat Importé -10'!B298","v":0},{"$f":"'INVENT.Construc&Bat Importé -10'!F298","v":0},{"$f":"'INVENT.Construc&Bat Importé -10'!C298","v":0},{"$f":"'INVENT.Construc&Bat Importé -10'!H298","v":0},null,0,0,0,0,0,0,null,null,0,0,0,0]
[293,{"$f":"'INVENT.Construc&Bat Importé -10'!B299","v":0},{"$f":"'INVENT.Construc&Bat Importé -10'!F299","v":0},{"$f":"'INVENT.Construc&Bat Importé -10'!C299","v":0},{"$f":"'INVENT.Construc&Bat Importé -10'!H299","v":0},null,0,0,0,0,0,0,null,null,0,0,0,0]
[294,{"$f":"'INVENT.Construc&Bat Importé -10'!B300","v":0},{"$f":"'INVENT.Construc&Bat Importé -10'!F300","v":0},{"$f":"'INVENT.Construc&Bat Importé -10'!C300","v":0},{"$f":"'INVENT.Construc&Bat Importé -10'!H300","v":0},null,0,0,0,0,0,0,null,null,0,0,0,0]
[295,{"$f":"'INVENT.Construc&Bat Importé -10'!B301","v":0},{"$f":"'INVENT.Construc&Bat Importé -10'!F301","v":0},{"$f":"'INVENT.Construc&Bat Importé -10'!C301","v":0},{"$f":"'INVENT.Construc&Bat Importé -10'!H301","v":0},null,0,0,0,0,0,0,null,null,0,0,0,0]
[{"$f":"+A302+1","v":296},{"$f":"'INVENT.Construc&Bat Importé -10'!B302","v":0},{"$f":"'INVENT.Construc&Bat Importé -10'!F302","v":0},{"$f":"'INVENT.Construc&Bat Importé -10'!C302","v":0},{"$f":"'INVENT.Construc&Bat Importé -10'!H302","v":0},null,0,0,0,0,0,0,null,null,0,0,0,0]
[297,{"$f":"'INVENT.Construc&Bat Importé -10'!B303","v":0},{"$f":"'INVENT.Construc&Bat Importé -10'!F303","v":0},{"$f":"'INVENT.Construc&Bat Importé -10'!C303","v":0},{"$f":"'INVENT.Construc&Bat Importé -10'!H303","v":0},null,0,0,0,0,0,0,null,null,0,0,0,0]
[298,{"$f":"'INVENT.Construc&Bat Importé -10'!B304","v":0},{"$f":"'INVENT.Construc&Bat Importé -10'!F304","v":0},{"$f":"'INVENT.Construc&Bat Importé -10'!C304","v":0},{"$f":"'INVENT.Construc&Bat Importé -10'!H304","v":0},null,0,0,0,0,0,0,null,null,0,0,0,0]
[299,{"$f":"'INVENT.Construc&Bat Importé -10'!B305","v":0},{"$f":"'INVENT.Construc&Bat Importé -10'!F305","v":0},{"$f":"'INVENT.Construc&Bat Importé -10'!C305","v":0},{"$f":"'INVENT.Construc&Bat Importé -10'!H305","v":0},null,0,0,0,0,0,0,null,null,0,0,0,0]
[300,{"$f":"'INVENT.Construc&Bat Importé -10'!B306","v":0},{"$f":"'INVENT.Construc&Bat Importé -10'!F306","v":0},{"$f":"'INVENT.Construc&Bat Importé -10'!C306","v":0},{"$f":"'INVENT.Construc&Bat Importé -10'!H306","v":0},null,0,0,0,0,0,0,null,null,0,0,0,0]
[301,{"$f":"'INVENT.Construc&Bat Importé -10'!B307","v":0},{"$f":"'INVENT.Construc&Bat Importé -10'!F307","v":0},{"$f":"'INVENT.Construc&Bat Importé -10'!C307","v":0},{"$f":"'INVENT.Construc&Bat Importé -10'!H307","v":0},null,0,0,0,0,0,0,null,null,0,0,0,0]
[302,{"$f":"'INVENT.Construc&Bat Importé -10'!B308","v":0},{"$f":"'INVENT.Construc&Bat Importé -10'!F308","v":0},{"$f":"'INVENT.Construc&Bat Importé -10'!C308","v":0},{"$f":"'INVENT.Construc&Bat Importé -10'!H308","v":0},null,0,0,0,0,0,0,null,null,0,0,0,0]
[303,{"$f":"'INVENT.Construc&Bat Importé -10'!B309","v":0},{"$f":"'INVENT.Construc&Bat Importé -10'!F309","v":0},{"$f":"'INVENT.Construc&Bat Importé -10'!C309","v":0},{"$f":"'INVENT.Construc&Bat Importé -10'!H309","v":0},null,0,0,0,0,0,0,null,null,0,0,0,0]
[304,{"$f":"'INVENT.Construc&Bat Importé -10'!B310","v":0},{"$f":"'INVENT.Construc&Bat Importé -10'!F310","v":0},{"$f":"'INVENT.Construc&Bat Importé -10'!C310","v":0},{"$f":"'INVENT.Construc&Bat Importé -10'!H310","v":0},null,{"$f":"F311*E311","v":0},0,0,0,{"$f":"(E311+G311+H311)*18%","v":0},{"$f":"SUM(G311:K311)+E311","v":0},null,null,{"$f":"(M311+N311)*18%","v":0},{"$f":"O311+N311+M311","v":0},{"$f":"+R311-O311-K311","v":0},{"$f":"P311+L311","v":0}]
[305,{"$f":"'INVENT.Construc&Bat Importé -10'!B311","v":0},{"$f":"'INVENT.Construc&Bat Importé -10'!F311","v":0},{"$f":"'INVENT.Construc&Bat Importé -10'!C311","v":0},{"$f":"'INVENT.Construc&Bat Importé -10'!H311","v":0},null,0,0,0,0,0,0,null,null,0,0,0,0]
[306,{"$f":"'INVENT.Construc&Bat Importé -10'!B312","v":0},{"$f":"'INVENT.Construc&Bat Importé -10'!F312","v":0},{"$f":"'INVENT.Construc&Bat Importé -10'!C312","v":0},{"$f":"'INVENT.Construc&Bat Importé -10'!H312","v":0},null,0,0,0,0,0,0,null,null,0,0,0,0]
[307,{"$f":"'INVENT.Construc&Bat Importé -10'!B313","v":0},{"$f":"'INVENT.Construc&Bat Importé -10'!F313","v":0},{"$f":"'INVENT.Construc&Bat Importé -10'!C313","v":0},{"$f":"'INVENT.Construc&Bat Importé -10'!H313","v":0},null,0,0,0,0,0,0,null,null,0,0,0,0]
[308,{"$f":"'INVENT.Construc&Bat Importé -10'!B314","v":0},{"$f":"'INVENT.Construc&Bat Importé -10'!F314","v":0},{"$f":"'INVENT.Construc&Bat Importé -10'!C314","v":0},{"$f":"'INVENT.Construc&Bat Importé -10'!H314","v":0},null,0,0,0,0,0,0,null,null,0,0,0,0]
[309,{"$f":"'INVENT.Construc&Bat Importé -10'!B315","v":0},{"$f":"'INVENT.Construc&Bat Importé -10'!F315","v":0},{"$f":"'INVENT.Construc&Bat Importé -10'!C315","v":0},{"$f":"'INVENT.Construc&Bat Importé -10'!H315","v":0},null,0,0,0,0,0,0,null,null,0,0,0,0]
[310,{"$f":"'INVENT.Construc&Bat Importé -10'!B316","v":0},{"$f":"'INVENT.Construc&Bat Importé -10'!F316","v":0},{"$f":"'INVENT.Construc&Bat Importé -10'!C316","v":0},{"$f":"'INVENT.Construc&Bat Importé -10'!H316","v":0},null,0,0,0,0,0,0,null,null,0,0,0,0]
[311,{"$f":"'INVENT.Construc&Bat Importé -10'!B317","v":0},{"$f":"'INVENT.Construc&Bat Importé -10'!F317","v":0},{"$f":"'INVENT.Construc&Bat Importé -10'!C317","v":0},{"$f":"'INVENT.Construc&Bat Importé -10'!H317","v":0},null,0,0,0,0,0,0,null,null,0,0,0,0]
[312,{"$f":"'INVENT.Construc&Bat Importé -10'!B318","v":0},{"$f":"'INVENT.Construc&Bat Importé -10'!F318","v":0},{"$f":"'INVENT.Construc&Bat Importé -10'!C318","v":0},{"$f":"'INVENT.Construc&Bat Importé -10'!H318","v":0},null,0,0,0,0,0,0,null,null,0,0,0,0]
[313,{"$f":"'INVENT.Construc&Bat Importé -10'!B319","v":0},{"$f":"'INVENT.Construc&Bat Importé -10'!F319","v":0},{"$f":"'INVENT.Construc&Bat Importé -10'!C319","v":0},{"$f":"'INVENT.Construc&Bat Importé -10'!H319","v":0},null,0,0,0,0,0,0,null,null,0,0,0,0]
[314,{"$f":"'INVENT.Construc&Bat Importé -10'!B320","v":0},{"$f":"'INVENT.Construc&Bat Importé -10'!F320","v":0},{"$f":"'INVENT.Construc&Bat Importé -10'!C320","v":0},{"$f":"'INVENT.Construc&Bat Importé -10'!H320","v":0},null,0,0,0,0,0,0,null,null,0,0,0,0]
[315,{"$f":"'INVENT.Construc&Bat Importé -10'!B321","v":0},{"$f":"'INVENT.Construc&Bat Importé -10'!F321","v":0},{"$f":"'INVENT.Construc&Bat Importé -10'!C321","v":0},{"$f":"'INVENT.Construc&Bat Importé -10'!H321","v":0},null,0,0,0,0,0,0,null,null,0,0,0,0]
[316,{"$f":"'INVENT.Construc&Bat Importé -10'!B322","v":0},{"$f":"'INVENT.Construc&Bat Importé -10'!F322","v":0},{"$f":"'INVENT.Construc&Bat Importé -10'!C322","v":0},{"$f":"'INVENT.Construc&Bat Importé -10'!H322","v":0},null,0,0,0,0,0,0,null,null,0,0,0,0]
[317,{"$f":"'INVENT.Construc&Bat Importé -10'!B323","v":0},{"$f":"'INVENT.Construc&Bat Importé -10'!F323","v":0},{"$f":"'INVENT.Construc&Bat Importé -10'!C323","v":0},{"$f":"'INVENT.Construc&Bat Importé -10'!H323","v":0},null,0,0,0,0,0,0,null,null,0,0,0,0]
[318,{"$f":"'INVENT.Construc&Bat Importé -10'!B324","v":0},{"$f":"'INVENT.Construc&Bat Importé -10'!F324","v":0},{"$f":"'INVENT.Construc&Bat Importé -10'!C324","v":0},{"$f":"'INVENT.Construc&Bat Importé -10'!H324","v":0},null,0,0,0,0,0,0,null,null,0,0,0,0]
[319,{"$f":"'INVENT.Construc&Bat Importé -10'!B325","v":0},{"$f":"'INVENT.Construc&Bat Importé -10'!F325","v":0},{"$f":"'INVENT.Construc&Bat Importé -10'!C325","v":0},{"$f":"'INVENT.Construc&Bat Importé -10'!H325","v":0},null,0,0,0,0,0,0,null,null,0,0,0,0]
[320,{"$f":"'INVENT.Construc&Bat Importé -10'!B326","v":0},{"$f":"'INVENT.Construc&Bat Importé -10'!F326","v":0},{"$f":"'INVENT.Construc&Bat Importé -10'!C326","v":0},{"$f":"'INVENT.Construc&Bat Importé -10'!H326","v":0},null,0,0,0,0,0,0,null,null,0,0,0,0]
[321,{"$f":"'INVENT.Construc&Bat Importé -10'!B327","v":0},{"$f":"'INVENT.Construc&Bat Importé -10'!F327","v":0},{"$f":"'INVENT.Construc&Bat Importé -10'!C327","v":0},{"$f":"'INVENT.Construc&Bat Importé -10'!H327","v":0},null,0,0,0,0,0,0,null,null,0,0,0,0]
[322,{"$f":"'INVENT.Construc&Bat Importé -10'!B328","v":0},{"$f":"'INVENT.Construc&Bat Importé -10'!F328","v":0},{"$f":"'INVENT.Construc&Bat Importé -10'!C328","v":0},{"$f":"'INVENT.Construc&Bat Importé -10'!H328","v":0},null,0,{"$f":"E329*1%","v":0},{"$f":"E329*1%","v":0},{"$f":"E329*0.5%","v":0},0,0,null,null,0,0,0,0]
[323,{"$f":"'INVENT.Construc&Bat Importé -10'!B329","v":0},{"$f":"'INVENT.Construc&Bat Importé -10'!F329","v":0},{"$f":"'INVENT.Construc&Bat Importé -10'!C329","v":0},{"$f":"'INVENT.Construc&Bat Importé -10'!H329","v":0},null,0,0,0,0,0,0,null,null,0,0,0,0]
[324,{"$f":"'INVENT.Construc&Bat Importé -10'!B330","v":0},{"$f":"'INVENT.Construc&Bat Importé -10'!F330","v":0},{"$f":"'INVENT.Construc&Bat Importé -10'!C330","v":0},{"$f":"'INVENT.Construc&Bat Importé -10'!H330","v":0},null,0,0,0,0,0,0,null,null,0,0,0,0]
[325,{"$f":"'INVENT.Construc&Bat Importé -10'!B331","v":0},{"$f":"'INVENT.Construc&Bat Importé -10'!F331","v":0},{"$f":"'INVENT.Construc&Bat Importé -10'!C331","v":0},{"$f":"'INVENT.Construc&Bat Importé -10'!H331","v":0},null,0,0,0,0,0,0,null,null,0,0,0,0]
[326,{"$f":"'INVENT.Construc&Bat Importé -10'!B332","v":0},{"$f":"'INVENT.Construc&Bat Importé -10'!F332","v":0},{"$f":"'INVENT.Construc&Bat Importé -10'!C332","v":0},{"$f":"'INVENT.Construc&Bat Importé -10'!H332","v":0},null,0,0,0,0,0,0,null,null,0,0,0,0]
[327,{"$f":"'INVENT.Construc&Bat Importé -10'!B333","v":0},{"$f":"'INVENT.Construc&Bat Importé -10'!F333","v":0},{"$f":"'INVENT.Construc&Bat Importé -10'!C333","v":0},{"$f":"'INVENT.Construc&Bat Importé -10'!H333","v":0},null,0,0,0,0,0,0,null,null,0,0,0,0]
[328,{"$f":"'INVENT.Construc&Bat Importé -10'!B334","v":0},{"$f":"'INVENT.Construc&Bat Importé -10'!F334","v":0},{"$f":"'INVENT.Construc&Bat Importé -10'!C334","v":0},{"$f":"'INVENT.Construc&Bat Importé -10'!H334","v":0},null,0,0,0,0,0,0,null,null,0,0,0,0]
[329,{"$f":"'INVENT.Construc&Bat Importé -10'!B335","v":0},{"$f":"'INVENT.Construc&Bat Importé -10'!F335","v":0},{"$f":"'INVENT.Construc&Bat Importé -10'!C335","v":0},{"$f":"'INVENT.Construc&Bat Importé -10'!H335","v":0},null,0,0,0,0,0,0,null,null,0,0,0,0]
[330,{"$f":"'INVENT.Construc&Bat Importé -10'!B336","v":0},{"$f":"'INVENT.Construc&Bat Importé -10'!F336","v":0},{"$f":"'INVENT.Construc&Bat Importé -10'!C336","v":0},{"$f":"'INVENT.Construc&Bat Importé -10'!H336","v":0},null,0,0,0,0,0,0,null,null,0,0,0,0]
[331,{"$f":"'INVENT.Construc&Bat Importé -10'!B337","v":0},{"$f":"'INVENT.Construc&Bat Importé -10'!F337","v":0},{"$f":"'INVENT.Construc&Bat Importé -10'!C337","v":0},{"$f":"'INVENT.Construc&Bat Importé -10'!H337","v":0},null,0,0,0,0,0,0,null,null,0,0,0,0]
[332,{"$f":"'INVENT.Construc&Bat Importé -10'!B338","v":0},{"$f":"'INVENT.Construc&Bat Importé -10'!F338","v":0},{"$f":"'INVENT.Construc&Bat Importé -10'!C338","v":0},{"$f":"'INVENT.Construc&Bat Importé -10'!H338","v":0},null,0,0,0,0,0,0,null,null,0,0,0,0]
[333,{"$f":"'INVENT.Construc&Bat Importé -10'!B339","v":0},{"$f":"'INVENT.Construc&Bat Importé -10'!F339","v":0},{"$f":"'INVENT.Construc&Bat Importé -10'!C339","v":0},{"$f":"'INVENT.Construc&Bat Importé -10'!H339","v":0},null,0,0,0,0,0,0,null,null,0,0,0,0]
[334,{"$f":"'INVENT.Construc&Bat Importé -10'!B340","v":0},{"$f":"'INVENT.Construc&Bat Importé -10'!F340","v":0},{"$f":"'INVENT.Construc&Bat Importé -10'!C340","v":0},{"$f":"'INVENT.Construc&Bat Importé -10'!H340","v":0},null,0,0,0,0,0,0,null,null,0,0,0,0]
[335,{"$f":"'INVENT.Construc&Bat Importé -10'!B341","v":0},{"$f":"'INVENT.Construc&Bat Importé -10'!F341","v":0},{"$f":"'INVENT.Construc&Bat Importé -10'!C341","v":0},{"$f":"'INVENT.Construc&Bat Importé -10'!H341","v":0},null,0,0,0,0,0,0,null,null,0,0,0,0]
[336,{"$f":"'INVENT.Construc&Bat Importé -10'!B342","v":0},{"$f":"'INVENT.Construc&Bat Importé -10'!F342","v":0},{"$f":"'INVENT.Construc&Bat Importé -10'!C342","v":0},{"$f":"'INVENT.Construc&Bat Importé -10'!H342","v":0},null,0,0,0,0,0,0,null,null,0,0,0,0]
[337,{"$f":"'INVENT.Construc&Bat Importé -10'!B343","v":0},{"$f":"'INVENT.Construc&Bat Importé -10'!F343","v":0},{"$f":"'INVENT.Construc&Bat Importé -10'!C343","v":0},{"$f":"'INVENT.Construc&Bat Importé -10'!H343","v":0},null,0,0,0,0,0,0,null,null,0,0,0,0]
[338,{"$f":"'INVENT.Construc&Bat Importé -10'!B344","v":0},{"$f":"'INVENT.Construc&Bat Importé -10'!F344","v":0},{"$f":"'INVENT.Construc&Bat Importé -10'!C344","v":0},{"$f":"'INVENT.Construc&Bat Importé -10'!H344","v":0},null,0,0,0,0,0,0,null,null,0,0,0,0]
[339,{"$f":"'INVENT.Construc&Bat Importé -10'!B345","v":0},{"$f":"'INVENT.Construc&Bat Importé -10'!F345","v":0},{"$f":"'INVENT.Construc&Bat Importé -10'!C345","v":0},{"$f":"'INVENT.Construc&Bat Importé -10'!H345","v":0},null,0,0,0,0,0,0,null,null,0,0,0,0]
[340,{"$f":"'INVENT.Construc&Bat Importé -10'!B346","v":0},{"$f":"'INVENT.Construc&Bat Importé -10'!F346","v":0},{"$f":"'INVENT.Construc&Bat Importé -10'!C346","v":0},{"$f":"'INVENT.Construc&Bat Importé -10'!H346","v":0},null,0,0,0,0,0,0,null,null,0,0,0,0]
[341,{"$f":"'INVENT.Construc&Bat Importé -10'!B347","v":0},{"$f":"'INVENT.Construc&Bat Importé -10'!F347","v":0},{"$f":"'INVENT.Construc&Bat Importé -10'!C347","v":0},{"$f":"'INVENT.Construc&Bat Importé -10'!H347","v":0},null,0,0,0,0,0,0,null,null,0,0,0,0]
[342,{"$f":"'INVENT.Construc&Bat Importé -10'!B348","v":0},{"$f":"'INVENT.Construc&Bat Importé -10'!F348","v":0},{"$f":"'INVENT.Construc&Bat Importé -10'!C348","v":0},{"$f":"'INVENT.Construc&Bat Importé -10'!H348","v":0},null,0,0,0,0,0,0,null,null,0,0,0,0]
[343,{"$f":"'INVENT.Construc&Bat Importé -10'!B349","v":0},{"$f":"'INVENT.Construc&Bat Importé -10'!F349","v":0},{"$f":"'INVENT.Construc&Bat Importé -10'!C349","v":0},{"$f":"'INVENT.Construc&Bat Importé -10'!H349","v":0},null,0,0,0,0,0,0,null,null,0,0,0,0]
[344,{"$f":"'INVENT.Construc&Bat Importé -10'!B350","v":0},{"$f":"'INVENT.Construc&Bat Importé -10'!F350","v":0},{"$f":"'INVENT.Construc&Bat Importé -10'!C350","v":0},{"$f":"'INVENT.Construc&Bat Importé -10'!H350","v":0},null,0,0,0,0,0,0,null,null,0,0,0,0]
[345,{"$f":"'INVENT.Construc&Bat Importé -10'!B351","v":0},{"$f":"'INVENT.Construc&Bat Importé -10'!F351","v":0},{"$f":"'INVENT.Construc&Bat Importé -10'!C351","v":0},{"$f":"'INVENT.Construc&Bat Importé -10'!H351","v":0},null,0,0,0,0,0,0,null,null,0,0,0,0]
[346,{"$f":"'INVENT.Construc&Bat Importé -10'!B352","v":0},{"$f":"'INVENT.Construc&Bat Importé -10'!F352","v":0},{"$f":"'INVENT.Construc&Bat Importé -10'!C352","v":0},{"$f":"'INVENT.Construc&Bat Importé -10'!H352","v":0},null,0,0,0,0,0,0,null,null,0,0,0,0]
[347,{"$f":"'INVENT.Construc&Bat Importé -10'!B353","v":0},{"$f":"'INVENT.Construc&Bat Importé -10'!F353","v":0},{"$f":"'INVENT.Construc&Bat Importé -10'!C353","v":0},{"$f":"'INVENT.Construc&Bat Importé -10'!H353","v":0},null,0,0,0,0,0,0,null,null,0,0,0,0]
[348,{"$f":"'INVENT.Construc&Bat Importé -10'!B354","v":0},{"$f":"'INVENT.Construc&Bat Importé -10'!F354","v":0},{"$f":"'INVENT.Construc&Bat Importé -10'!C354","v":0},{"$f":"'INVENT.Construc&Bat Importé -10'!H354","v":0},null,0,0,0,0,0,0,null,null,0,0,0,0]
[349,{"$f":"'INVENT.Construc&Bat Importé -10'!B355","v":0},{"$f":"'INVENT.Construc&Bat Importé -10'!F355","v":0},{"$f":"'INVENT.Construc&Bat Importé -10'!C355","v":0},{"$f":"'INVENT.Construc&Bat Importé -10'!H355","v":0},null,0,0,0,0,0,0,null,null,0,0,0,0]
[350,{"$f":"'INVENT.Construc&Bat Importé -10'!B356","v":0},{"$f":"'INVENT.Construc&Bat Importé -10'!F356","v":0},{"$f":"'INVENT.Construc&Bat Importé -10'!C356","v":0},{"$f":"'INVENT.Construc&Bat Importé -10'!H356","v":0},null,0,0,0,0,0,0,null,null,0,0,0,0]
[351,{"$f":"'INVENT.Construc&Bat Importé -10'!B357","v":0},{"$f":"'INVENT.Construc&Bat Importé -10'!F357","v":0},{"$f":"'INVENT.Construc&Bat Importé -10'!C357","v":0},{"$f":"'INVENT.Construc&Bat Importé -10'!H357","v":0},null,0,0,0,0,0,0,null,null,0,0,0,0]
[352,{"$f":"'INVENT.Construc&Bat Importé -10'!B358","v":0},{"$f":"'INVENT.Construc&Bat Importé -10'!F358","v":0},{"$f":"'INVENT.Construc&Bat Importé -10'!C358","v":0},{"$f":"'INVENT.Construc&Bat Importé -10'!H358","v":0},null,0,0,0,0,0,0,null,null,0,0,0,0]
[353,{"$f":"'INVENT.Construc&Bat Importé -10'!B359","v":0},{"$f":"'INVENT.Construc&Bat Importé -10'!F359","v":0},{"$f":"'INVENT.Construc&Bat Importé -10'!C359","v":0},{"$f":"'INVENT.Construc&Bat Importé -10'!H359","v":0},null,0,0,0,0,0,0,null,null,0,0,0,0]
[354,{"$f":"'INVENT.Construc&Bat Importé -10'!B360","v":0},{"$f":"'INVENT.Construc&Bat Importé -10'!F360","v":0},{"$f":"'INVENT.Construc&Bat Importé -10'!C360","v":0},{"$f":"'INVENT.Construc&Bat Importé -10'!H360","v":0},null,0,0,0,0,0,0,null,null,0,0,0,0]
[355,{"$f":"'INVENT.Construc&Bat Importé -10'!B361","v":0},{"$f":"'INVENT.Construc&Bat Importé -10'!F361","v":0},{"$f":"'INVENT.Construc&Bat Importé -10'!C361","v":0},{"$f":"'INVENT.Construc&Bat Importé -10'!H361","v":0},null,0,0,0,0,0,0,null,null,0,0,0,0]
[356,{"$f":"'INVENT.Construc&Bat Importé -10'!B362","v":0},{"$f":"'INVENT.Construc&Bat Importé -10'!F362","v":0},{"$f":"'INVENT.Construc&Bat Importé -10'!C362","v":0},{"$f":"'INVENT.Construc&Bat Importé -10'!H362","v":0},null,0,0,0,0,0,0,null,null,0,0,0,0]
[357,{"$f":"'INVENT.Construc&Bat Importé -10'!B363","v":0},{"$f":"'INVENT.Construc&Bat Importé -10'!F363","v":0},{"$f":"'INVENT.Construc&Bat Importé -10'!C363","v":0},{"$f":"'INVENT.Construc&Bat Importé -10'!H363","v":0},null,0,0,0,0,0,0,null,null,0,0,0,0]
[358,{"$f":"'INVENT.Construc&Bat Importé -10'!B364","v":0},{"$f":"'INVENT.Construc&Bat Importé -10'!F364","v":0},{"$f":"'INVENT.Construc&Bat Importé -10'!C364","v":0},{"$f":"'INVENT.Construc&Bat Importé -10'!H364","v":0},null,0,0,0,0,0,0,null,null,0,0,0,0]
[359,{"$f":"'INVENT.Construc&Bat Importé -10'!B365","v":0},{"$f":"'INVENT.Construc&Bat Importé -10'!F365","v":0},{"$f":"'INVENT.Construc&Bat Importé -10'!C365","v":0},{"$f":"'INVENT.Construc&Bat Importé -10'!H365","v":0},null,0,0,0,0,0,0,null,null,0,0,0,0]
[{"$f":"+A366+1","v":360},{"$f":"'INVENT.Construc&Bat Importé -10'!B366","v":0},{"$f":"'INVENT.Construc&Bat Importé -10'!F366","v":0},{"$f":"'INVENT.Construc&Bat Importé -10'!C366","v":0},{"$f":"'INVENT.Construc&Bat Importé -10'!H366","v":0},null,0,0,0,0,0,0,null,null,0,0,0,0]
[361,{"$f":"'INVENT.Construc&Bat Importé -10'!B367","v":0},{"$f":"'INVENT.Construc&Bat Importé -10'!F367","v":0},{"$f":"'INVENT.Construc&Bat Importé -10'!C367","v":0},{"$f":"'INVENT.Construc&Bat Importé -10'!H367","v":0},null,0,0,0,0,0,0,null,null,0,0,0,0]
[362,{"$f":"'INVENT.Construc&Bat Importé -10'!B368","v":0},{"$f":"'INVENT.Construc&Bat Importé -10'!F368","v":0},{"$f":"'INVENT.Construc&Bat Importé -10'!C368","v":0},{"$f":"'INVENT.Construc&Bat Importé -10'!H368","v":0},null,0,0,0,0,0,0,null,null,0,0,0,0]
[363,{"$f":"'INVENT.Construc&Bat Importé -10'!B369","v":0},{"$f":"'INVENT.Construc&Bat Importé -10'!F369","v":0},{"$f":"'INVENT.Construc&Bat Importé -10'!C369","v":0},{"$f":"'INVENT.Construc&Bat Importé -10'!H369","v":0},null,0,0,0,0,0,0,null,null,0,0,0,0]
[364,{"$f":"'INVENT.Construc&Bat Importé -10'!B370","v":0},{"$f":"'INVENT.Construc&Bat Importé -10'!F370","v":0},{"$f":"'INVENT.Construc&Bat Importé -10'!C370","v":0},{"$f":"'INVENT.Construc&Bat Importé -10'!H370","v":0},null,0,0,0,0,0,0,null,null,0,0,0,0]
[365,{"$f":"'INVENT.Construc&Bat Importé -10'!B371","v":0},{"$f":"'INVENT.Construc&Bat Importé -10'!F371","v":0},{"$f":"'INVENT.Construc&Bat Importé -10'!C371","v":0},{"$f":"'INVENT.Construc&Bat Importé -10'!H371","v":0},null,0,0,0,0,0,0,null,null,0,0,0,0]
[366,{"$f":"'INVENT.Construc&Bat Importé -10'!B372","v":0},{"$f":"'INVENT.Construc&Bat Importé -10'!F372","v":0},{"$f":"'INVENT.Construc&Bat Importé -10'!C372","v":0},{"$f":"'INVENT.Construc&Bat Importé -10'!H372","v":0},null,0,0,0,0,0,0,null,null,0,0,0,0]
[367,{"$f":"'INVENT.Construc&Bat Importé -10'!B373","v":0},{"$f":"'INVENT.Construc&Bat Importé -10'!F373","v":0},{"$f":"'INVENT.Construc&Bat Importé -10'!C373","v":0},{"$f":"'INVENT.Construc&Bat Importé -10'!H373","v":0},null,0,0,0,0,0,0,null,null,0,0,0,0]
[368,{"$f":"'INVENT.Construc&Bat Importé -10'!B374","v":0},{"$f":"'INVENT.Construc&Bat Importé -10'!F374","v":0},{"$f":"'INVENT.Construc&Bat Importé -10'!C374","v":0},{"$f":"'INVENT.Construc&Bat Importé -10'!H374","v":0},null,{"$f":"F375*E375","v":0},0,0,0,{"$f":"(E375+G375+H375)*18%","v":0},{"$f":"SUM(G375:K375)+E375","v":0},null,null,{"$f":"(M375+N375)*18%","v":0},{"$f":"O375+N375+M375","v":0},{"$f":"+R375-O375-K375","v":0},{"$f":"P375+L375","v":0}]
[369,{"$f":"'INVENT.Construc&Bat Importé -10'!B375","v":0},{"$f":"'INVENT.Construc&Bat Importé -10'!F375","v":0},{"$f":"'INVENT.Construc&Bat Importé -10'!C375","v":0},{"$f":"'INVENT.Construc&Bat Importé -10'!H375","v":0},null,0,0,0,0,0,0,null,null,0,0,0,0]
[370,{"$f":"'INVENT.Construc&Bat Importé -10'!B376","v":0},{"$f":"'INVENT.Construc&Bat Importé -10'!F376","v":0},{"$f":"'INVENT.Construc&Bat Importé -10'!C376","v":0},{"$f":"'INVENT.Construc&Bat Importé -10'!H376","v":0},null,0,0,0,0,0,0,null,null,0,0,0,0]
[371,{"$f":"'INVENT.Construc&Bat Importé -10'!B377","v":0},{"$f":"'INVENT.Construc&Bat Importé -10'!F377","v":0},{"$f":"'INVENT.Construc&Bat Importé -10'!C377","v":0},{"$f":"'INVENT.Construc&Bat Importé -10'!H377","v":0},null,0,0,0,0,0,0,null,null,0,0,0,0]
[372,{"$f":"'INVENT.Construc&Bat Importé -10'!B378","v":0},{"$f":"'INVENT.Construc&Bat Importé -10'!F378","v":0},{"$f":"'INVENT.Construc&Bat Importé -10'!C378","v":0},{"$f":"'INVENT.Construc&Bat Importé -10'!H378","v":0},null,0,0,0,0,0,0,null,null,0,0,0,0]
[373,{"$f":"'INVENT.Construc&Bat Importé -10'!B379","v":0},{"$f":"'INVENT.Construc&Bat Importé -10'!F379","v":0},{"$f":"'INVENT.Construc&Bat Importé -10'!C379","v":0},{"$f":"'INVENT.Construc&Bat Importé -10'!H379","v":0},null,0,0,0,0,0,0,null,null,0,0,0,0]
[374,{"$f":"'INVENT.Construc&Bat Importé -10'!B380","v":0},{"$f":"'INVENT.Construc&Bat Importé -10'!F380","v":0},{"$f":"'INVENT.Construc&Bat Importé -10'!C380","v":0},{"$f":"'INVENT.Construc&Bat Importé -10'!H380","v":0},null,0,0,0,0,0,0,null,null,0,0,0,0]
[375,{"$f":"'INVENT.Construc&Bat Importé -10'!B381","v":0},{"$f":"'INVENT.Construc&Bat Importé -10'!F381","v":0},{"$f":"'INVENT.Construc&Bat Importé -10'!C381","v":0},{"$f":"'INVENT.Construc&Bat Importé -10'!H381","v":0},null,0,0,0,0,0,0,null,null,0,0,0,0]
[376,{"$f":"'INVENT.Construc&Bat Importé -10'!B382","v":0},{"$f":"'INVENT.Construc&Bat Importé -10'!F382","v":0},{"$f":"'INVENT.Construc&Bat Importé -10'!C382","v":0},{"$f":"'INVENT.Construc&Bat Importé -10'!H382","v":0},null,0,0,0,0,0,0,null,null,0,0,0,0]
[377,{"$f":"'INVENT.Construc&Bat Importé -10'!B383","v":0},{"$f":"'INVENT.Construc&Bat Importé -10'!F383","v":0},{"$f":"'INVENT.Construc&Bat Importé -10'!C383","v":0},{"$f":"'INVENT.Construc&Bat Importé -10'!H383","v":0},null,0,0,0,0,{"$f":"(E384+G384+H384)*18%","v":0},0,null,null,0,0,0,0]
[378,{"$f":"'INVENT.Construc&Bat Importé -10'!B384","v":0},{"$f":"'INVENT.Construc&Bat Importé -10'!F384","v":0},{"$f":"'INVENT.Construc&Bat Importé -10'!C384","v":0},{"$f":"'INVENT.Construc&Bat Importé -10'!H384","v":0},null,0,0,0,0,0,0,null,null,0,0,0,0]
[379,{"$f":"'INVENT.Construc&Bat Importé -10'!B385","v":0},{"$f":"'INVENT.Construc&Bat Importé -10'!F385","v":0},{"$f":"'INVENT.Construc&Bat Importé -10'!C385","v":0},{"$f":"'INVENT.Construc&Bat Importé -10'!H385","v":0},null,0,0,0,0,0,0,null,null,0,0,0,0]
[380,{"$f":"'INVENT.Construc&Bat Importé -10'!B386","v":0},{"$f":"'INVENT.Construc&Bat Importé -10'!F386","v":0},{"$f":"'INVENT.Construc&Bat Importé -10'!C386","v":0},{"$f":"'INVENT.Construc&Bat Importé -10'!H386","v":0},null,0,0,0,0,0,0,null,null,0,0,0,0]
[381,{"$f":"'INVENT.Construc&Bat Importé -10'!B387","v":0},{"$f":"'INVENT.Construc&Bat Importé -10'!F387","v":0},{"$f":"'INVENT.Construc&Bat Importé -10'!C387","v":0},{"$f":"'INVENT.Construc&Bat Importé -10'!H387","v":0},null,0,0,0,0,0,0,null,null,0,0,0,0]
[382,{"$f":"'INVENT.Construc&Bat Importé -10'!B388","v":0},{"$f":"'INVENT.Construc&Bat Importé -10'!F388","v":0},{"$f":"'INVENT.Construc&Bat Importé -10'!C388","v":0},{"$f":"'INVENT.Construc&Bat Importé -10'!H388","v":0},null,0,0,0,0,0,0,null,null,0,0,0,0]
[383,{"$f":"'INVENT.Construc&Bat Importé -10'!B389","v":0},{"$f":"'INVENT.Construc&Bat Importé -10'!F389","v":0},{"$f":"'INVENT.Construc&Bat Importé -10'!C389","v":0},{"$f":"'INVENT.Construc&Bat Importé -10'!H389","v":0},null,0,0,0,0,0,0,null,null,0,0,0,0]
[384,{"$f":"'INVENT.Construc&Bat Importé -10'!B390","v":0},{"$f":"'INVENT.Construc&Bat Importé -10'!F390","v":0},{"$f":"'INVENT.Construc&Bat Importé -10'!C390","v":0},{"$f":"'INVENT.Construc&Bat Importé -10'!H390","v":0},null,0,0,0,0,0,0,null,null,0,0,0,0]
[385,{"$f":"'INVENT.Construc&Bat Importé -10'!B391","v":0},{"$f":"'INVENT.Construc&Bat Importé -10'!F391","v":0},{"$f":"'INVENT.Construc&Bat Importé -10'!C391","v":0},{"$f":"'INVENT.Construc&Bat Importé -10'!H391","v":0},null,0,0,0,0,0,0,null,null,0,0,0,0]
[386,{"$f":"'INVENT.Construc&Bat Importé -10'!B392","v":0},{"$f":"'INVENT.Construc&Bat Importé -10'!F392","v":0},{"$f":"'INVENT.Construc&Bat Importé -10'!C392","v":0},{"$f":"'INVENT.Construc&Bat Importé -10'!H392","v":0},null,0,{"$f":"E393*1%","v":0},{"$f":"E393*1%","v":0},{"$f":"E393*0.5%","v":0},0,0,null,null,0,0,0,0]
[387,{"$f":"'INVENT.Construc&Bat Importé -10'!B393","v":0},{"$f":"'INVENT.Construc&Bat Importé -10'!F393","v":0},{"$f":"'INVENT.Construc&Bat Importé -10'!C393","v":0},{"$f":"'INVENT.Construc&Bat Importé -10'!H393","v":0},null,0,0,0,0,0,0,null,null,0,0,0,0]
[388,{"$f":"'INVENT.Construc&Bat Importé -10'!B394","v":0},{"$f":"'INVENT.Construc&Bat Importé -10'!F394","v":0},{"$f":"'INVENT.Construc&Bat Importé -10'!C394","v":0},{"$f":"'INVENT.Construc&Bat Importé -10'!H394","v":0},null,0,0,0,0,0,0,null,null,0,0,0,0]
[389,{"$f":"'INVENT.Construc&Bat Importé -10'!B395","v":0},{"$f":"'INVENT.Construc&Bat Importé -10'!F395","v":0},{"$f":"'INVENT.Construc&Bat Importé -10'!C395","v":0},{"$f":"'INVENT.Construc&Bat Importé -10'!H395","v":0},null,0,0,0,0,0,0,null,null,0,0,0,0]
[390,{"$f":"'INVENT.Construc&Bat Importé -10'!B396","v":0},{"$f":"'INVENT.Construc&Bat Importé -10'!F396","v":0},{"$f":"'INVENT.Construc&Bat Importé -10'!C396","v":0},{"$f":"'INVENT.Construc&Bat Importé -10'!H396","v":0},null,0,0,0,0,0,0,null,null,0,0,0,0]
[391,{"$f":"'INVENT.Construc&Bat Importé -10'!B397","v":0},{"$f":"'INVENT.Construc&Bat Importé -10'!F397","v":0},{"$f":"'INVENT.Construc&Bat Importé -10'!C397","v":0},{"$f":"'INVENT.Construc&Bat Importé -10'!H397","v":0},null,0,0,0,0,0,0,null,null,0,0,0,0]
[392,{"$f":"'INVENT.Construc&Bat Importé -10'!B398","v":0},{"$f":"'INVENT.Construc&Bat Importé -10'!F398","v":0},{"$f":"'INVENT.Construc&Bat Importé -10'!C398","v":0},{"$f":"'INVENT.Construc&Bat Importé -10'!H398","v":0},null,0,0,0,0,0,0,null,null,0,0,0,0]
[393,{"$f":"'INVENT.Construc&Bat Importé -10'!B399","v":0},{"$f":"'INVENT.Construc&Bat Importé -10'!F399","v":0},{"$f":"'INVENT.Construc&Bat Importé -10'!C399","v":0},{"$f":"'INVENT.Construc&Bat Importé -10'!H399","v":0},null,0,0,0,0,0,0,null,null,0,0,0,0]
[394,{"$f":"'INVENT.Construc&Bat Importé -10'!B400","v":0},{"$f":"'INVENT.Construc&Bat Importé -10'!F400","v":0},{"$f":"'INVENT.Construc&Bat Importé -10'!C400","v":0},{"$f":"'INVENT.Construc&Bat Importé -10'!H400","v":0},null,0,0,0,0,0,0,null,null,0,0,0,0]
[395,{"$f":"'INVENT.Construc&Bat Importé -10'!B401","v":0},{"$f":"'INVENT.Construc&Bat Importé -10'!F401","v":0},{"$f":"'INVENT.Construc&Bat Importé -10'!C401","v":0},{"$f":"'INVENT.Construc&Bat Importé -10'!H401","v":0},null,0,0,0,0,0,0,null,null,0,0,0,0]
[396,{"$f":"'INVENT.Construc&Bat Importé -10'!B402","v":0},{"$f":"'INVENT.Construc&Bat Importé -10'!F402","v":0},{"$f":"'INVENT.Construc&Bat Importé -10'!C402","v":0},{"$f":"'INVENT.Construc&Bat Importé -10'!H402","v":0},null,0,0,0,0,0,0,null,null,0,0,0,0]
[397,{"$f":"'INVENT.Construc&Bat Importé -10'!B403","v":0},{"$f":"'INVENT.Construc&Bat Importé -10'!F403","v":0},{"$f":"'INVENT.Construc&Bat Importé -10'!C403","v":0},{"$f":"'INVENT.Construc&Bat Importé -10'!H403","v":0},null,0,0,0,0,0,0,null,null,0,0,0,0]
[398,{"$f":"'INVENT.Construc&Bat Importé -10'!B404","v":0},{"$f":"'INVENT.Construc&Bat Importé -10'!F404","v":0},{"$f":"'INVENT.Construc&Bat Importé -10'!C404","v":0},{"$f":"'INVENT.Construc&Bat Importé -10'!H404","v":0},null,0,0,0,0,0,0,null,null,0,0,0,0]
[399,{"$f":"'INVENT.Construc&Bat Importé -10'!B405","v":0},{"$f":"'INVENT.Construc&Bat Importé -10'!F405","v":0},{"$f":"'INVENT.Construc&Bat Importé -10'!C405","v":0},{"$f":"'INVENT.Construc&Bat Importé -10'!H405","v":0},null,0,0,0,0,0,0,null,null,0,0,0,0]
[400,{"$f":"'INVENT.Construc&Bat Importé -10'!B406","v":0},{"$f":"'INVENT.Construc&Bat Importé -10'!F406","v":0},{"$f":"'INVENT.Construc&Bat Importé -10'!C406","v":0},{"$f":"'INVENT.Construc&Bat Importé -10'!H406","v":0},null,0,0,0,0,0,0,null,null,0,0,0,0]
[401,{"$f":"'INVENT.Construc&Bat Importé -10'!B407","v":0},{"$f":"'INVENT.Construc&Bat Importé -10'!F407","v":0},{"$f":"'INVENT.Construc&Bat Importé -10'!C407","v":0},{"$f":"'INVENT.Construc&Bat Importé -10'!H407","v":0},null,0,0,0,0,0,0,null,null,0,0,0,0]
[402,{"$f":"'INVENT.Construc&Bat Importé -10'!B408","v":0},{"$f":"'INVENT.Construc&Bat Importé -10'!F408","v":0},{"$f":"'INVENT.Construc&Bat Importé -10'!C408","v":0},{"$f":"'INVENT.Construc&Bat Importé -10'!H408","v":0},null,0,0,0,0,0,0,null,null,0,0,0,0]
[403,{"$f":"'INVENT.Construc&Bat Importé -10'!B409","v":0},{"$f":"'INVENT.Construc&Bat Importé -10'!F409","v":0},{"$f":"'INVENT.Construc&Bat Importé -10'!C409","v":0},{"$f":"'INVENT.Construc&Bat Importé -10'!H409","v":0},null,0,0,0,0,0,0,null,null,0,0,0,0]
[404,{"$f":"'INVENT.Construc&Bat Importé -10'!B410","v":0},{"$f":"'INVENT.Construc&Bat Importé -10'!F410","v":0},{"$f":"'INVENT.Construc&Bat Importé -10'!C410","v":0},{"$f":"'INVENT.Construc&Bat Importé -10'!H410","v":0},null,0,0,0,0,0,0,null,null,0,0,0,0]
[405,{"$f":"'INVENT.Construc&Bat Importé -10'!B411","v":0},{"$f":"'INVENT.Construc&Bat Importé -10'!F411","v":0},{"$f":"'INVENT.Construc&Bat Importé -10'!C411","v":0},{"$f":"'INVENT.Construc&Bat Importé -10'!H411","v":0},null,0,0,0,0,0,0,null,null,0,0,0,0]
[406,{"$f":"'INVENT.Construc&Bat Importé -10'!B412","v":0},{"$f":"'INVENT.Construc&Bat Importé -10'!F412","v":0},{"$f":"'INVENT.Construc&Bat Importé -10'!C412","v":0},{"$f":"'INVENT.Construc&Bat Importé -10'!H412","v":0},null,0,0,0,0,0,0,null,null,0,0,0,0]
[407,{"$f":"'INVENT.Construc&Bat Importé -10'!B413","v":0},{"$f":"'INVENT.Construc&Bat Importé -10'!F413","v":0},{"$f":"'INVENT.Construc&Bat Importé -10'!C413","v":0},{"$f":"'INVENT.Construc&Bat Importé -10'!H413","v":0},null,0,0,0,0,0,0,null,null,0,0,0,0]
[408,{"$f":"'INVENT.Construc&Bat Importé -10'!B414","v":0},{"$f":"'INVENT.Construc&Bat Importé -10'!F414","v":0},{"$f":"'INVENT.Construc&Bat Importé -10'!C414","v":0},{"$f":"'INVENT.Construc&Bat Importé -10'!H414","v":0},null,0,0,0,0,0,0,null,null,0,0,0,0]
[409,{"$f":"'INVENT.Construc&Bat Importé -10'!B415","v":0},{"$f":"'INVENT.Construc&Bat Importé -10'!F415","v":0},{"$f":"'INVENT.Construc&Bat Importé -10'!C415","v":0},{"$f":"'INVENT.Construc&Bat Importé -10'!H415","v":0},null,0,0,0,0,0,0,null,null,0,0,0,0]
[410,{"$f":"'INVENT.Construc&Bat Importé -10'!B416","v":0},{"$f":"'INVENT.Construc&Bat Importé -10'!F416","v":0},{"$f":"'INVENT.Construc&Bat Importé -10'!C416","v":0},{"$f":"'INVENT.Construc&Bat Importé -10'!H416","v":0},null,0,0,0,0,0,0,null,null,0,0,0,0]
[411,{"$f":"'INVENT.Construc&Bat Importé -10'!B417","v":0},{"$f":"'INVENT.Construc&Bat Importé -10'!F417","v":0},{"$f":"'INVENT.Construc&Bat Importé -10'!C417","v":0},{"$f":"'INVENT.Construc&Bat Importé -10'!H417","v":0},null,0,0,0,0,0,0,null,null,0,0,0,0]
[412,{"$f":"'INVENT.Construc&Bat Importé -10'!B418","v":0},{"$f":"'INVENT.Construc&Bat Importé -10'!F418","v":0},{"$f":"'INVENT.Construc&Bat Importé -10'!C418","v":0},{"$f":"'INVENT.Construc&Bat Importé -10'!H418","v":0},null,0,0,0,0,0,0,null,null,0,0,0,0]
[413,{"$f":"'INVENT.Construc&Bat Importé -10'!B419","v":0},{"$f":"'INVENT.Construc&Bat Importé -10'!F419","v":0},{"$f":"'INVENT.Construc&Bat Importé -10'!C419","v":0},{"$f":"'INVENT.Construc&Bat Importé -10'!H419","v":0},null,0,0,0,0,0,0,null,null,0,0,0,0]
[414,{"$f":"'INVENT.Construc&Bat Importé -10'!B420","v":0},{"$f":"'INVENT.Construc&Bat Importé -10'!F420","v":0},{"$f":"'INVENT.Construc&Bat Importé -10'!C420","v":0},{"$f":"'INVENT.Construc&Bat Importé -10'!H420","v":0},null,0,0,0,0,0,0,null,null,0,0,0,0]
[415,{"$f":"'INVENT.Construc&Bat Importé -10'!B421","v":0},{"$f":"'INVENT.Construc&Bat Importé -10'!F421","v":0},{"$f":"'INVENT.Construc&Bat Importé -10'!C421","v":0},{"$f":"'INVENT.Construc&Bat Importé -10'!H421","v":0},null,0,0,0,0,0,0,null,null,0,0,0,0]
[416,{"$f":"'INVENT.Construc&Bat Importé -10'!B422","v":0},{"$f":"'INVENT.Construc&Bat Importé -10'!F422","v":0},{"$f":"'INVENT.Construc&Bat Importé -10'!C422","v":0},{"$f":"'INVENT.Construc&Bat Importé -10'!H422","v":0},null,0,0,0,0,0,0,null,null,0,0,0,0]
[417,{"$f":"'INVENT.Construc&Bat Importé -10'!B423","v":0},{"$f":"'INVENT.Construc&Bat Importé -10'!F423","v":0},{"$f":"'INVENT.Construc&Bat Importé -10'!C423","v":0},{"$f":"'INVENT.Construc&Bat Importé -10'!H423","v":0},null,0,0,0,0,0,0,null,null,0,0,0,0]
[418,{"$f":"'INVENT.Construc&Bat Importé -10'!B424","v":0},{"$f":"'INVENT.Construc&Bat Importé -10'!F424","v":0},{"$f":"'INVENT.Construc&Bat Importé -10'!C424","v":0},{"$f":"'INVENT.Construc&Bat Importé -10'!H424","v":0},null,0,0,0,0,0,0,null,null,0,0,0,0]
[419,{"$f":"'INVENT.Construc&Bat Importé -10'!B425","v":0},{"$f":"'INVENT.Construc&Bat Importé -10'!F425","v":0},{"$f":"'INVENT.Construc&Bat Importé -10'!C425","v":0},{"$f":"'INVENT.Construc&Bat Importé -10'!H425","v":0},null,0,0,0,0,0,0,null,null,0,0,0,0]
[420,{"$f":"'INVENT.Construc&Bat Importé -10'!B426","v":0},{"$f":"'INVENT.Construc&Bat Importé -10'!F426","v":0},{"$f":"'INVENT.Construc&Bat Importé -10'!C426","v":0},{"$f":"'INVENT.Construc&Bat Importé -10'!H426","v":0},null,0,0,0,0,0,0,null,null,0,0,0,0]
[421,{"$f":"'INVENT.Construc&Bat Importé -10'!B427","v":0},{"$f":"'INVENT.Construc&Bat Importé -10'!F427","v":0},{"$f":"'INVENT.Construc&Bat Importé -10'!C427","v":0},{"$f":"'INVENT.Construc&Bat Importé -10'!H427","v":0},null,0,0,0,0,0,0,null,null,0,0,0,0]
[422,{"$f":"'INVENT.Construc&Bat Importé -10'!B428","v":0},{"$f":"'INVENT.Construc&Bat Importé -10'!F428","v":0},{"$f":"'INVENT.Construc&Bat Importé -10'!C428","v":0},{"$f":"'INVENT.Construc&Bat Importé -10'!H428","v":0},null,0,0,0,0,0,0,null,null,0,0,0,0]
[423,{"$f":"'INVENT.Construc&Bat Importé -10'!B429","v":0},{"$f":"'INVENT.Construc&Bat Importé -10'!F429","v":0},{"$f":"'INVENT.Construc&Bat Importé -10'!C429","v":0},{"$f":"'INVENT.Construc&Bat Importé -10'!H429","v":0},null,0,0,0,0,0,0,null,null,0,0,0,0]
[{"$f":"+A430+1","v":424},{"$f":"'INVENT.Construc&Bat Importé -10'!B430","v":0},{"$f":"'INVENT.Construc&Bat Importé -10'!F430","v":0},{"$f":"'INVENT.Construc&Bat Importé -10'!C430","v":0},{"$f":"'INVENT.Construc&Bat Importé -10'!H430","v":0},null,0,0,0,0,0,0,null,null,0,0,0,0]
[425,{"$f":"'INVENT.Construc&Bat Importé -10'!B431","v":0},{"$f":"'INVENT.Construc&Bat Importé -10'!F431","v":0},{"$f":"'INVENT.Construc&Bat Importé -10'!C431","v":0},{"$f":"'INVENT.Construc&Bat Importé -10'!H431","v":0},null,0,0,0,0,0,0,null,null,0,0,0,0]
[426,{"$f":"'INVENT.Construc&Bat Importé -10'!B432","v":0},{"$f":"'INVENT.Construc&Bat Importé -10'!F432","v":0},{"$f":"'INVENT.Construc&Bat Importé -10'!C432","v":0},{"$f":"'INVENT.Construc&Bat Importé -10'!H432","v":0},null,0,0,0,0,0,0,null,null,0,0,0,0]
[427,{"$f":"'INVENT.Construc&Bat Importé -10'!B433","v":0},{"$f":"'INVENT.Construc&Bat Importé -10'!F433","v":0},{"$f":"'INVENT.Construc&Bat Importé -10'!C433","v":0},{"$f":"'INVENT.Construc&Bat Importé -10'!H433","v":0},null,0,0,0,0,0,0,null,null,0,0,0,0]
[428,{"$f":"'INVENT.Construc&Bat Importé -10'!B434","v":0},{"$f":"'INVENT.Construc&Bat Importé -10'!F434","v":0},{"$f":"'INVENT.Construc&Bat Importé -10'!C434","v":0},{"$f":"'INVENT.Construc&Bat Importé -10'!H434","v":0},null,0,0,0,0,0,0,null,null,0,0,0,0]
[429,{"$f":"'INVENT.Construc&Bat Importé -10'!B435","v":0},{"$f":"'INVENT.Construc&Bat Importé -10'!F435","v":0},{"$f":"'INVENT.Construc&Bat Importé -10'!C435","v":0},{"$f":"'INVENT.Construc&Bat Importé -10'!H435","v":0},null,0,0,0,0,0,0,null,null,0,0,0,0]
[430,{"$f":"'INVENT.Construc&Bat Importé -10'!B436","v":0},{"$f":"'INVENT.Construc&Bat Importé -10'!F436","v":0},{"$f":"'INVENT.Construc&Bat Importé -10'!C436","v":0},{"$f":"'INVENT.Construc&Bat Importé -10'!H436","v":0},null,0,0,0,0,0,0,null,null,0,0,0,0]
[431,{"$f":"'INVENT.Construc&Bat Importé -10'!B437","v":0},{"$f":"'INVENT.Construc&Bat Importé -10'!F437","v":0},{"$f":"'INVENT.Construc&Bat Importé -10'!C437","v":0},{"$f":"'INVENT.Construc&Bat Importé -10'!H437","v":0},null,0,0,0,0,0,0,null,null,0,0,0,0]
[432,{"$f":"'INVENT.Construc&Bat Importé -10'!B438","v":0},{"$f":"'INVENT.Construc&Bat Importé -10'!F438","v":0},{"$f":"'INVENT.Construc&Bat Importé -10'!C438","v":0},{"$f":"'INVENT.Construc&Bat Importé -10'!H438","v":0},null,{"$f":"F439*E439","v":0},0,0,0,{"$f":"(E439+G439+H439)*18%","v":0},{"$f":"SUM(G439:K439)+E439","v":0},null,null,{"$f":"(M439+N439)*18%","v":0},{"$f":"O439+N439+M439","v":0},{"$f":"+R439-O439-K439","v":0},{"$f":"P439+L439","v":0}]
[433,{"$f":"'INVENT.Construc&Bat Importé -10'!B439","v":0},{"$f":"'INVENT.Construc&Bat Importé -10'!F439","v":0},{"$f":"'INVENT.Construc&Bat Importé -10'!C439","v":0},{"$f":"'INVENT.Construc&Bat Importé -10'!H439","v":0},null,0,0,0,0,0,0,null,null,0,0,0,0]
[434,{"$f":"'INVENT.Construc&Bat Importé -10'!B440","v":0},{"$f":"'INVENT.Construc&Bat Importé -10'!F440","v":0},{"$f":"'INVENT.Construc&Bat Importé -10'!C440","v":0},{"$f":"'INVENT.Construc&Bat Importé -10'!H440","v":0},null,0,0,0,0,0,0,null,null,0,0,0,0]
[435,{"$f":"'INVENT.Construc&Bat Importé -10'!B441","v":0},{"$f":"'INVENT.Construc&Bat Importé -10'!F441","v":0},{"$f":"'INVENT.Construc&Bat Importé -10'!C441","v":0},{"$f":"'INVENT.Construc&Bat Importé -10'!H441","v":0},null,0,0,0,0,0,0,null,null,0,0,0,0]
[436,{"$f":"'INVENT.Construc&Bat Importé -10'!B442","v":0},{"$f":"'INVENT.Construc&Bat Importé -10'!F442","v":0},{"$f":"'INVENT.Construc&Bat Importé -10'!C442","v":0},{"$f":"'INVENT.Construc&Bat Importé -10'!H442","v":0},null,0,0,0,0,0,0,null,null,0,0,0,0]
[437,{"$f":"'INVENT.Construc&Bat Importé -10'!B443","v":0},{"$f":"'INVENT.Construc&Bat Importé -10'!F443","v":0},{"$f":"'INVENT.Construc&Bat Importé -10'!C443","v":0},{"$f":"'INVENT.Construc&Bat Importé -10'!H443","v":0},null,0,0,0,0,0,0,null,null,0,0,0,0]
[438,{"$f":"'INVENT.Construc&Bat Importé -10'!B444","v":0},{"$f":"'INVENT.Construc&Bat Importé -10'!F444","v":0},{"$f":"'INVENT.Construc&Bat Importé -10'!C444","v":0},{"$f":"'INVENT.Construc&Bat Importé -10'!H444","v":0},null,0,0,0,0,0,0,null,null,0,0,0,0]
[439,{"$f":"'INVENT.Construc&Bat Importé -10'!B445","v":0},{"$f":"'INVENT.Construc&Bat Importé -10'!F445","v":0},{"$f":"'INVENT.Construc&Bat Importé -10'!C445","v":0},{"$f":"'INVENT.Construc&Bat Importé -10'!H445","v":0},null,0,0,0,0,0,0,null,null,0,0,0,0]
[440,{"$f":"'INVENT.Construc&Bat Importé -10'!B446","v":0},{"$f":"'INVENT.Construc&Bat Importé -10'!F446","v":0},{"$f":"'INVENT.Construc&Bat Importé -10'!C446","v":0},{"$f":"'INVENT.Construc&Bat Importé -10'!H446","v":0},null,0,0,0,0,0,0,null,null,0,0,0,0]
[441,{"$f":"'INVENT.Construc&Bat Importé -10'!B447","v":0},{"$f":"'INVENT.Construc&Bat Importé -10'!F447","v":0},{"$f":"'INVENT.Construc&Bat Importé -10'!C447","v":0},{"$f":"'INVENT.Construc&Bat Importé -10'!H447","v":0},null,0,0,0,0,0,0,null,null,0,0,0,0]
[442,{"$f":"'INVENT.Construc&Bat Importé -10'!B448","v":0},{"$f":"'INVENT.Construc&Bat Importé -10'!F448","v":0},{"$f":"'INVENT.Construc&Bat Importé -10'!C448","v":0},{"$f":"'INVENT.Construc&Bat Importé -10'!H448","v":0},null,0,0,0,0,0,0,null,null,0,0,0,0]
[443,{"$f":"'INVENT.Construc&Bat Importé -10'!B449","v":0},{"$f":"'INVENT.Construc&Bat Importé -10'!F449","v":0},{"$f":"'INVENT.Construc&Bat Importé -10'!C449","v":0},{"$f":"'INVENT.Construc&Bat Importé -10'!H449","v":0},null,0,0,0,0,0,0,null,null,0,0,0,0]
[444,{"$f":"'INVENT.Construc&Bat Importé -10'!B450","v":0},{"$f":"'INVENT.Construc&Bat Importé -10'!F450","v":0},{"$f":"'INVENT.Construc&Bat Importé -10'!C450","v":0},{"$f":"'INVENT.Construc&Bat Importé -10'!H450","v":0},null,0,0,0,0,0,0,null,null,0,0,0,0]
[445,{"$f":"'INVENT.Construc&Bat Importé -10'!B451","v":0},{"$f":"'INVENT.Construc&Bat Importé -10'!F451","v":0},{"$f":"'INVENT.Construc&Bat Importé -10'!C451","v":0},{"$f":"'INVENT.Construc&Bat Importé -10'!H451","v":0},null,0,0,0,0,0,0,null,null,0,0,0,0]
[446,{"$f":"'INVENT.Construc&Bat Importé -10'!B452","v":0},{"$f":"'INVENT.Construc&Bat Importé -10'!F452","v":0},{"$f":"'INVENT.Construc&Bat Importé -10'!C452","v":0},{"$f":"'INVENT.Construc&Bat Importé -10'!H452","v":0},null,0,0,0,0,0,0,null,null,0,0,0,0]
[447,{"$f":"'INVENT.Construc&Bat Importé -10'!B453","v":0},{"$f":"'INVENT.Construc&Bat Importé -10'!F453","v":0},{"$f":"'INVENT.Construc&Bat Importé -10'!C453","v":0},{"$f":"'INVENT.Construc&Bat Importé -10'!H453","v":0},null,0,0,0,0,0,0,null,null,0,0,0,0]
[448,{"$f":"'INVENT.Construc&Bat Importé -10'!B454","v":0},{"$f":"'INVENT.Construc&Bat Importé -10'!F454","v":0},{"$f":"'INVENT.Construc&Bat Importé -10'!C454","v":0},{"$f":"'INVENT.Construc&Bat Importé -10'!H454","v":0},null,0,0,0,0,0,0,null,null,0,0,0,0]
[449,{"$f":"'INVENT.Construc&Bat Importé -10'!B455","v":0},{"$f":"'INVENT.Construc&Bat Importé -10'!F455","v":0},{"$f":"'INVENT.Construc&Bat Importé -10'!C455","v":0},{"$f":"'INVENT.Construc&Bat Importé -10'!H455","v":0},null,0,0,0,0,0,0,null,null,0,0,0,0]
[450,{"$f":"'INVENT.Construc&Bat Importé -10'!B456","v":0},{"$f":"'INVENT.Construc&Bat Importé -10'!F456","v":0},{"$f":"'INVENT.Construc&Bat Importé -10'!C456","v":0},{"$f":"'INVENT.Construc&Bat Importé -10'!H456","v":0},null,0,{"$f":"E457*1%","v":0},{"$f":"E457*1%","v":0},{"$f":"E457*0.5%","v":0},0,0,null,null,0,0,0,0]
[451,{"$f":"'INVENT.Construc&Bat Importé -10'!B457","v":0},{"$f":"'INVENT.Construc&Bat Importé -10'!F457","v":0},{"$f":"'INVENT.Construc&Bat Importé -10'!C457","v":0},{"$f":"'INVENT.Construc&Bat Importé -10'!H457","v":0},null,0,0,0,0,0,0,null,null,0,0,0,0]
[452,{"$f":"'INVENT.Construc&Bat Importé -10'!B458","v":0},{"$f":"'INVENT.Construc&Bat Importé -10'!F458","v":0},{"$f":"'INVENT.Construc&Bat Importé -10'!C458","v":0},{"$f":"'INVENT.Construc&Bat Importé -10'!H458","v":0},null,0,0,0,0,0,0,null,null,0,0,0,0]
[453,{"$f":"'INVENT.Construc&Bat Importé -10'!B459","v":0},{"$f":"'INVENT.Construc&Bat Importé -10'!F459","v":0},{"$f":"'INVENT.Construc&Bat Importé -10'!C459","v":0},{"$f":"'INVENT.Construc&Bat Importé -10'!H459","v":0},null,0,0,0,0,0,0,null,null,0,0,0,0]
[454,{"$f":"'INVENT.Construc&Bat Importé -10'!B460","v":0},{"$f":"'INVENT.Construc&Bat Importé -10'!F460","v":0},{"$f":"'INVENT.Construc&Bat Importé -10'!C460","v":0},{"$f":"'INVENT.Construc&Bat Importé -10'!H460","v":0},null,0,0,0,0,0,0,null,null,0,0,0,0]
[455,{"$f":"'INVENT.Construc&Bat Importé -10'!B461","v":0},{"$f":"'INVENT.Construc&Bat Importé -10'!F461","v":0},{"$f":"'INVENT.Construc&Bat Importé -10'!C461","v":0},{"$f":"'INVENT.Construc&Bat Importé -10'!H461","v":0},null,0,0,0,0,0,0,null,null,0,0,0,0]
[456,{"$f":"'INVENT.Construc&Bat Importé -10'!B462","v":0},{"$f":"'INVENT.Construc&Bat Importé -10'!F462","v":0},{"$f":"'INVENT.Construc&Bat Importé -10'!C462","v":0},{"$f":"'INVENT.Construc&Bat Importé -10'!H462","v":0},null,0,0,0,0,0,0,null,null,0,0,0,0]
[457,{"$f":"'INVENT.Construc&Bat Importé -10'!B463","v":0},{"$f":"'INVENT.Construc&Bat Importé -10'!F463","v":0},{"$f":"'INVENT.Construc&Bat Importé -10'!C463","v":0},{"$f":"'INVENT.Construc&Bat Importé -10'!H463","v":0},null,0,0,0,0,0,0,null,null,0,0,0,0]
[458,{"$f":"'INVENT.Construc&Bat Importé -10'!B464","v":0},{"$f":"'INVENT.Construc&Bat Importé -10'!F464","v":0},{"$f":"'INVENT.Construc&Bat Importé -10'!C464","v":0},{"$f":"'INVENT.Construc&Bat Importé -10'!H464","v":0},null,0,0,0,0,0,0,null,null,0,0,0,0]
[459,{"$f":"'INVENT.Construc&Bat Importé -10'!B465","v":0},{"$f":"'INVENT.Construc&Bat Importé -10'!F465","v":0},{"$f":"'INVENT.Construc&Bat Importé -10'!C465","v":0},{"$f":"'INVENT.Construc&Bat Importé -10'!H465","v":0},null,0,0,0,0,0,0,null,null,0,0,0,0]
[460,{"$f":"'INVENT.Construc&Bat Importé -10'!B466","v":0},{"$f":"'INVENT.Construc&Bat Importé -10'!F466","v":0},{"$f":"'INVENT.Construc&Bat Importé -10'!C466","v":0},{"$f":"'INVENT.Construc&Bat Importé -10'!H466","v":0},null,0,0,0,0,0,0,null,null,0,0,0,0]
[461,{"$f":"'INVENT.Construc&Bat Importé -10'!B467","v":0},{"$f":"'INVENT.Construc&Bat Importé -10'!F467","v":0},{"$f":"'INVENT.Construc&Bat Importé -10'!C467","v":0},{"$f":"'INVENT.Construc&Bat Importé -10'!H467","v":0},null,0,0,0,0,0,0,null,null,0,0,0,0]
[462,{"$f":"'INVENT.Construc&Bat Importé -10'!B468","v":0},{"$f":"'INVENT.Construc&Bat Importé -10'!F468","v":0},{"$f":"'INVENT.Construc&Bat Importé -10'!C468","v":0},{"$f":"'INVENT.Construc&Bat Importé -10'!H468","v":0},null,0,0,0,0,0,0,null,null,0,0,0,0]
[463,{"$f":"'INVENT.Construc&Bat Importé -10'!B469","v":0},{"$f":"'INVENT.Construc&Bat Importé -10'!F469","v":0},{"$f":"'INVENT.Construc&Bat Importé -10'!C469","v":0},{"$f":"'INVENT.Construc&Bat Importé -10'!H469","v":0},null,0,0,0,0,0,0,null,null,0,0,0,0]
[464,{"$f":"'INVENT.Construc&Bat Importé -10'!B470","v":0},{"$f":"'INVENT.Construc&Bat Importé -10'!F470","v":0},{"$f":"'INVENT.Construc&Bat Importé -10'!C470","v":0},{"$f":"'INVENT.Construc&Bat Importé -10'!H470","v":0},null,0,0,0,0,0,0,null,null,0,0,0,0]
[465,{"$f":"'INVENT.Construc&Bat Importé -10'!B471","v":0},{"$f":"'INVENT.Construc&Bat Importé -10'!F471","v":0},{"$f":"'INVENT.Construc&Bat Importé -10'!C471","v":0},{"$f":"'INVENT.Construc&Bat Importé -10'!H471","v":0},null,0,0,0,0,0,0,null,null,0,0,0,0]
[466,{"$f":"'INVENT.Construc&Bat Importé -10'!B472","v":0},{"$f":"'INVENT.Construc&Bat Importé -10'!F472","v":0},{"$f":"'INVENT.Construc&Bat Importé -10'!C472","v":0},{"$f":"'INVENT.Construc&Bat Importé -10'!H472","v":0},null,0,0,0,0,0,0,null,null,0,0,0,0]
[467,{"$f":"'INVENT.Construc&Bat Importé -10'!B473","v":0},{"$f":"'INVENT.Construc&Bat Importé -10'!F473","v":0},{"$f":"'INVENT.Construc&Bat Importé -10'!C473","v":0},{"$f":"'INVENT.Construc&Bat Importé -10'!H473","v":0},null,0,0,0,0,0,0,null,null,0,0,0,0]
[468,{"$f":"'INVENT.Construc&Bat Importé -10'!B474","v":0},{"$f":"'INVENT.Construc&Bat Importé -10'!F474","v":0},{"$f":"'INVENT.Construc&Bat Importé -10'!C474","v":0},{"$f":"'INVENT.Construc&Bat Importé -10'!H474","v":0},null,0,0,0,0,0,0,null,null,0,0,0,0]
[469,{"$f":"'INVENT.Construc&Bat Importé -10'!B475","v":0},{"$f":"'INVENT.Construc&Bat Importé -10'!F475","v":0},{"$f":"'INVENT.Construc&Bat Importé -10'!C475","v":0},{"$f":"'INVENT.Construc&Bat Importé -10'!H475","v":0},null,0,0,0,0,0,0,null,null,0,0,0,0]
[470,{"$f":"'INVENT.Construc&Bat Importé -10'!B476","v":0},{"$f":"'INVENT.Construc&Bat Importé -10'!F476","v":0},{"$f":"'INVENT.Construc&Bat Importé -10'!C476","v":0},{"$f":"'INVENT.Construc&Bat Importé -10'!H476","v":0},null,0,0,0,0,0,0,null,null,0,0,0,0]
[471,{"$f":"'INVENT.Construc&Bat Importé -10'!B477","v":0},{"$f":"'INVENT.Construc&Bat Importé -10'!F477","v":0},{"$f":"'INVENT.Construc&Bat Importé -10'!C477","v":0},{"$f":"'INVENT.Construc&Bat Importé -10'!H477","v":0},null,0,0,0,0,0,0,null,null,0,0,0,0]
[472,{"$f":"'INVENT.Construc&Bat Importé -10'!B478","v":0},{"$f":"'INVENT.Construc&Bat Importé -10'!F478","v":0},{"$f":"'INVENT.Construc&Bat Importé -10'!C478","v":0},{"$f":"'INVENT.Construc&Bat Importé -10'!H478","v":0},null,0,0,0,0,0,0,null,null,0,0,0,0]
[473,{"$f":"'INVENT.Construc&Bat Importé -10'!B479","v":0},{"$f":"'INVENT.Construc&Bat Importé -10'!F479","v":0},{"$f":"'INVENT.Construc&Bat Importé -10'!C479","v":0},{"$f":"'INVENT.Construc&Bat Importé -10'!H479","v":0},null,0,0,0,0,0,0,null,null,0,0,0,0]
[474,{"$f":"'INVENT.Construc&Bat Importé -10'!B480","v":0},{"$f":"'INVENT.Construc&Bat Importé -10'!F480","v":0},{"$f":"'INVENT.Construc&Bat Importé -10'!C480","v":0},{"$f":"'INVENT.Construc&Bat Importé -10'!H480","v":0},null,0,0,0,0,0,0,null,null,0,0,0,0]
[475,{"$f":"'INVENT.Construc&Bat Importé -10'!B481","v":0},{"$f":"'INVENT.Construc&Bat Importé -10'!F481","v":0},{"$f":"'INVENT.Construc&Bat Importé -10'!C481","v":0},{"$f":"'INVENT.Construc&Bat Importé -10'!H481","v":0},null,0,0,0,0,0,0,null,null,0,0,0,0]
[476,{"$f":"'INVENT.Construc&Bat Importé -10'!B482","v":0},{"$f":"'INVENT.Construc&Bat Importé -10'!F482","v":0},{"$f":"'INVENT.Construc&Bat Importé -10'!C482","v":0},{"$f":"'INVENT.Construc&Bat Importé -10'!H482","v":0},null,0,0,0,0,0,0,null,null,0,0,0,0]
[477,{"$f":"'INVENT.Construc&Bat Importé -10'!B483","v":0},{"$f":"'INVENT.Construc&Bat Importé -10'!F483","v":0},{"$f":"'INVENT.Construc&Bat Importé -10'!C483","v":0},{"$f":"'INVENT.Construc&Bat Importé -10'!H483","v":0},null,0,0,0,0,0,0,null,null,0,0,0,0]
[478,{"$f":"'INVENT.Construc&Bat Importé -10'!B484","v":0},{"$f":"'INVENT.Construc&Bat Importé -10'!F484","v":0},{"$f":"'INVENT.Construc&Bat Importé -10'!C484","v":0},{"$f":"'INVENT.Construc&Bat Importé -10'!H484","v":0},null,0,0,0,0,0,0,null,null,0,0,0,0]
[479,{"$f":"'INVENT.Construc&Bat Importé -10'!B485","v":0},{"$f":"'INVENT.Construc&Bat Importé -10'!F485","v":0},{"$f":"'INVENT.Construc&Bat Importé -10'!C485","v":0},{"$f":"'INVENT.Construc&Bat Importé -10'!H485","v":0},null,0,0,0,0,0,0,null,null,0,0,0,0]
[480,{"$f":"'INVENT.Construc&Bat Importé -10'!B486","v":0},{"$f":"'INVENT.Construc&Bat Importé -10'!F486","v":0},{"$f":"'INVENT.Construc&Bat Importé -10'!C486","v":0},{"$f":"'INVENT.Construc&Bat Importé -10'!H486","v":0},null,0,0,0,0,0,0,null,null,0,0,0,0]
[481,{"$f":"'INVENT.Construc&Bat Importé -10'!B487","v":0},{"$f":"'INVENT.Construc&Bat Importé -10'!F487","v":0},{"$f":"'INVENT.Construc&Bat Importé -10'!C487","v":0},{"$f":"'INVENT.Construc&Bat Importé -10'!H487","v":0},null,0,0,0,0,0,0,null,null,0,0,0,0]
[482,{"$f":"'INVENT.Construc&Bat Importé -10'!B488","v":0},{"$f":"'INVENT.Construc&Bat Importé -10'!F488","v":0},{"$f":"'INVENT.Construc&Bat Importé -10'!C488","v":0},{"$f":"'INVENT.Construc&Bat Importé -10'!H488","v":0},null,0,0,0,0,0,0,null,null,0,0,0,0]
[483,{"$f":"'INVENT.Construc&Bat Importé -10'!B489","v":0},{"$f":"'INVENT.Construc&Bat Importé -10'!F489","v":0},{"$f":"'INVENT.Construc&Bat Importé -10'!C489","v":0},{"$f":"'INVENT.Construc&Bat Importé -10'!H489","v":0},null,0,0,0,0,0,0,null,null,0,0,0,0]
[484,{"$f":"'INVENT.Construc&Bat Importé -10'!B490","v":0},{"$f":"'INVENT.Construc&Bat Importé -10'!F490","v":0},{"$f":"'INVENT.Construc&Bat Importé -10'!C490","v":0},{"$f":"'INVENT.Construc&Bat Importé -10'!H490","v":0},null,0,0,0,0,0,0,null,null,0,0,0,0]
[485,{"$f":"'INVENT.Construc&Bat Importé -10'!B491","v":0},{"$f":"'INVENT.Construc&Bat Importé -10'!F491","v":0},{"$f":"'INVENT.Construc&Bat Importé -10'!C491","v":0},{"$f":"'INVENT.Construc&Bat Importé -10'!H491","v":0},null,0,0,0,0,0,0,null,null,0,0,0,0]
[486,{"$f":"'INVENT.Construc&Bat Importé -10'!B492","v":0},{"$f":"'INVENT.Construc&Bat Importé -10'!F492","v":0},{"$f":"'INVENT.Construc&Bat Importé -10'!C492","v":0},{"$f":"'INVENT.Construc&Bat Importé -10'!H492","v":0},null,0,0,0,0,0,0,null,null,0,0,0,0]
[487,{"$f":"'INVENT.Construc&Bat Importé -10'!B493","v":0},{"$f":"'INVENT.Construc&Bat Importé -10'!F493","v":0},{"$f":"'INVENT.Construc&Bat Importé -10'!C493","v":0},{"$f":"'INVENT.Construc&Bat Importé -10'!H493","v":0},null,0,0,0,0,0,0,null,null,0,0,0,0]
[{"$f":"+A494+1","v":488},{"$f":"'INVENT.Construc&Bat Importé -10'!B494","v":0},{"$f":"'INVENT.Construc&Bat Importé -10'!F494","v":0},{"$f":"'INVENT.Construc&Bat Importé -10'!C494","v":0},{"$f":"'INVENT.Construc&Bat Importé -10'!H494","v":0},null,0,0,0,0,0,0,null,null,0,0,0,0]
[489,{"$f":"'INVENT.Construc&Bat Importé -10'!B495","v":0},{"$f":"'INVENT.Construc&Bat Importé -10'!F495","v":0},{"$f":"'INVENT.Construc&Bat Importé -10'!C495","v":0},{"$f":"'INVENT.Construc&Bat Importé -10'!H495","v":0},null,0,0,0,0,0,0,null,null,0,0,0,0]
[490,{"$f":"'INVENT.Construc&Bat Importé -10'!B496","v":0},{"$f":"'INVENT.Construc&Bat Importé -10'!F496","v":0},{"$f":"'INVENT.Construc&Bat Importé -10'!C496","v":0},{"$f":"'INVENT.Construc&Bat Importé -10'!H496","v":0},null,0,0,0,0,0,0,null,null,0,0,0,0]
[491,{"$f":"'INVENT.Construc&Bat Importé -10'!B497","v":0},{"$f":"'INVENT.Construc&Bat Importé -10'!F497","v":0},{"$f":"'INVENT.Construc&Bat Importé -10'!C497","v":0},{"$f":"'INVENT.Construc&Bat Importé -10'!H497","v":0},null,0,0,0,0,0,0,null,null,0,0,0,0]
[492,{"$f":"'INVENT.Construc&Bat Importé -10'!B498","v":0},{"$f":"'INVENT.Construc&Bat Importé -10'!F498","v":0},{"$f":"'INVENT.Construc&Bat Importé -10'!C498","v":0},{"$f":"'INVENT.Construc&Bat Importé -10'!H498","v":0},null,0,0,0,0,0,0,null,null,0,0,0,0]
[493,{"$f":"'INVENT.Construc&Bat Importé -10'!B499","v":0},{"$f":"'INVENT.Construc&Bat Importé -10'!F499","v":0},{"$f":"'INVENT.Construc&Bat Importé -10'!C499","v":0},{"$f":"'INVENT.Construc&Bat Importé -10'!H499","v":0},null,0,0,0,0,0,0,null,null,0,0,0,0]
[494,{"$f":"'INVENT.Construc&Bat Importé -10'!B500","v":0},{"$f":"'INVENT.Construc&Bat Importé -10'!F500","v":0},{"$f":"'INVENT.Construc&Bat Importé -10'!C500","v":0},{"$f":"'INVENT.Construc&Bat Importé -10'!H500","v":0},null,0,0,0,0,0,0,null,null,0,0,0,0]
[495,{"$f":"'INVENT.Construc&Bat Importé -10'!B501","v":0},{"$f":"'INVENT.Construc&Bat Importé -10'!F501","v":0},{"$f":"'INVENT.Construc&Bat Importé -10'!C501","v":0},{"$f":"'INVENT.Construc&Bat Importé -10'!H501","v":0},null,0,0,0,0,0,0,null,null,0,0,0,0]
[496,{"$f":"'INVENT.Construc&Bat Importé -10'!B502","v":0},{"$f":"'INVENT.Construc&Bat Importé -10'!F502","v":0},{"$f":"'INVENT.Construc&Bat Importé -10'!C502","v":0},{"$f":"'INVENT.Construc&Bat Importé -10'!H502","v":0},null,{"$f":"F503*E503","v":0},0,0,0,{"$f":"(E503+G503+H503)*18%","v":0},{"$f":"SUM(G503:K503)+E503","v":0},null,null,{"$f":"(M503+N503)*18%","v":0},{"$f":"O503+N503+M503","v":0},{"$f":"+R503-O503-K503","v":0},{"$f":"P503+L503","v":0}]
[497,{"$f":"'INVENT.Construc&Bat Importé -10'!B503","v":0},{"$f":"'INVENT.Construc&Bat Importé -10'!F503","v":0},{"$f":"'INVENT.Construc&Bat Importé -10'!C503","v":0},{"$f":"'INVENT.Construc&Bat Importé -10'!H503","v":0},null,{"$f":"F504*E504","v":0},0,0,0,{"$f":"(E504+G504+H504)*18%","v":0},{"$f":"SUM(G504:K504)+E504","v":0},null,null,{"$f":"(M504+N504)*18%","v":0},{"$f":"O504+N504+M504","v":0},{"$f":"+R504-O504-K504","v":0},{"$f":"P504+L504","v":0}]
[498,{"$f":"'INVENT.Construc&Bat Importé -10'!B504","v":0},{"$f":"'INVENT.Construc&Bat Importé -10'!F504","v":0},{"$f":"'INVENT.Construc&Bat Importé -10'!C504","v":0},{"$f":"'INVENT.Construc&Bat Importé -10'!H504","v":0},null,{"$f":"F505*E505","v":0},0,0,0,{"$f":"(E505+G505+H505)*18%","v":0},{"$f":"SUM(G505:K505)+E505","v":0},null,null,{"$f":"(M505+N505)*18%","v":0},{"$f":"O505+N505+M505","v":0},{"$f":"+R505-O505-K505","v":0},{"$f":"P505+L505","v":0}]
[499,{"$f":"'INVENT.Construc&Bat Importé -10'!B505","v":0},{"$f":"'INVENT.Construc&Bat Importé -10'!F505","v":0},{"$f":"'INVENT.Construc&Bat Importé -10'!C505","v":0},{"$f":"'INVENT.Construc&Bat Importé -10'!H505","v":0},null,{"$f":"F506*E506","v":0},0,0,0,{"$f":"(E506+G506+H506)*18%","v":0},{"$f":"SUM(G506:K506)+E506","v":0},null,null,{"$f":"(M506+N506)*18%","v":0},{"$f":"O506+N506+M506","v":0},{"$f":"+R506-O506-K506","v":0},{"$f":"P506+L506","v":0}]
[500,{"$f":"'INVENT.Construc&Bat Importé -10'!B506","v":0},{"$f":"'INVENT.Construc&Bat Importé -10'!F506","v":0},{"$f":"'INVENT.Construc&Bat Importé -10'!C506","v":0},{"$f":"'INVENT.Construc&Bat Importé -10'!H506","v":0},null,{"$f":"F507*E507","v":0},0,0,0,{"$f":"(E507+G507+H507)*18%","v":0},{"$f":"SUM(G507:K507)+E507","v":0},null,null,{"$f":"(M507+N507)*18%","v":0},{"$f":"O507+N507+M507","v":0},{"$f":"+R507-O507-K507","v":0},{"$f":"P507+L507","v":0}]

{"sheet":"INVEST - Installations & Agenc","index":32,"n_rows":507,"n_cols":18,"rows_kept":507,"cut":false,"hidden":false,"merged":[[3,16,4,16],[2,2,4,2],[2,0,4,0],[3,17,4,17],[2,1,4,1],[2,16,2,17],[3,3,4,3],[3,4,4,4],[3,5,3,6],[3,7,4,7],[3,9,4,9],[3,10,4,10],[3,11,4,11],[3,12,4,12],[3,13,4,13],[3,14,4,14],[3,15,4,15],[3,8,4,8]]}
[null,null,null,{"$f":"'REFERENCES - 10'!D7","v":0},null,{"$f":"'REFERENCES - 10'!D9","v":0}]
[null,"INVESTISSEMENTS PREVUS SUR LA PERIODE DE REALISATION DU PROJET",null,null,null,null,null,null,null,null,null,null,null,null,null,null,null,"(En F. Cfa)"]
["N°","Désignation","Quantité","ACHAT A L'ETRANGER (en F. Cfa)",null,null,null,null,null,null,null,null,"ACHAT EN COTE D'IVOIRE (en F. Cfa)",null,null,null,"Coût total des Investissements "]
[null,null,null,"Position tarifaire","Cout CAF","Droit de douane / Droit fiscaux",null,"RSTAT (1%)","PCS\n(1%)","PCC\n(0,5%)","TVA sur Droit de Douane","Total Achat à l'étranger","Achats HT"," Coûts locaux (Transport, montage,..)","T.V.A","Total Achat en RCI","Coût total HT","Coût total TTC"]
[null,null,null,null,null,"Taux","Montant"]
[]
[null,"INSTALLATIONS ET AGENCEMENTS",null,null,{"$f":"SUM(E8:E507)","v":0},null,{"$f":"SUM(G8:G507)","v":0},0,0,0,0,0,0,0,0,0,0,0]
[1,{"$f":"'INVENT.Inst&Agen Importés -10'!B7","v":0},{"$f":"'INVENT.Inst&Agen Importés -10'!F7","v":0},{"$f":"'INVENT.Inst&Agen Importés -10'!C7","v":0},{"$f":"'INVENT.Inst&Agen Importés -10'!H7","v":0},null,{"$f":"F8*E8","v":0},{"$f":"E8*1%","v":0},{"$f":"E8*1%","v":0},{"$f":"E8*0.5%","v":0},{"$f":"(E8+G8+H8)*18%","v":0},{"$f":"SUM(G8:K8)+E8","v":0},null,null,{"$f":"(M8+N8)*18%","v":0},{"$f":"O8+N8+M8","v":0},{"$f":"+R8-O8-K8","v":0},{"$f":"P8+L8","v":0}]
[{"$f":"+A8+1","v":2},{"$f":"'INVENT.Inst&Agen Importés -10'!B8","v":0},{"$f":"'INVENT.Inst&Agen Importés -10'!F8","v":0},{"$f":"'INVENT.Inst&Agen Importés -10'!C8","v":0},{"$f":"'INVENT.Inst&Agen Importés -10'!H8","v":0},null,{"$f":"F9*E9","v":0},{"$f":"E9*1%","v":0},{"$f":"E9*1%","v":0},{"$f":"E9*0.5%","v":0},{"$f":"(E9+G9+H9)*18%","v":0},0,null,null,{"$f":"(M9+N9)*18%","v":0},{"$f":"O9+N9+M9","v":0},{"$f":"+R9-O9-K9","v":0},{"$f":"P9+L9","v":0}]
[{"$f":"+A9+1","v":3},{"$f":"'INVENT.Inst&Agen Importés -10'!B9","v":0},{"$f":"'INVENT.Inst&Agen Importés -10'!F9","v":0},{"$f":"'INVENT.Inst&Agen Importés -10'!C9","v":0},{"$f":"'INVENT.Inst&Agen Importés -10'!H9","v":0},null,{"$f":"F10*E10","v":0},0,0,0,{"$f":"(E10+G10+H10)*18%","v":0},0,null,null,{"$f":"(M10+N10)*18%","v":0},{"$f":"O10+N10+M10","v":0},{"$f":"+R10-O10-K10","v":0},{"$f":"P10+L10","v":0}]
[4,{"$f":"'INVENT.Inst&Agen Importés -10'!B10","v":0},{"$f":"'INVENT.Inst&Agen Importés -10'!F10","v":0},{"$f":"'INVENT.Inst&Agen Importés -10'!C10","v":0},{"$f":"'INVENT.Inst&Agen Importés -10'!H10","v":0},null,0,0,0,0,0,0,null,null,{"$f":"(M11+N11)*18%","v":0},{"$f":"O11+N11+M11","v":0},{"$f":"+R11-O11-K11","v":0},{"$f":"P11+L11","v":0}]
[5,{"$f":"'INVENT.Inst&Agen Importés -10'!B11","v":0},{"$f":"'INVENT.Inst&Agen Importés -10'!F11","v":0},{"$f":"'INVENT.Inst&Agen Importés -10'!C11","v":0},{"$f":"'INVENT.Inst&Agen Importés -10'!H11","v":0},null,0,0,0,0,0,0,null,null,0,0,0,0]
[6,{"$f":"'INVENT.Inst&Agen Importés -10'!B12","v":0},{"$f":"'INVENT.Inst&Agen Importés -10'!F12","v":0},{"$f":"'INVENT.Inst&Agen Importés -10'!C12","v":0},{"$f":"'INVENT.Inst&Agen Importés -10'!H12","v":0},null,0,0,0,0,0,0,null,null,0,0,0,0]
[7,{"$f":"'INVENT.Inst&Agen Importés -10'!B13","v":0},{"$f":"'INVENT.Inst&Agen Importés -10'!F13","v":0},{"$f":"'INVENT.Inst&Agen Importés -10'!C13","v":0},{"$f":"'INVENT.Inst&Agen Importés -10'!H13","v":0},null,0,0,0,0,0,0,null,null,0,0,0,0]
[8,{"$f":"'INVENT.Inst&Agen Importés -10'!B14","v":0},{"$f":"'INVENT.Inst&Agen Importés -10'!F14","v":0},{"$f":"'INVENT.Inst&Agen Importés -10'!C14","v":0},{"$f":"'INVENT.Inst&Agen Importés -10'!H14","v":0},null,0,0,0,0,0,0,null,null,0,0,0,0]
[9,{"$f":"'INVENT.Inst&Agen Importés -10'!B15","v":0},{"$f":"'INVENT.Inst&Agen Importés -10'!F15","v":0},{"$f":"'INVENT.Inst&Agen Importés -10'!C15","v":0},{"$f":"'INVENT.Inst&Agen Importés -10'!H15","v":0},null,0,0,0,0,0,0,null,null,0,0,0,0]
[10,{"$f":"'INVENT.Inst&Agen Importés -10'!B16","v":0},{"$f":"'INVENT.Inst&Agen Importés -10'!F16","v":0},{"$f":"'INVENT.Inst&Agen Importés -10'!C16","v":0},{"$f":"'INVENT.Inst&Agen Importés -10'!H16","v":0},null,0,0,0,0,0,0,null,null,0,0,0,0]
[11,{"$f":"'INVENT.Inst&Agen Importés -10'!B17","v":0},{"$f":"'INVENT.Inst&Agen Importés -10'!F17","v":0},{"$f":"'INVENT.Inst&Agen Importés -10'!C17","v":0},{"$f":"'INVENT.Inst&Agen Importés -10'!H17","v":0},null,0,0,0,0,0,0,null,null,0,0,0,0]
[12,{"$f":"'INVENT.Inst&Agen Importés -10'!B18","v":0},{"$f":"'INVENT.Inst&Agen Importés -10'!F18","v":0},{"$f":"'INVENT.Inst&Agen Importés -10'!C18","v":0},{"$f":"'INVENT.Inst&Agen Importés -10'!H18","v":0},null,0,0,0,0,0,0,null,null,0,0,0,0]
[13,{"$f":"'INVENT.Inst&Agen Importés -10'!B19","v":0},{"$f":"'INVENT.Inst&Agen Importés -10'!F19","v":0},{"$f":"'INVENT.Inst&Agen Importés -10'!C19","v":0},{"$f":"'INVENT.Inst&Agen Importés -10'!H19","v":0},null,0,0,0,0,0,0,null,null,0,0,0,0]
[14,{"$f":"'INVENT.Inst&Agen Importés -10'!B20","v":0},{"$f":"'INVENT.Inst&Agen Importés -10'!F20","v":0},{"$f":"'INVENT.Inst&Agen Importés -10'!C20","v":0},{"$f":"'INVENT.Inst&Agen Importés -10'!H20","v":0},null,0,0,0,0,0,0,null,null,0,0,0,0]
[15,{"$f":"'INVENT.Inst&Agen Importés -10'!B21","v":0},{"$f":"'INVENT.Inst&Agen Importés -10'!F21","v":0},{"$f":"'INVENT.Inst&Agen Importés -10'!C21","v":0},{"$f":"'INVENT.Inst&Agen Importés -10'!H21","v":0},null,0,0,0,0,0,0,null,null,0,0,0,0]
[16,{"$f":"'INVENT.Inst&Agen Importés -10'!B22","v":0},{"$f":"'INVENT.Inst&Agen Importés -10'!F22","v":0},{"$f":"'INVENT.Inst&Agen Importés -10'!C22","v":0},{"$f":"'INVENT.Inst&Agen Importés -10'!H22","v":0},null,0,0,0,0,0,0,null,null,0,0,0,0]
[17,{"$f":"'INVENT.Inst&Agen Importés -10'!B23","v":0},{"$f":"'INVENT.Inst&Agen Importés -10'!F23","v":0},{"$f":"'INVENT.Inst&Agen Importés -10'!C23","v":0},{"$f":"'INVENT.Inst&Agen Importés -10'!H23","v":0},null,0,0,0,0,0,0,null,null,0,0,0,0]
[18,{"$f":"'INVENT.Inst&Agen Importés -10'!B24","v":0},{"$f":"'INVENT.Inst&Agen Importés -10'!F24","v":0},{"$f":"'INVENT.Inst&Agen Importés -10'!C24","v":0},{"$f":"'INVENT.Inst&Agen Importés -10'!H24","v":0},null,0,0,0,0,0,0,null,null,0,0,0,0]
[19,{"$f":"'INVENT.Inst&Agen Importés -10'!B25","v":0},{"$f":"'INVENT.Inst&Agen Importés -10'!F25","v":0},{"$f":"'INVENT.Inst&Agen Importés -10'!C25","v":0},{"$f":"'INVENT.Inst&Agen Importés -10'!H25","v":0},null,0,0,0,0,0,0,null,null,0,0,0,0]
[20,{"$f":"'INVENT.Inst&Agen Importés -10'!B26","v":0},{"$f":"'INVENT.Inst&Agen Importés -10'!F26","v":0},{"$f":"'INVENT.Inst&Agen Importés -10'!C26","v":0},{"$f":"'INVENT.Inst&Agen Importés -10'!H26","v":0},null,0,0,0,0,0,0,null,null,0,0,0,0]
[21,{"$f":"'INVENT.Inst&Agen Importés -10'!B27","v":0},{"$f":"'INVENT.Inst&Agen Importés -10'!F27","v":0},{"$f":"'INVENT.Inst&Agen Importés -10'!C27","v":0},{"$f":"'INVENT.Inst&Agen Importés -10'!H27","v":0},null,0,0,0,0,0,0,null,null,0,0,0,0]
[22,{"$f":"'INVENT.Inst&Agen Importés -10'!B28","v":0},{"$f":"'INVENT.Inst&Agen Importés -10'!F28","v":0},{"$f":"'INVENT.Inst&Agen Importés -10'!C28","v":0},{"$f":"'INVENT.Inst&Agen Importés -10'!H28","v":0},null,0,0,0,0,0,0,null,null,0,0,0,0]
[23,{"$f":"'INVENT.Inst&Agen Importés -10'!B29","v":0},{"$f":"'INVENT.Inst&Agen Importés -10'!F29","v":0},{"$f":"'INVENT.Inst&Agen Importés -10'!C29","v":0},{"$f":"'INVENT.Inst&Agen Importés -10'!H29","v":0},null,0,0,0,0,0,0,null,null,0,0,0,0]
[24,{"$f":"'INVENT.Inst&Agen Importés -10'!B30","v":0},{"$f":"'INVENT.Inst&Agen Importés -10'!F30","v":0},{"$f":"'INVENT.Inst&Agen Importés -10'!C30","v":0},{"$f":"'INVENT.Inst&Agen Importés -10'!H30","v":0},null,0,0,0,0,0,0,null,null,0,0,0,0]
[25,{"$f":"'INVENT.Inst&Agen Importés -10'!B31","v":0},{"$f":"'INVENT.Inst&Agen Importés -10'!F31","v":0},{"$f":"'INVENT.Inst&Agen Importés -10'!C31","v":0},{"$f":"'INVENT.Inst&Agen Importés -10'!H31","v":0},null,0,0,0,0,0,0,null,null,0,0,0,0]
[26,{"$f":"'INVENT.Inst&Agen Importés -10'!B32","v":0},{"$f":"'INVENT.Inst&Agen Importés -10'!F32","v":0},{"$f":"'INVENT.Inst&Agen Importés -10'!C32","v":0},{"$f":"'INVENT.Inst&Agen Importés -10'!H32","v":0},null,0,0,0,0,0,0,null,null,0,0,0,0]
[27,{"$f":"'INVENT.Inst&Agen Importés -10'!B33","v":0},{"$f":"'INVENT.Inst&Agen Importés -10'!F33","v":0},{"$f":"'INVENT.Inst&Agen Importés -10'!C33","v":0},{"$f":"'INVENT.Inst&Agen Importés -10'!H33","v":0},null,0,0,0,0,0,0,null,null,0,0,0,0]
[28,{"$f":"'INVENT.Inst&Agen Importés -10'!B34","v":0},{"$f":"'INVENT.Inst&Agen Importés -10'!F34","v":0},{"$f":"'INVENT.Inst&Agen Importés -10'!C34","v":0},{"$f":"'INVENT.Inst&Agen Importés -10'!H34","v":0},null,0,0,0,0,0,0,null,null,0,0,0,0]
[29,{"$f":"'INVENT.Inst&Agen Importés -10'!B35","v":0},{"$f":"'INVENT.Inst&Agen Importés -10'!F35","v":0},{"$f":"'INVENT.Inst&Agen Importés -10'!C35","v":0},{"$f":"'INVENT.Inst&Agen Importés -10'!H35","v":0},null,0,0,0,0,0,0,null,null,0,0,0,0]
[30,{"$f":"'INVENT.Inst&Agen Importés -10'!B36","v":0},{"$f":"'INVENT.Inst&Agen Importés -10'!F36","v":0},{"$f":"'INVENT.Inst&Agen Importés -10'!C36","v":0},{"$f":"'INVENT.Inst&Agen Importés -10'!H36","v":0},null,0,0,0,0,0,0,null,null,0,0,0,0]
[31,{"$f":"'INVENT.Inst&Agen Importés -10'!B37","v":0},{"$f":"'INVENT.Inst&Agen Importés -10'!F37","v":0},{"$f":"'INVENT.Inst&Agen Importés -10'!C37","v":0},{"$f":"'INVENT.Inst&Agen Importés -10'!H37","v":0},null,0,0,0,0,0,0,null,null,0,0,0,0]
[32,{"$f":"'INVENT.Inst&Agen Importés -10'!B38","v":0},{"$f":"'INVENT.Inst&Agen Importés -10'!F38","v":0},{"$f":"'INVENT.Inst&Agen Importés -10'!C38","v":0},{"$f":"'INVENT.Inst&Agen Importés -10'!H38","v":0},null,0,0,0,0,0,0,null,null,0,0,0,0]
[33,{"$f":"'INVENT.Inst&Agen Importés -10'!B39","v":0},{"$f":"'INVENT.Inst&Agen Importés -10'!F39","v":0},{"$f":"'INVENT.Inst&Agen Importés -10'!C39","v":0},{"$f":"'INVENT.Inst&Agen Importés -10'!H39","v":0},null,0,0,0,0,0,0,null,null,0,0,0,0]
[34,{"$f":"'INVENT.Inst&Agen Importés -10'!B40","v":0},{"$f":"'INVENT.Inst&Agen Importés -10'!F40","v":0},{"$f":"'INVENT.Inst&Agen Importés -10'!C40","v":0},{"$f":"'INVENT.Inst&Agen Importés -10'!H40","v":0},null,0,0,0,0,0,0,null,null,0,0,0,0]
[35,{"$f":"'INVENT.Inst&Agen Importés -10'!B41","v":0},{"$f":"'INVENT.Inst&Agen Importés -10'!F41","v":0},{"$f":"'INVENT.Inst&Agen Importés -10'!C41","v":0},{"$f":"'INVENT.Inst&Agen Importés -10'!H41","v":0},null,0,0,0,0,0,0,null,null,0,0,0,0]
[36,{"$f":"'INVENT.Inst&Agen Importés -10'!B42","v":0},{"$f":"'INVENT.Inst&Agen Importés -10'!F42","v":0},{"$f":"'INVENT.Inst&Agen Importés -10'!C42","v":0},{"$f":"'INVENT.Inst&Agen Importés -10'!H42","v":0},null,0,0,0,0,0,0,null,null,0,0,0,0]
[37,{"$f":"'INVENT.Inst&Agen Importés -10'!B43","v":0},{"$f":"'INVENT.Inst&Agen Importés -10'!F43","v":0},{"$f":"'INVENT.Inst&Agen Importés -10'!C43","v":0},{"$f":"'INVENT.Inst&Agen Importés -10'!H43","v":0},null,0,0,0,0,0,0,null,null,0,0,0,0]
[38,{"$f":"'INVENT.Inst&Agen Importés -10'!B44","v":0},{"$f":"'INVENT.Inst&Agen Importés -10'!F44","v":0},{"$f":"'INVENT.Inst&Agen Importés -10'!C44","v":0},{"$f":"'INVENT.Inst&Agen Importés -10'!H44","v":0},null,0,0,0,0,0,0,null,null,0,0,0,0]
[39,{"$f":"'INVENT.Inst&Agen Importés -10'!B45","v":0},{"$f":"'INVENT.Inst&Agen Importés -10'!F45","v":0},{"$f":"'INVENT.Inst&Agen Importés -10'!C45","v":0},{"$f":"'INVENT.Inst&Agen Importés -10'!H45","v":0},null,0,0,0,0,0,0,null,null,0,0,0,0]
[{"$f":"+A46+1","v":40},{"$f":"'INVENT.Inst&Agen Importés -10'!B46","v":0},{"$f":"'INVENT.Inst&Agen Importés -10'!F46","v":0},{"$f":"'INVENT.Inst&Agen Importés -10'!C46","v":0},{"$f":"'INVENT.Inst&Agen Importés -10'!H46","v":0},null,{"$f":"F47*E47","v":0},0,0,0,{"$f":"(E47+G47+H47)*18%","v":0},0,null,null,0,0,0,0]
[41,{"$f":"'INVENT.Inst&Agen Importés -10'!B47","v":0},{"$f":"'INVENT.Inst&Agen Importés -10'!F47","v":0},{"$f":"'INVENT.Inst&Agen Importés -10'!C47","v":0},{"$f":"'INVENT.Inst&Agen Importés -10'!H47","v":0},null,0,0,0,0,0,0,null,null,0,0,0,0]
[42,{"$f":"'INVENT.Inst&Agen Importés -10'!B48","v":0},{"$f":"'INVENT.Inst&Agen Importés -10'!F48","v":0},{"$f":"'INVENT.Inst&Agen Importés -10'!C48","v":0},{"$f":"'INVENT.Inst&Agen Importés -10'!H48","v":0},null,0,0,0,0,0,0,null,null,0,0,0,0]
[43,{"$f":"'INVENT.Inst&Agen Importés -10'!B49","v":0},{"$f":"'INVENT.Inst&Agen Importés -10'!F49","v":0},{"$f":"'INVENT.Inst&Agen Importés -10'!C49","v":0},{"$f":"'INVENT.Inst&Agen Importés -10'!H49","v":0},null,0,0,0,0,0,0,null,null,0,0,0,0]
[44,{"$f":"'INVENT.Inst&Agen Importés -10'!B50","v":0},{"$f":"'INVENT.Inst&Agen Importés -10'!F50","v":0},{"$f":"'INVENT.Inst&Agen Importés -10'!C50","v":0},{"$f":"'INVENT.Inst&Agen Importés -10'!H50","v":0},null,0,0,0,0,0,0,null,null,0,0,0,0]
[45,{"$f":"'INVENT.Inst&Agen Importés -10'!B51","v":0},{"$f":"'INVENT.Inst&Agen Importés -10'!F51","v":0},{"$f":"'INVENT.Inst&Agen Importés -10'!C51","v":0},{"$f":"'INVENT.Inst&Agen Importés -10'!H51","v":0},null,0,0,0,0,0,0,null,null,0,0,0,0]
[46,{"$f":"'INVENT.Inst&Agen Importés -10'!B52","v":0},{"$f":"'INVENT.Inst&Agen Importés -10'!F52","v":0},{"$f":"'INVENT.Inst&Agen Importés -10'!C52","v":0},{"$f":"'INVENT.Inst&Agen Importés -10'!H52","v":0},null,0,0,0,0,0,0,null,null,0,0,0,0]
[47,{"$f":"'INVENT.Inst&Agen Importés -10'!B53","v":0},{"$f":"'INVENT.Inst&Agen Importés -10'!F53","v":0},{"$f":"'INVENT.Inst&Agen Importés -10'!C53","v":0},{"$f":"'INVENT.Inst&Agen Importés -10'!H53","v":0},null,0,0,0,0,0,0,null,null,0,0,0,0]
[48,{"$f":"'INVENT.Inst&Agen Importés -10'!B54","v":0},{"$f":"'INVENT.Inst&Agen Importés -10'!F54","v":0},{"$f":"'INVENT.Inst&Agen Importés -10'!C54","v":0},{"$f":"'INVENT.Inst&Agen Importés -10'!H54","v":0},null,{"$f":"F55*E55","v":0},0,0,0,{"$f":"(E55+G55+H55)*18%","v":0},{"$f":"SUM(G55:K55)+E55","v":0},null,null,{"$f":"(M55+N55)*18%","v":0},{"$f":"O55+N55+M55","v":0},{"$f":"+R55-O55-K55","v":0},{"$f":"P55+L55","v":0}]
[49,{"$f":"'INVENT.Inst&Agen Importés -10'!B55","v":0},{"$f":"'INVENT.Inst&Agen Importés -10'!F55","v":0},{"$f":"'INVENT.Inst&Agen Importés -10'!C55","v":0},{"$f":"'INVENT.Inst&Agen Importés -10'!H55","v":0},null,0,0,0,0,0,0,null,null,0,0,0,0]
[50,{"$f":"'INVENT.Inst&Agen Importés -10'!B56","v":0},{"$f":"'INVENT.Inst&Agen Importés -10'!F56","v":0},{"$f":"'INVENT.Inst&Agen Importés -10'!C56","v":0},{"$f":"'INVENT.Inst&Agen Importés -10'!H56","v":0},null,0,0,0,0,0,0,null,null,0,0,0,0]
[51,{"$f":"'INVENT.Inst&Agen Importés -10'!B57","v":0},{"$f":"'INVENT.Inst&Agen Importés -10'!F57","v":0},{"$f":"'INVENT.Inst&Agen Importés -10'!C57","v":0},{"$f":"'INVENT.Inst&Agen Importés -10'!H57","v":0},null,0,0,0,0,0,0,null,null,0,0,0,0]
[52,{"$f":"'INVENT.Inst&Agen Importés -10'!B58","v":0},{"$f":"'INVENT.Inst&Agen Importés -10'!F58","v":0},{"$f":"'INVENT.Inst&Agen Importés -10'!C58","v":0},{"$f":"'INVENT.Inst&Agen Importés -10'!H58","v":0},null,0,0,0,0,0,0,null,null,0,0,0,0]
[53,{"$f":"'INVENT.Inst&Agen Importés -10'!B59","v":0},{"$f":"'INVENT.Inst&Agen Importés -10'!F59","v":0},{"$f":"'INVENT.Inst&Agen Importés -10'!C59","v":0},{"$f":"'INVENT.Inst&Agen Importés -10'!H59","v":0},null,0,0,0,0,0,0,null,null,0,0,0,0]
[54,{"$f":"'INVENT.Inst&Agen Importés -10'!B60","v":0},{"$f":"'INVENT.Inst&Agen Importés -10'!F60","v":0},{"$f":"'INVENT.Inst&Agen Importés -10'!C60","v":0},{"$f":"'INVENT.Inst&Agen Importés -10'!H60","v":0},null,0,0,0,0,0,0,null,null,0,0,0,0]
[55,{"$f":"'INVENT.Inst&Agen Importés -10'!B61","v":0},{"$f":"'INVENT.Inst&Agen Importés -10'!F61","v":0},{"$f":"'INVENT.Inst&Agen Importés -10'!C61","v":0},{"$f":"'INVENT.Inst&Agen Importés -10'!H61","v":0},null,0,0,0,0,0,0,null,null,0,0,0,0]
[56,{"$f":"'INVENT.Inst&Agen Importés -10'!B62","v":0},{"$f":"'INVENT.Inst&Agen Importés -10'!F62","v":0},{"$f":"'INVENT.Inst&Agen Importés -10'!C62","v":0},{"$f":"'INVENT.Inst&Agen Importés -10'!H62","v":0},null,0,0,0,0,0,0,null,null,0,0,0,0]
[57,{"$f":"'INVENT.Inst&Agen Importés -10'!B63","v":0},{"$f":"'INVENT.Inst&Agen Importés -10'!F63","v":0},{"$f":"'INVENT.Inst&Agen Importés -10'!C63","v":0},{"$f":"'INVENT.Inst&Agen Importés -10'!H63","v":0},null,0,0,0,0,0,0,null,null,0,0,0,0]
[58,{"$f":"'INVENT.Inst&Agen Importés -10'!B64","v":0},{"$f":"'INVENT.Inst&Agen Importés -10'!F64","v":0},{"$f":"'INVENT.Inst&Agen Importés -10'!C64","v":0},{"$f":"'INVENT.Inst&Agen Importés -10'!H64","v":0},null,0,0,0,0,0,0,null,null,0,0,0,0]
[59,{"$f":"'INVENT.Inst&Agen Importés -10'!B65","v":0},{"$f":"'INVENT.Inst&Agen Importés -10'!F65","v":0},{"$f":"'INVENT.Inst&Agen Importés -10'!C65","v":0},{"$f":"'INVENT.Inst&Agen Importés -10'!H65","v":0},null,0,0,0,0,0,0,null,null,0,0,0,0]
[60,{"$f":"'INVENT.Inst&Agen Importés -10'!B66","v":0},{"$f":"'INVENT.Inst&Agen Importés -10'!F66","v":0},{"$f":"'INVENT.Inst&Agen Importés -10'!C66","v":0},{"$f":"'INVENT.Inst&Agen Importés -10'!H66","v":0},null,0,0,0,0,0,0,null,null,0,0,0,0]
[61,{"$f":"'INVENT.Inst&Agen Importés -10'!B67","v":0},{"$f":"'INVENT.Inst&Agen Importés -10'!F67","v":0},{"$f":"'INVENT.Inst&Agen Importés -10'!C67","v":0},{"$f":"'INVENT.Inst&Agen Importés -10'!H67","v":0},null,0,0,0,0,0,0,null,null,0,0,0,0]
[62,{"$f":"'INVENT.Inst&Agen Importés -10'!B68","v":0},{"$f":"'INVENT.Inst&Agen Importés -10'!F68","v":0},{"$f":"'INVENT.Inst&Agen Importés -10'!C68","v":0},{"$f":"'INVENT.Inst&Agen Importés -10'!H68","v":0},null,0,0,0,0,0,0,null,null,0,0,0,0]
[63,{"$f":"'INVENT.Inst&Agen Importés -10'!B69","v":0},{"$f":"'INVENT.Inst&Agen Importés -10'!F69","v":0},{"$f":"'INVENT.Inst&Agen Importés -10'!C69","v":0},{"$f":"'INVENT.Inst&Agen Importés -10'!H69","v":0},null,0,0,0,0,0,0,null,null,0,0,0,0]
[64,{"$f":"'INVENT.Inst&Agen Importés -10'!B70","v":0},{"$f":"'INVENT.Inst&Agen Importés -10'!F70","v":0},{"$f":"'INVENT.Inst&Agen Importés -10'!C70","v":0},{"$f":"'INVENT.Inst&Agen Importés -10'!H70","v":0},null,0,0,0,0,0,0,null,null,0,0,0,0]
[65,{"$f":"'INVENT.Inst&Agen Importés -10'!B71","v":0},{"$f":"'INVENT.Inst&Agen Importés -10'!F71","v":0},{"$f":"'INVENT.Inst&Agen Importés -10'!C71","v":0},{"$f":"'INVENT.Inst&Agen Importés -10'!H71","v":0},null,0,0,0,0,0,0,null,null,0,0,0,0]
[66,{"$f":"'INVENT.Inst&Agen Importés -10'!B72","v":0},{"$f":"'INVENT.Inst&Agen Importés -10'!F72","v":0},{"$f":"'INVENT.Inst&Agen Importés -10'!C72","v":0},{"$f":"'INVENT.Inst&Agen Importés -10'!H72","v":0},null,0,{"$f":"E73*1%","v":0},{"$f":"E73*1%","v":0},{"$f":"E73*0.5%","v":0},0,0,null,null,0,0,0,0]
[67,{"$f":"'INVENT.Inst&Agen Importés -10'!B73","v":0},{"$f":"'INVENT.Inst&Agen Importés -10'!F73","v":0},{"$f":"'INVENT.Inst&Agen Importés -10'!C73","v":0},{"$f":"'INVENT.Inst&Agen Importés -10'!H73","v":0},null,0,0,0,0,0,0,null,null,0,0,0,0]
[68,{"$f":"'INVENT.Inst&Agen Importés -10'!B74","v":0},{"$f":"'INVENT.Inst&Agen Importés -10'!F74","v":0},{"$f":"'INVENT.Inst&Agen Importés -10'!C74","v":0},{"$f":"'INVENT.Inst&Agen Importés -10'!H74","v":0},null,0,0,0,0,0,0,null,null,0,0,0,0]
[69,{"$f":"'INVENT.Inst&Agen Importés -10'!B75","v":0},{"$f":"'INVENT.Inst&Agen Importés -10'!F75","v":0},{"$f":"'INVENT.Inst&Agen Importés -10'!C75","v":0},{"$f":"'INVENT.Inst&Agen Importés -10'!H75","v":0},null,0,0,0,0,0,0,null,null,0,0,0,0]
[70,{"$f":"'INVENT.Inst&Agen Importés -10'!B76","v":0},{"$f":"'INVENT.Inst&Agen Importés -10'!F76","v":0},{"$f":"'INVENT.Inst&Agen Importés -10'!C76","v":0},{"$f":"'INVENT.Inst&Agen Importés -10'!H76","v":0},null,0,0,0,0,0,0,null,null,0,0,0,0]
[71,{"$f":"'INVENT.Inst&Agen Importés -10'!B77","v":0},{"$f":"'INVENT.Inst&Agen Importés -10'!F77","v":0},{"$f":"'INVENT.Inst&Agen Importés -10'!C77","v":0},{"$f":"'INVENT.Inst&Agen Importés -10'!H77","v":0},null,0,0,0,0,0,0,null,null,0,0,0,0]
[72,{"$f":"'INVENT.Inst&Agen Importés -10'!B78","v":0},{"$f":"'INVENT.Inst&Agen Importés -10'!F78","v":0},{"$f":"'INVENT.Inst&Agen Importés -10'!C78","v":0},{"$f":"'INVENT.Inst&Agen Importés -10'!H78","v":0},null,0,0,0,0,0,0,null,null,0,0,0,0]
[73,{"$f":"'INVENT.Inst&Agen Importés -10'!B79","v":0},{"$f":"'INVENT.Inst&Agen Importés -10'!F79","v":0},{"$f":"'INVENT.Inst&Agen Importés -10'!C79","v":0},{"$f":"'INVENT.Inst&Agen Importés -10'!H79","v":0},null,0,0,0,0,0,0,null,null,0,0,0,0]
[74,{"$f":"'INVENT.Inst&Agen Importés -10'!B80","v":0},{"$f":"'INVENT.Inst&Agen Importés -10'!F80","v":0},{"$f":"'INVENT.Inst&Agen Importés -10'!C80","v":0},{"$f":"'INVENT.Inst&Agen Importés -10'!H80","v":0},null,0,0,0,0,0,0,null,null,0,0,0,0]
[75,{"$f":"'INVENT.Inst&Agen Importés -10'!B81","v":0},{"$f":"'INVENT.Inst&Agen Importés -10'!F81","v":0},{"$f":"'INVENT.Inst&Agen Importés -10'!C81","v":0},{"$f":"'INVENT.Inst&Agen Importés -10'!H81","v":0},null,0,0,0,0,0,0,null,null,0,0,0,0]
[76,{"$f":"'INVENT.Inst&Agen Importés -10'!B82","v":0},{"$f":"'INVENT.Inst&Agen Importés -10'!F82","v":0},{"$f":"'INVENT.Inst&Agen Importés -10'!C82","v":0},{"$f":"'INVENT.Inst&Agen Importés -10'!H82","v":0},null,0,0,0,0,0,0,null,null,0,0,0,0]
[77,{"$f":"'INVENT.Inst&Agen Importés -10'!B83","v":0},{"$f":"'INVENT.Inst&Agen Importés -10'!F83","v":0},{"$f":"'INVENT.Inst&Agen Importés -10'!C83","v":0},{"$f":"'INVENT.Inst&Agen Importés -10'!H83","v":0},null,0,0,0,0,0,0,null,null,0,0,0,0]
[78,{"$f":"'INVENT.Inst&Agen Importés -10'!B84","v":0},{"$f":"'INVENT.Inst&Agen Importés -10'!F84","v":0},{"$f":"'INVENT.Inst&Agen Importés -10'!C84","v":0},{"$f":"'INVENT.Inst&Agen Importés -10'!H84","v":0},null,0,0,0,0,0,0,null,null,0,0,0,0]
[79,{"$f":"'INVENT.Inst&Agen Importés -10'!B85","v":0},{"$f":"'INVENT.Inst&Agen Importés -10'!F85","v":0},{"$f":"'INVENT.Inst&Agen Importés -10'!C85","v":0},{"$f":"'INVENT.Inst&Agen Importés -10'!H85","v":0},null,0,0,0,0,0,0,null,null,0,0,0,0]
[80,{"$f":"'INVENT.Inst&Agen Importés -10'!B86","v":0},{"$f":"'INVENT.Inst&Agen Importés -10'!F86","v":0},{"$f":"'INVENT.Inst&Agen Importés -10'!C86","v":0},{"$f":"'INVENT.Inst&Agen Importés -10'!H86","v":0},null,0,0,0,0,0,0,null,null,0,0,0,0]
[81,{"$f":"'INVENT.Inst&Agen Importés -10'!B87","v":0},{"$f":"'INVENT.Inst&Agen Importés -10'!F87","v":0},{"$f":"'INVENT.Inst&Agen Importés -10'!C87","v":0},{"$f":"'INVENT.Inst&Agen Importés -10'!H87","v":0},null,0,0,0,0,0,0,null,null,0,0,0,0]
[82,{"$f":"'INVENT.Inst&Agen Importés -10'!B88","v":0},{"$f":"'INVENT.Inst&Agen Importés -10'!F88","v":0},{"$f":"'INVENT.Inst&Agen Importés -10'!C88","v":0},{"$f":"'INVENT.Inst&Agen Importés -10'!H88","v":0},null,0,0,0,0,0,0,null,null,0,0,0,0]
[83,{"$f":"'INVENT.Inst&Agen Importés -10'!B89","v":0},{"$f":"'INVENT.Inst&Agen Importés -10'!F89","v":0},{"$f":"'INVENT.Inst&Agen Importés -10'!C89","v":0},{"$f":"'INVENT.Inst&Agen Importés -10'!H89","v":0},null,0,0,0,0,0,0,null,null,0,0,0,0]
[84,{"$f":"'INVENT.Inst&Agen Importés -10'!B90","v":0},{"$f":"'INVENT.Inst&Agen Importés -10'!F90","v":0},{"$f":"'INVENT.Inst&Agen Importés -10'!C90","v":0},{"$f":"'INVENT.Inst&Agen Importés -10'!H90","v":0},null,0,0,0,0,0,0,null,null,0,0,0,0]
[85,{"$f":"'INVENT.Inst&Agen Importés -10'!B91","v":0},{"$f":"'INVENT.Inst&Agen Importés -10'!F91","v":0},{"$f":"'INVENT.Inst&Agen Importés -10'!C91","v":0},{"$f":"'INVENT.Inst&Agen Importés -10'!H91","v":0},null,0,0,0,0,0,0,null,null,0,0,0,0]
[86,{"$f":"'INVENT.Inst&Agen Importés -10'!B92","v":0},{"$f":"'INVENT.Inst&Agen Importés -10'!F92","v":0},{"$f":"'INVENT.Inst&Agen Importés -10'!C92","v":0},{"$f":"'INVENT.Inst&Agen Importés -10'!H92","v":0},null,0,0,0,0,0,0,null,null,0,0,0,0]
[87,{"$f":"'INVENT.Inst&Agen Importés -10'!B93","v":0},{"$f":"'INVENT.Inst&Agen Importés -10'!F93","v":0},{"$f":"'INVENT.Inst&Agen Importés -10'!C93","v":0},{"$f":"'INVENT.Inst&Agen Importés -10'!H93","v":0},null,0,0,0,0,0,0,null,null,0,0,0,0]
[88,{"$f":"'INVENT.Inst&Agen Importés -10'!B94","v":0},{"$f":"'INVENT.Inst&Agen Importés -10'!F94","v":0},{"$f":"'INVENT.Inst&Agen Importés -10'!C94","v":0},{"$f":"'INVENT.Inst&Agen Importés -10'!H94","v":0},null,0,0,0,0,0,0,null,null,0,0,0,0]
[89,{"$f":"'INVENT.Inst&Agen Importés -10'!B95","v":0},{"$f":"'INVENT.Inst&Agen Importés -10'!F95","v":0},{"$f":"'INVENT.Inst&Agen Importés -10'!C95","v":0},{"$f":"'INVENT.Inst&Agen Importés -10'!H95","v":0},null,0,0,0,0,0,0,null,null,0,0,0,0]
[90,{"$f":"'INVENT.Inst&Agen Importés -10'!B96","v":0},{"$f":"'INVENT.Inst&Agen Importés -10'!F96","v":0},{"$f":"'INVENT.Inst&Agen Importés -10'!C96","v":0},{"$f":"'INVENT.Inst&Agen Importés -10'!H96","v":0},null,0,0,0,0,0,0,null,null,0,0,0,0]
[91,{"$f":"'INVENT.Inst&Agen Importés -10'!B97","v":0},{"$f":"'INVENT.Inst&Agen Importés -10'!F97","v":0},{"$f":"'INVENT.Inst&Agen Importés -10'!C97","v":0},{"$f":"'INVENT.Inst&Agen Importés -10'!H97","v":0},null,0,0,0,0,0,0,null,null,0,0,0,0]
[92,{"$f":"'INVENT.Inst&Agen Importés -10'!B98","v":0},{"$f":"'INVENT.Inst&Agen Importés -10'!F98","v":0},{"$f":"'INVENT.Inst&Agen Importés -10'!C98","v":0},{"$f":"'INVENT.Inst&Agen Importés -10'!H98","v":0},null,0,0,0,0,0,0,null,null,0,0,0,0]
[93,{"$f":"'INVENT.Inst&Agen Importés -10'!B99","v":0},{"$f":"'INVENT.Inst&Agen Importés -10'!F99","v":0},{"$f":"'INVENT.Inst&Agen Importés -10'!C99","v":0},{"$f":"'INVENT.Inst&Agen Importés -10'!H99","v":0},null,0,0,0,0,0,0,null,null,0,0,0,0]
[94,{"$f":"'INVENT.Inst&Agen Importés -10'!B100","v":0},{"$f":"'INVENT.Inst&Agen Importés -10'!F100","v":0},{"$f":"'INVENT.Inst&Agen Importés -10'!C100","v":0},{"$f":"'INVENT.Inst&Agen Importés -10'!H100","v":0},null,0,0,0,0,0,0,null,null,0,0,0,0]
[95,{"$f":"'INVENT.Inst&Agen Importés -10'!B101","v":0},{"$f":"'INVENT.Inst&Agen Importés -10'!F101","v":0},{"$f":"'INVENT.Inst&Agen Importés -10'!C101","v":0},{"$f":"'INVENT.Inst&Agen Importés -10'!H101","v":0},null,0,0,0,0,0,0,null,null,0,0,0,0]
[96,{"$f":"'INVENT.Inst&Agen Importés -10'!B102","v":0},{"$f":"'INVENT.Inst&Agen Importés -10'!F102","v":0},{"$f":"'INVENT.Inst&Agen Importés -10'!C102","v":0},{"$f":"'INVENT.Inst&Agen Importés -10'!H102","v":0},null,0,0,0,0,0,0,null,null,0,0,0,0]
[97,{"$f":"'INVENT.Inst&Agen Importés -10'!B103","v":0},{"$f":"'INVENT.Inst&Agen Importés -10'!F103","v":0},{"$f":"'INVENT.Inst&Agen Importés -10'!C103","v":0},{"$f":"'INVENT.Inst&Agen Importés -10'!H103","v":0},null,0,0,0,0,0,0,null,null,0,0,0,0]
[98,{"$f":"'INVENT.Inst&Agen Importés -10'!B104","v":0},{"$f":"'INVENT.Inst&Agen Importés -10'!F104","v":0},{"$f":"'INVENT.Inst&Agen Importés -10'!C104","v":0},{"$f":"'INVENT.Inst&Agen Importés -10'!H104","v":0},null,0,0,0,0,0,0,null,null,0,0,0,0]
[99,{"$f":"'INVENT.Inst&Agen Importés -10'!B105","v":0},{"$f":"'INVENT.Inst&Agen Importés -10'!F105","v":0},{"$f":"'INVENT.Inst&Agen Importés -10'!C105","v":0},{"$f":"'INVENT.Inst&Agen Importés -10'!H105","v":0},null,0,0,0,0,0,0,null,null,0,0,0,0]
[{"$f":"+A106+1","v":100},{"$f":"'INVENT.Inst&Agen Importés -10'!B106","v":0},{"$f":"'INVENT.Inst&Agen Importés -10'!F106","v":0},{"$f":"'INVENT.Inst&Agen Importés -10'!C106","v":0},{"$f":"'INVENT.Inst&Agen Importés -10'!H106","v":0},null,0,0,0,0,0,0,null,null,0,0,0,0]
[{"$f":"+A107+1","v":101},{"$f":"'INVENT.Inst&Agen Importés -10'!B107","v":0},{"$f":"'INVENT.Inst&Agen Importés -10'!F107","v":0},{"$f":"'INVENT.Inst&Agen Importés -10'!C107","v":0},{"$f":"'INVENT.Inst&Agen Importés -10'!H107","v":0},null,0,0,0,0,0,0,null,null,0,0,0,0]
[102,{"$f":"'INVENT.Inst&Agen Importés -10'!B108","v":0},{"$f":"'INVENT.Inst&Agen Importés -10'!F108","v":0},{"$f":"'INVENT.Inst&Agen Importés -10'!C108","v":0},{"$f":"'INVENT.Inst&Agen Importés -10'!H108","v":0},null,0,0,0,0,0,0,null,null,0,0,0,0]
[103,{"$f":"'INVENT.Inst&Agen Importés -10'!B109","v":0},{"$f":"'INVENT.Inst&Agen Importés -10'!F109","v":0},{"$f":"'INVENT.Inst&Agen Importés -10'!C109","v":0},{"$f":"'INVENT.Inst&Agen Importés -10'!H109","v":0},null,0,0,0,0,0,0,null,null,0,0,0,0]
[104,{"$f":"'INVENT.Inst&Agen Importés -10'!B110","v":0},{"$f":"'INVENT.Inst&Agen Importés -10'!F110","v":0},{"$f":"'INVENT.Inst&Agen Importés -10'!C110","v":0},{"$f":"'INVENT.Inst&Agen Importés -10'!H110","v":0},null,0,0,0,0,0,0,null,null,0,0,0,0]
[105,{"$f":"'INVENT.Inst&Agen Importés -10'!B111","v":0},{"$f":"'INVENT.Inst&Agen Importés -10'!F111","v":0},{"$f":"'INVENT.Inst&Agen Importés -10'!C111","v":0},{"$f":"'INVENT.Inst&Agen Importés -10'!H111","v":0},null,0,0,0,0,0,0,null,null,0,0,0,0]
[106,{"$f":"'INVENT.Inst&Agen Importés -10'!B112","v":0},{"$f":"'INVENT.Inst&Agen Importés -10'!F112","v":0},{"$f":"'INVENT.Inst&Agen Importés -10'!C112","v":0},{"$f":"'INVENT.Inst&Agen Importés -10'!H112","v":0},null,0,0,0,0,0,0,null,null,0,0,0,0]
[107,{"$f":"'INVENT.Inst&Agen Importés -10'!B113","v":0},{"$f":"'INVENT.Inst&Agen Importés -10'!F113","v":0},{"$f":"'INVENT.Inst&Agen Importés -10'!C113","v":0},{"$f":"'INVENT.Inst&Agen Importés -10'!H113","v":0},null,0,0,0,0,0,0,null,null,0,0,0,0]
[108,{"$f":"'INVENT.Inst&Agen Importés -10'!B114","v":0},{"$f":"'INVENT.Inst&Agen Importés -10'!F114","v":0},{"$f":"'INVENT.Inst&Agen Importés -10'!C114","v":0},{"$f":"'INVENT.Inst&Agen Importés -10'!H114","v":0},null,0,0,0,0,0,0,null,null,0,0,0,0]
[109,{"$f":"'INVENT.Inst&Agen Importés -10'!B115","v":0},{"$f":"'INVENT.Inst&Agen Importés -10'!F115","v":0},{"$f":"'INVENT.Inst&Agen Importés -10'!C115","v":0},{"$f":"'INVENT.Inst&Agen Importés -10'!H115","v":0},null,0,0,0,0,0,0,null,null,0,0,0,0]
[110,{"$f":"'INVENT.Inst&Agen Importés -10'!B116","v":0},{"$f":"'INVENT.Inst&Agen Importés -10'!F116","v":0},{"$f":"'INVENT.Inst&Agen Importés -10'!C116","v":0},{"$f":"'INVENT.Inst&Agen Importés -10'!H116","v":0},null,0,0,0,0,0,0,null,null,0,0,0,0]
[111,{"$f":"'INVENT.Inst&Agen Importés -10'!B117","v":0},{"$f":"'INVENT.Inst&Agen Importés -10'!F117","v":0},{"$f":"'INVENT.Inst&Agen Importés -10'!C117","v":0},{"$f":"'INVENT.Inst&Agen Importés -10'!H117","v":0},null,0,0,0,0,0,0,null,null,0,0,0,0]
[112,{"$f":"'INVENT.Inst&Agen Importés -10'!B118","v":0},{"$f":"'INVENT.Inst&Agen Importés -10'!F118","v":0},{"$f":"'INVENT.Inst&Agen Importés -10'!C118","v":0},{"$f":"'INVENT.Inst&Agen Importés -10'!H118","v":0},null,{"$f":"F119*E119","v":0},0,0,0,{"$f":"(E119+G119+H119)*18%","v":0},{"$f":"SUM(G119:K119)+E119","v":0},null,null,{"$f":"(M119+N119)*18%","v":0},{"$f":"O119+N119+M119","v":0},{"$f":"+R119-O119-K119","v":0},{"$f":"P119+L119","v":0}]
[113,{"$f":"'INVENT.Inst&Agen Importés -10'!B119","v":0},{"$f":"'INVENT.Inst&Agen Importés -10'!F119","v":0},{"$f":"'INVENT.Inst&Agen Importés -10'!C119","v":0},{"$f":"'INVENT.Inst&Agen Importés -10'!H119","v":0},null,0,0,0,0,0,0,null,null,0,0,0,0]
[114,{"$f":"'INVENT.Inst&Agen Importés -10'!B120","v":0},{"$f":"'INVENT.Inst&Agen Importés -10'!F120","v":0},{"$f":"'INVENT.Inst&Agen Importés -10'!C120","v":0},{"$f":"'INVENT.Inst&Agen Importés -10'!H120","v":0},null,0,0,0,0,0,0,null,null,0,0,0,0]
[115,{"$f":"'INVENT.Inst&Agen Importés -10'!B121","v":0},{"$f":"'INVENT.Inst&Agen Importés -10'!F121","v":0},{"$f":"'INVENT.Inst&Agen Importés -10'!C121","v":0},{"$f":"'INVENT.Inst&Agen Importés -10'!H121","v":0},null,0,0,0,0,0,0,null,null,0,0,0,0]
[116,{"$f":"'INVENT.Inst&Agen Importés -10'!B122","v":0},{"$f":"'INVENT.Inst&Agen Importés -10'!F122","v":0},{"$f":"'INVENT.Inst&Agen Importés -10'!C122","v":0},{"$f":"'INVENT.Inst&Agen Importés -10'!H122","v":0},null,0,0,0,0,0,0,null,null,0,0,0,0]
[117,{"$f":"'INVENT.Inst&Agen Importés -10'!B123","v":0},{"$f":"'INVENT.Inst&Agen Importés -10'!F123","v":0},{"$f":"'INVENT.Inst&Agen Importés -10'!C123","v":0},{"$f":"'INVENT.Inst&Agen Importés -10'!H123","v":0},null,0,0,0,0,0,0,null,null,0,0,0,0]
[118,{"$f":"'INVENT.Inst&Agen Importés -10'!B124","v":0},{"$f":"'INVENT.Inst&Agen Importés -10'!F124","v":0},{"$f":"'INVENT.Inst&Agen Importés -10'!C124","v":0},{"$f":"'INVENT.Inst&Agen Importés -10'!H124","v":0},null,0,0,0,0,0,0,null,null,0,0,0,0]
[119,{"$f":"'INVENT.Inst&Agen Importés -10'!B125","v":0},{"$f":"'INVENT.Inst&Agen Importés -10'!F125","v":0},{"$f":"'INVENT.Inst&Agen Importés -10'!C125","v":0},{"$f":"'INVENT.Inst&Agen Importés -10'!H125","v":0},null,0,0,0,0,0,0,null,null,0,0,0,0]
[120,{"$f":"'INVENT.Inst&Agen Importés -10'!B126","v":0},{"$f":"'INVENT.Inst&Agen Importés -10'!F126","v":0},{"$f":"'INVENT.Inst&Agen Importés -10'!C126","v":0},{"$f":"'INVENT.Inst&Agen Importés -10'!H126","v":0},null,0,0,0,0,0,0,null,null,0,0,0,0]
[121,{"$f":"'INVENT.Inst&Agen Importés -10'!B127","v":0},{"$f":"'INVENT.Inst&Agen Importés -10'!F127","v":0},{"$f":"'INVENT.Inst&Agen Importés -10'!C127","v":0},{"$f":"'INVENT.Inst&Agen Importés -10'!H127","v":0},null,0,0,0,0,0,0,null,null,0,0,0,0]
[122,{"$f":"'INVENT.Inst&Agen Importés -10'!B128","v":0},{"$f":"'INVENT.Inst&Agen Importés -10'!F128","v":0},{"$f":"'INVENT.Inst&Agen Importés -10'!C128","v":0},{"$f":"'INVENT.Inst&Agen Importés -10'!H128","v":0},null,0,0,0,0,0,0,null,null,0,0,0,0]
[123,{"$f":"'INVENT.Inst&Agen Importés -10'!B129","v":0},{"$f":"'INVENT.Inst&Agen Importés -10'!F129","v":0},{"$f":"'INVENT.Inst&Agen Importés -10'!C129","v":0},{"$f":"'INVENT.Inst&Agen Importés -10'!H129","v":0},null,0,0,0,0,0,0,null,null,0,0,0,0]
[124,{"$f":"'INVENT.Inst&Agen Importés -10'!B130","v":0},{"$f":"'INVENT.Inst&Agen Importés -10'!F130","v":0},{"$f":"'INVENT.Inst&Agen Importés -10'!C130","v":0},{"$f":"'INVENT.Inst&Agen Importés -10'!H130","v":0},null,0,0,0,0,0,0,null,null,0,0,0,0]
[125,{"$f":"'INVENT.Inst&Agen Importés -10'!B131","v":0},{"$f":"'INVENT.Inst&Agen Importés -10'!F131","v":0},{"$f":"'INVENT.Inst&Agen Importés -10'!C131","v":0},{"$f":"'INVENT.Inst&Agen Importés -10'!H131","v":0},null,0,0,0,0,0,0,null,null,0,0,0,0]
[126,{"$f":"'INVENT.Inst&Agen Importés -10'!B132","v":0},{"$f":"'INVENT.Inst&Agen Importés -10'!F132","v":0},{"$f":"'INVENT.Inst&Agen Importés -10'!C132","v":0},{"$f":"'INVENT.Inst&Agen Importés -10'!H132","v":0},null,0,0,0,0,0,0,null,null,0,0,0,0]
[127,{"$f":"'INVENT.Inst&Agen Importés -10'!B133","v":0},{"$f":"'INVENT.Inst&Agen Importés -10'!F133","v":0},{"$f":"'INVENT.Inst&Agen Importés -10'!C133","v":0},{"$f":"'INVENT.Inst&Agen Importés -10'!H133","v":0},null,0,0,0,0,0,0,null,null,0,0,0,0]
[128,{"$f":"'INVENT.Inst&Agen Importés -10'!B134","v":0},{"$f":"'INVENT.Inst&Agen Importés -10'!F134","v":0},{"$f":"'INVENT.Inst&Agen Importés -10'!C134","v":0},{"$f":"'INVENT.Inst&Agen Importés -10'!H134","v":0},null,0,0,0,0,0,0,null,null,0,0,0,0]
[129,{"$f":"'INVENT.Inst&Agen Importés -10'!B135","v":0},{"$f":"'INVENT.Inst&Agen Importés -10'!F135","v":0},{"$f":"'INVENT.Inst&Agen Importés -10'!C135","v":0},{"$f":"'INVENT.Inst&Agen Importés -10'!H135","v":0},null,0,0,0,0,0,0,null,null,0,0,0,0]
[130,{"$f":"'INVENT.Inst&Agen Importés -10'!B136","v":0},{"$f":"'INVENT.Inst&Agen Importés -10'!F136","v":0},{"$f":"'INVENT.Inst&Agen Importés -10'!C136","v":0},{"$f":"'INVENT.Inst&Agen Importés -10'!H136","v":0},null,0,{"$f":"E137*1%","v":0},{"$f":"E137*1%","v":0},{"$f":"E137*0.5%","v":0},0,0,null,null,0,0,0,0]
[131,{"$f":"'INVENT.Inst&Agen Importés -10'!B137","v":0},{"$f":"'INVENT.Inst&Agen Importés -10'!F137","v":0},{"$f":"'INVENT.Inst&Agen Importés -10'!C137","v":0},{"$f":"'INVENT.Inst&Agen Importés -10'!H137","v":0},null,0,0,0,0,0,0,null,null,0,0,0,0]
[132,{"$f":"'INVENT.Inst&Agen Importés -10'!B138","v":0},{"$f":"'INVENT.Inst&Agen Importés -10'!F138","v":0},{"$f":"'INVENT.Inst&Agen Importés -10'!C138","v":0},{"$f":"'INVENT.Inst&Agen Importés -10'!H138","v":0},null,0,0,0,0,0,0,null,null,0,0,0,0]
[133,{"$f":"'INVENT.Inst&Agen Importés -10'!B139","v":0},{"$f":"'INVENT.Inst&Agen Importés -10'!F139","v":0},{"$f":"'INVENT.Inst&Agen Importés -10'!C139","v":0},{"$f":"'INVENT.Inst&Agen Importés -10'!H139","v":0},null,0,0,0,0,0,0,null,null,0,0,0,0]
[134,{"$f":"'INVENT.Inst&Agen Importés -10'!B140","v":0},{"$f":"'INVENT.Inst&Agen Importés -10'!F140","v":0},{"$f":"'INVENT.Inst&Agen Importés -10'!C140","v":0},{"$f":"'INVENT.Inst&Agen Importés -10'!H140","v":0},null,0,0,0,0,0,0,null,null,0,0,0,0]
[135,{"$f":"'INVENT.Inst&Agen Importés -10'!B141","v":0},{"$f":"'INVENT.Inst&Agen Importés -10'!F141","v":0},{"$f":"'INVENT.Inst&Agen Importés -10'!C141","v":0},{"$f":"'INVENT.Inst&Agen Importés -10'!H141","v":0},null,0,0,0,0,0,0,null,null,0,0,0,0]
[136,{"$f":"'INVENT.Inst&Agen Importés -10'!B142","v":0},{"$f":"'INVENT.Inst&Agen Importés -10'!F142","v":0},{"$f":"'INVENT.Inst&Agen Importés -10'!C142","v":0},{"$f":"'INVENT.Inst&Agen Importés -10'!H142","v":0},null,0,0,0,0,0,0,null,null,0,0,0,0]
[137,{"$f":"'INVENT.Inst&Agen Importés -10'!B143","v":0},{"$f":"'INVENT.Inst&Agen Importés -10'!F143","v":0},{"$f":"'INVENT.Inst&Agen Importés -10'!C143","v":0},{"$f":"'INVENT.Inst&Agen Importés -10'!H143","v":0},null,0,0,0,0,0,0,null,null,0,0,0,0]
[138,{"$f":"'INVENT.Inst&Agen Importés -10'!B144","v":0},{"$f":"'INVENT.Inst&Agen Importés -10'!F144","v":0},{"$f":"'INVENT.Inst&Agen Importés -10'!C144","v":0},{"$f":"'INVENT.Inst&Agen Importés -10'!H144","v":0},null,0,0,0,0,0,0,null,null,0,0,0,0]
[139,{"$f":"'INVENT.Inst&Agen Importés -10'!B145","v":0},{"$f":"'INVENT.Inst&Agen Importés -10'!F145","v":0},{"$f":"'INVENT.Inst&Agen Importés -10'!C145","v":0},{"$f":"'INVENT.Inst&Agen Importés -10'!H145","v":0},null,0,0,0,0,0,0,null,null,0,0,0,0]
[140,{"$f":"'INVENT.Inst&Agen Importés -10'!B146","v":0},{"$f":"'INVENT.Inst&Agen Importés -10'!F146","v":0},{"$f":"'INVENT.Inst&Agen Importés -10'!C146","v":0},{"$f":"'INVENT.Inst&Agen Importés -10'!H146","v":0},null,0,0,0,0,0,0,null,null,0,0,0,0]
[141,{"$f":"'INVENT.Inst&Agen Importés -10'!B147","v":0},{"$f":"'INVENT.Inst&Agen Importés -10'!F147","v":0},{"$f":"'INVENT.Inst&Agen Importés -10'!C147","v":0},{"$f":"'INVENT.Inst&Agen Importés -10'!H147","v":0},null,0,0,0,0,0,0,null,null,0,0,0,0]
[142,{"$f":"'INVENT.Inst&Agen Importés -10'!B148","v":0},{"$f":"'INVENT.Inst&Agen Importés -10'!F148","v":0},{"$f":"'INVENT.Inst&Agen Importés -10'!C148","v":0},{"$f":"'INVENT.Inst&Agen Importés -10'!H148","v":0},null,0,0,0,0,0,0,null,null,0,0,0,0]
[143,{"$f":"'INVENT.Inst&Agen Importés -10'!B149","v":0},{"$f":"'INVENT.Inst&Agen Importés -10'!F149","v":0},{"$f":"'INVENT.Inst&Agen Importés -10'!C149","v":0},{"$f":"'INVENT.Inst&Agen Importés -10'!H149","v":0},null,0,0,0,0,0,0,null,null,0,0,0,0]
[144,{"$f":"'INVENT.Inst&Agen Importés -10'!B150","v":0},{"$f":"'INVENT.Inst&Agen Importés -10'!F150","v":0},{"$f":"'INVENT.Inst&Agen Importés -10'!C150","v":0},{"$f":"'INVENT.Inst&Agen Importés -10'!H150","v":0},null,0,0,0,0,0,0,null,null,0,0,0,0]
[145,{"$f":"'INVENT.Inst&Agen Importés -10'!B151","v":0},{"$f":"'INVENT.Inst&Agen Importés -10'!F151","v":0},{"$f":"'INVENT.Inst&Agen Importés -10'!C151","v":0},{"$f":"'INVENT.Inst&Agen Importés -10'!H151","v":0},null,0,0,0,0,0,0,null,null,0,0,0,0]
[146,{"$f":"'INVENT.Inst&Agen Importés -10'!B152","v":0},{"$f":"'INVENT.Inst&Agen Importés -10'!F152","v":0},{"$f":"'INVENT.Inst&Agen Importés -10'!C152","v":0},{"$f":"'INVENT.Inst&Agen Importés -10'!H152","v":0},null,0,0,0,0,0,0,null,null,0,0,0,0]
[147,{"$f":"'INVENT.Inst&Agen Importés -10'!B153","v":0},{"$f":"'INVENT.Inst&Agen Importés -10'!F153","v":0},{"$f":"'INVENT.Inst&Agen Importés -10'!C153","v":0},{"$f":"'INVENT.Inst&Agen Importés -10'!H153","v":0},null,0,0,0,0,0,0,null,null,0,0,0,0]
[148,{"$f":"'INVENT.Inst&Agen Importés -10'!B154","v":0},{"$f":"'INVENT.Inst&Agen Importés -10'!F154","v":0},{"$f":"'INVENT.Inst&Agen Importés -10'!C154","v":0},{"$f":"'INVENT.Inst&Agen Importés -10'!H154","v":0},null,0,0,0,0,0,0,null,null,0,0,0,0]
[149,{"$f":"'INVENT.Inst&Agen Importés -10'!B155","v":0},{"$f":"'INVENT.Inst&Agen Importés -10'!F155","v":0},{"$f":"'INVENT.Inst&Agen Importés -10'!C155","v":0},{"$f":"'INVENT.Inst&Agen Importés -10'!H155","v":0},null,0,0,0,0,0,0,null,null,0,0,0,0]
[150,{"$f":"'INVENT.Inst&Agen Importés -10'!B156","v":0},{"$f":"'INVENT.Inst&Agen Importés -10'!F156","v":0},{"$f":"'INVENT.Inst&Agen Importés -10'!C156","v":0},{"$f":"'INVENT.Inst&Agen Importés -10'!H156","v":0},null,0,0,0,0,0,0,null,null,0,0,0,0]
[151,{"$f":"'INVENT.Inst&Agen Importés -10'!B157","v":0},{"$f":"'INVENT.Inst&Agen Importés -10'!F157","v":0},{"$f":"'INVENT.Inst&Agen Importés -10'!C157","v":0},{"$f":"'INVENT.Inst&Agen Importés -10'!H157","v":0},null,0,0,0,0,0,0,null,null,0,0,0,0]
[152,{"$f":"'INVENT.Inst&Agen Importés -10'!B158","v":0},{"$f":"'INVENT.Inst&Agen Importés -10'!F158","v":0},{"$f":"'INVENT.Inst&Agen Importés -10'!C158","v":0},{"$f":"'INVENT.Inst&Agen Importés -10'!H158","v":0},null,0,0,0,0,0,0,null,null,0,0,0,0]
[153,{"$f":"'INVENT.Inst&Agen Importés -10'!B159","v":0},{"$f":"'INVENT.Inst&Agen Importés -10'!F159","v":0},{"$f":"'INVENT.Inst&Agen Importés -10'!C159","v":0},{"$f":"'INVENT.Inst&Agen Importés -10'!H159","v":0},null,0,0,0,0,0,0,null,null,0,0,0,0]
[154,{"$f":"'INVENT.Inst&Agen Importés -10'!B160","v":0},{"$f":"'INVENT.Inst&Agen Importés -10'!F160","v":0},{"$f":"'INVENT.Inst&Agen Importés -10'!C160","v":0},{"$f":"'INVENT.Inst&Agen Importés -10'!H160","v":0},null,0,0,0,0,0,0,null,null,0,0,0,0]
[155,{"$f":"'INVENT.Inst&Agen Importés -10'!B161","v":0},{"$f":"'INVENT.Inst&Agen Importés -10'!F161","v":0},{"$f":"'INVENT.Inst&Agen Importés -10'!C161","v":0},{"$f":"'INVENT.Inst&Agen Importés -10'!H161","v":0},null,0,0,0,0,0,0,null,null,0,0,0,0]
[156,{"$f":"'INVENT.Inst&Agen Importés -10'!B162","v":0},{"$f":"'INVENT.Inst&Agen Importés -10'!F162","v":0},{"$f":"'INVENT.Inst&Agen Importés -10'!C162","v":0},{"$f":"'INVENT.Inst&Agen Importés -10'!H162","v":0},null,0,0,0,0,0,0,null,null,0,0,0,0]
[157,{"$f":"'INVENT.Inst&Agen Importés -10'!B163","v":0},{"$f":"'INVENT.Inst&Agen Importés -10'!F163","v":0},{"$f":"'INVENT.Inst&Agen Importés -10'!C163","v":0},{"$f":"'INVENT.Inst&Agen Importés -10'!H163","v":0},null,0,0,0,0,0,0,null,null,0,0,0,0]
[158,{"$f":"'INVENT.Inst&Agen Importés -10'!B164","v":0},{"$f":"'INVENT.Inst&Agen Importés -10'!F164","v":0},{"$f":"'INVENT.Inst&Agen Importés -10'!C164","v":0},{"$f":"'INVENT.Inst&Agen Importés -10'!H164","v":0},null,0,0,0,0,0,0,null,null,0,0,0,0]
[159,{"$f":"'INVENT.Inst&Agen Importés -10'!B165","v":0},{"$f":"'INVENT.Inst&Agen Importés -10'!F165","v":0},{"$f":"'INVENT.Inst&Agen Importés -10'!C165","v":0},{"$f":"'INVENT.Inst&Agen Importés -10'!H165","v":0},null,0,0,0,0,0,0,null,null,0,0,0,0]
[160,{"$f":"'INVENT.Inst&Agen Importés -10'!B166","v":0},{"$f":"'INVENT.Inst&Agen Importés -10'!F166","v":0},{"$f":"'INVENT.Inst&Agen Importés -10'!C166","v":0},{"$f":"'INVENT.Inst&Agen Importés -10'!H166","v":0},null,0,0,0,0,0,0,null,null,0,0,0,0]
[161,{"$f":"'INVENT.Inst&Agen Importés -10'!B167","v":0},{"$f":"'INVENT.Inst&Agen Importés -10'!F167","v":0},{"$f":"'INVENT.Inst&Agen Importés -10'!C167","v":0},{"$f":"'INVENT.Inst&Agen Importés -10'!H167","v":0},null,0,0,0,0,0,0,null,null,0,0,0,0]
[162,{"$f":"'INVENT.Inst&Agen Importés -10'!B168","v":0},{"$f":"'INVENT.Inst&Agen Importés -10'!F168","v":0},{"$f":"'INVENT.Inst&Agen Importés -10'!C168","v":0},{"$f":"'INVENT.Inst&Agen Importés -10'!H168","v":0},null,0,0,0,0,0,0,null,null,0,0,0,0]
[163,{"$f":"'INVENT.Inst&Agen Importés -10'!B169","v":0},{"$f":"'INVENT.Inst&Agen Importés -10'!F169","v":0},{"$f":"'INVENT.Inst&Agen Importés -10'!C169","v":0},{"$f":"'INVENT.Inst&Agen Importés -10'!H169","v":0},null,0,0,0,0,0,0,null,null,0,0,0,0]
[164,{"$f":"'INVENT.Inst&Agen Importés -10'!B170","v":0},{"$f":"'INVENT.Inst&Agen Importés -10'!F170","v":0},{"$f":"'INVENT.Inst&Agen Importés -10'!C170","v":0},{"$f":"'INVENT.Inst&Agen Importés -10'!H170","v":0},null,0,0,0,0,0,0,null,null,0,0,0,0]
[{"$f":"+A171+1","v":165},{"$f":"'INVENT.Inst&Agen Importés -10'!B171","v":0},{"$f":"'INVENT.Inst&Agen Importés -10'!F171","v":0},{"$f":"'INVENT.Inst&Agen Importés -10'!C171","v":0},{"$f":"'INVENT.Inst&Agen Importés -10'!H171","v":0},null,0,0,0,0,0,0,null,null,0,0,0,0]
[166,{"$f":"'INVENT.Inst&Agen Importés -10'!B172","v":0},{"$f":"'INVENT.Inst&Agen Importés -10'!F172","v":0},{"$f":"'INVENT.Inst&Agen Importés -10'!C172","v":0},{"$f":"'INVENT.Inst&Agen Importés -10'!H172","v":0},null,0,0,0,0,0,0,null,null,0,0,0,0]
[167,{"$f":"'INVENT.Inst&Agen Importés -10'!B173","v":0},{"$f":"'INVENT.Inst&Agen Importés -10'!F173","v":0},{"$f":"'INVENT.Inst&Agen Importés -10'!C173","v":0},{"$f":"'INVENT.Inst&Agen Importés -10'!H173","v":0},null,0,0,0,0,0,0,null,null,0,0,0,0]
[168,{"$f":"'INVENT.Inst&Agen Importés -10'!B174","v":0},{"$f":"'INVENT.Inst&Agen Importés -10'!F174","v":0},{"$f":"'INVENT.Inst&Agen Importés -10'!C174","v":0},{"$f":"'INVENT.Inst&Agen Importés -10'!H174","v":0},null,0,0,0,0,0,0,null,null,0,0,0,0]
[169,{"$f":"'INVENT.Inst&Agen Importés -10'!B175","v":0},{"$f":"'INVENT.Inst&Agen Importés -10'!F175","v":0},{"$f":"'INVENT.Inst&Agen Importés -10'!C175","v":0},{"$f":"'INVENT.Inst&Agen Importés -10'!H175","v":0},null,0,0,0,0,0,0,null,null,0,0,0,0]
[170,{"$f":"'INVENT.Inst&Agen Importés -10'!B176","v":0},{"$f":"'INVENT.Inst&Agen Importés -10'!F176","v":0},{"$f":"'INVENT.Inst&Agen Importés -10'!C176","v":0},{"$f":"'INVENT.Inst&Agen Importés -10'!H176","v":0},null,0,0,0,0,0,0,null,null,0,0,0,0]
[171,{"$f":"'INVENT.Inst&Agen Importés -10'!B177","v":0},{"$f":"'INVENT.Inst&Agen Importés -10'!F177","v":0},{"$f":"'INVENT.Inst&Agen Importés -10'!C177","v":0},{"$f":"'INVENT.Inst&Agen Importés -10'!H177","v":0},null,0,0,0,0,0,0,null,null,0,0,0,0]
[172,{"$f":"'INVENT.Inst&Agen Importés -10'!B178","v":0},{"$f":"'INVENT.Inst&Agen Importés -10'!F178","v":0},{"$f":"'INVENT.Inst&Agen Importés -10'!C178","v":0},{"$f":"'INVENT.Inst&Agen Importés -10'!H178","v":0},null,0,0,0,0,0,0,null,null,0,0,0,0]
[173,{"$f":"'INVENT.Inst&Agen Importés -10'!B179","v":0},{"$f":"'INVENT.Inst&Agen Importés -10'!F179","v":0},{"$f":"'INVENT.Inst&Agen Importés -10'!C179","v":0},{"$f":"'INVENT.Inst&Agen Importés -10'!H179","v":0},null,0,0,0,0,0,0,null,null,0,0,0,0]
[174,{"$f":"'INVENT.Inst&Agen Importés -10'!B180","v":0},{"$f":"'INVENT.Inst&Agen Importés -10'!F180","v":0},{"$f":"'INVENT.Inst&Agen Importés -10'!C180","v":0},{"$f":"'INVENT.Inst&Agen Importés -10'!H180","v":0},null,0,0,0,0,0,0,null,null,0,0,0,0]
[175,{"$f":"'INVENT.Inst&Agen Importés -10'!B181","v":0},{"$f":"'INVENT.Inst&Agen Importés -10'!F181","v":0},{"$f":"'INVENT.Inst&Agen Importés -10'!C181","v":0},{"$f":"'INVENT.Inst&Agen Importés -10'!H181","v":0},null,0,0,0,0,0,0,null,null,0,0,0,0]
[176,{"$f":"'INVENT.Inst&Agen Importés -10'!B182","v":0},{"$f":"'INVENT.Inst&Agen Importés -10'!F182","v":0},{"$f":"'INVENT.Inst&Agen Importés -10'!C182","v":0},{"$f":"'INVENT.Inst&Agen Importés -10'!H182","v":0},null,{"$f":"F183*E183","v":0},0,0,0,{"$f":"(E183+G183+H183)*18%","v":0},{"$f":"SUM(G183:K183)+E183","v":0},null,null,{"$f":"(M183+N183)*18%","v":0},{"$f":"O183+N183+M183","v":0},{"$f":"+R183-O183-K183","v":0},{"$f":"P183+L183","v":0}]
[177,{"$f":"'INVENT.Inst&Agen Importés -10'!B183","v":0},{"$f":"'INVENT.Inst&Agen Importés -10'!F183","v":0},{"$f":"'INVENT.Inst&Agen Importés -10'!C183","v":0},{"$f":"'INVENT.Inst&Agen Importés -10'!H183","v":0},null,0,0,0,0,0,0,null,null,0,0,0,0]
[178,{"$f":"'INVENT.Inst&Agen Importés -10'!B184","v":0},{"$f":"'INVENT.Inst&Agen Importés -10'!F184","v":0},{"$f":"'INVENT.Inst&Agen Importés -10'!C184","v":0},{"$f":"'INVENT.Inst&Agen Importés -10'!H184","v":0},null,0,0,0,0,0,0,null,null,0,0,0,0]
[179,{"$f":"'INVENT.Inst&Agen Importés -10'!B185","v":0},{"$f":"'INVENT.Inst&Agen Importés -10'!F185","v":0},{"$f":"'INVENT.Inst&Agen Importés -10'!C185","v":0},{"$f":"'INVENT.Inst&Agen Importés -10'!H185","v":0},null,0,0,0,0,0,0,null,null,0,0,0,0]
[180,{"$f":"'INVENT.Inst&Agen Importés -10'!B186","v":0},{"$f":"'INVENT.Inst&Agen Importés -10'!F186","v":0},{"$f":"'INVENT.Inst&Agen Importés -10'!C186","v":0},{"$f":"'INVENT.Inst&Agen Importés -10'!H186","v":0},null,0,0,0,0,0,0,null,null,0,0,0,0]
[181,{"$f":"'INVENT.Inst&Agen Importés -10'!B187","v":0},{"$f":"'INVENT.Inst&Agen Importés -10'!F187","v":0},{"$f":"'INVENT.Inst&Agen Importés -10'!C187","v":0},{"$f":"'INVENT.Inst&Agen Importés -10'!H187","v":0},null,0,0,0,0,0,0,null,null,0,0,0,0]
[182,{"$f":"'INVENT.Inst&Agen Importés -10'!B188","v":0},{"$f":"'INVENT.Inst&Agen Importés -10'!F188","v":0},{"$f":"'INVENT.Inst&Agen Importés -10'!C188","v":0},{"$f":"'INVENT.Inst&Agen Importés -10'!H188","v":0},null,0,0,0,0,0,0,null,null,0,0,0,0]
[183,{"$f":"'INVENT.Inst&Agen Importés -10'!B189","v":0},{"$f":"'INVENT.Inst&Agen Importés -10'!F189","v":0},{"$f":"'INVENT.Inst&Agen Importés -10'!C189","v":0},{"$f":"'INVENT.Inst&Agen Importés -10'!H189","v":0},null,0,0,0,0,0,0,null,null,0,0,0,0]
[184,{"$f":"'INVENT.Inst&Agen Importés -10'!B190","v":0},{"$f":"'INVENT.Inst&Agen Importés -10'!F190","v":0},{"$f":"'INVENT.Inst&Agen Importés -10'!C190","v":0},{"$f":"'INVENT.Inst&Agen Importés -10'!H190","v":0},null,0,0,0,0,0,0,null,null,0,0,0,0]
[185,{"$f":"'INVENT.Inst&Agen Importés -10'!B191","v":0},{"$f":"'INVENT.Inst&Agen Importés -10'!F191","v":0},{"$f":"'INVENT.Inst&Agen Importés -10'!C191","v":0},{"$f":"'INVENT.Inst&Agen Importés -10'!H191","v":0},null,0,0,0,0,0,0,null,null,0,0,0,0]
[186,{"$f":"'INVENT.Inst&Agen Importés -10'!B192","v":0},{"$f":"'INVENT.Inst&Agen Importés -10'!F192","v":0},{"$f":"'INVENT.Inst&Agen Importés -10'!C192","v":0},{"$f":"'INVENT.Inst&Agen Importés -10'!H192","v":0},null,0,0,0,0,0,0,null,null,0,0,0,0]
[187,{"$f":"'INVENT.Inst&Agen Importés -10'!B193","v":0},{"$f":"'INVENT.Inst&Agen Importés -10'!F193","v":0},{"$f":"'INVENT.Inst&Agen Importés -10'!C193","v":0},{"$f":"'INVENT.Inst&Agen Importés -10'!H193","v":0},null,0,0,0,0,0,0,null,null,0,0,0,0]
[188,{"$f":"'INVENT.Inst&Agen Importés -10'!B194","v":0},{"$f":"'INVENT.Inst&Agen Importés -10'!F194","v":0},{"$f":"'INVENT.Inst&Agen Importés -10'!C194","v":0},{"$f":"'INVENT.Inst&Agen Importés -10'!H194","v":0},null,0,0,0,0,0,0,null,null,0,0,0,0]
[189,{"$f":"'INVENT.Inst&Agen Importés -10'!B195","v":0},{"$f":"'INVENT.Inst&Agen Importés -10'!F195","v":0},{"$f":"'INVENT.Inst&Agen Importés -10'!C195","v":0},{"$f":"'INVENT.Inst&Agen Importés -10'!H195","v":0},null,0,0,0,0,0,0,null,null,0,0,0,0]
[190,{"$f":"'INVENT.Inst&Agen Importés -10'!B196","v":0},{"$f":"'INVENT.Inst&Agen Importés -10'!F196","v":0},{"$f":"'INVENT.Inst&Agen Importés -10'!C196","v":0},{"$f":"'INVENT.Inst&Agen Importés -10'!H196","v":0},null,0,0,0,0,0,0,null,null,0,0,0,0]
[191,{"$f":"'INVENT.Inst&Agen Importés -10'!B197","v":0},{"$f":"'INVENT.Inst&Agen Importés -10'!F197","v":0},{"$f":"'INVENT.Inst&Agen Importés -10'!C197","v":0},{"$f":"'INVENT.Inst&Agen Importés -10'!H197","v":0},null,0,0,0,0,0,0,null,null,0,0,0,0]
[192,{"$f":"'INVENT.Inst&Agen Importés -10'!B198","v":0},{"$f":"'INVENT.Inst&Agen Importés -10'!F198","v":0},{"$f":"'INVENT.Inst&Agen Importés -10'!C198","v":0},{"$f":"'INVENT.Inst&Agen Importés -10'!H198","v":0},null,0,0,0,0,0,0,null,null,0,0,0,0]
[193,{"$f":"'INVENT.Inst&Agen Importés -10'!B199","v":0},{"$f":"'INVENT.Inst&Agen Importés -10'!F199","v":0},{"$f":"'INVENT.Inst&Agen Importés -10'!C199","v":0},{"$f":"'INVENT.Inst&Agen Importés -10'!H199","v":0},null,0,0,0,0,0,0,null,null,0,0,0,0]
[194,{"$f":"'INVENT.Inst&Agen Importés -10'!B200","v":0},{"$f":"'INVENT.Inst&Agen Importés -10'!F200","v":0},{"$f":"'INVENT.Inst&Agen Importés -10'!C200","v":0},{"$f":"'INVENT.Inst&Agen Importés -10'!H200","v":0},null,0,{"$f":"E201*1%","v":0},{"$f":"E201*1%","v":0},{"$f":"E201*0.5%","v":0},0,0,null,null,0,0,0,0]
[195,{"$f":"'INVENT.Inst&Agen Importés -10'!B201","v":0},{"$f":"'INVENT.Inst&Agen Importés -10'!F201","v":0},{"$f":"'INVENT.Inst&Agen Importés -10'!C201","v":0},{"$f":"'INVENT.Inst&Agen Importés -10'!H201","v":0},null,0,0,0,0,0,0,null,null,0,0,0,0]
[196,{"$f":"'INVENT.Inst&Agen Importés -10'!B202","v":0},{"$f":"'INVENT.Inst&Agen Importés -10'!F202","v":0},{"$f":"'INVENT.Inst&Agen Importés -10'!C202","v":0},{"$f":"'INVENT.Inst&Agen Importés -10'!H202","v":0},null,0,0,0,0,0,0,null,null,0,0,0,0]
[197,{"$f":"'INVENT.Inst&Agen Importés -10'!B203","v":0},{"$f":"'INVENT.Inst&Agen Importés -10'!F203","v":0},{"$f":"'INVENT.Inst&Agen Importés -10'!C203","v":0},{"$f":"'INVENT.Inst&Agen Importés -10'!H203","v":0},null,0,0,0,0,0,0,null,null,0,0,0,0]
[198,{"$f":"'INVENT.Inst&Agen Importés -10'!B204","v":0},{"$f":"'INVENT.Inst&Agen Importés -10'!F204","v":0},{"$f":"'INVENT.Inst&Agen Importés -10'!C204","v":0},{"$f":"'INVENT.Inst&Agen Importés -10'!H204","v":0},null,0,0,0,0,0,0,null,null,0,0,0,0]
[199,{"$f":"'INVENT.Inst&Agen Importés -10'!B205","v":0},{"$f":"'INVENT.Inst&Agen Importés -10'!F205","v":0},{"$f":"'INVENT.Inst&Agen Importés -10'!C205","v":0},{"$f":"'INVENT.Inst&Agen Importés -10'!H205","v":0},null,0,0,0,0,0,0,null,null,0,0,0,0]
[200,{"$f":"'INVENT.Inst&Agen Importés -10'!B206","v":0},{"$f":"'INVENT.Inst&Agen Importés -10'!F206","v":0},{"$f":"'INVENT.Inst&Agen Importés -10'!C206","v":0},{"$f":"'INVENT.Inst&Agen Importés -10'!H206","v":0},null,0,0,0,0,0,{"$f":"SUM(G207:K207)+E207","v":0},null,null,0,0,0,{"$f":"P207+L207","v":0}]
[201,{"$f":"'INVENT.Inst&Agen Importés -10'!B207","v":0},{"$f":"'INVENT.Inst&Agen Importés -10'!F207","v":0},{"$f":"'INVENT.Inst&Agen Importés -10'!C207","v":0},{"$f":"'INVENT.Inst&Agen Importés -10'!H207","v":0},null,0,0,0,0,0,{"$f":"SUM(G208:K208)+E208","v":0},null,null,0,0,0,{"$f":"P208+L208","v":0}]
[202,{"$f":"'INVENT.Inst&Agen Importés -10'!B208","v":0},{"$f":"'INVENT.Inst&Agen Importés -10'!F208","v":0},{"$f":"'INVENT.Inst&Agen Importés -10'!C208","v":0},{"$f":"'INVENT.Inst&Agen Importés -10'!H208","v":0},null,0,0,0,0,0,0,null,null,0,0,0,0]
[203,{"$f":"'INVENT.Inst&Agen Importés -10'!B209","v":0},{"$f":"'INVENT.Inst&Agen Importés -10'!F209","v":0},{"$f":"'INVENT.Inst&Agen Importés -10'!C209","v":0},{"$f":"'INVENT.Inst&Agen Importés -10'!H209","v":0},null,0,0,0,0,0,0,null,null,0,0,0,0]
[204,{"$f":"'INVENT.Inst&Agen Importés -10'!B210","v":0},{"$f":"'INVENT.Inst&Agen Importés -10'!F210","v":0},{"$f":"'INVENT.Inst&Agen Importés -10'!C210","v":0},{"$f":"'INVENT.Inst&Agen Importés -10'!H210","v":0},null,0,0,0,0,0,0,null,null,0,0,0,0]
[205,{"$f":"'INVENT.Inst&Agen Importés -10'!B211","v":0},{"$f":"'INVENT.Inst&Agen Importés -10'!F211","v":0},{"$f":"'INVENT.Inst&Agen Importés -10'!C211","v":0},{"$f":"'INVENT.Inst&Agen Importés -10'!H211","v":0},null,0,0,0,0,0,0,null,null,0,0,0,0]
[206,{"$f":"'INVENT.Inst&Agen Importés -10'!B212","v":0},{"$f":"'INVENT.Inst&Agen Importés -10'!F212","v":0},{"$f":"'INVENT.Inst&Agen Importés -10'!C212","v":0},{"$f":"'INVENT.Inst&Agen Importés -10'!H212","v":0},null,0,0,0,0,0,0,null,null,0,0,0,0]
[207,{"$f":"'INVENT.Inst&Agen Importés -10'!B213","v":0},{"$f":"'INVENT.Inst&Agen Importés -10'!F213","v":0},{"$f":"'INVENT.Inst&Agen Importés -10'!C213","v":0},{"$f":"'INVENT.Inst&Agen Importés -10'!H213","v":0},null,0,0,0,0,0,0,null,null,0,0,0,0]
[208,{"$f":"'INVENT.Inst&Agen Importés -10'!B214","v":0},{"$f":"'INVENT.Inst&Agen Importés -10'!F214","v":0},{"$f":"'INVENT.Inst&Agen Importés -10'!C214","v":0},{"$f":"'INVENT.Inst&Agen Importés -10'!H214","v":0},null,0,0,0,0,0,0,null,null,0,0,0,0]
[209,{"$f":"'INVENT.Inst&Agen Importés -10'!B215","v":0},{"$f":"'INVENT.Inst&Agen Importés -10'!F215","v":0},{"$f":"'INVENT.Inst&Agen Importés -10'!C215","v":0},{"$f":"'INVENT.Inst&Agen Importés -10'!H215","v":0},null,0,0,0,0,0,0,null,null,0,0,0,0]
[210,{"$f":"'INVENT.Inst&Agen Importés -10'!B216","v":0},{"$f":"'INVENT.Inst&Agen Importés -10'!F216","v":0},{"$f":"'INVENT.Inst&Agen Importés -10'!C216","v":0},{"$f":"'INVENT.Inst&Agen Importés -10'!H216","v":0},null,0,0,0,0,0,0,null,null,0,0,0,0]
[211,{"$f":"'INVENT.Inst&Agen Importés -10'!B217","v":0},{"$f":"'INVENT.Inst&Agen Importés -10'!F217","v":0},{"$f":"'INVENT.Inst&Agen Importés -10'!C217","v":0},{"$f":"'INVENT.Inst&Agen Importés -10'!H217","v":0},null,0,0,0,0,0,0,null,null,0,0,0,0]
[212,{"$f":"'INVENT.Inst&Agen Importés -10'!B218","v":0},{"$f":"'INVENT.Inst&Agen Importés -10'!F218","v":0},{"$f":"'INVENT.Inst&Agen Importés -10'!C218","v":0},{"$f":"'INVENT.Inst&Agen Importés -10'!H218","v":0},null,0,0,0,0,0,0,null,null,0,0,0,0]
[213,{"$f":"'INVENT.Inst&Agen Importés -10'!B219","v":0},{"$f":"'INVENT.Inst&Agen Importés -10'!F219","v":0},{"$f":"'INVENT.Inst&Agen Importés -10'!C219","v":0},{"$f":"'INVENT.Inst&Agen Importés -10'!H219","v":0},null,0,0,0,0,0,0,null,null,0,0,0,0]
[214,{"$f":"'INVENT.Inst&Agen Importés -10'!B220","v":0},{"$f":"'INVENT.Inst&Agen Importés -10'!F220","v":0},{"$f":"'INVENT.Inst&Agen Importés -10'!C220","v":0},{"$f":"'INVENT.Inst&Agen Importés -10'!H220","v":0},null,0,0,0,0,0,0,null,null,0,0,0,0]
[215,{"$f":"'INVENT.Inst&Agen Importés -10'!B221","v":0},{"$f":"'INVENT.Inst&Agen Importés -10'!F221","v":0},{"$f":"'INVENT.Inst&Agen Importés -10'!C221","v":0},{"$f":"'INVENT.Inst&Agen Importés -10'!H221","v":0},null,0,0,0,0,0,0,null,null,0,0,0,0]
[216,{"$f":"'INVENT.Inst&Agen Importés -10'!B222","v":0},{"$f":"'INVENT.Inst&Agen Importés -10'!F222","v":0},{"$f":"'INVENT.Inst&Agen Importés -10'!C222","v":0},{"$f":"'INVENT.Inst&Agen Importés -10'!H222","v":0},null,0,0,0,0,0,0,null,null,0,0,0,0]
[217,{"$f":"'INVENT.Inst&Agen Importés -10'!B223","v":0},{"$f":"'INVENT.Inst&Agen Importés -10'!F223","v":0},{"$f":"'INVENT.Inst&Agen Importés -10'!C223","v":0},{"$f":"'INVENT.Inst&Agen Importés -10'!H223","v":0},null,0,0,0,0,0,0,null,null,0,0,0,0]
[218,{"$f":"'INVENT.Inst&Agen Importés -10'!B224","v":0},{"$f":"'INVENT.Inst&Agen Importés -10'!F224","v":0},{"$f":"'INVENT.Inst&Agen Importés -10'!C224","v":0},{"$f":"'INVENT.Inst&Agen Importés -10'!H224","v":0},null,0,0,0,0,0,0,null,null,0,0,0,0]
[219,{"$f":"'INVENT.Inst&Agen Importés -10'!B225","v":0},{"$f":"'INVENT.Inst&Agen Importés -10'!F225","v":0},{"$f":"'INVENT.Inst&Agen Importés -10'!C225","v":0},{"$f":"'INVENT.Inst&Agen Importés -10'!H225","v":0},null,0,0,0,0,0,0,null,null,0,0,0,0]
[220,{"$f":"'INVENT.Inst&Agen Importés -10'!B226","v":0},{"$f":"'INVENT.Inst&Agen Importés -10'!F226","v":0},{"$f":"'INVENT.Inst&Agen Importés -10'!C226","v":0},{"$f":"'INVENT.Inst&Agen Importés -10'!H226","v":0},null,0,0,0,0,0,0,null,null,0,0,0,0]
[221,{"$f":"'INVENT.Inst&Agen Importés -10'!B227","v":0},{"$f":"'INVENT.Inst&Agen Importés -10'!F227","v":0},{"$f":"'INVENT.Inst&Agen Importés -10'!C227","v":0},{"$f":"'INVENT.Inst&Agen Importés -10'!H227","v":0},null,0,0,0,0,0,0,null,null,0,0,0,0]
[222,{"$f":"'INVENT.Inst&Agen Importés -10'!B228","v":0},{"$f":"'INVENT.Inst&Agen Importés -10'!F228","v":0},{"$f":"'INVENT.Inst&Agen Importés -10'!C228","v":0},{"$f":"'INVENT.Inst&Agen Importés -10'!H228","v":0},null,0,0,0,0,0,0,null,null,0,0,0,0]
[223,{"$f":"'INVENT.Inst&Agen Importés -10'!B229","v":0},{"$f":"'INVENT.Inst&Agen Importés -10'!F229","v":0},{"$f":"'INVENT.Inst&Agen Importés -10'!C229","v":0},{"$f":"'INVENT.Inst&Agen Importés -10'!H229","v":0},null,0,0,0,0,0,0,null,null,0,0,0,0]
[224,{"$f":"'INVENT.Inst&Agen Importés -10'!B230","v":0},{"$f":"'INVENT.Inst&Agen Importés -10'!F230","v":0},{"$f":"'INVENT.Inst&Agen Importés -10'!C230","v":0},{"$f":"'INVENT.Inst&Agen Importés -10'!H230","v":0},null,0,0,0,0,0,0,null,null,0,0,0,0]
[225,{"$f":"'INVENT.Inst&Agen Importés -10'!B231","v":0},{"$f":"'INVENT.Inst&Agen Importés -10'!F231","v":0},{"$f":"'INVENT.Inst&Agen Importés -10'!C231","v":0},{"$f":"'INVENT.Inst&Agen Importés -10'!H231","v":0},null,0,0,0,0,0,0,null,null,0,0,0,0]
[226,{"$f":"'INVENT.Inst&Agen Importés -10'!B232","v":0},{"$f":"'INVENT.Inst&Agen Importés -10'!F232","v":0},{"$f":"'INVENT.Inst&Agen Importés -10'!C232","v":0},{"$f":"'INVENT.Inst&Agen Importés -10'!H232","v":0},null,0,0,0,0,0,0,null,null,0,0,0,0]
[227,{"$f":"'INVENT.Inst&Agen Importés -10'!B233","v":0},{"$f":"'INVENT.Inst&Agen Importés -10'!F233","v":0},{"$f":"'INVENT.Inst&Agen Importés -10'!C233","v":0},{"$f":"'INVENT.Inst&Agen Importés -10'!H233","v":0},null,0,0,0,0,0,0,null,null,0,0,0,0]
[228,{"$f":"'INVENT.Inst&Agen Importés -10'!B234","v":0},{"$f":"'INVENT.Inst&Agen Importés -10'!F234","v":0},{"$f":"'INVENT.Inst&Agen Importés -10'!C234","v":0},{"$f":"'INVENT.Inst&Agen Importés -10'!H234","v":0},null,0,0,0,0,0,0,null,null,0,0,0,0]
[{"$f":"+A235+1","v":229},{"$f":"'INVENT.Inst&Agen Importés -10'!B235","v":0},{"$f":"'INVENT.Inst&Agen Importés -10'!F235","v":0},{"$f":"'INVENT.Inst&Agen Importés -10'!C235","v":0},{"$f":"'INVENT.Inst&Agen Importés -10'!H235","v":0},null,0,0,0,0,0,0,null,null,0,0,0,0]
[230,{"$f":"'INVENT.Inst&Agen Importés -10'!B236","v":0},{"$f":"'INVENT.Inst&Agen Importés -10'!F236","v":0},{"$f":"'INVENT.Inst&Agen Importés -10'!C236","v":0},{"$f":"'INVENT.Inst&Agen Importés -10'!H236","v":0},null,0,0,0,0,0,0,null,null,0,0,0,0]
[231,{"$f":"'INVENT.Inst&Agen Importés -10'!B237","v":0},{"$f":"'INVENT.Inst&Agen Importés -10'!F237","v":0},{"$f":"'INVENT.Inst&Agen Importés -10'!C237","v":0},{"$f":"'INVENT.Inst&Agen Importés -10'!H237","v":0},null,0,0,0,0,0,0,null,null,0,0,0,0]
[232,{"$f":"'INVENT.Inst&Agen Importés -10'!B238","v":0},{"$f":"'INVENT.Inst&Agen Importés -10'!F238","v":0},{"$f":"'INVENT.Inst&Agen Importés -10'!C238","v":0},{"$f":"'INVENT.Inst&Agen Importés -10'!H238","v":0},null,0,0,0,0,0,0,null,null,0,0,0,0]
[233,{"$f":"'INVENT.Inst&Agen Importés -10'!B239","v":0},{"$f":"'INVENT.Inst&Agen Importés -10'!F239","v":0},{"$f":"'INVENT.Inst&Agen Importés -10'!C239","v":0},{"$f":"'INVENT.Inst&Agen Importés -10'!H239","v":0},null,0,0,0,0,0,0,null,null,0,0,0,0]
[234,{"$f":"'INVENT.Inst&Agen Importés -10'!B240","v":0},{"$f":"'INVENT.Inst&Agen Importés -10'!F240","v":0},{"$f":"'INVENT.Inst&Agen Importés -10'!C240","v":0},{"$f":"'INVENT.Inst&Agen Importés -10'!H240","v":0},null,0,0,0,0,0,0,null,null,0,0,0,0]
[235,{"$f":"'INVENT.Inst&Agen Importés -10'!B241","v":0},{"$f":"'INVENT.Inst&Agen Importés -10'!F241","v":0},{"$f":"'INVENT.Inst&Agen Importés -10'!C241","v":0},{"$f":"'INVENT.Inst&Agen Importés -10'!H241","v":0},null,0,0,0,0,0,0,null,null,0,0,0,0]
[236,{"$f":"'INVENT.Inst&Agen Importés -10'!B242","v":0},{"$f":"'INVENT.Inst&Agen Importés -10'!F242","v":0},{"$f":"'INVENT.Inst&Agen Importés -10'!C242","v":0},{"$f":"'INVENT.Inst&Agen Importés -10'!H242","v":0},null,0,0,0,0,0,0,null,null,0,0,0,0]
[237,{"$f":"'INVENT.Inst&Agen Importés -10'!B243","v":0},{"$f":"'INVENT.Inst&Agen Importés -10'!F243","v":0},{"$f":"'INVENT.Inst&Agen Importés -10'!C243","v":0},{"$f":"'INVENT.Inst&Agen Importés -10'!H243","v":0},null,0,0,0,0,0,0,null,null,0,0,0,0]
[238,{"$f":"'INVENT.Inst&Agen Importés -10'!B244","v":0},{"$f":"'INVENT.Inst&Agen Importés -10'!F244","v":0},{"$f":"'INVENT.Inst&Agen Importés -10'!C244","v":0},{"$f":"'INVENT.Inst&Agen Importés -10'!H244","v":0},null,0,0,0,0,0,0,null,null,0,0,0,0]
[239,{"$f":"'INVENT.Inst&Agen Importés -10'!B245","v":0},{"$f":"'INVENT.Inst&Agen Importés -10'!F245","v":0},{"$f":"'INVENT.Inst&Agen Importés -10'!C245","v":0},{"$f":"'INVENT.Inst&Agen Importés -10'!H245","v":0},null,0,0,0,0,0,0,null,null,0,0,0,0]
[240,{"$f":"'INVENT.Inst&Agen Importés -10'!B246","v":0},{"$f":"'INVENT.Inst&Agen Importés -10'!F246","v":0},{"$f":"'INVENT.Inst&Agen Importés -10'!C246","v":0},{"$f":"'INVENT.Inst&Agen Importés -10'!H246","v":0},null,{"$f":"F247*E247","v":0},0,0,0,{"$f":"(E247+G247+H247)*18%","v":0},0,null,null,{"$f":"(M247+N247)*18%","v":0},{"$f":"O247+N247+M247","v":0},{"$f":"+R247-O247-K247","v":0},{"$f":"P247+L247","v":0}]
[241,{"$f":"'INVENT.Inst&Agen Importés -10'!B247","v":0},{"$f":"'INVENT.Inst&Agen Importés -10'!F247","v":0},{"$f":"'INVENT.Inst&Agen Importés -10'!C247","v":0},{"$f":"'INVENT.Inst&Agen Importés -10'!H247","v":0},null,0,0,0,0,0,0,null,null,0,0,0,0]
[242,{"$f":"'INVENT.Inst&Agen Importés -10'!B248","v":0},{"$f":"'INVENT.Inst&Agen Importés -10'!F248","v":0},{"$f":"'INVENT.Inst&Agen Importés -10'!C248","v":0},{"$f":"'INVENT.Inst&Agen Importés -10'!H248","v":0},null,0,0,0,0,0,0,null,null,0,0,0,0]
[243,{"$f":"'INVENT.Inst&Agen Importés -10'!B249","v":0},{"$f":"'INVENT.Inst&Agen Importés -10'!F249","v":0},{"$f":"'INVENT.Inst&Agen Importés -10'!C249","v":0},{"$f":"'INVENT.Inst&Agen Importés -10'!H249","v":0},null,0,0,0,0,0,0,null,null,0,0,0,0]
[244,{"$f":"'INVENT.Inst&Agen Importés -10'!B250","v":0},{"$f":"'INVENT.Inst&Agen Importés -10'!F250","v":0},{"$f":"'INVENT.Inst&Agen Importés -10'!C250","v":0},{"$f":"'INVENT.Inst&Agen Importés -10'!H250","v":0},null,0,0,0,0,0,0,null,null,0,0,0,0]
[245,{"$f":"'INVENT.Inst&Agen Importés -10'!B251","v":0},{"$f":"'INVENT.Inst&Agen Importés -10'!F251","v":0},{"$f":"'INVENT.Inst&Agen Importés -10'!C251","v":0},{"$f":"'INVENT.Inst&Agen Importés -10'!H251","v":0},null,0,0,0,0,0,0,null,null,0,0,0,0]
[246,{"$f":"'INVENT.Inst&Agen Importés -10'!B252","v":0},{"$f":"'INVENT.Inst&Agen Importés -10'!F252","v":0},{"$f":"'INVENT.Inst&Agen Importés -10'!C252","v":0},{"$f":"'INVENT.Inst&Agen Importés -10'!H252","v":0},null,0,0,0,0,0,0,null,null,0,0,0,0]
[247,{"$f":"'INVENT.Inst&Agen Importés -10'!B253","v":0},{"$f":"'INVENT.Inst&Agen Importés -10'!F253","v":0},{"$f":"'INVENT.Inst&Agen Importés -10'!C253","v":0},{"$f":"'INVENT.Inst&Agen Importés -10'!H253","v":0},null,0,0,0,0,0,0,null,null,0,0,0,0]
[248,{"$f":"'INVENT.Inst&Agen Importés -10'!B254","v":0},{"$f":"'INVENT.Inst&Agen Importés -10'!F254","v":0},{"$f":"'INVENT.Inst&Agen Importés -10'!C254","v":0},{"$f":"'INVENT.Inst&Agen Importés -10'!H254","v":0},null,0,0,0,0,0,0,null,null,0,0,0,0]
[249,{"$f":"'INVENT.Inst&Agen Importés -10'!B255","v":0},{"$f":"'INVENT.Inst&Agen Importés -10'!F255","v":0},{"$f":"'INVENT.Inst&Agen Importés -10'!C255","v":0},{"$f":"'INVENT.Inst&Agen Importés -10'!H255","v":0},null,0,0,0,0,0,0,null,null,0,0,0,0]
[250,{"$f":"'INVENT.Inst&Agen Importés -10'!B256","v":0},{"$f":"'INVENT.Inst&Agen Importés -10'!F256","v":0},{"$f":"'INVENT.Inst&Agen Importés -10'!C256","v":0},{"$f":"'INVENT.Inst&Agen Importés -10'!H256","v":0},null,0,0,0,0,0,0,null,null,0,0,0,0]
[251,{"$f":"'INVENT.Inst&Agen Importés -10'!B257","v":0},{"$f":"'INVENT.Inst&Agen Importés -10'!F257","v":0},{"$f":"'INVENT.Inst&Agen Importés -10'!C257","v":0},{"$f":"'INVENT.Inst&Agen Importés -10'!H257","v":0},null,0,0,0,0,0,0,null,null,0,0,0,0]
[252,{"$f":"'INVENT.Inst&Agen Importés -10'!B258","v":0},{"$f":"'INVENT.Inst&Agen Importés -10'!F258","v":0},{"$f":"'INVENT.Inst&Agen Importés -10'!C258","v":0},{"$f":"'INVENT.Inst&Agen Importés -10'!H258","v":0},null,0,0,0,0,0,0,null,null,0,0,0,0]
[253,{"$f":"'INVENT.Inst&Agen Importés -10'!B259","v":0},{"$f":"'INVENT.Inst&Agen Importés -10'!F259","v":0},{"$f":"'INVENT.Inst&Agen Importés -10'!C259","v":0},{"$f":"'INVENT.Inst&Agen Importés -10'!H259","v":0},null,0,0,0,0,0,0,null,null,0,0,0,0]
[254,{"$f":"'INVENT.Inst&Agen Importés -10'!B260","v":0},{"$f":"'INVENT.Inst&Agen Importés -10'!F260","v":0},{"$f":"'INVENT.Inst&Agen Importés -10'!C260","v":0},{"$f":"'INVENT.Inst&Agen Importés -10'!H260","v":0},null,0,0,0,0,0,0,null,null,0,0,0,0]
[255,{"$f":"'INVENT.Inst&Agen Importés -10'!B261","v":0},{"$f":"'INVENT.Inst&Agen Importés -10'!F261","v":0},{"$f":"'INVENT.Inst&Agen Importés -10'!C261","v":0},{"$f":"'INVENT.Inst&Agen Importés -10'!H261","v":0},null,0,0,0,0,0,0,null,null,0,0,0,0]
[256,{"$f":"'INVENT.Inst&Agen Importés -10'!B262","v":0},{"$f":"'INVENT.Inst&Agen Importés -10'!F262","v":0},{"$f":"'INVENT.Inst&Agen Importés -10'!C262","v":0},{"$f":"'INVENT.Inst&Agen Importés -10'!H262","v":0},null,0,0,0,0,0,0,null,null,0,0,0,0]
[257,{"$f":"'INVENT.Inst&Agen Importés -10'!B263","v":0},{"$f":"'INVENT.Inst&Agen Importés -10'!F263","v":0},{"$f":"'INVENT.Inst&Agen Importés -10'!C263","v":0},{"$f":"'INVENT.Inst&Agen Importés -10'!H263","v":0},null,0,0,0,0,0,0,null,null,0,0,0,0]
[258,{"$f":"'INVENT.Inst&Agen Importés -10'!B264","v":0},{"$f":"'INVENT.Inst&Agen Importés -10'!F264","v":0},{"$f":"'INVENT.Inst&Agen Importés -10'!C264","v":0},{"$f":"'INVENT.Inst&Agen Importés -10'!H264","v":0},null,0,{"$f":"E265*1%","v":0},{"$f":"E265*1%","v":0},{"$f":"E265*0.5%","v":0},0,0,null,null,0,0,0,0]
[259,{"$f":"'INVENT.Inst&Agen Importés -10'!B265","v":0},{"$f":"'INVENT.Inst&Agen Importés -10'!F265","v":0},{"$f":"'INVENT.Inst&Agen Importés -10'!C265","v":0},{"$f":"'INVENT.Inst&Agen Importés -10'!H265","v":0},null,0,0,0,0,0,0,null,null,0,0,0,0]
[260,{"$f":"'INVENT.Inst&Agen Importés -10'!B266","v":0},{"$f":"'INVENT.Inst&Agen Importés -10'!F266","v":0},{"$f":"'INVENT.Inst&Agen Importés -10'!C266","v":0},{"$f":"'INVENT.Inst&Agen Importés -10'!H266","v":0},null,0,0,0,0,0,0,null,null,0,0,0,0]
[261,{"$f":"'INVENT.Inst&Agen Importés -10'!B267","v":0},{"$f":"'INVENT.Inst&Agen Importés -10'!F267","v":0},{"$f":"'INVENT.Inst&Agen Importés -10'!C267","v":0},{"$f":"'INVENT.Inst&Agen Importés -10'!H267","v":0},null,0,0,0,0,0,0,null,null,0,0,0,0]
[262,{"$f":"'INVENT.Inst&Agen Importés -10'!B268","v":0},{"$f":"'INVENT.Inst&Agen Importés -10'!F268","v":0},{"$f":"'INVENT.Inst&Agen Importés -10'!C268","v":0},{"$f":"'INVENT.Inst&Agen Importés -10'!H268","v":0},null,0,0,0,0,0,0,null,null,0,0,0,0]
[263,{"$f":"'INVENT.Inst&Agen Importés -10'!B269","v":0},{"$f":"'INVENT.Inst&Agen Importés -10'!F269","v":0},{"$f":"'INVENT.Inst&Agen Importés -10'!C269","v":0},{"$f":"'INVENT.Inst&Agen Importés -10'!H269","v":0},null,0,0,0,0,0,0,null,null,0,0,0,0]
[264,{"$f":"'INVENT.Inst&Agen Importés -10'!B270","v":0},{"$f":"'INVENT.Inst&Agen Importés -10'!F270","v":0},{"$f":"'INVENT.Inst&Agen Importés -10'!C270","v":0},{"$f":"'INVENT.Inst&Agen Importés -10'!H270","v":0},null,0,0,0,0,0,0,null,null,0,0,0,0]
[265,{"$f":"'INVENT.Inst&Agen Importés -10'!B271","v":0},{"$f":"'INVENT.Inst&Agen Importés -10'!F271","v":0},{"$f":"'INVENT.Inst&Agen Importés -10'!C271","v":0},{"$f":"'INVENT.Inst&Agen Importés -10'!H271","v":0},null,0,0,0,0,0,{"$f":"SUM(G272:K272)+E272","v":0},null,null,0,0,0,0]
[266,{"$f":"'INVENT.Inst&Agen Importés -10'!B272","v":0},{"$f":"'INVENT.Inst&Agen Importés -10'!F272","v":0},{"$f":"'INVENT.Inst&Agen Importés -10'!C272","v":0},{"$f":"'INVENT.Inst&Agen Importés -10'!H272","v":0},null,0,0,0,0,0,0,null,null,0,0,0,0]
[267,{"$f":"'INVENT.Inst&Agen Importés -10'!B273","v":0},{"$f":"'INVENT.Inst&Agen Importés -10'!F273","v":0},{"$f":"'INVENT.Inst&Agen Importés -10'!C273","v":0},{"$f":"'INVENT.Inst&Agen Importés -10'!H273","v":0},null,0,0,0,0,0,0,null,null,0,0,0,0]
[268,{"$f":"'INVENT.Inst&Agen Importés -10'!B274","v":0},{"$f":"'INVENT.Inst&Agen Importés -10'!F274","v":0},{"$f":"'INVENT.Inst&Agen Importés -10'!C274","v":0},{"$f":"'INVENT.Inst&Agen Importés -10'!H274","v":0},null,0,0,0,0,0,0,null,null,0,0,0,0]
[269,{"$f":"'INVENT.Inst&Agen Importés -10'!B275","v":0},{"$f":"'INVENT.Inst&Agen Importés -10'!F275","v":0},{"$f":"'INVENT.Inst&Agen Importés -10'!C275","v":0},{"$f":"'INVENT.Inst&Agen Importés -10'!H275","v":0},null,0,0,0,0,0,0,null,null,0,0,0,0]
[270,{"$f":"'INVENT.Inst&Agen Importés -10'!B276","v":0},{"$f":"'INVENT.Inst&Agen Importés -10'!F276","v":0},{"$f":"'INVENT.Inst&Agen Importés -10'!C276","v":0},{"$f":"'INVENT.Inst&Agen Importés -10'!H276","v":0},null,0,0,0,0,0,0,null,null,0,0,0,0]
[271,{"$f":"'INVENT.Inst&Agen Importés -10'!B277","v":0},{"$f":"'INVENT.Inst&Agen Importés -10'!F277","v":0},{"$f":"'INVENT.Inst&Agen Importés -10'!C277","v":0},{"$f":"'INVENT.Inst&Agen Importés -10'!H277","v":0},null,0,0,0,0,0,0,null,null,0,0,0,0]
[272,{"$f":"'INVENT.Inst&Agen Importés -10'!B278","v":0},{"$f":"'INVENT.Inst&Agen Importés -10'!F278","v":0},{"$f":"'INVENT.Inst&Agen Importés -10'!C278","v":0},{"$f":"'INVENT.Inst&Agen Importés -10'!H278","v":0},null,0,0,0,0,0,0,null,null,0,0,0,0]
[273,{"$f":"'INVENT.Inst&Agen Importés -10'!B279","v":0},{"$f":"'INVENT.Inst&Agen Importés -10'!F279","v":0},{"$f":"'INVENT.Inst&Agen Importés -10'!C279","v":0},{"$f":"'INVENT.Inst&Agen Importés -10'!H279","v":0},null,0,0,0,0,0,0,null,null,0,0,0,0]
[274,{"$f":"'INVENT.Inst&Agen Importés -10'!B280","v":0},{"$f":"'INVENT.Inst&Agen Importés -10'!F280","v":0},{"$f":"'INVENT.Inst&Agen Importés -10'!C280","v":0},{"$f":"'INVENT.Inst&Agen Importés -10'!H280","v":0},null,0,0,0,0,0,0,null,null,0,0,0,0]
[275,{"$f":"'INVENT.Inst&Agen Importés -10'!B281","v":0},{"$f":"'INVENT.Inst&Agen Importés -10'!F281","v":0},{"$f":"'INVENT.Inst&Agen Importés -10'!C281","v":0},{"$f":"'INVENT.Inst&Agen Importés -10'!H281","v":0},null,0,0,0,0,0,0,null,null,0,0,0,0]
[276,{"$f":"'INVENT.Inst&Agen Importés -10'!B282","v":0},{"$f":"'INVENT.Inst&Agen Importés -10'!F282","v":0},{"$f":"'INVENT.Inst&Agen Importés -10'!C282","v":0},{"$f":"'INVENT.Inst&Agen Importés -10'!H282","v":0},null,0,0,0,0,0,0,null,null,0,0,0,0]
[277,{"$f":"'INVENT.Inst&Agen Importés -10'!B283","v":0},{"$f":"'INVENT.Inst&Agen Importés -10'!F283","v":0},{"$f":"'INVENT.Inst&Agen Importés -10'!C283","v":0},{"$f":"'INVENT.Inst&Agen Importés -10'!H283","v":0},null,0,0,0,0,0,0,null,null,0,0,0,0]
[278,{"$f":"'INVENT.Inst&Agen Importés -10'!B284","v":0},{"$f":"'INVENT.Inst&Agen Importés -10'!F284","v":0},{"$f":"'INVENT.Inst&Agen Importés -10'!C284","v":0},{"$f":"'INVENT.Inst&Agen Importés -10'!H284","v":0},null,0,0,0,0,0,0,null,null,0,0,0,0]
[279,{"$f":"'INVENT.Inst&Agen Importés -10'!B285","v":0},{"$f":"'INVENT.Inst&Agen Importés -10'!F285","v":0},{"$f":"'INVENT.Inst&Agen Importés -10'!C285","v":0},{"$f":"'INVENT.Inst&Agen Importés -10'!H285","v":0},null,0,0,0,0,0,0,null,null,0,0,0,0]
[280,{"$f":"'INVENT.Inst&Agen Importés -10'!B286","v":0},{"$f":"'INVENT.Inst&Agen Importés -10'!F286","v":0},{"$f":"'INVENT.Inst&Agen Importés -10'!C286","v":0},{"$f":"'INVENT.Inst&Agen Importés -10'!H286","v":0},null,0,0,0,0,0,0,null,null,0,0,0,0]
[281,{"$f":"'INVENT.Inst&Agen Importés -10'!B287","v":0},{"$f":"'INVENT.Inst&Agen Importés -10'!F287","v":0},{"$f":"'INVENT.Inst&Agen Importés -10'!C287","v":0},{"$f":"'INVENT.Inst&Agen Importés -10'!H287","v":0},null,0,0,0,0,0,0,null,null,0,0,0,0]
[282,{"$f":"'INVENT.Inst&Agen Importés -10'!B288","v":0},{"$f":"'INVENT.Inst&Agen Importés -10'!F288","v":0},{"$f":"'INVENT.Inst&Agen Importés -10'!C288","v":0},{"$f":"'INVENT.Inst&Agen Importés -10'!H288","v":0},null,0,0,0,0,0,0,null,null,0,0,0,0]
[283,{"$f":"'INVENT.Inst&Agen Importés -10'!B289","v":0},{"$f":"'INVENT.Inst&Agen Importés -10'!F289","v":0},{"$f":"'INVENT.Inst&Agen Importés -10'!C289","v":0},{"$f":"'INVENT.Inst&Agen Importés -10'!H289","v":0},null,0,0,0,0,0,0,null,null,0,0,0,0]
[284,{"$f":"'INVENT.Inst&Agen Importés -10'!B290","v":0},{"$f":"'INVENT.Inst&Agen Importés -10'!F290","v":0},{"$f":"'INVENT.Inst&Agen Importés -10'!C290","v":0},{"$f":"'INVENT.Inst&Agen Importés -10'!H290","v":0},null,0,0,0,0,0,0,null,null,0,0,0,0]
[285,{"$f":"'INVENT.Inst&Agen Importés -10'!B291","v":0},{"$f":"'INVENT.Inst&Agen Importés -10'!F291","v":0},{"$f":"'INVENT.Inst&Agen Importés -10'!C291","v":0},{"$f":"'INVENT.Inst&Agen Importés -10'!H291","v":0},null,0,0,0,0,0,0,null,null,0,0,0,0]
[286,{"$f":"'INVENT.Inst&Agen Importés -10'!B292","v":0},{"$f":"'INVENT.Inst&Agen Importés -10'!F292","v":0},{"$f":"'INVENT.Inst&Agen Importés -10'!C292","v":0},{"$f":"'INVENT.Inst&Agen Importés -10'!H292","v":0},null,0,0,0,0,0,0,null,null,0,0,0,0]
[287,{"$f":"'INVENT.Inst&Agen Importés -10'!B293","v":0},{"$f":"'INVENT.Inst&Agen Importés -10'!F293","v":0},{"$f":"'INVENT.Inst&Agen Importés -10'!C293","v":0},{"$f":"'INVENT.Inst&Agen Importés -10'!H293","v":0},null,0,0,0,0,0,0,null,null,0,0,0,0]
[288,{"$f":"'INVENT.Inst&Agen Importés -10'!B294","v":0},{"$f":"'INVENT.Inst&Agen Importés -10'!F294","v":0},{"$f":"'INVENT.Inst&Agen Importés -10'!C294","v":0},{"$f":"'INVENT.Inst&Agen Importés -10'!H294","v":0},null,0,0,0,0,0,0,null,null,0,0,0,0]
[289,{"$f":"'INVENT.Inst&Agen Importés -10'!B295","v":0},{"$f":"'INVENT.Inst&Agen Importés -10'!F295","v":0},{"$f":"'INVENT.Inst&Agen Importés -10'!C295","v":0},{"$f":"'INVENT.Inst&Agen Importés -10'!H295","v":0},null,0,0,0,0,0,0,null,null,0,0,0,0]
[290,{"$f":"'INVENT.Inst&Agen Importés -10'!B296","v":0},{"$f":"'INVENT.Inst&Agen Importés -10'!F296","v":0},{"$f":"'INVENT.Inst&Agen Importés -10'!C296","v":0},{"$f":"'INVENT.Inst&Agen Importés -10'!H296","v":0},null,0,0,0,0,0,0,null,null,0,0,0,0]
[291,{"$f":"'INVENT.Inst&Agen Importés -10'!B297","v":0},{"$f":"'INVENT.Inst&Agen Importés -10'!F297","v":0},{"$f":"'INVENT.Inst&Agen Importés -10'!C297","v":0},{"$f":"'INVENT.Inst&Agen Importés -10'!H297","v":0},null,0,0,0,0,0,0,null,null,0,0,0,0]
[292,{"$f":"'INVENT.Inst&Agen Importés -10'!B298","v":0},{"$f":"'INVENT.Inst&Agen Importés -10'!F298","v":0},{"$f":"'INVENT.Inst&Agen Importés -10'!C298","v":0},{"$f":"'INVENT.Inst&Agen Importés -10'!H298","v":0},null,0,0,0,0,0,0,null,null,0,0,0,0]
[{"$f":"+A299+1","v":293},{"$f":"'INVENT.Inst&Agen Importés -10'!B299","v":0},{"$f":"'INVENT.Inst&Agen Importés -10'!F299","v":0},{"$f":"'INVENT.Inst&Agen Importés -10'!C299","v":0},{"$f":"'INVENT.Inst&Agen Importés -10'!H299","v":0},null,0,0,0,0,0,0,null,null,0,0,0,0]
[294,{"$f":"'INVENT.Inst&Agen Importés -10'!B300","v":0},{"$f":"'INVENT.Inst&Agen Importés -10'!F300","v":0},{"$f":"'INVENT.Inst&Agen Importés -10'!C300","v":0},{"$f":"'INVENT.Inst&Agen Importés -10'!H300","v":0},null,0,0,0,0,0,0,null,null,0,0,0,0]
[295,{"$f":"'INVENT.Inst&Agen Importés -10'!B301","v":0},{"$f":"'INVENT.Inst&Agen Importés -10'!F301","v":0},{"$f":"'INVENT.Inst&Agen Importés -10'!C301","v":0},{"$f":"'INVENT.Inst&Agen Importés -10'!H301","v":0},null,0,0,0,0,0,0,null,null,0,0,0,0]
[296,{"$f":"'INVENT.Inst&Agen Importés -10'!B302","v":0},{"$f":"'INVENT.Inst&Agen Importés -10'!F302","v":0},{"$f":"'INVENT.Inst&Agen Importés -10'!C302","v":0},{"$f":"'INVENT.Inst&Agen Importés -10'!H302","v":0},null,0,0,0,0,0,0,null,null,0,0,0,0]
[297,{"$f":"'INVENT.Inst&Agen Importés -10'!B303","v":0},{"$f":"'INVENT.Inst&Agen Importés -10'!F303","v":0},{"$f":"'INVENT.Inst&Agen Importés -10'!C303","v":0},{"$f":"'INVENT.Inst&Agen Importés -10'!H303","v":0},null,0,0,0,0,0,0,null,null,0,0,0,0]
[298,{"$f":"'INVENT.Inst&Agen Importés -10'!B304","v":0},{"$f":"'INVENT.Inst&Agen Importés -10'!F304","v":0},{"$f":"'INVENT.Inst&Agen Importés -10'!C304","v":0},{"$f":"'INVENT.Inst&Agen Importés -10'!H304","v":0},null,0,0,0,0,0,0,null,null,0,0,0,0]
[299,{"$f":"'INVENT.Inst&Agen Importés -10'!B305","v":0},{"$f":"'INVENT.Inst&Agen Importés -10'!F305","v":0},{"$f":"'INVENT.Inst&Agen Importés -10'!C305","v":0},{"$f":"'INVENT.Inst&Agen Importés -10'!H305","v":0},null,0,0,0,0,0,0,null,null,0,0,0,0]
[300,{"$f":"'INVENT.Inst&Agen Importés -10'!B306","v":0},{"$f":"'INVENT.Inst&Agen Importés -10'!F306","v":0},{"$f":"'INVENT.Inst&Agen Importés -10'!C306","v":0},{"$f":"'INVENT.Inst&Agen Importés -10'!H306","v":0},null,0,0,0,0,0,0,null,null,0,0,0,0]
[301,{"$f":"'INVENT.Inst&Agen Importés -10'!B307","v":0},{"$f":"'INVENT.Inst&Agen Importés -10'!F307","v":0},{"$f":"'INVENT.Inst&Agen Importés -10'!C307","v":0},{"$f":"'INVENT.Inst&Agen Importés -10'!H307","v":0},null,0,0,0,0,0,0,null,null,0,0,0,0]
[302,{"$f":"'INVENT.Inst&Agen Importés -10'!B308","v":0},{"$f":"'INVENT.Inst&Agen Importés -10'!F308","v":0},{"$f":"'INVENT.Inst&Agen Importés -10'!C308","v":0},{"$f":"'INVENT.Inst&Agen Importés -10'!H308","v":0},null,0,0,0,0,0,0,null,null,0,0,0,0]
[303,{"$f":"'INVENT.Inst&Agen Importés -10'!B309","v":0},{"$f":"'INVENT.Inst&Agen Importés -10'!F309","v":0},{"$f":"'INVENT.Inst&Agen Importés -10'!C309","v":0},{"$f":"'INVENT.Inst&Agen Importés -10'!H309","v":0},null,0,0,0,0,0,0,null,null,0,0,0,0]
[304,{"$f":"'INVENT.Inst&Agen Importés -10'!B310","v":0},{"$f":"'INVENT.Inst&Agen Importés -10'!F310","v":0},{"$f":"'INVENT.Inst&Agen Importés -10'!C310","v":0},{"$f":"'INVENT.Inst&Agen Importés -10'!H310","v":0},null,{"$f":"F311*E311","v":0},0,0,0,{"$f":"(E311+G311+H311)*18%","v":0},0,null,null,{"$f":"(M311+N311)*18%","v":0},{"$f":"O311+N311+M311","v":0},{"$f":"+R311-O311-K311","v":0},{"$f":"P311+L311","v":0}]
[305,{"$f":"'INVENT.Inst&Agen Importés -10'!B311","v":0},{"$f":"'INVENT.Inst&Agen Importés -10'!F311","v":0},{"$f":"'INVENT.Inst&Agen Importés -10'!C311","v":0},{"$f":"'INVENT.Inst&Agen Importés -10'!H311","v":0},null,0,0,0,0,0,0,null,null,0,0,0,0]
[306,{"$f":"'INVENT.Inst&Agen Importés -10'!B312","v":0},{"$f":"'INVENT.Inst&Agen Importés -10'!F312","v":0},{"$f":"'INVENT.Inst&Agen Importés -10'!C312","v":0},{"$f":"'INVENT.Inst&Agen Importés -10'!H312","v":0},null,0,0,0,0,0,0,null,null,0,0,0,0]
[307,{"$f":"'INVENT.Inst&Agen Importés -10'!B313","v":0},{"$f":"'INVENT.Inst&Agen Importés -10'!F313","v":0},{"$f":"'INVENT.Inst&Agen Importés -10'!C313","v":0},{"$f":"'INVENT.Inst&Agen Importés -10'!H313","v":0},null,0,0,0,0,0,0,null,null,0,0,0,0]
[308,{"$f":"'INVENT.Inst&Agen Importés -10'!B314","v":0},{"$f":"'INVENT.Inst&Agen Importés -10'!F314","v":0},{"$f":"'INVENT.Inst&Agen Importés -10'!C314","v":0},{"$f":"'INVENT.Inst&Agen Importés -10'!H314","v":0},null,0,0,0,0,0,0,null,null,0,0,0,0]
[309,{"$f":"'INVENT.Inst&Agen Importés -10'!B315","v":0},{"$f":"'INVENT.Inst&Agen Importés -10'!F315","v":0},{"$f":"'INVENT.Inst&Agen Importés -10'!C315","v":0},{"$f":"'INVENT.Inst&Agen Importés -10'!H315","v":0},null,0,0,0,0,0,0,null,null,0,0,0,0]
[310,{"$f":"'INVENT.Inst&Agen Importés -10'!B316","v":0},{"$f":"'INVENT.Inst&Agen Importés -10'!F316","v":0},{"$f":"'INVENT.Inst&Agen Importés -10'!C316","v":0},{"$f":"'INVENT.Inst&Agen Importés -10'!H316","v":0},null,0,0,0,0,0,0,null,null,0,0,0,0]
[311,{"$f":"'INVENT.Inst&Agen Importés -10'!B317","v":0},{"$f":"'INVENT.Inst&Agen Importés -10'!F317","v":0},{"$f":"'INVENT.Inst&Agen Importés -10'!C317","v":0},{"$f":"'INVENT.Inst&Agen Importés -10'!H317","v":0},null,0,0,0,0,0,0,null,null,0,0,0,0]
[312,{"$f":"'INVENT.Inst&Agen Importés -10'!B318","v":0},{"$f":"'INVENT.Inst&Agen Importés -10'!F318","v":0},{"$f":"'INVENT.Inst&Agen Importés -10'!C318","v":0},{"$f":"'INVENT.Inst&Agen Importés -10'!H318","v":0},null,0,0,0,0,0,0,null,null,0,0,0,0]
[313,{"$f":"'INVENT.Inst&Agen Importés -10'!B319","v":0},{"$f":"'INVENT.Inst&Agen Importés -10'!F319","v":0},{"$f":"'INVENT.Inst&Agen Importés -10'!C319","v":0},{"$f":"'INVENT.Inst&Agen Importés -10'!H319","v":0},null,0,0,0,0,0,0,null,null,0,0,0,0]
[314,{"$f":"'INVENT.Inst&Agen Importés -10'!B320","v":0},{"$f":"'INVENT.Inst&Agen Importés -10'!F320","v":0},{"$f":"'INVENT.Inst&Agen Importés -10'!C320","v":0},{"$f":"'INVENT.Inst&Agen Importés -10'!H320","v":0},null,0,0,0,0,0,0,null,null,0,0,0,0]
[315,{"$f":"'INVENT.Inst&Agen Importés -10'!B321","v":0},{"$f":"'INVENT.Inst&Agen Importés -10'!F321","v":0},{"$f":"'INVENT.Inst&Agen Importés -10'!C321","v":0},{"$f":"'INVENT.Inst&Agen Importés -10'!H321","v":0},null,0,0,0,0,0,0,null,null,0,0,0,0]
[316,{"$f":"'INVENT.Inst&Agen Importés -10'!B322","v":0},{"$f":"'INVENT.Inst&Agen Importés -10'!F322","v":0},{"$f":"'INVENT.Inst&Agen Importés -10'!C322","v":0},{"$f":"'INVENT.Inst&Agen Importés -10'!H322","v":0},null,0,0,0,0,0,0,null,null,0,0,0,0]
[317,{"$f":"'INVENT.Inst&Agen Importés -10'!B323","v":0},{"$f":"'INVENT.Inst&Agen Importés -10'!F323","v":0},{"$f":"'INVENT.Inst&Agen Importés -10'!C323","v":0},{"$f":"'INVENT.Inst&Agen Importés -10'!H323","v":0},null,0,0,0,0,0,0,null,null,0,0,0,0]
[318,{"$f":"'INVENT.Inst&Agen Importés -10'!B324","v":0},{"$f":"'INVENT.Inst&Agen Importés -10'!F324","v":0},{"$f":"'INVENT.Inst&Agen Importés -10'!C324","v":0},{"$f":"'INVENT.Inst&Agen Importés -10'!H324","v":0},null,0,0,0,0,0,0,null,null,0,0,0,0]
[319,{"$f":"'INVENT.Inst&Agen Importés -10'!B325","v":0},{"$f":"'INVENT.Inst&Agen Importés -10'!F325","v":0},{"$f":"'INVENT.Inst&Agen Importés -10'!C325","v":0},{"$f":"'INVENT.Inst&Agen Importés -10'!H325","v":0},null,0,0,0,0,0,0,null,null,0,0,0,0]
[320,{"$f":"'INVENT.Inst&Agen Importés -10'!B326","v":0},{"$f":"'INVENT.Inst&Agen Importés -10'!F326","v":0},{"$f":"'INVENT.Inst&Agen Importés -10'!C326","v":0},{"$f":"'INVENT.Inst&Agen Importés -10'!H326","v":0},null,0,0,0,0,0,0,null,null,0,0,0,0]
[321,{"$f":"'INVENT.Inst&Agen Importés -10'!B327","v":0},{"$f":"'INVENT.Inst&Agen Importés -10'!F327","v":0},{"$f":"'INVENT.Inst&Agen Importés -10'!C327","v":0},{"$f":"'INVENT.Inst&Agen Importés -10'!H327","v":0},null,0,0,0,0,0,0,null,null,0,0,0,0]
[322,{"$f":"'INVENT.Inst&Agen Importés -10'!B328","v":0},{"$f":"'INVENT.Inst&Agen Importés -10'!F328","v":0},{"$f":"'INVENT.Inst&Agen Importés -10'!C328","v":0},{"$f":"'INVENT.Inst&Agen Importés -10'!H328","v":0},null,0,{"$f":"E329*1%","v":0},{"$f":"E329*1%","v":0},{"$f":"E329*0.5%","v":0},0,0,null,null,0,0,0,0]
[323,{"$f":"'INVENT.Inst&Agen Importés -10'!B329","v":0},{"$f":"'INVENT.Inst&Agen Importés -10'!F329","v":0},{"$f":"'INVENT.Inst&Agen Importés -10'!C329","v":0},{"$f":"'INVENT.Inst&Agen Importés -10'!H329","v":0},null,0,0,0,0,0,0,null,null,0,0,0,0]
[324,{"$f":"'INVENT.Inst&Agen Importés -10'!B330","v":0},{"$f":"'INVENT.Inst&Agen Importés -10'!F330","v":0},{"$f":"'INVENT.Inst&Agen Importés -10'!C330","v":0},{"$f":"'INVENT.Inst&Agen Importés -10'!H330","v":0},null,0,0,0,0,0,0,null,null,0,0,0,0]
[325,{"$f":"'INVENT.Inst&Agen Importés -10'!B331","v":0},{"$f":"'INVENT.Inst&Agen Importés -10'!F331","v":0},{"$f":"'INVENT.Inst&Agen Importés -10'!C331","v":0},{"$f":"'INVENT.Inst&Agen Importés -10'!H331","v":0},null,0,0,0,0,0,0,null,null,0,0,0,0]
[326,{"$f":"'INVENT.Inst&Agen Importés -10'!B332","v":0},{"$f":"'INVENT.Inst&Agen Importés -10'!F332","v":0},{"$f":"'INVENT.Inst&Agen Importés -10'!C332","v":0},{"$f":"'INVENT.Inst&Agen Importés -10'!H332","v":0},null,0,0,0,0,0,0,null,null,0,0,0,0]
[327,{"$f":"'INVENT.Inst&Agen Importés -10'!B333","v":0},{"$f":"'INVENT.Inst&Agen Importés -10'!F333","v":0},{"$f":"'INVENT.Inst&Agen Importés -10'!C333","v":0},{"$f":"'INVENT.Inst&Agen Importés -10'!H333","v":0},null,0,0,0,0,0,0,null,null,0,0,0,0]
[328,{"$f":"'INVENT.Inst&Agen Importés -10'!B334","v":0},{"$f":"'INVENT.Inst&Agen Importés -10'!F334","v":0},{"$f":"'INVENT.Inst&Agen Importés -10'!C334","v":0},{"$f":"'INVENT.Inst&Agen Importés -10'!H334","v":0},null,0,0,0,0,0,0,null,null,0,0,0,0]
[329,{"$f":"'INVENT.Inst&Agen Importés -10'!B335","v":0},{"$f":"'INVENT.Inst&Agen Importés -10'!F335","v":0},{"$f":"'INVENT.Inst&Agen Importés -10'!C335","v":0},{"$f":"'INVENT.Inst&Agen Importés -10'!H335","v":0},null,0,0,0,0,0,{"$f":"SUM(G336:K336)+E336","v":0},null,null,0,0,0,0]
[330,{"$f":"'INVENT.Inst&Agen Importés -10'!B336","v":0},{"$f":"'INVENT.Inst&Agen Importés -10'!F336","v":0},{"$f":"'INVENT.Inst&Agen Importés -10'!C336","v":0},{"$f":"'INVENT.Inst&Agen Importés -10'!H336","v":0},null,0,0,0,0,0,0,null,null,0,0,0,0]
[331,{"$f":"'INVENT.Inst&Agen Importés -10'!B337","v":0},{"$f":"'INVENT.Inst&Agen Importés -10'!F337","v":0},{"$f":"'INVENT.Inst&Agen Importés -10'!C337","v":0},{"$f":"'INVENT.Inst&Agen Importés -10'!H337","v":0},null,0,0,0,0,0,0,null,null,0,0,0,0]
[332,{"$f":"'INVENT.Inst&Agen Importés -10'!B338","v":0},{"$f":"'INVENT.Inst&Agen Importés -10'!F338","v":0},{"$f":"'INVENT.Inst&Agen Importés -10'!C338","v":0},{"$f":"'INVENT.Inst&Agen Importés -10'!H338","v":0},null,0,0,0,0,0,0,null,null,0,0,0,0]
[333,{"$f":"'INVENT.Inst&Agen Importés -10'!B339","v":0},{"$f":"'INVENT.Inst&Agen Importés -10'!F339","v":0},{"$f":"'INVENT.Inst&Agen Importés -10'!C339","v":0},{"$f":"'INVENT.Inst&Agen Importés -10'!H339","v":0},null,0,0,0,0,0,0,null,null,0,0,0,0]
[334,{"$f":"'INVENT.Inst&Agen Importés -10'!B340","v":0},{"$f":"'INVENT.Inst&Agen Importés -10'!F340","v":0},{"$f":"'INVENT.Inst&Agen Importés -10'!C340","v":0},{"$f":"'INVENT.Inst&Agen Importés -10'!H340","v":0},null,0,0,0,0,0,0,null,null,0,0,0,0]
[335,{"$f":"'INVENT.Inst&Agen Importés -10'!B341","v":0},{"$f":"'INVENT.Inst&Agen Importés -10'!F341","v":0},{"$f":"'INVENT.Inst&Agen Importés -10'!C341","v":0},{"$f":"'INVENT.Inst&Agen Importés -10'!H341","v":0},null,0,0,0,0,0,0,null,null,0,0,0,0]
[336,{"$f":"'INVENT.Inst&Agen Importés -10'!B342","v":0},{"$f":"'INVENT.Inst&Agen Importés -10'!F342","v":0},{"$f":"'INVENT.Inst&Agen Importés -10'!C342","v":0},{"$f":"'INVENT.Inst&Agen Importés -10'!H342","v":0},null,0,0,0,0,0,0,null,null,0,0,0,0]
[337,{"$f":"'INVENT.Inst&Agen Importés -10'!B343","v":0},{"$f":"'INVENT.Inst&Agen Importés -10'!F343","v":0},{"$f":"'INVENT.Inst&Agen Importés -10'!C343","v":0},{"$f":"'INVENT.Inst&Agen Importés -10'!H343","v":0},null,0,0,0,0,0,0,null,null,0,0,0,0]
[338,{"$f":"'INVENT.Inst&Agen Importés -10'!B344","v":0},{"$f":"'INVENT.Inst&Agen Importés -10'!F344","v":0},{"$f":"'INVENT.Inst&Agen Importés -10'!C344","v":0},{"$f":"'INVENT.Inst&Agen Importés -10'!H344","v":0},null,0,0,0,0,0,0,null,null,0,0,0,0]
[339,{"$f":"'INVENT.Inst&Agen Importés -10'!B345","v":0},{"$f":"'INVENT.Inst&Agen Importés -10'!F345","v":0},{"$f":"'INVENT.Inst&Agen Importés -10'!C345","v":0},{"$f":"'INVENT.Inst&Agen Importés -10'!H345","v":0},null,0,0,0,0,0,0,null,null,0,0,0,0]
[340,{"$f":"'INVENT.Inst&Agen Importés -10'!B346","v":0},{"$f":"'INVENT.Inst&Agen Importés -10'!F346","v":0},{"$f":"'INVENT.Inst&Agen Importés -10'!C346","v":0},{"$f":"'INVENT.Inst&Agen Importés -10'!H346","v":0},null,0,0,0,0,0,0,null,null,0,0,0,0]
[341,{"$f":"'INVENT.Inst&Agen Importés -10'!B347","v":0},{"$f":"'INVENT.Inst&Agen Importés -10'!F347","v":0},{"$f":"'INVENT.Inst&Agen Importés -10'!C347","v":0},{"$f":"'INVENT.Inst&Agen Importés -10'!H347","v":0},null,0,0,0,0,0,0,null,null,0,0,0,0]
[342,{"$f":"'INVENT.Inst&Agen Importés -10'!B348","v":0},{"$f":"'INVENT.Inst&Agen Importés -10'!F348","v":0},{"$f":"'INVENT.Inst&Agen Importés -10'!C348","v":0},{"$f":"'INVENT.Inst&Agen Importés -10'!H348","v":0},null,0,0,0,0,0,0,null,null,0,0,0,0]
[343,{"$f":"'INVENT.Inst&Agen Importés -10'!B349","v":0},{"$f":"'INVENT.Inst&Agen Importés -10'!F349","v":0},{"$f":"'INVENT.Inst&Agen Importés -10'!C349","v":0},{"$f":"'INVENT.Inst&Agen Importés -10'!H349","v":0},null,0,0,0,0,0,0,null,null,0,0,0,0]
[344,{"$f":"'INVENT.Inst&Agen Importés -10'!B350","v":0},{"$f":"'INVENT.Inst&Agen Importés -10'!F350","v":0},{"$f":"'INVENT.Inst&Agen Importés -10'!C350","v":0},{"$f":"'INVENT.Inst&Agen Importés -10'!H350","v":0},null,0,0,0,0,0,0,null,null,0,0,0,0]
[345,{"$f":"'INVENT.Inst&Agen Importés -10'!B351","v":0},{"$f":"'INVENT.Inst&Agen Importés -10'!F351","v":0},{"$f":"'INVENT.Inst&Agen Importés -10'!C351","v":0},{"$f":"'INVENT.Inst&Agen Importés -10'!H351","v":0},null,0,0,0,0,0,0,null,null,0,0,0,0]
[346,{"$f":"'INVENT.Inst&Agen Importés -10'!B352","v":0},{"$f":"'INVENT.Inst&Agen Importés -10'!F352","v":0},{"$f":"'INVENT.Inst&Agen Importés -10'!C352","v":0},{"$f":"'INVENT.Inst&Agen Importés -10'!H352","v":0},null,0,0,0,0,0,0,null,null,0,0,0,0]
[347,{"$f":"'INVENT.Inst&Agen Importés -10'!B353","v":0},{"$f":"'INVENT.Inst&Agen Importés -10'!F353","v":0},{"$f":"'INVENT.Inst&Agen Importés -10'!C353","v":0},{"$f":"'INVENT.Inst&Agen Importés -10'!H353","v":0},null,0,0,0,0,0,0,null,null,0,0,0,0]
[348,{"$f":"'INVENT.Inst&Agen Importés -10'!B354","v":0},{"$f":"'INVENT.Inst&Agen Importés -10'!F354","v":0},{"$f":"'INVENT.Inst&Agen Importés -10'!C354","v":0},{"$f":"'INVENT.Inst&Agen Importés -10'!H354","v":0},null,0,0,0,0,0,0,null,null,0,0,0,0]
[349,{"$f":"'INVENT.Inst&Agen Importés -10'!B355","v":0},{"$f":"'INVENT.Inst&Agen Importés -10'!F355","v":0},{"$f":"'INVENT.Inst&Agen Importés -10'!C355","v":0},{"$f":"'INVENT.Inst&Agen Importés -10'!H355","v":0},null,0,0,0,0,0,0,null,null,0,0,0,0]
[350,{"$f":"'INVENT.Inst&Agen Importés -10'!B356","v":0},{"$f":"'INVENT.Inst&Agen Importés -10'!F356","v":0},{"$f":"'INVENT.Inst&Agen Importés -10'!C356","v":0},{"$f":"'INVENT.Inst&Agen Importés -10'!H356","v":0},null,0,0,0,0,0,0,null,null,0,0,0,0]
[351,{"$f":"'INVENT.Inst&Agen Importés -10'!B357","v":0},{"$f":"'INVENT.Inst&Agen Importés -10'!F357","v":0},{"$f":"'INVENT.Inst&Agen Importés -10'!C357","v":0},{"$f":"'INVENT.Inst&Agen Importés -10'!H357","v":0},null,0,0,0,0,0,0,null,null,0,0,0,0]
[352,{"$f":"'INVENT.Inst&Agen Importés -10'!B358","v":0},{"$f":"'INVENT.Inst&Agen Importés -10'!F358","v":0},{"$f":"'INVENT.Inst&Agen Importés -10'!C358","v":0},{"$f":"'INVENT.Inst&Agen Importés -10'!H358","v":0},null,0,0,0,0,0,0,null,null,0,0,0,0]
[353,{"$f":"'INVENT.Inst&Agen Importés -10'!B359","v":0},{"$f":"'INVENT.Inst&Agen Importés -10'!F359","v":0},{"$f":"'INVENT.Inst&Agen Importés -10'!C359","v":0},{"$f":"'INVENT.Inst&Agen Importés -10'!H359","v":0},null,0,0,0,0,0,0,null,null,0,0,0,0]
[354,{"$f":"'INVENT.Inst&Agen Importés -10'!B360","v":0},{"$f":"'INVENT.Inst&Agen Importés -10'!F360","v":0},{"$f":"'INVENT.Inst&Agen Importés -10'!C360","v":0},{"$f":"'INVENT.Inst&Agen Importés -10'!H360","v":0},null,0,0,0,0,0,0,null,null,0,0,0,0]
[355,{"$f":"'INVENT.Inst&Agen Importés -10'!B361","v":0},{"$f":"'INVENT.Inst&Agen Importés -10'!F361","v":0},{"$f":"'INVENT.Inst&Agen Importés -10'!C361","v":0},{"$f":"'INVENT.Inst&Agen Importés -10'!H361","v":0},null,0,0,0,0,0,0,null,null,0,0,0,0]
[356,{"$f":"'INVENT.Inst&Agen Importés -10'!B362","v":0},{"$f":"'INVENT.Inst&Agen Importés -10'!F362","v":0},{"$f":"'INVENT.Inst&Agen Importés -10'!C362","v":0},{"$f":"'INVENT.Inst&Agen Importés -10'!H362","v":0},null,0,0,0,0,0,0,null,null,0,0,0,0]
[{"$f":"+A363+1","v":357},{"$f":"'INVENT.Inst&Agen Importés -10'!B363","v":0},{"$f":"'INVENT.Inst&Agen Importés -10'!F363","v":0},{"$f":"'INVENT.Inst&Agen Importés -10'!C363","v":0},{"$f":"'INVENT.Inst&Agen Importés -10'!H363","v":0},null,0,0,0,0,0,0,null,null,0,0,0,0]
[358,{"$f":"'INVENT.Inst&Agen Importés -10'!B364","v":0},{"$f":"'INVENT.Inst&Agen Importés -10'!F364","v":0},{"$f":"'INVENT.Inst&Agen Importés -10'!C364","v":0},{"$f":"'INVENT.Inst&Agen Importés -10'!H364","v":0},null,0,0,0,0,0,0,null,null,0,0,0,0]
[359,{"$f":"'INVENT.Inst&Agen Importés -10'!B365","v":0},{"$f":"'INVENT.Inst&Agen Importés -10'!F365","v":0},{"$f":"'INVENT.Inst&Agen Importés -10'!C365","v":0},{"$f":"'INVENT.Inst&Agen Importés -10'!H365","v":0},null,0,0,0,0,0,0,null,null,0,0,0,0]
[360,{"$f":"'INVENT.Inst&Agen Importés -10'!B366","v":0},{"$f":"'INVENT.Inst&Agen Importés -10'!F366","v":0},{"$f":"'INVENT.Inst&Agen Importés -10'!C366","v":0},{"$f":"'INVENT.Inst&Agen Importés -10'!H366","v":0},null,0,0,0,0,0,0,null,null,0,0,0,0]
[361,{"$f":"'INVENT.Inst&Agen Importés -10'!B367","v":0},{"$f":"'INVENT.Inst&Agen Importés -10'!F367","v":0},{"$f":"'INVENT.Inst&Agen Importés -10'!C367","v":0},{"$f":"'INVENT.Inst&Agen Importés -10'!H367","v":0},null,0,0,0,0,0,0,null,null,0,0,0,0]
[362,{"$f":"'INVENT.Inst&Agen Importés -10'!B368","v":0},{"$f":"'INVENT.Inst&Agen Importés -10'!F368","v":0},{"$f":"'INVENT.Inst&Agen Importés -10'!C368","v":0},{"$f":"'INVENT.Inst&Agen Importés -10'!H368","v":0},null,0,0,0,0,0,0,null,null,0,0,0,0]
[363,{"$f":"'INVENT.Inst&Agen Importés -10'!B369","v":0},{"$f":"'INVENT.Inst&Agen Importés -10'!F369","v":0},{"$f":"'INVENT.Inst&Agen Importés -10'!C369","v":0},{"$f":"'INVENT.Inst&Agen Importés -10'!H369","v":0},null,0,0,0,0,0,0,null,null,0,0,0,0]
[364,{"$f":"'INVENT.Inst&Agen Importés -10'!B370","v":0},{"$f":"'INVENT.Inst&Agen Importés -10'!F370","v":0},{"$f":"'INVENT.Inst&Agen Importés -10'!C370","v":0},{"$f":"'INVENT.Inst&Agen Importés -10'!H370","v":0},null,0,0,0,0,0,0,null,null,0,0,0,0]
[365,{"$f":"'INVENT.Inst&Agen Importés -10'!B371","v":0},{"$f":"'INVENT.Inst&Agen Importés -10'!F371","v":0},{"$f":"'INVENT.Inst&Agen Importés -10'!C371","v":0},{"$f":"'INVENT.Inst&Agen Importés -10'!H371","v":0},null,0,0,0,0,0,0,null,null,0,0,0,0]
[366,{"$f":"'INVENT.Inst&Agen Importés -10'!B372","v":0},{"$f":"'INVENT.Inst&Agen Importés -10'!F372","v":0},{"$f":"'INVENT.Inst&Agen Importés -10'!C372","v":0},{"$f":"'INVENT.Inst&Agen Importés -10'!H372","v":0},null,0,0,0,0,0,0,null,null,0,0,0,0]
[367,{"$f":"'INVENT.Inst&Agen Importés -10'!B373","v":0},{"$f":"'INVENT.Inst&Agen Importés -10'!F373","v":0},{"$f":"'INVENT.Inst&Agen Importés -10'!C373","v":0},{"$f":"'INVENT.Inst&Agen Importés -10'!H373","v":0},null,0,0,0,0,0,0,null,null,0,0,0,0]
[368,{"$f":"'INVENT.Inst&Agen Importés -10'!B374","v":0},{"$f":"'INVENT.Inst&Agen Importés -10'!F374","v":0},{"$f":"'INVENT.Inst&Agen Importés -10'!C374","v":0},{"$f":"'INVENT.Inst&Agen Importés -10'!H374","v":0},null,{"$f":"F375*E375","v":0},0,0,0,{"$f":"(E375+G375+H375)*18%","v":0},0,null,null,{"$f":"(M375+N375)*18%","v":0},{"$f":"O375+N375+M375","v":0},{"$f":"+R375-O375-K375","v":0},{"$f":"P375+L375","v":0}]
[369,{"$f":"'INVENT.Inst&Agen Importés -10'!B375","v":0},{"$f":"'INVENT.Inst&Agen Importés -10'!F375","v":0},{"$f":"'INVENT.Inst&Agen Importés -10'!C375","v":0},{"$f":"'INVENT.Inst&Agen Importés -10'!H375","v":0},null,0,0,0,0,0,0,null,null,0,0,0,0]
[370,{"$f":"'INVENT.Inst&Agen Importés -10'!B376","v":0},{"$f":"'INVENT.Inst&Agen Importés -10'!F376","v":0},{"$f":"'INVENT.Inst&Agen Importés -10'!C376","v":0},{"$f":"'INVENT.Inst&Agen Importés -10'!H376","v":0},null,0,0,0,0,0,0,null,null,0,0,0,0]
[371,{"$f":"'INVENT.Inst&Agen Importés -10'!B377","v":0},{"$f":"'INVENT.Inst&Agen Importés -10'!F377","v":0},{"$f":"'INVENT.Inst&Agen Importés -10'!C377","v":0},{"$f":"'INVENT.Inst&Agen Importés -10'!H377","v":0},null,0,0,0,0,0,0,null,null,0,0,0,0]
[372,{"$f":"'INVENT.Inst&Agen Importés -10'!B378","v":0},{"$f":"'INVENT.Inst&Agen Importés -10'!F378","v":0},{"$f":"'INVENT.Inst&Agen Importés -10'!C378","v":0},{"$f":"'INVENT.Inst&Agen Importés -10'!H378","v":0},null,0,0,0,0,0,0,null,null,0,0,0,0]
[373,{"$f":"'INVENT.Inst&Agen Importés -10'!B379","v":0},{"$f":"'INVENT.Inst&Agen Importés -10'!F379","v":0},{"$f":"'INVENT.Inst&Agen Importés -10'!C379","v":0},{"$f":"'INVENT.Inst&Agen Importés -10'!H379","v":0},null,0,0,0,0,0,0,null,null,0,0,0,0]
[374,{"$f":"'INVENT.Inst&Agen Importés -10'!B380","v":0},{"$f":"'INVENT.Inst&Agen Importés -10'!F380","v":0},{"$f":"'INVENT.Inst&Agen Importés -10'!C380","v":0},{"$f":"'INVENT.Inst&Agen Importés -10'!H380","v":0},null,0,0,0,0,0,0,null,null,0,0,0,0]
[375,{"$f":"'INVENT.Inst&Agen Importés -10'!B381","v":0},{"$f":"'INVENT.Inst&Agen Importés -10'!F381","v":0},{"$f":"'INVENT.Inst&Agen Importés -10'!C381","v":0},{"$f":"'INVENT.Inst&Agen Importés -10'!H381","v":0},null,0,0,0,0,0,0,null,null,0,0,0,0]
[376,{"$f":"'INVENT.Inst&Agen Importés -10'!B382","v":0},{"$f":"'INVENT.Inst&Agen Importés -10'!F382","v":0},{"$f":"'INVENT.Inst&Agen Importés -10'!C382","v":0},{"$f":"'INVENT.Inst&Agen Importés -10'!H382","v":0},null,0,0,0,0,0,0,null,null,0,0,0,0]
[377,{"$f":"'INVENT.Inst&Agen Importés -10'!B383","v":0},{"$f":"'INVENT.Inst&Agen Importés -10'!F383","v":0},{"$f":"'INVENT.Inst&Agen Importés -10'!C383","v":0},{"$f":"'INVENT.Inst&Agen Importés -10'!H383","v":0},null,0,0,0,0,0,0,null,null,0,0,0,0]
[378,{"$f":"'INVENT.Inst&Agen Importés -10'!B384","v":0},{"$f":"'INVENT.Inst&Agen Importés -10'!F384","v":0},{"$f":"'INVENT.Inst&Agen Importés -10'!C384","v":0},{"$f":"'INVENT.Inst&Agen Importés -10'!H384","v":0},null,0,0,0,0,0,0,null,null,0,0,0,0]
[379,{"$f":"'INVENT.Inst&Agen Importés -10'!B385","v":0},{"$f":"'INVENT.Inst&Agen Importés -10'!F385","v":0},{"$f":"'INVENT.Inst&Agen Importés -10'!C385","v":0},{"$f":"'INVENT.Inst&Agen Importés -10'!H385","v":0},null,0,0,0,0,0,0,null,null,0,0,0,0]
[380,{"$f":"'INVENT.Inst&Agen Importés -10'!B386","v":0},{"$f":"'INVENT.Inst&Agen Importés -10'!F386","v":0},{"$f":"'INVENT.Inst&Agen Importés -10'!C386","v":0},{"$f":"'INVENT.Inst&Agen Importés -10'!H386","v":0},null,0,0,0,0,0,0,null,null,0,0,0,0]
[381,{"$f":"'INVENT.Inst&Agen Importés -10'!B387","v":0},{"$f":"'INVENT.Inst&Agen Importés -10'!F387","v":0},{"$f":"'INVENT.Inst&Agen Importés -10'!C387","v":0},{"$f":"'INVENT.Inst&Agen Importés -10'!H387","v":0},null,0,0,0,0,0,0,null,null,0,0,0,0]
[382,{"$f":"'INVENT.Inst&Agen Importés -10'!B388","v":0},{"$f":"'INVENT.Inst&Agen Importés -10'!F388","v":0},{"$f":"'INVENT.Inst&Agen Importés -10'!C388","v":0},{"$f":"'INVENT.Inst&Agen Importés -10'!H388","v":0},null,0,0,0,0,0,0,null,null,0,0,0,0]
[383,{"$f":"'INVENT.Inst&Agen Importés -10'!B389","v":0},{"$f":"'INVENT.Inst&Agen Importés -10'!F389","v":0},{"$f":"'INVENT.Inst&Agen Importés -10'!C389","v":0},{"$f":"'INVENT.Inst&Agen Importés -10'!H389","v":0},null,0,0,0,0,0,0,null,null,0,0,0,0]
[384,{"$f":"'INVENT.Inst&Agen Importés -10'!B390","v":0},{"$f":"'INVENT.Inst&Agen Importés -10'!F390","v":0},{"$f":"'INVENT.Inst&Agen Importés -10'!C390","v":0},{"$f":"'INVENT.Inst&Agen Importés -10'!H390","v":0},null,0,0,0,0,0,0,null,null,0,0,0,0]
[385,{"$f":"'INVENT.Inst&Agen Importés -10'!B391","v":0},{"$f":"'INVENT.Inst&Agen Importés -10'!F391","v":0},{"$f":"'INVENT.Inst&Agen Importés -10'!C391","v":0},{"$f":"'INVENT.Inst&Agen Importés -10'!H391","v":0},null,0,0,0,0,0,0,null,null,0,0,0,0]
[386,{"$f":"'INVENT.Inst&Agen Importés -10'!B392","v":0},{"$f":"'INVENT.Inst&Agen Importés -10'!F392","v":0},{"$f":"'INVENT.Inst&Agen Importés -10'!C392","v":0},{"$f":"'INVENT.Inst&Agen Importés -10'!H392","v":0},null,0,{"$f":"E393*1%","v":0},{"$f":"E393*1%","v":0},{"$f":"E393*0.5%","v":0},0,0,null,null,0,0,0,0]
[387,{"$f":"'INVENT.Inst&Agen Importés -10'!B393","v":0},{"$f":"'INVENT.Inst&Agen Importés -10'!F393","v":0},{"$f":"'INVENT.Inst&Agen Importés -10'!C393","v":0},{"$f":"'INVENT.Inst&Agen Importés -10'!H393","v":0},null,0,0,0,0,0,0,null,null,0,0,0,0]
[388,{"$f":"'INVENT.Inst&Agen Importés -10'!B394","v":0},{"$f":"'INVENT.Inst&Agen Importés -10'!F394","v":0},{"$f":"'INVENT.Inst&Agen Importés -10'!C394","v":0},{"$f":"'INVENT.Inst&Agen Importés -10'!H394","v":0},null,0,0,0,0,0,0,null,null,0,0,0,0]
[389,{"$f":"'INVENT.Inst&Agen Importés -10'!B395","v":0},{"$f":"'INVENT.Inst&Agen Importés -10'!F395","v":0},{"$f":"'INVENT.Inst&Agen Importés -10'!C395","v":0},{"$f":"'INVENT.Inst&Agen Importés -10'!H395","v":0},null,0,0,0,0,0,0,null,null,0,0,0,0]
[390,{"$f":"'INVENT.Inst&Agen Importés -10'!B396","v":0},{"$f":"'INVENT.Inst&Agen Importés -10'!F396","v":0},{"$f":"'INVENT.Inst&Agen Importés -10'!C396","v":0},{"$f":"'INVENT.Inst&Agen Importés -10'!H396","v":0},null,0,0,0,0,0,0,null,null,0,0,0,0]
[391,{"$f":"'INVENT.Inst&Agen Importés -10'!B397","v":0},{"$f":"'INVENT.Inst&Agen Importés -10'!F397","v":0},{"$f":"'INVENT.Inst&Agen Importés -10'!C397","v":0},{"$f":"'INVENT.Inst&Agen Importés -10'!H397","v":0},null,0,0,0,0,0,0,null,null,0,0,0,0]
[392,{"$f":"'INVENT.Inst&Agen Importés -10'!B398","v":0},{"$f":"'INVENT.Inst&Agen Importés -10'!F398","v":0},{"$f":"'INVENT.Inst&Agen Importés -10'!C398","v":0},{"$f":"'INVENT.Inst&Agen Importés -10'!H398","v":0},null,0,0,0,0,0,0,null,null,0,0,0,0]
[393,{"$f":"'INVENT.Inst&Agen Importés -10'!B399","v":0},{"$f":"'INVENT.Inst&Agen Importés -10'!F399","v":0},{"$f":"'INVENT.Inst&Agen Importés -10'!C399","v":0},{"$f":"'INVENT.Inst&Agen Importés -10'!H399","v":0},null,0,0,0,0,0,{"$f":"SUM(G400:K400)+E400","v":0},null,null,0,0,0,0]
[394,{"$f":"'INVENT.Inst&Agen Importés -10'!B400","v":0},{"$f":"'INVENT.Inst&Agen Importés -10'!F400","v":0},{"$f":"'INVENT.Inst&Agen Importés -10'!C400","v":0},{"$f":"'INVENT.Inst&Agen Importés -10'!H400","v":0},null,0,0,0,0,0,0,null,null,0,0,0,0]
[395,{"$f":"'INVENT.Inst&Agen Importés -10'!B401","v":0},{"$f":"'INVENT.Inst&Agen Importés -10'!F401","v":0},{"$f":"'INVENT.Inst&Agen Importés -10'!C401","v":0},{"$f":"'INVENT.Inst&Agen Importés -10'!H401","v":0},null,0,0,0,0,0,0,null,null,0,0,0,0]
[396,{"$f":"'INVENT.Inst&Agen Importés -10'!B402","v":0},{"$f":"'INVENT.Inst&Agen Importés -10'!F402","v":0},{"$f":"'INVENT.Inst&Agen Importés -10'!C402","v":0},{"$f":"'INVENT.Inst&Agen Importés -10'!H402","v":0},null,0,0,0,0,0,0,null,null,0,0,0,0]
[397,{"$f":"'INVENT.Inst&Agen Importés -10'!B403","v":0},{"$f":"'INVENT.Inst&Agen Importés -10'!F403","v":0},{"$f":"'INVENT.Inst&Agen Importés -10'!C403","v":0},{"$f":"'INVENT.Inst&Agen Importés -10'!H403","v":0},null,0,0,0,0,0,0,null,null,0,0,0,0]
[398,{"$f":"'INVENT.Inst&Agen Importés -10'!B404","v":0},{"$f":"'INVENT.Inst&Agen Importés -10'!F404","v":0},{"$f":"'INVENT.Inst&Agen Importés -10'!C404","v":0},{"$f":"'INVENT.Inst&Agen Importés -10'!H404","v":0},null,0,0,0,0,0,0,null,null,0,0,0,0]
[399,{"$f":"'INVENT.Inst&Agen Importés -10'!B405","v":0},{"$f":"'INVENT.Inst&Agen Importés -10'!F405","v":0},{"$f":"'INVENT.Inst&Agen Importés -10'!C405","v":0},{"$f":"'INVENT.Inst&Agen Importés -10'!H405","v":0},null,0,0,0,0,0,0,null,null,0,0,0,0]
[400,{"$f":"'INVENT.Inst&Agen Importés -10'!B406","v":0},{"$f":"'INVENT.Inst&Agen Importés -10'!F406","v":0},{"$f":"'INVENT.Inst&Agen Importés -10'!C406","v":0},{"$f":"'INVENT.Inst&Agen Importés -10'!H406","v":0},null,0,0,0,0,0,0,null,null,0,0,0,0]
[401,{"$f":"'INVENT.Inst&Agen Importés -10'!B407","v":0},{"$f":"'INVENT.Inst&Agen Importés -10'!F407","v":0},{"$f":"'INVENT.Inst&Agen Importés -10'!C407","v":0},{"$f":"'INVENT.Inst&Agen Importés -10'!H407","v":0},null,0,0,0,0,0,0,null,null,0,0,0,0]
[402,{"$f":"'INVENT.Inst&Agen Importés -10'!B408","v":0},{"$f":"'INVENT.Inst&Agen Importés -10'!F408","v":0},{"$f":"'INVENT.Inst&Agen Importés -10'!C408","v":0},{"$f":"'INVENT.Inst&Agen Importés -10'!H408","v":0},null,0,0,0,0,0,0,null,null,0,0,0,0]
[403,{"$f":"'INVENT.Inst&Agen Importés -10'!B409","v":0},{"$f":"'INVENT.Inst&Agen Importés -10'!F409","v":0},{"$f":"'INVENT.Inst&Agen Importés -10'!C409","v":0},{"$f":"'INVENT.Inst&Agen Importés -10'!H409","v":0},null,0,0,0,0,0,0,null,null,0,0,0,0]
[404,{"$f":"'INVENT.Inst&Agen Importés -10'!B410","v":0},{"$f":"'INVENT.Inst&Agen Importés -10'!F410","v":0},{"$f":"'INVENT.Inst&Agen Importés -10'!C410","v":0},{"$f":"'INVENT.Inst&Agen Importés -10'!H410","v":0},null,0,0,0,0,0,0,null,null,0,0,0,0]
[405,{"$f":"'INVENT.Inst&Agen Importés -10'!B411","v":0},{"$f":"'INVENT.Inst&Agen Importés -10'!F411","v":0},{"$f":"'INVENT.Inst&Agen Importés -10'!C411","v":0},{"$f":"'INVENT.Inst&Agen Importés -10'!H411","v":0},null,0,0,0,0,0,0,null,null,0,0,0,0]
[406,{"$f":"'INVENT.Inst&Agen Importés -10'!B412","v":0},{"$f":"'INVENT.Inst&Agen Importés -10'!F412","v":0},{"$f":"'INVENT.Inst&Agen Importés -10'!C412","v":0},{"$f":"'INVENT.Inst&Agen Importés -10'!H412","v":0},null,0,0,0,0,0,0,null,null,0,0,0,0]
[407,{"$f":"'INVENT.Inst&Agen Importés -10'!B413","v":0},{"$f":"'INVENT.Inst&Agen Importés -10'!F413","v":0},{"$f":"'INVENT.Inst&Agen Importés -10'!C413","v":0},{"$f":"'INVENT.Inst&Agen Importés -10'!H413","v":0},null,0,0,0,0,0,0,null,null,0,0,0,0]
[408,{"$f":"'INVENT.Inst&Agen Importés -10'!B414","v":0},{"$f":"'INVENT.Inst&Agen Importés -10'!F414","v":0},{"$f":"'INVENT.Inst&Agen Importés -10'!C414","v":0},{"$f":"'INVENT.Inst&Agen Importés -10'!H414","v":0},null,0,0,0,0,0,0,null,null,0,0,0,0]
[409,{"$f":"'INVENT.Inst&Agen Importés -10'!B415","v":0},{"$f":"'INVENT.Inst&Agen Importés -10'!F415","v":0},{"$f":"'INVENT.Inst&Agen Importés -10'!C415","v":0},{"$f":"'INVENT.Inst&Agen Importés -10'!H415","v":0},null,0,0,0,0,0,0,null,null,0,0,0,0]
[410,{"$f":"'INVENT.Inst&Agen Importés -10'!B416","v":0},{"$f":"'INVENT.Inst&Agen Importés -10'!F416","v":0},{"$f":"'INVENT.Inst&Agen Importés -10'!C416","v":0},{"$f":"'INVENT.Inst&Agen Importés -10'!H416","v":0},null,0,0,0,0,0,0,null,null,0,0,0,0]
[411,{"$f":"'INVENT.Inst&Agen Importés -10'!B417","v":0},{"$f":"'INVENT.Inst&Agen Importés -10'!F417","v":0},{"$f":"'INVENT.Inst&Agen Importés -10'!C417","v":0},{"$f":"'INVENT.Inst&Agen Importés -10'!H417","v":0},null,0,0,0,0,0,0,null,null,0,0,0,0]
[412,{"$f":"'INVENT.Inst&Agen Importés -10'!B418","v":0},{"$f":"'INVENT.Inst&Agen Importés -10'!F418","v":0},{"$f":"'INVENT.Inst&Agen Importés -10'!C418","v":0},{"$f":"'INVENT.Inst&Agen Importés -10'!H418","v":0},null,0,0,0,0,0,0,null,null,0,0,0,0]
[413,{"$f":"'INVENT.Inst&Agen Importés -10'!B419","v":0},{"$f":"'INVENT.Inst&Agen Importés -10'!F419","v":0},{"$f":"'INVENT.Inst&Agen Importés -10'!C419","v":0},{"$f":"'INVENT.Inst&Agen Importés -10'!H419","v":0},null,0,0,0,0,0,0,null,null,0,0,0,0]
[414,{"$f":"'INVENT.Inst&Agen Importés -10'!B420","v":0},{"$f":"'INVENT.Inst&Agen Importés -10'!F420","v":0},{"$f":"'INVENT.Inst&Agen Importés -10'!C420","v":0},{"$f":"'INVENT.Inst&Agen Importés -10'!H420","v":0},null,0,0,0,0,0,0,null,null,0,0,0,0]
[415,{"$f":"'INVENT.Inst&Agen Importés -10'!B421","v":0},{"$f":"'INVENT.Inst&Agen Importés -10'!F421","v":0},{"$f":"'INVENT.Inst&Agen Importés -10'!C421","v":0},{"$f":"'INVENT.Inst&Agen Importés -10'!H421","v":0},null,0,0,0,0,0,0,null,null,0,0,0,0]
[416,{"$f":"'INVENT.Inst&Agen Importés -10'!B422","v":0},{"$f":"'INVENT.Inst&Agen Importés -10'!F422","v":0},{"$f":"'INVENT.Inst&Agen Importés -10'!C422","v":0},{"$f":"'INVENT.Inst&Agen Importés -10'!H422","v":0},null,0,0,0,0,0,0,null,null,0,0,0,0]
[417,{"$f":"'INVENT.Inst&Agen Importés -10'!B423","v":0},{"$f":"'INVENT.Inst&Agen Importés -10'!F423","v":0},{"$f":"'INVENT.Inst&Agen Importés -10'!C423","v":0},{"$f":"'INVENT.Inst&Agen Importés -10'!H423","v":0},null,0,0,0,0,0,0,null,null,0,0,0,0]
[418,{"$f":"'INVENT.Inst&Agen Importés -10'!B424","v":0},{"$f":"'INVENT.Inst&Agen Importés -10'!F424","v":0},{"$f":"'INVENT.Inst&Agen Importés -10'!C424","v":0},{"$f":"'INVENT.Inst&Agen Importés -10'!H424","v":0},null,0,0,0,0,0,0,null,null,0,0,0,0]
[419,{"$f":"'INVENT.Inst&Agen Importés -10'!B425","v":0},{"$f":"'INVENT.Inst&Agen Importés -10'!F425","v":0},{"$f":"'INVENT.Inst&Agen Importés -10'!C425","v":0},{"$f":"'INVENT.Inst&Agen Importés -10'!H425","v":0},null,0,0,0,0,0,0,null,null,0,0,0,0]
[420,{"$f":"'INVENT.Inst&Agen Importés -10'!B426","v":0},{"$f":"'INVENT.Inst&Agen Importés -10'!F426","v":0},{"$f":"'INVENT.Inst&Agen Importés -10'!C426","v":0},{"$f":"'INVENT.Inst&Agen Importés -10'!H426","v":0},null,0,0,0,0,0,0,null,null,0,0,0,0]
[{"$f":"+A427+1","v":421},{"$f":"'INVENT.Inst&Agen Importés -10'!B427","v":0},{"$f":"'INVENT.Inst&Agen Importés -10'!F427","v":0},{"$f":"'INVENT.Inst&Agen Importés -10'!C427","v":0},{"$f":"'INVENT.Inst&Agen Importés -10'!H427","v":0},null,0,0,0,0,0,0,null,null,0,0,0,0]
[422,{"$f":"'INVENT.Inst&Agen Importés -10'!B428","v":0},{"$f":"'INVENT.Inst&Agen Importés -10'!F428","v":0},{"$f":"'INVENT.Inst&Agen Importés -10'!C428","v":0},{"$f":"'INVENT.Inst&Agen Importés -10'!H428","v":0},null,0,0,0,0,0,0,null,null,0,0,0,0]
[423,{"$f":"'INVENT.Inst&Agen Importés -10'!B429","v":0},{"$f":"'INVENT.Inst&Agen Importés -10'!F429","v":0},{"$f":"'INVENT.Inst&Agen Importés -10'!C429","v":0},{"$f":"'INVENT.Inst&Agen Importés -10'!H429","v":0},null,0,0,0,0,0,0,null,null,0,0,0,0]
[424,{"$f":"'INVENT.Inst&Agen Importés -10'!B430","v":0},{"$f":"'INVENT.Inst&Agen Importés -10'!F430","v":0},{"$f":"'INVENT.Inst&Agen Importés -10'!C430","v":0},{"$f":"'INVENT.Inst&Agen Importés -10'!H430","v":0},null,0,0,0,0,0,0,null,null,0,0,0,0]
[425,{"$f":"'INVENT.Inst&Agen Importés -10'!B431","v":0},{"$f":"'INVENT.Inst&Agen Importés -10'!F431","v":0},{"$f":"'INVENT.Inst&Agen Importés -10'!C431","v":0},{"$f":"'INVENT.Inst&Agen Importés -10'!H431","v":0},null,0,0,0,0,0,0,null,null,0,0,0,0]
[426,{"$f":"'INVENT.Inst&Agen Importés -10'!B432","v":0},{"$f":"'INVENT.Inst&Agen Importés -10'!F432","v":0},{"$f":"'INVENT.Inst&Agen Importés -10'!C432","v":0},{"$f":"'INVENT.Inst&Agen Importés -10'!H432","v":0},null,0,0,0,0,0,0,null,null,0,0,0,0]
[427,{"$f":"'INVENT.Inst&Agen Importés -10'!B433","v":0},{"$f":"'INVENT.Inst&Agen Importés -10'!F433","v":0},{"$f":"'INVENT.Inst&Agen Importés -10'!C433","v":0},{"$f":"'INVENT.Inst&Agen Importés -10'!H433","v":0},null,0,0,0,0,0,0,null,null,0,0,0,0]
[428,{"$f":"'INVENT.Inst&Agen Importés -10'!B434","v":0},{"$f":"'INVENT.Inst&Agen Importés -10'!F434","v":0},{"$f":"'INVENT.Inst&Agen Importés -10'!C434","v":0},{"$f":"'INVENT.Inst&Agen Importés -10'!H434","v":0},null,0,0,0,0,0,0,null,null,0,0,0,0]
[429,{"$f":"'INVENT.Inst&Agen Importés -10'!B435","v":0},{"$f":"'INVENT.Inst&Agen Importés -10'!F435","v":0},{"$f":"'INVENT.Inst&Agen Importés -10'!C435","v":0},{"$f":"'INVENT.Inst&Agen Importés -10'!H435","v":0},null,0,0,0,0,0,0,null,null,0,0,0,0]
[430,{"$f":"'INVENT.Inst&Agen Importés -10'!B436","v":0},{"$f":"'INVENT.Inst&Agen Importés -10'!F436","v":0},{"$f":"'INVENT.Inst&Agen Importés -10'!C436","v":0},{"$f":"'INVENT.Inst&Agen Importés -10'!H436","v":0},null,0,0,0,0,0,0,null,null,0,0,0,0]
[431,{"$f":"'INVENT.Inst&Agen Importés -10'!B437","v":0},{"$f":"'INVENT.Inst&Agen Importés -10'!F437","v":0},{"$f":"'INVENT.Inst&Agen Importés -10'!C437","v":0},{"$f":"'INVENT.Inst&Agen Importés -10'!H437","v":0},null,0,0,0,0,0,0,null,null,0,0,0,0]
[432,{"$f":"'INVENT.Inst&Agen Importés -10'!B438","v":0},{"$f":"'INVENT.Inst&Agen Importés -10'!F438","v":0},{"$f":"'INVENT.Inst&Agen Importés -10'!C438","v":0},{"$f":"'INVENT.Inst&Agen Importés -10'!H438","v":0},null,{"$f":"F439*E439","v":0},0,0,0,{"$f":"(E439+G439+H439)*18%","v":0},0,null,null,{"$f":"(M439+N439)*18%","v":0},{"$f":"O439+N439+M439","v":0},{"$f":"+R439-O439-K439","v":0},{"$f":"P439+L439","v":0}]
[433,{"$f":"'INVENT.Inst&Agen Importés -10'!B439","v":0},{"$f":"'INVENT.Inst&Agen Importés -10'!F439","v":0},{"$f":"'INVENT.Inst&Agen Importés -10'!C439","v":0},{"$f":"'INVENT.Inst&Agen Importés -10'!H439","v":0},null,0,0,0,0,0,0,null,null,0,0,0,0]
[434,{"$f":"'INVENT.Inst&Agen Importés -10'!B440","v":0},{"$f":"'INVENT.Inst&Agen Importés -10'!F440","v":0},{"$f":"'INVENT.Inst&Agen Importés -10'!C440","v":0},{"$f":"'INVENT.Inst&Agen Importés -10'!H440","v":0},null,0,0,0,0,0,0,null,null,0,0,0,0]
[435,{"$f":"'INVENT.Inst&Agen Importés -10'!B441","v":0},{"$f":"'INVENT.Inst&Agen Importés -10'!F441","v":0},{"$f":"'INVENT.Inst&Agen Importés -10'!C441","v":0},{"$f":"'INVENT.Inst&Agen Importés -10'!H441","v":0},null,0,0,0,0,0,0,null,null,0,0,0,0]
[436,{"$f":"'INVENT.Inst&Agen Importés -10'!B442","v":0},{"$f":"'INVENT.Inst&Agen Importés -10'!F442","v":0},{"$f":"'INVENT.Inst&Agen Importés -10'!C442","v":0},{"$f":"'INVENT.Inst&Agen Importés -10'!H442","v":0},null,0,0,0,0,0,0,null,null,0,0,0,0]
[437,{"$f":"'INVENT.Inst&Agen Importés -10'!B443","v":0},{"$f":"'INVENT.Inst&Agen Importés -10'!F443","v":0},{"$f":"'INVENT.Inst&Agen Importés -10'!C443","v":0},{"$f":"'INVENT.Inst&Agen Importés -10'!H443","v":0},null,0,0,0,0,0,0,null,null,0,0,0,0]
[438,{"$f":"'INVENT.Inst&Agen Importés -10'!B444","v":0},{"$f":"'INVENT.Inst&Agen Importés -10'!F444","v":0},{"$f":"'INVENT.Inst&Agen Importés -10'!C444","v":0},{"$f":"'INVENT.Inst&Agen Importés -10'!H444","v":0},null,0,0,0,0,0,0,null,null,0,0,0,0]
[439,{"$f":"'INVENT.Inst&Agen Importés -10'!B445","v":0},{"$f":"'INVENT.Inst&Agen Importés -10'!F445","v":0},{"$f":"'INVENT.Inst&Agen Importés -10'!C445","v":0},{"$f":"'INVENT.Inst&Agen Importés -10'!H445","v":0},null,0,0,0,0,0,0,null,null,0,0,0,0]
[440,{"$f":"'INVENT.Inst&Agen Importés -10'!B446","v":0},{"$f":"'INVENT.Inst&Agen Importés -10'!F446","v":0},{"$f":"'INVENT.Inst&Agen Importés -10'!C446","v":0},{"$f":"'INVENT.Inst&Agen Importés -10'!H446","v":0},null,0,0,0,0,0,0,null,null,0,0,0,0]
[441,{"$f":"'INVENT.Inst&Agen Importés -10'!B447","v":0},{"$f":"'INVENT.Inst&Agen Importés -10'!F447","v":0},{"$f":"'INVENT.Inst&Agen Importés -10'!C447","v":0},{"$f":"'INVENT.Inst&Agen Importés -10'!H447","v":0},null,0,0,0,0,0,0,null,null,0,0,0,0]
[442,{"$f":"'INVENT.Inst&Agen Importés -10'!B448","v":0},{"$f":"'INVENT.Inst&Agen Importés -10'!F448","v":0},{"$f":"'INVENT.Inst&Agen Importés -10'!C448","v":0},{"$f":"'INVENT.Inst&Agen Importés -10'!H448","v":0},null,0,0,0,0,0,0,null,null,0,0,0,0]
[443,{"$f":"'INVENT.Inst&Agen Importés -10'!B449","v":0},{"$f":"'INVENT.Inst&Agen Importés -10'!F449","v":0},{"$f":"'INVENT.Inst&Agen Importés -10'!C449","v":0},{"$f":"'INVENT.Inst&Agen Importés -10'!H449","v":0},null,0,0,0,0,0,0,null,null,0,0,0,0]
[444,{"$f":"'INVENT.Inst&Agen Importés -10'!B450","v":0},{"$f":"'INVENT.Inst&Agen Importés -10'!F450","v":0},{"$f":"'INVENT.Inst&Agen Importés -10'!C450","v":0},{"$f":"'INVENT.Inst&Agen Importés -10'!H450","v":0},null,0,0,0,0,0,0,null,null,0,0,0,0]
[445,{"$f":"'INVENT.Inst&Agen Importés -10'!B451","v":0},{"$f":"'INVENT.Inst&Agen Importés -10'!F451","v":0},{"$f":"'INVENT.Inst&Agen Importés -10'!C451","v":0},{"$f":"'INVENT.Inst&Agen Importés -10'!H451","v":0},null,0,0,0,0,0,0,null,null,0,0,0,0]
[446,{"$f":"'INVENT.Inst&Agen Importés -10'!B452","v":0},{"$f":"'INVENT.Inst&Agen Importés -10'!F452","v":0},{"$f":"'INVENT.Inst&Agen Importés -10'!C452","v":0},{"$f":"'INVENT.Inst&Agen Importés -10'!H452","v":0},null,0,0,0,0,0,0,null,null,0,0,0,0]
[447,{"$f":"'INVENT.Inst&Agen Importés -10'!B453","v":0},{"$f":"'INVENT.Inst&Agen Importés -10'!F453","v":0},{"$f":"'INVENT.Inst&Agen Importés -10'!C453","v":0},{"$f":"'INVENT.Inst&Agen Importés -10'!H453","v":0},null,0,0,0,0,0,0,null,null,0,0,0,0]
[448,{"$f":"'INVENT.Inst&Agen Importés -10'!B454","v":0},{"$f":"'INVENT.Inst&Agen Importés -10'!F454","v":0},{"$f":"'INVENT.Inst&Agen Importés -10'!C454","v":0},{"$f":"'INVENT.Inst&Agen Importés -10'!H454","v":0},null,0,0,0,0,0,0,null,null,0,0,0,0]
[449,{"$f":"'INVENT.Inst&Agen Importés -10'!B455","v":0},{"$f":"'INVENT.Inst&Agen Importés -10'!F455","v":0},{"$f":"'INVENT.Inst&Agen Importés -10'!C455","v":0},{"$f":"'INVENT.Inst&Agen Importés -10'!H455","v":0},null,0,0,0,0,0,0,null,null,0,0,0,0]
[450,{"$f":"'INVENT.Inst&Agen Importés -10'!B456","v":0},{"$f":"'INVENT.Inst&Agen Importés -10'!F456","v":0},{"$f":"'INVENT.Inst&Agen Importés -10'!C456","v":0},{"$f":"'INVENT.Inst&Agen Importés -10'!H456","v":0},null,0,{"$f":"E457*1%","v":0},{"$f":"E457*1%","v":0},{"$f":"E457*0.5%","v":0},0,0,null,null,0,0,0,0]
[451,{"$f":"'INVENT.Inst&Agen Importés -10'!B457","v":0},{"$f":"'INVENT.Inst&Agen Importés -10'!F457","v":0},{"$f":"'INVENT.Inst&Agen Importés -10'!C457","v":0},{"$f":"'INVENT.Inst&Agen Importés -10'!H457","v":0},null,0,0,0,0,0,0,null,null,0,0,0,0]
[452,{"$f":"'INVENT.Inst&Agen Importés -10'!B458","v":0},{"$f":"'INVENT.Inst&Agen Importés -10'!F458","v":0},{"$f":"'INVENT.Inst&Agen Importés -10'!C458","v":0},{"$f":"'INVENT.Inst&Agen Importés -10'!H458","v":0},null,0,0,0,0,0,0,null,null,0,0,0,0]
[453,{"$f":"'INVENT.Inst&Agen Importés -10'!B459","v":0},{"$f":"'INVENT.Inst&Agen Importés -10'!F459","v":0},{"$f":"'INVENT.Inst&Agen Importés -10'!C459","v":0},{"$f":"'INVENT.Inst&Agen Importés -10'!H459","v":0},null,0,0,0,0,0,0,null,null,0,0,0,0]
[454,{"$f":"'INVENT.Inst&Agen Importés -10'!B460","v":0},{"$f":"'INVENT.Inst&Agen Importés -10'!F460","v":0},{"$f":"'INVENT.Inst&Agen Importés -10'!C460","v":0},{"$f":"'INVENT.Inst&Agen Importés -10'!H460","v":0},null,0,0,0,0,0,0,null,null,0,0,0,0]
[455,{"$f":"'INVENT.Inst&Agen Importés -10'!B461","v":0},{"$f":"'INVENT.Inst&Agen Importés -10'!F461","v":0},{"$f":"'INVENT.Inst&Agen Importés -10'!C461","v":0},{"$f":"'INVENT.Inst&Agen Importés -10'!H461","v":0},null,0,0,0,0,0,0,null,null,0,0,0,0]
[456,{"$f":"'INVENT.Inst&Agen Importés -10'!B462","v":0},{"$f":"'INVENT.Inst&Agen Importés -10'!F462","v":0},{"$f":"'INVENT.Inst&Agen Importés -10'!C462","v":0},{"$f":"'INVENT.Inst&Agen Importés -10'!H462","v":0},null,0,0,0,0,0,0,null,null,0,0,0,0]
[457,{"$f":"'INVENT.Inst&Agen Importés -10'!B463","v":0},{"$f":"'INVENT.Inst&Agen Importés -10'!F463","v":0},{"$f":"'INVENT.Inst&Agen Importés -10'!C463","v":0},{"$f":"'INVENT.Inst&Agen Importés -10'!H463","v":0},null,0,0,0,0,0,{"$f":"SUM(G464:K464)+E464","v":0},null,null,0,0,0,0]
[458,{"$f":"'INVENT.Inst&Agen Importés -10'!B464","v":0},{"$f":"'INVENT.Inst&Agen Importés -10'!F464","v":0},{"$f":"'INVENT.Inst&Agen Importés -10'!C464","v":0},{"$f":"'INVENT.Inst&Agen Importés -10'!H464","v":0},null,0,0,0,0,0,0,null,null,0,0,0,0]
[459,{"$f":"'INVENT.Inst&Agen Importés -10'!B465","v":0},{"$f":"'INVENT.Inst&Agen Importés -10'!F465","v":0},{"$f":"'INVENT.Inst&Agen Importés -10'!C465","v":0},{"$f":"'INVENT.Inst&Agen Importés -10'!H465","v":0},null,0,0,0,0,0,0,null,null,0,0,0,0]
[460,{"$f":"'INVENT.Inst&Agen Importés -10'!B466","v":0},{"$f":"'INVENT.Inst&Agen Importés -10'!F466","v":0},{"$f":"'INVENT.Inst&Agen Importés -10'!C466","v":0},{"$f":"'INVENT.Inst&Agen Importés -10'!H466","v":0},null,0,0,0,0,0,0,null,null,0,0,0,0]
[461,{"$f":"'INVENT.Inst&Agen Importés -10'!B467","v":0},{"$f":"'INVENT.Inst&Agen Importés -10'!F467","v":0},{"$f":"'INVENT.Inst&Agen Importés -10'!C467","v":0},{"$f":"'INVENT.Inst&Agen Importés -10'!H467","v":0},null,0,0,0,0,0,0,null,null,0,0,0,0]
[462,{"$f":"'INVENT.Inst&Agen Importés -10'!B468","v":0},{"$f":"'INVENT.Inst&Agen Importés -10'!F468","v":0},{"$f":"'INVENT.Inst&Agen Importés -10'!C468","v":0},{"$f":"'INVENT.Inst&Agen Importés -10'!H468","v":0},null,0,0,0,0,0,0,null,null,0,0,0,0]
[463,{"$f":"'INVENT.Inst&Agen Importés -10'!B469","v":0},{"$f":"'INVENT.Inst&Agen Importés -10'!F469","v":0},{"$f":"'INVENT.Inst&Agen Importés -10'!C469","v":0},{"$f":"'INVENT.Inst&Agen Importés -10'!H469","v":0},null,0,0,0,0,0,0,null,null,0,0,0,0]
[464,{"$f":"'INVENT.Inst&Agen Importés -10'!B470","v":0},{"$f":"'INVENT.Inst&Agen Importés -10'!F470","v":0},{"$f":"'INVENT.Inst&Agen Importés -10'!C470","v":0},{"$f":"'INVENT.Inst&Agen Importés -10'!H470","v":0},null,0,0,0,0,0,0,null,null,0,0,0,0]
[465,{"$f":"'INVENT.Inst&Agen Importés -10'!B471","v":0},{"$f":"'INVENT.Inst&Agen Importés -10'!F471","v":0},{"$f":"'INVENT.Inst&Agen Importés -10'!C471","v":0},{"$f":"'INVENT.Inst&Agen Importés -10'!H471","v":0},null,0,0,0,0,0,0,null,null,0,0,0,0]
[466,{"$f":"'INVENT.Inst&Agen Importés -10'!B472","v":0},{"$f":"'INVENT.Inst&Agen Importés -10'!F472","v":0},{"$f":"'INVENT.Inst&Agen Importés -10'!C472","v":0},{"$f":"'INVENT.Inst&Agen Importés -10'!H472","v":0},null,0,0,0,0,0,0,null,null,0,0,0,0]
[467,{"$f":"'INVENT.Inst&Agen Importés -10'!B473","v":0},{"$f":"'INVENT.Inst&Agen Importés -10'!F473","v":0},{"$f":"'INVENT.Inst&Agen Importés -10'!C473","v":0},{"$f":"'INVENT.Inst&Agen Importés -10'!H473","v":0},null,0,0,0,0,0,0,null,null,0,0,0,0]
[468,{"$f":"'INVENT.Inst&Agen Importés -10'!B474","v":0},{"$f":"'INVENT.Inst&Agen Importés -10'!F474","v":0},{"$f":"'INVENT.Inst&Agen Importés -10'!C474","v":0},{"$f":"'INVENT.Inst&Agen Importés -10'!H474","v":0},null,0,0,0,0,0,0,null,null,0,0,0,0]
[469,{"$f":"'INVENT.Inst&Agen Importés -10'!B475","v":0},{"$f":"'INVENT.Inst&Agen Importés -10'!F475","v":0},{"$f":"'INVENT.Inst&Agen Importés -10'!C475","v":0},{"$f":"'INVENT.Inst&Agen Importés -10'!H475","v":0},null,0,0,0,0,0,0,null,null,0,0,0,0]
[470,{"$f":"'INVENT.Inst&Agen Importés -10'!B476","v":0},{"$f":"'INVENT.Inst&Agen Importés -10'!F476","v":0},{"$f":"'INVENT.Inst&Agen Importés -10'!C476","v":0},{"$f":"'INVENT.Inst&Agen Importés -10'!H476","v":0},null,0,0,0,0,0,0,null,null,0,0,0,0]
[471,{"$f":"'INVENT.Inst&Agen Importés -10'!B477","v":0},{"$f":"'INVENT.Inst&Agen Importés -10'!F477","v":0},{"$f":"'INVENT.Inst&Agen Importés -10'!C477","v":0},{"$f":"'INVENT.Inst&Agen Importés -10'!H477","v":0},null,0,0,0,0,0,0,null,null,0,0,0,0]
[472,{"$f":"'INVENT.Inst&Agen Importés -10'!B478","v":0},{"$f":"'INVENT.Inst&Agen Importés -10'!F478","v":0},{"$f":"'INVENT.Inst&Agen Importés -10'!C478","v":0},{"$f":"'INVENT.Inst&Agen Importés -10'!H478","v":0},null,0,0,0,0,0,0,null,null,0,0,0,0]
[473,{"$f":"'INVENT.Inst&Agen Importés -10'!B479","v":0},{"$f":"'INVENT.Inst&Agen Importés -10'!F479","v":0},{"$f":"'INVENT.Inst&Agen Importés -10'!C479","v":0},{"$f":"'INVENT.Inst&Agen Importés -10'!H479","v":0},null,0,0,0,0,0,0,null,null,0,0,0,0]
[474,{"$f":"'INVENT.Inst&Agen Importés -10'!B480","v":0},{"$f":"'INVENT.Inst&Agen Importés -10'!F480","v":0},{"$f":"'INVENT.Inst&Agen Importés -10'!C480","v":0},{"$f":"'INVENT.Inst&Agen Importés -10'!H480","v":0},null,0,0,0,0,0,0,null,null,0,0,0,0]
[475,{"$f":"'INVENT.Inst&Agen Importés -10'!B481","v":0},{"$f":"'INVENT.Inst&Agen Importés -10'!F481","v":0},{"$f":"'INVENT.Inst&Agen Importés -10'!C481","v":0},{"$f":"'INVENT.Inst&Agen Importés -10'!H481","v":0},null,0,0,0,0,0,0,null,null,0,0,0,0]
[476,{"$f":"'INVENT.Inst&Agen Importés -10'!B482","v":0},{"$f":"'INVENT.Inst&Agen Importés -10'!F482","v":0},{"$f":"'INVENT.Inst&Agen Importés -10'!C482","v":0},{"$f":"'INVENT.Inst&Agen Importés -10'!H482","v":0},null,0,0,0,0,0,0,null,null,0,0,0,0]
[477,{"$f":"'INVENT.Inst&Agen Importés -10'!B483","v":0},{"$f":"'INVENT.Inst&Agen Importés -10'!F483","v":0},{"$f":"'INVENT.Inst&Agen Importés -10'!C483","v":0},{"$f":"'INVENT.Inst&Agen Importés -10'!H483","v":0},null,0,0,0,0,0,0,null,null,0,0,0,0]
[478,{"$f":"'INVENT.Inst&Agen Importés -10'!B484","v":0},{"$f":"'INVENT.Inst&Agen Importés -10'!F484","v":0},{"$f":"'INVENT.Inst&Agen Importés -10'!C484","v":0},{"$f":"'INVENT.Inst&Agen Importés -10'!H484","v":0},null,0,0,0,0,0,0,null,null,0,0,0,0]
[479,{"$f":"'INVENT.Inst&Agen Importés -10'!B485","v":0},{"$f":"'INVENT.Inst&Agen Importés -10'!F485","v":0},{"$f":"'INVENT.Inst&Agen Importés -10'!C485","v":0},{"$f":"'INVENT.Inst&Agen Importés -10'!H485","v":0},null,0,0,0,0,0,0,null,null,0,0,0,0]
[480,{"$f":"'INVENT.Inst&Agen Importés -10'!B486","v":0},{"$f":"'INVENT.Inst&Agen Importés -10'!F486","v":0},{"$f":"'INVENT.Inst&Agen Importés -10'!C486","v":0},{"$f":"'INVENT.Inst&Agen Importés -10'!H486","v":0},null,0,0,0,0,0,0,null,null,0,0,0,0]
[481,{"$f":"'INVENT.Inst&Agen Importés -10'!B487","v":0},{"$f":"'INVENT.Inst&Agen Importés -10'!F487","v":0},{"$f":"'INVENT.Inst&Agen Importés -10'!C487","v":0},{"$f":"'INVENT.Inst&Agen Importés -10'!H487","v":0},null,0,0,0,0,0,0,null,null,0,0,0,0]
[482,{"$f":"'INVENT.Inst&Agen Importés -10'!B488","v":0},{"$f":"'INVENT.Inst&Agen Importés -10'!F488","v":0},{"$f":"'INVENT.Inst&Agen Importés -10'!C488","v":0},{"$f":"'INVENT.Inst&Agen Importés -10'!H488","v":0},null,0,0,0,0,0,0,null,null,0,0,0,0]
[483,{"$f":"'INVENT.Inst&Agen Importés -10'!B489","v":0},{"$f":"'INVENT.Inst&Agen Importés -10'!F489","v":0},{"$f":"'INVENT.Inst&Agen Importés -10'!C489","v":0},{"$f":"'INVENT.Inst&Agen Importés -10'!H489","v":0},null,0,0,0,0,0,0,null,null,0,0,0,0]
[484,{"$f":"'INVENT.Inst&Agen Importés -10'!B490","v":0},{"$f":"'INVENT.Inst&Agen Importés -10'!F490","v":0},{"$f":"'INVENT.Inst&Agen Importés -10'!C490","v":0},{"$f":"'INVENT.Inst&Agen Importés -10'!H490","v":0},null,0,0,0,0,0,0,null,null,0,0,0,0]
[{"$f":"+A491+1","v":485},{"$f":"'INVENT.Inst&Agen Importés -10'!B491","v":0},{"$f":"'INVENT.Inst&Agen Importés -10'!F491","v":0},{"$f":"'INVENT.Inst&Agen Importés -10'!C491","v":0},{"$f":"'INVENT.Inst&Agen Importés -10'!H491","v":0},null,0,0,0,0,0,0,null,null,0,0,0,0]
[486,{"$f":"'INVENT.Inst&Agen Importés -10'!B492","v":0},{"$f":"'INVENT.Inst&Agen Importés -10'!F492","v":0},{"$f":"'INVENT.Inst&Agen Importés -10'!C492","v":0},{"$f":"'INVENT.Inst&Agen Importés -10'!H492","v":0},null,0,0,0,0,0,0,null,null,0,0,0,0]
[487,{"$f":"'INVENT.Inst&Agen Importés -10'!B493","v":0},{"$f":"'INVENT.Inst&Agen Importés -10'!F493","v":0},{"$f":"'INVENT.Inst&Agen Importés -10'!C493","v":0},{"$f":"'INVENT.Inst&Agen Importés -10'!H493","v":0},null,0,0,0,0,0,0,null,null,0,0,0,0]
[488,{"$f":"'INVENT.Inst&Agen Importés -10'!B494","v":0},{"$f":"'INVENT.Inst&Agen Importés -10'!F494","v":0},{"$f":"'INVENT.Inst&Agen Importés -10'!C494","v":0},{"$f":"'INVENT.Inst&Agen Importés -10'!H494","v":0},null,0,0,0,0,0,0,null,null,0,0,0,0]
[489,{"$f":"'INVENT.Inst&Agen Importés -10'!B495","v":0},{"$f":"'INVENT.Inst&Agen Importés -10'!F495","v":0},{"$f":"'INVENT.Inst&Agen Importés -10'!C495","v":0},{"$f":"'INVENT.Inst&Agen Importés -10'!H495","v":0},null,0,0,0,0,0,0,null,null,0,0,0,0]
[490,{"$f":"'INVENT.Inst&Agen Importés -10'!B496","v":0},{"$f":"'INVENT.Inst&Agen Importés -10'!F496","v":0},{"$f":"'INVENT.Inst&Agen Importés -10'!C496","v":0},{"$f":"'INVENT.Inst&Agen Importés -10'!H496","v":0},null,0,0,0,0,0,0,null,null,0,0,0,0]
[491,{"$f":"'INVENT.Inst&Agen Importés -10'!B497","v":0},{"$f":"'INVENT.Inst&Agen Importés -10'!F497","v":0},{"$f":"'INVENT.Inst&Agen Importés -10'!C497","v":0},{"$f":"'INVENT.Inst&Agen Importés -10'!H497","v":0},null,0,0,0,0,0,0,null,null,0,0,0,0]
[492,{"$f":"'INVENT.Inst&Agen Importés -10'!B498","v":0},{"$f":"'INVENT.Inst&Agen Importés -10'!F498","v":0},{"$f":"'INVENT.Inst&Agen Importés -10'!C498","v":0},{"$f":"'INVENT.Inst&Agen Importés -10'!H498","v":0},null,0,0,0,0,0,0,null,null,0,0,0,0]
[493,{"$f":"'INVENT.Inst&Agen Importés -10'!B499","v":0},{"$f":"'INVENT.Inst&Agen Importés -10'!F499","v":0},{"$f":"'INVENT.Inst&Agen Importés -10'!C499","v":0},{"$f":"'INVENT.Inst&Agen Importés -10'!H499","v":0},null,0,0,0,0,0,0,null,null,0,0,0,0]
[494,{"$f":"'INVENT.Inst&Agen Importés -10'!B500","v":0},{"$f":"'INVENT.Inst&Agen Importés -10'!F500","v":0},{"$f":"'INVENT.Inst&Agen Importés -10'!C500","v":0},{"$f":"'INVENT.Inst&Agen Importés -10'!H500","v":0},null,0,0,0,0,0,0,null,null,0,0,0,0]
[495,{"$f":"'INVENT.Inst&Agen Importés -10'!B501","v":0},{"$f":"'INVENT.Inst&Agen Importés -10'!F501","v":0},{"$f":"'INVENT.Inst&Agen Importés -10'!C501","v":0},{"$f":"'INVENT.Inst&Agen Importés -10'!H501","v":0},null,0,0,0,0,0,0,null,null,0,0,0,0]
[496,{"$f":"'INVENT.Inst&Agen Importés -10'!B502","v":0},{"$f":"'INVENT.Inst&Agen Importés -10'!F502","v":0},{"$f":"'INVENT.Inst&Agen Importés -10'!C502","v":0},{"$f":"'INVENT.Inst&Agen Importés -10'!H502","v":0},null,{"$f":"F503*E503","v":0},0,0,0,{"$f":"(E503+G503+H503)*18%","v":0},0,null,null,{"$f":"(M503+N503)*18%","v":0},{"$f":"O503+N503+M503","v":0},{"$f":"+R503-O503-K503","v":0},{"$f":"P503+L503","v":0}]
[497,{"$f":"'INVENT.Inst&Agen Importés -10'!B503","v":0},{"$f":"'INVENT.Inst&Agen Importés -10'!F503","v":0},{"$f":"'INVENT.Inst&Agen Importés -10'!C503","v":0},{"$f":"'INVENT.Inst&Agen Importés -10'!H503","v":0},null,{"$f":"F504*E504","v":0},0,0,0,{"$f":"(E504+G504+H504)*18%","v":0},0,null,null,{"$f":"(M504+N504)*18%","v":0},{"$f":"O504+N504+M504","v":0},{"$f":"+R504-O504-K504","v":0},{"$f":"P504+L504","v":0}]
[498,{"$f":"'INVENT.Inst&Agen Importés -10'!B504","v":0},{"$f":"'INVENT.Inst&Agen Importés -10'!F504","v":0},{"$f":"'INVENT.Inst&Agen Importés -10'!C504","v":0},{"$f":"'INVENT.Inst&Agen Importés -10'!H504","v":0},null,{"$f":"F505*E505","v":0},0,0,0,{"$f":"(E505+G505+H505)*18%","v":0},0,null,null,{"$f":"(M505+N505)*18%","v":0},{"$f":"O505+N505+M505","v":0},{"$f":"+R505-O505-K505","v":0},{"$f":"P505+L505","v":0}]
[499,{"$f":"'INVENT.Inst&Agen Importés -10'!B505","v":0},{"$f":"'INVENT.Inst&Agen Importés -10'!F505","v":0},{"$f":"'INVENT.Inst&Agen Importés -10'!C505","v":0},{"$f":"'INVENT.Inst&Agen Importés -10'!H505","v":0},null,{"$f":"F506*E506","v":0},0,0,0,{"$f":"(E506+G506+H506)*18%","v":0},0,null,null,{"$f":"(M506+N506)*18%","v":0},{"$f":"O506+N506+M506","v":0},{"$f":"+R506-O506-K506","v":0},{"$f":"P506+L506","v":0}]
[500,{"$f":"'INVENT.Inst&Agen Importés -10'!B506","v":0},{"$f":"'INVENT.Inst&Agen Importés -10'!F506","v":0},{"$f":"'INVENT.Inst&Agen Importés -10'!C506","v":0},{"$f":"'INVENT.Inst&Agen Importés -10'!H506","v":0},null,{"$f":"F507*E507","v":0},0,0,0,{"$f":"(E507+G507+H507)*18%","v":0},0,null,null,{"$f":"(M507+N507)*18%","v":0},{"$f":"O507+N507+M507","v":0},{"$f":"+R507-O507-K507","v":0},{"$f":"P507+L507","v":0}]

{"sheet":"INVEST.Mat & Outillages - 10","index":33,"n_rows":1007,"n_cols":18,"rows_kept":1007,"cut":false,"hidden":false,"merged":[[3,16,4,16],[2,2,4,2],[2,0,4,0],[3,17,4,17],[2,1,4,1],[2,16,2,17],[3,3,4,3],[3,4,4,4],[3,5,3,6],[3,7,4,7],[3,9,4,9],[3,10,4,10],[3,11,4,11],[3,12,4,12],[3,13,4,13],[3,14,4,14],[3,15,4,15],[3,8,4,8]]}
[null,null,null,{"$f":"'REFERENCES - 10'!D7","v":0},null,{"$f":"'REFERENCES - 10'!D9","v":0}]
[null,"INVESTISSEMENTS PREVUS SUR LA PERIODE DE REALISATION DU PROJET",null,null,null,null,null,null,null,null,null,null,null,null,null,null,null,"(En F. Cfa)"]
["N°","Désignation","Quantité","ACHAT A L'ETRANGER (en F. Cfa)",null,null,null,null,null,null,null,null,"ACHAT EN COTE D'IVOIRE (en F. Cfa)",null,null,null,"Coût total des Investissements "]
[null,null,null,"Position tarifaire","Cout CAF","Droit de douane / Droit fiscaux",null,"RSTAT (1%)","PCS\n(1%)","PCC\n (0,5%)","TVA sur Droit de Douane","Total Achat à l'étranger","Achats HT"," Coûts locaux (Transport, montage,..)","T.V.A","Total Achat en RCI","Coût total HT","Coût total TTC"]
[null,null,null,null,null,"Taux","Montant"]
[]
[null,"MATERIELS & OUTILLAGES",null,null,{"$f":"SUM(E8:E507)","v":0},null,{"$f":"SUM(G8:G507)","v":0},0,0,0,0,0,0,0,0,0,0,0]
[1,{"$f":"'INVENT.Mat&Outillag Importé -10'!B7","v":0},{"$f":"'INVENT.Mat&Outillag Importé -10'!F7","v":0},{"$f":"'INVENT.Mat&Outillag Importé -10'!C7","v":0},{"$f":"'INVENT.Mat&Outillag Importé -10'!H7","v":0},null,{"$f":"F8*E8","v":0},{"$f":"E8*1%","v":0},{"$f":"E8*1%","v":0},{"$f":"E8*0.5%","v":0},{"$f":"(E8+G8+H8)*18%","v":0},{"$f":"SUM(G8:K8)+E8","v":0},null,null,{"$f":"(M8+N8)*18%","v":0},{"$f":"O8+N8+M8","v":0},{"$f":"+R8-O8-K8","v":0},{"$f":"P8+L8","v":0}]
[{"$f":"+A8+1","v":2},{"$f":"'INVENT.Mat&Outillag Importé -10'!B8","v":0},{"$f":"'INVENT.Mat&Outillag Importé -10'!F8","v":0},{"$f":"'INVENT.Mat&Outillag Importé -10'!C8","v":0},{"$f":"'INVENT.Mat&Outillag Importé -10'!H8","v":0},null,{"$f":"F9*E9","v":0},{"$f":"E9*1%","v":0},{"$f":"E9*1%","v":0},{"$f":"E9*0.5%","v":0},{"$f":"(E9+G9+H9)*18%","v":0},0,null,null,{"$f":"(M9+N9)*18%","v":0},{"$f":"O9+N9+M9","v":0},{"$f":"+R9-O9-K9","v":0},{"$f":"P9+L9","v":0}]
[{"$f":"+A9+1","v":3},{"$f":"'INVENT.Mat&Outillag Importé -10'!B9","v":0},{"$f":"'INVENT.Mat&Outillag Importé -10'!F9","v":0},{"$f":"'INVENT.Mat&Outillag Importé -10'!C9","v":0},{"$f":"'INVENT.Mat&Outillag Importé -10'!H9","v":0},null,{"$f":"F10*E10","v":0},0,0,0,{"$f":"(E10+G10+H10)*18%","v":0},0,null,null,{"$f":"(M10+N10)*18%","v":0},{"$f":"O10+N10+M10","v":0},{"$f":"+R10-O10-K10","v":0},{"$f":"P10+L10","v":0}]
[4,{"$f":"'INVENT.Mat&Outillag Importé -10'!B10","v":0},{"$f":"'INVENT.Mat&Outillag Importé -10'!F10","v":0},{"$f":"'INVENT.Mat&Outillag Importé -10'!C10","v":0},{"$f":"'INVENT.Mat&Outillag Importé -10'!H10","v":0},null,0,0,0,0,0,0,null,null,{"$f":"(M11+N11)*18%","v":0},{"$f":"O11+N11+M11","v":0},{"$f":"+R11-O11-K11","v":0},{"$f":"P11+L11","v":0}]
[5,{"$f":"'INVENT.Mat&Outillag Importé -10'!B11","v":0},{"$f":"'INVENT.Mat&Outillag Importé -10'!F11","v":0},{"$f":"'INVENT.Mat&Outillag Importé -10'!C11","v":0},{"$f":"'INVENT.Mat&Outillag Importé -10'!H11","v":0},null,0,0,0,0,0,0,null,null,0,0,0,0]
[6,{"$f":"'INVENT.Mat&Outillag Importé -10'!B12","v":0},{"$f":"'INVENT.Mat&Outillag Importé -10'!F12","v":0},{"$f":"'INVENT.Mat&Outillag Importé -10'!C12","v":0},{"$f":"'INVENT.Mat&Outillag Importé -10'!H12","v":0},null,0,0,0,0,0,0,null,null,0,0,0,0]
[7,{"$f":"'INVENT.Mat&Outillag Importé -10'!B13","v":0},{"$f":"'INVENT.Mat&Outillag Importé -10'!F13","v":0},{"$f":"'INVENT.Mat&Outillag Importé -10'!C13","v":0},{"$f":"'INVENT.Mat&Outillag Importé -10'!H13","v":0},null,0,0,0,0,0,0,null,null,0,0,0,0]
[8,{"$f":"'INVENT.Mat&Outillag Importé -10'!B14","v":0},{"$f":"'INVENT.Mat&Outillag Importé -10'!F14","v":0},{"$f":"'INVENT.Mat&Outillag Importé -10'!C14","v":0},{"$f":"'INVENT.Mat&Outillag Importé -10'!H14","v":0},null,0,0,0,0,0,0,null,null,0,0,0,0]
[9,{"$f":"'INVENT.Mat&Outillag Importé -10'!B15","v":0},{"$f":"'INVENT.Mat&Outillag Importé -10'!F15","v":0},{"$f":"'INVENT.Mat&Outillag Importé -10'!C15","v":0},{"$f":"'INVENT.Mat&Outillag Importé -10'!H15","v":0},null,0,0,0,0,0,0,null,null,0,0,0,0]
[10,{"$f":"'INVENT.Mat&Outillag Importé -10'!B16","v":0},{"$f":"'INVENT.Mat&Outillag Importé -10'!F16","v":0},{"$f":"'INVENT.Mat&Outillag Importé -10'!C16","v":0},{"$f":"'INVENT.Mat&Outillag Importé -10'!H16","v":0},null,0,0,0,0,0,0,null,null,0,0,0,0]
[11,{"$f":"'INVENT.Mat&Outillag Importé -10'!B17","v":0},{"$f":"'INVENT.Mat&Outillag Importé -10'!F17","v":0},{"$f":"'INVENT.Mat&Outillag Importé -10'!C17","v":0},{"$f":"'INVENT.Mat&Outillag Importé -10'!H17","v":0},null,0,0,0,0,0,0,null,null,0,0,0,0]
[12,{"$f":"'INVENT.Mat&Outillag Importé -10'!B18","v":0},{"$f":"'INVENT.Mat&Outillag Importé -10'!F18","v":0},{"$f":"'INVENT.Mat&Outillag Importé -10'!C18","v":0},{"$f":"'INVENT.Mat&Outillag Importé -10'!H18","v":0},null,0,0,0,0,0,0,null,null,0,0,0,0]
[13,{"$f":"'INVENT.Mat&Outillag Importé -10'!B19","v":0},{"$f":"'INVENT.Mat&Outillag Importé -10'!F19","v":0},{"$f":"'INVENT.Mat&Outillag Importé -10'!C19","v":0},{"$f":"'INVENT.Mat&Outillag Importé -10'!H19","v":0},null,0,0,0,0,0,0,null,null,0,0,0,0]
[14,{"$f":"'INVENT.Mat&Outillag Importé -10'!B20","v":0},{"$f":"'INVENT.Mat&Outillag Importé -10'!F20","v":0},{"$f":"'INVENT.Mat&Outillag Importé -10'!C20","v":0},{"$f":"'INVENT.Mat&Outillag Importé -10'!H20","v":0},null,0,0,0,0,0,0,null,null,0,0,0,0]
[15,{"$f":"'INVENT.Mat&Outillag Importé -10'!B21","v":0},{"$f":"'INVENT.Mat&Outillag Importé -10'!F21","v":0},{"$f":"'INVENT.Mat&Outillag Importé -10'!C21","v":0},{"$f":"'INVENT.Mat&Outillag Importé -10'!H21","v":0},null,0,0,0,0,0,0,null,null,0,0,0,0]
[16,{"$f":"'INVENT.Mat&Outillag Importé -10'!B22","v":0},{"$f":"'INVENT.Mat&Outillag Importé -10'!F22","v":0},{"$f":"'INVENT.Mat&Outillag Importé -10'!C22","v":0},{"$f":"'INVENT.Mat&Outillag Importé -10'!H22","v":0},null,0,0,0,0,0,0,null,null,0,0,0,0]
[17,{"$f":"'INVENT.Mat&Outillag Importé -10'!B23","v":0},{"$f":"'INVENT.Mat&Outillag Importé -10'!F23","v":0},{"$f":"'INVENT.Mat&Outillag Importé -10'!C23","v":0},{"$f":"'INVENT.Mat&Outillag Importé -10'!H23","v":0},null,0,0,0,0,0,0,null,null,0,0,0,0]
[18,{"$f":"'INVENT.Mat&Outillag Importé -10'!B24","v":0},{"$f":"'INVENT.Mat&Outillag Importé -10'!F24","v":0},{"$f":"'INVENT.Mat&Outillag Importé -10'!C24","v":0},{"$f":"'INVENT.Mat&Outillag Importé -10'!H24","v":0},null,0,0,0,0,0,0,null,null,0,0,0,0]
[19,{"$f":"'INVENT.Mat&Outillag Importé -10'!B25","v":0},{"$f":"'INVENT.Mat&Outillag Importé -10'!F25","v":0},{"$f":"'INVENT.Mat&Outillag Importé -10'!C25","v":0},{"$f":"'INVENT.Mat&Outillag Importé -10'!H25","v":0},null,0,0,0,0,0,0,null,null,0,0,0,0]
[20,{"$f":"'INVENT.Mat&Outillag Importé -10'!B26","v":0},{"$f":"'INVENT.Mat&Outillag Importé -10'!F26","v":0},{"$f":"'INVENT.Mat&Outillag Importé -10'!C26","v":0},{"$f":"'INVENT.Mat&Outillag Importé -10'!H26","v":0},null,0,0,0,0,0,0,null,null,0,0,0,0]
[21,{"$f":"'INVENT.Mat&Outillag Importé -10'!B27","v":0},{"$f":"'INVENT.Mat&Outillag Importé -10'!F27","v":0},{"$f":"'INVENT.Mat&Outillag Importé -10'!C27","v":0},{"$f":"'INVENT.Mat&Outillag Importé -10'!H27","v":0},null,0,0,0,0,0,0,null,null,0,0,0,0]
[22,{"$f":"'INVENT.Mat&Outillag Importé -10'!B28","v":0},{"$f":"'INVENT.Mat&Outillag Importé -10'!F28","v":0},{"$f":"'INVENT.Mat&Outillag Importé -10'!C28","v":0},{"$f":"'INVENT.Mat&Outillag Importé -10'!H28","v":0},null,0,0,0,0,0,0,null,null,0,0,0,0]
[23,{"$f":"'INVENT.Mat&Outillag Importé -10'!B29","v":0},{"$f":"'INVENT.Mat&Outillag Importé -10'!F29","v":0},{"$f":"'INVENT.Mat&Outillag Importé -10'!C29","v":0},{"$f":"'INVENT.Mat&Outillag Importé -10'!H29","v":0},null,0,0,0,0,0,0,null,null,0,0,0,0]
[24,{"$f":"'INVENT.Mat&Outillag Importé -10'!B30","v":0},{"$f":"'INVENT.Mat&Outillag Importé -10'!F30","v":0},{"$f":"'INVENT.Mat&Outillag Importé -10'!C30","v":0},{"$f":"'INVENT.Mat&Outillag Importé -10'!H30","v":0},null,0,0,0,0,0,0,null,null,0,0,0,0]
[25,{"$f":"'INVENT.Mat&Outillag Importé -10'!B31","v":0},{"$f":"'INVENT.Mat&Outillag Importé -10'!F31","v":0},{"$f":"'INVENT.Mat&Outillag Importé -10'!C31","v":0},{"$f":"'INVENT.Mat&Outillag Importé -10'!H31","v":0},null,0,0,0,0,0,0,null,null,0,0,0,0]
[26,{"$f":"'INVENT.Mat&Outillag Importé -10'!B32","v":0},{"$f":"'INVENT.Mat&Outillag Importé -10'!F32","v":0},{"$f":"'INVENT.Mat&Outillag Importé -10'!C32","v":0},{"$f":"'INVENT.Mat&Outillag Importé -10'!H32","v":0},null,0,0,0,0,0,0,null,null,0,0,0,0]
[27,{"$f":"'INVENT.Mat&Outillag Importé -10'!B33","v":0},{"$f":"'INVENT.Mat&Outillag Importé -10'!F33","v":0},{"$f":"'INVENT.Mat&Outillag Importé -10'!C33","v":0},{"$f":"'INVENT.Mat&Outillag Importé -10'!H33","v":0},null,0,0,0,0,0,0,null,null,0,0,0,0]
[28,{"$f":"'INVENT.Mat&Outillag Importé -10'!B34","v":0},{"$f":"'INVENT.Mat&Outillag Importé -10'!F34","v":0},{"$f":"'INVENT.Mat&Outillag Importé -10'!C34","v":0},{"$f":"'INVENT.Mat&Outillag Importé -10'!H34","v":0},null,0,0,0,0,0,0,null,null,0,0,0,0]
[29,{"$f":"'INVENT.Mat&Outillag Importé -10'!B35","v":0},{"$f":"'INVENT.Mat&Outillag Importé -10'!F35","v":0},{"$f":"'INVENT.Mat&Outillag Importé -10'!C35","v":0},{"$f":"'INVENT.Mat&Outillag Importé -10'!H35","v":0},null,0,0,0,0,0,0,null,null,0,0,0,0]
[30,{"$f":"'INVENT.Mat&Outillag Importé -10'!B36","v":0},{"$f":"'INVENT.Mat&Outillag Importé -10'!F36","v":0},{"$f":"'INVENT.Mat&Outillag Importé -10'!C36","v":0},{"$f":"'INVENT.Mat&Outillag Importé -10'!H36","v":0},null,0,0,0,0,0,0,null,null,0,0,0,0]
[31,{"$f":"'INVENT.Mat&Outillag Importé -10'!B37","v":0},{"$f":"'INVENT.Mat&Outillag Importé -10'!F37","v":0},{"$f":"'INVENT.Mat&Outillag Importé -10'!C37","v":0},{"$f":"'INVENT.Mat&Outillag Importé -10'!H37","v":0},null,0,0,0,0,0,0,null,null,0,0,0,0]
[32,{"$f":"'INVENT.Mat&Outillag Importé -10'!B38","v":0},{"$f":"'INVENT.Mat&Outillag Importé -10'!F38","v":0},{"$f":"'INVENT.Mat&Outillag Importé -10'!C38","v":0},{"$f":"'INVENT.Mat&Outillag Importé -10'!H38","v":0},null,0,0,0,0,0,0,null,null,0,0,0,0]
[33,{"$f":"'INVENT.Mat&Outillag Importé -10'!B39","v":0},{"$f":"'INVENT.Mat&Outillag Importé -10'!F39","v":0},{"$f":"'INVENT.Mat&Outillag Importé -10'!C39","v":0},{"$f":"'INVENT.Mat&Outillag Importé -10'!H39","v":0},null,0,0,0,0,0,0,null,null,0,0,0,0]
[34,{"$f":"'INVENT.Mat&Outillag Importé -10'!B40","v":0},{"$f":"'INVENT.Mat&Outillag Importé -10'!F40","v":0},{"$f":"'INVENT.Mat&Outillag Importé -10'!C40","v":0},{"$f":"'INVENT.Mat&Outillag Importé -10'!H40","v":0},null,0,0,0,0,0,0,null,null,0,0,0,0]
[35,{"$f":"'INVENT.Mat&Outillag Importé -10'!B41","v":0},{"$f":"'INVENT.Mat&Outillag Importé -10'!F41","v":0},{"$f":"'INVENT.Mat&Outillag Importé -10'!C41","v":0},{"$f":"'INVENT.Mat&Outillag Importé -10'!H41","v":0},null,0,0,0,0,0,0,null,null,0,0,0,0]
[36,{"$f":"'INVENT.Mat&Outillag Importé -10'!B42","v":0},{"$f":"'INVENT.Mat&Outillag Importé -10'!F42","v":0},{"$f":"'INVENT.Mat&Outillag Importé -10'!C42","v":0},{"$f":"'INVENT.Mat&Outillag Importé -10'!H42","v":0},null,0,0,0,0,0,0,null,null,0,0,0,0]
[37,{"$f":"'INVENT.Mat&Outillag Importé -10'!B43","v":0},{"$f":"'INVENT.Mat&Outillag Importé -10'!F43","v":0},{"$f":"'INVENT.Mat&Outillag Importé -10'!C43","v":0},{"$f":"'INVENT.Mat&Outillag Importé -10'!H43","v":0},null,0,0,0,0,0,0,null,null,0,0,0,0]
[38,{"$f":"'INVENT.Mat&Outillag Importé -10'!B44","v":0},{"$f":"'INVENT.Mat&Outillag Importé -10'!F44","v":0},{"$f":"'INVENT.Mat&Outillag Importé -10'!C44","v":0},{"$f":"'INVENT.Mat&Outillag Importé -10'!H44","v":0},null,{"$f":"F45*E45","v":0},0,0,0,{"$f":"(E45+G45+H45)*18%","v":0},0,null,null,0,0,0,0]
[39,{"$f":"'INVENT.Mat&Outillag Importé -10'!B45","v":0},{"$f":"'INVENT.Mat&Outillag Importé -10'!F45","v":0},{"$f":"'INVENT.Mat&Outillag Importé -10'!C45","v":0},{"$f":"'INVENT.Mat&Outillag Importé -10'!H45","v":0},null,0,0,0,0,0,0,null,null,0,0,0,0]
[{"$f":"+A46+1","v":40},{"$f":"'INVENT.Mat&Outillag Importé -10'!B46","v":0},{"$f":"'INVENT.Mat&Outillag Importé -10'!F46","v":0},{"$f":"'INVENT.Mat&Outillag Importé -10'!C46","v":0},{"$f":"'INVENT.Mat&Outillag Importé -10'!H46","v":0},null,{"$f":"F47*E47","v":0},0,0,0,{"$f":"(E47+G47+H47)*18%","v":0},0,null,null,0,0,0,0]
[41,{"$f":"'INVENT.Mat&Outillag Importé -10'!B47","v":0},{"$f":"'INVENT.Mat&Outillag Importé -10'!F47","v":0},{"$f":"'INVENT.Mat&Outillag Importé -10'!C47","v":0},{"$f":"'INVENT.Mat&Outillag Importé -10'!H47","v":0},null,0,0,0,0,0,0,null,null,0,0,0,0]
[42,{"$f":"'INVENT.Mat&Outillag Importé -10'!B48","v":0},{"$f":"'INVENT.Mat&Outillag Importé -10'!F48","v":0},{"$f":"'INVENT.Mat&Outillag Importé -10'!C48","v":0},{"$f":"'INVENT.Mat&Outillag Importé -10'!H48","v":0},null,0,0,0,0,0,0,null,null,0,0,0,0]
[43,{"$f":"'INVENT.Mat&Outillag Importé -10'!B49","v":0},{"$f":"'INVENT.Mat&Outillag Importé -10'!F49","v":0},{"$f":"'INVENT.Mat&Outillag Importé -10'!C49","v":0},{"$f":"'INVENT.Mat&Outillag Importé -10'!H49","v":0},null,0,0,0,0,0,0,null,null,0,0,0,0]
[44,{"$f":"'INVENT.Mat&Outillag Importé -10'!B50","v":0},{"$f":"'INVENT.Mat&Outillag Importé -10'!F50","v":0},{"$f":"'INVENT.Mat&Outillag Importé -10'!C50","v":0},{"$f":"'INVENT.Mat&Outillag Importé -10'!H50","v":0},null,0,0,0,0,0,0,null,null,0,0,0,0]
[45,{"$f":"'INVENT.Mat&Outillag Importé -10'!B51","v":0},{"$f":"'INVENT.Mat&Outillag Importé -10'!F51","v":0},{"$f":"'INVENT.Mat&Outillag Importé -10'!C51","v":0},{"$f":"'INVENT.Mat&Outillag Importé -10'!H51","v":0},null,0,0,0,0,0,0,null,null,0,0,0,0]
[46,{"$f":"'INVENT.Mat&Outillag Importé -10'!B52","v":0},{"$f":"'INVENT.Mat&Outillag Importé -10'!F52","v":0},{"$f":"'INVENT.Mat&Outillag Importé -10'!C52","v":0},{"$f":"'INVENT.Mat&Outillag Importé -10'!H52","v":0},null,0,0,0,0,0,0,null,null,0,0,0,0]
[47,{"$f":"'INVENT.Mat&Outillag Importé -10'!B53","v":0},{"$f":"'INVENT.Mat&Outillag Importé -10'!F53","v":0},{"$f":"'INVENT.Mat&Outillag Importé -10'!C53","v":0},{"$f":"'INVENT.Mat&Outillag Importé -10'!H53","v":0},null,0,0,0,0,0,0,null,null,0,0,0,0]
[48,{"$f":"'INVENT.Mat&Outillag Importé -10'!B54","v":0},{"$f":"'INVENT.Mat&Outillag Importé -10'!F54","v":0},{"$f":"'INVENT.Mat&Outillag Importé -10'!C54","v":0},{"$f":"'INVENT.Mat&Outillag Importé -10'!H54","v":0},null,{"$f":"F55*E55","v":0},0,0,0,{"$f":"(E55+G55+H55)*18%","v":0},{"$f":"SUM(G55:K55)+E55","v":0},null,null,{"$f":"(M55+N55)*18%","v":0},{"$f":"O55+N55+M55","v":0},{"$f":"+R55-O55-K55","v":0},{"$f":"P55+L55","v":0}]
[49,{"$f":"'INVENT.Mat&Outillag Importé -10'!B55","v":0},{"$f":"'INVENT.Mat&Outillag Importé -10'!F55","v":0},{"$f":"'INVENT.Mat&Outillag Importé -10'!C55","v":0},{"$f":"'INVENT.Mat&Outillag Importé -10'!H55","v":0},null,0,0,0,0,0,0,null,null,0,0,0,0]
[50,{"$f":"'INVENT.Mat&Outillag Importé -10'!B56","v":0},{"$f":"'INVENT.Mat&Outillag Importé -10'!F56","v":0},{"$f":"'INVENT.Mat&Outillag Importé -10'!C56","v":0},{"$f":"'INVENT.Mat&Outillag Importé -10'!H56","v":0},null,0,0,0,0,0,0,null,null,0,0,0,0]
[51,{"$f":"'INVENT.Mat&Outillag Importé -10'!B57","v":0},{"$f":"'INVENT.Mat&Outillag Importé -10'!F57","v":0},{"$f":"'INVENT.Mat&Outillag Importé -10'!C57","v":0},{"$f":"'INVENT.Mat&Outillag Importé -10'!H57","v":0},null,0,0,0,0,0,0,null,null,0,0,0,0]
[52,{"$f":"'INVENT.Mat&Outillag Importé -10'!B58","v":0},{"$f":"'INVENT.Mat&Outillag Importé -10'!F58","v":0},{"$f":"'INVENT.Mat&Outillag Importé -10'!C58","v":0},{"$f":"'INVENT.Mat&Outillag Importé -10'!H58","v":0},null,0,0,0,0,0,0,null,null,0,0,0,0]
[53,{"$f":"'INVENT.Mat&Outillag Importé -10'!B59","v":0},{"$f":"'INVENT.Mat&Outillag Importé -10'!F59","v":0},{"$f":"'INVENT.Mat&Outillag Importé -10'!C59","v":0},{"$f":"'INVENT.Mat&Outillag Importé -10'!H59","v":0},null,0,0,0,0,0,0,null,null,0,0,0,0]
[54,{"$f":"'INVENT.Mat&Outillag Importé -10'!B60","v":0},{"$f":"'INVENT.Mat&Outillag Importé -10'!F60","v":0},{"$f":"'INVENT.Mat&Outillag Importé -10'!C60","v":0},{"$f":"'INVENT.Mat&Outillag Importé -10'!H60","v":0},null,0,0,0,0,0,0,null,null,0,0,0,0]
[55,{"$f":"'INVENT.Mat&Outillag Importé -10'!B61","v":0},{"$f":"'INVENT.Mat&Outillag Importé -10'!F61","v":0},{"$f":"'INVENT.Mat&Outillag Importé -10'!C61","v":0},{"$f":"'INVENT.Mat&Outillag Importé -10'!H61","v":0},null,0,0,0,0,0,0,null,null,0,0,0,0]
[56,{"$f":"'INVENT.Mat&Outillag Importé -10'!B62","v":0},{"$f":"'INVENT.Mat&Outillag Importé -10'!F62","v":0},{"$f":"'INVENT.Mat&Outillag Importé -10'!C62","v":0},{"$f":"'INVENT.Mat&Outillag Importé -10'!H62","v":0},null,0,0,0,0,0,0,null,null,0,0,0,0]
[57,{"$f":"'INVENT.Mat&Outillag Importé -10'!B63","v":0},{"$f":"'INVENT.Mat&Outillag Importé -10'!F63","v":0},{"$f":"'INVENT.Mat&Outillag Importé -10'!C63","v":0},{"$f":"'INVENT.Mat&Outillag Importé -10'!H63","v":0},null,0,0,0,0,0,0,null,null,0,0,0,0]
[58,{"$f":"'INVENT.Mat&Outillag Importé -10'!B64","v":0},{"$f":"'INVENT.Mat&Outillag Importé -10'!F64","v":0},{"$f":"'INVENT.Mat&Outillag Importé -10'!C64","v":0},{"$f":"'INVENT.Mat&Outillag Importé -10'!H64","v":0},null,0,0,0,0,0,0,null,null,0,0,0,0]
[59,{"$f":"'INVENT.Mat&Outillag Importé -10'!B65","v":0},{"$f":"'INVENT.Mat&Outillag Importé -10'!F65","v":0},{"$f":"'INVENT.Mat&Outillag Importé -10'!C65","v":0},{"$f":"'INVENT.Mat&Outillag Importé -10'!H65","v":0},null,0,0,0,0,0,0,null,null,0,0,0,0]
[60,{"$f":"'INVENT.Mat&Outillag Importé -10'!B66","v":0},{"$f":"'INVENT.Mat&Outillag Importé -10'!F66","v":0},{"$f":"'INVENT.Mat&Outillag Importé -10'!C66","v":0},{"$f":"'INVENT.Mat&Outillag Importé -10'!H66","v":0},null,0,0,0,0,0,0,null,null,0,0,0,0]
[61,{"$f":"'INVENT.Mat&Outillag Importé -10'!B67","v":0},{"$f":"'INVENT.Mat&Outillag Importé -10'!F67","v":0},{"$f":"'INVENT.Mat&Outillag Importé -10'!C67","v":0},{"$f":"'INVENT.Mat&Outillag Importé -10'!H67","v":0},null,0,0,0,0,0,0,null,null,0,0,0,0]
[62,{"$f":"'INVENT.Mat&Outillag Importé -10'!B68","v":0},{"$f":"'INVENT.Mat&Outillag Importé -10'!F68","v":0},{"$f":"'INVENT.Mat&Outillag Importé -10'!C68","v":0},{"$f":"'INVENT.Mat&Outillag Importé -10'!H68","v":0},null,0,0,0,0,0,0,null,null,0,0,0,0]
[63,{"$f":"'INVENT.Mat&Outillag Importé -10'!B69","v":0},{"$f":"'INVENT.Mat&Outillag Importé -10'!F69","v":0},{"$f":"'INVENT.Mat&Outillag Importé -10'!C69","v":0},{"$f":"'INVENT.Mat&Outillag Importé -10'!H69","v":0},null,0,0,0,0,0,0,null,null,0,0,0,0]
[64,{"$f":"'INVENT.Mat&Outillag Importé -10'!B70","v":0},{"$f":"'INVENT.Mat&Outillag Importé -10'!F70","v":0},{"$f":"'INVENT.Mat&Outillag Importé -10'!C70","v":0},{"$f":"'INVENT.Mat&Outillag Importé -10'!H70","v":0},null,0,0,0,0,0,0,null,null,0,0,0,0]
[65,{"$f":"'INVENT.Mat&Outillag Importé -10'!B71","v":0},{"$f":"'INVENT.Mat&Outillag Importé -10'!F71","v":0},{"$f":"'INVENT.Mat&Outillag Importé -10'!C71","v":0},{"$f":"'INVENT.Mat&Outillag Importé -10'!H71","v":0},null,0,0,0,0,0,0,null,null,0,0,0,0]
[66,{"$f":"'INVENT.Mat&Outillag Importé -10'!B72","v":0},{"$f":"'INVENT.Mat&Outillag Importé -10'!F72","v":0},{"$f":"'INVENT.Mat&Outillag Importé -10'!C72","v":0},{"$f":"'INVENT.Mat&Outillag Importé -10'!H72","v":0},null,0,{"$f":"E73*1%","v":0},{"$f":"E73*1%","v":0},{"$f":"E73*0.5%","v":0},0,0,null,null,0,0,0,0]
[67,{"$f":"'INVENT.Mat&Outillag Importé -10'!B73","v":0},{"$f":"'INVENT.Mat&Outillag Importé -10'!F73","v":0},{"$f":"'INVENT.Mat&Outillag Importé -10'!C73","v":0},{"$f":"'INVENT.Mat&Outillag Importé -10'!H73","v":0},null,0,0,0,0,0,0,null,null,0,0,0,0]
[68,{"$f":"'INVENT.Mat&Outillag Importé -10'!B74","v":0},{"$f":"'INVENT.Mat&Outillag Importé -10'!F74","v":0},{"$f":"'INVENT.Mat&Outillag Importé -10'!C74","v":0},{"$f":"'INVENT.Mat&Outillag Importé -10'!H74","v":0},null,0,0,0,0,0,0,null,null,0,0,0,0]
[69,{"$f":"'INVENT.Mat&Outillag Importé -10'!B75","v":0},{"$f":"'INVENT.Mat&Outillag Importé -10'!F75","v":0},{"$f":"'INVENT.Mat&Outillag Importé -10'!C75","v":0},{"$f":"'INVENT.Mat&Outillag Importé -10'!H75","v":0},null,0,0,0,0,0,0,null,null,0,0,0,0]
[70,{"$f":"'INVENT.Mat&Outillag Importé -10'!B76","v":0},{"$f":"'INVENT.Mat&Outillag Importé -10'!F76","v":0},{"$f":"'INVENT.Mat&Outillag Importé -10'!C76","v":0},{"$f":"'INVENT.Mat&Outillag Importé -10'!H76","v":0},null,0,0,0,0,0,0,null,null,0,0,0,0]
[71,{"$f":"'INVENT.Mat&Outillag Importé -10'!B77","v":0},{"$f":"'INVENT.Mat&Outillag Importé -10'!F77","v":0},{"$f":"'INVENT.Mat&Outillag Importé -10'!C77","v":0},{"$f":"'INVENT.Mat&Outillag Importé -10'!H77","v":0},null,0,0,0,0,0,0,null,null,0,0,0,0]
[72,{"$f":"'INVENT.Mat&Outillag Importé -10'!B78","v":0},{"$f":"'INVENT.Mat&Outillag Importé -10'!F78","v":0},{"$f":"'INVENT.Mat&Outillag Importé -10'!C78","v":0},{"$f":"'INVENT.Mat&Outillag Importé -10'!H78","v":0},null,0,0,0,0,0,0,null,null,0,0,0,0]
[73,{"$f":"'INVENT.Mat&Outillag Importé -10'!B79","v":0},{"$f":"'INVENT.Mat&Outillag Importé -10'!F79","v":0},{"$f":"'INVENT.Mat&Outillag Importé -10'!C79","v":0},{"$f":"'INVENT.Mat&Outillag Importé -10'!H79","v":0},null,0,0,0,0,0,0,null,null,0,0,0,0]
[74,{"$f":"'INVENT.Mat&Outillag Importé -10'!B80","v":0},{"$f":"'INVENT.Mat&Outillag Importé -10'!F80","v":0},{"$f":"'INVENT.Mat&Outillag Importé -10'!C80","v":0},{"$f":"'INVENT.Mat&Outillag Importé -10'!H80","v":0},null,0,0,0,0,0,0,null,null,0,0,0,0]
[75,{"$f":"'INVENT.Mat&Outillag Importé -10'!B81","v":0},{"$f":"'INVENT.Mat&Outillag Importé -10'!F81","v":0},{"$f":"'INVENT.Mat&Outillag Importé -10'!C81","v":0},{"$f":"'INVENT.Mat&Outillag Importé -10'!H81","v":0},null,0,0,0,0,0,0,null,null,0,0,0,0]
[76,{"$f":"'INVENT.Mat&Outillag Importé -10'!B82","v":0},{"$f":"'INVENT.Mat&Outillag Importé -10'!F82","v":0},{"$f":"'INVENT.Mat&Outillag Importé -10'!C82","v":0},{"$f":"'INVENT.Mat&Outillag Importé -10'!H82","v":0},null,0,0,0,0,0,0,null,null,0,0,0,0]
[77,{"$f":"'INVENT.Mat&Outillag Importé -10'!B83","v":0},{"$f":"'INVENT.Mat&Outillag Importé -10'!F83","v":0},{"$f":"'INVENT.Mat&Outillag Importé -10'!C83","v":0},{"$f":"'INVENT.Mat&Outillag Importé -10'!H83","v":0},null,0,0,0,0,0,0,null,null,0,0,0,0]
[78,{"$f":"'INVENT.Mat&Outillag Importé -10'!B84","v":0},{"$f":"'INVENT.Mat&Outillag Importé -10'!F84","v":0},{"$f":"'INVENT.Mat&Outillag Importé -10'!C84","v":0},{"$f":"'INVENT.Mat&Outillag Importé -10'!H84","v":0},null,0,0,0,0,0,0,null,null,0,0,0,0]
[79,{"$f":"'INVENT.Mat&Outillag Importé -10'!B85","v":0},{"$f":"'INVENT.Mat&Outillag Importé -10'!F85","v":0},{"$f":"'INVENT.Mat&Outillag Importé -10'!C85","v":0},{"$f":"'INVENT.Mat&Outillag Importé -10'!H85","v":0},null,0,0,0,0,0,0,null,null,0,0,0,0]
[80,{"$f":"'INVENT.Mat&Outillag Importé -10'!B86","v":0},{"$f":"'INVENT.Mat&Outillag Importé -10'!F86","v":0},{"$f":"'INVENT.Mat&Outillag Importé -10'!C86","v":0},{"$f":"'INVENT.Mat&Outillag Importé -10'!H86","v":0},null,0,0,0,0,0,0,null,null,0,0,0,0]
[81,{"$f":"'INVENT.Mat&Outillag Importé -10'!B87","v":0},{"$f":"'INVENT.Mat&Outillag Importé -10'!F87","v":0},{"$f":"'INVENT.Mat&Outillag Importé -10'!C87","v":0},{"$f":"'INVENT.Mat&Outillag Importé -10'!H87","v":0},null,0,0,0,0,0,0,null,null,0,0,0,0]
[82,{"$f":"'INVENT.Mat&Outillag Importé -10'!B88","v":0},{"$f":"'INVENT.Mat&Outillag Importé -10'!F88","v":0},{"$f":"'INVENT.Mat&Outillag Importé -10'!C88","v":0},{"$f":"'INVENT.Mat&Outillag Importé -10'!H88","v":0},null,0,0,0,0,0,0,null,null,0,0,0,0]
[83,{"$f":"'INVENT.Mat&Outillag Importé -10'!B89","v":0},{"$f":"'INVENT.Mat&Outillag Importé -10'!F89","v":0},{"$f":"'INVENT.Mat&Outillag Importé -10'!C89","v":0},{"$f":"'INVENT.Mat&Outillag Importé -10'!H89","v":0},null,0,0,0,0,0,0,null,null,0,0,0,0]
[84,{"$f":"'INVENT.Mat&Outillag Importé -10'!B90","v":0},{"$f":"'INVENT.Mat&Outillag Importé -10'!F90","v":0},{"$f":"'INVENT.Mat&Outillag Importé -10'!C90","v":0},{"$f":"'INVENT.Mat&Outillag Importé -10'!H90","v":0},null,0,0,0,0,0,0,null,null,0,0,0,0]
[85,{"$f":"'INVENT.Mat&Outillag Importé -10'!B91","v":0},{"$f":"'INVENT.Mat&Outillag Importé -10'!F91","v":0},{"$f":"'INVENT.Mat&Outillag Importé -10'!C91","v":0},{"$f":"'INVENT.Mat&Outillag Importé -10'!H91","v":0},null,0,0,0,0,0,0,null,null,0,0,0,0]
[86,{"$f":"'INVENT.Mat&Outillag Importé -10'!B92","v":0},{"$f":"'INVENT.Mat&Outillag Importé -10'!F92","v":0},{"$f":"'INVENT.Mat&Outillag Importé -10'!C92","v":0},{"$f":"'INVENT.Mat&Outillag Importé -10'!H92","v":0},null,0,0,0,0,0,0,null,null,0,0,0,0]
[87,{"$f":"'INVENT.Mat&Outillag Importé -10'!B93","v":0},{"$f":"'INVENT.Mat&Outillag Importé -10'!F93","v":0},{"$f":"'INVENT.Mat&Outillag Importé -10'!C93","v":0},{"$f":"'INVENT.Mat&Outillag Importé -10'!H93","v":0},null,0,0,0,0,0,0,null,null,0,0,0,0]
[88,{"$f":"'INVENT.Mat&Outillag Importé -10'!B94","v":0},{"$f":"'INVENT.Mat&Outillag Importé -10'!F94","v":0},{"$f":"'INVENT.Mat&Outillag Importé -10'!C94","v":0},{"$f":"'INVENT.Mat&Outillag Importé -10'!H94","v":0},null,0,0,0,0,0,0,null,null,0,0,0,0]
[89,{"$f":"'INVENT.Mat&Outillag Importé -10'!B95","v":0},{"$f":"'INVENT.Mat&Outillag Importé -10'!F95","v":0},{"$f":"'INVENT.Mat&Outillag Importé -10'!C95","v":0},{"$f":"'INVENT.Mat&Outillag Importé -10'!H95","v":0},null,0,0,0,0,0,0,null,null,0,0,0,0]
[90,{"$f":"'INVENT.Mat&Outillag Importé -10'!B96","v":0},{"$f":"'INVENT.Mat&Outillag Importé -10'!F96","v":0},{"$f":"'INVENT.Mat&Outillag Importé -10'!C96","v":0},{"$f":"'INVENT.Mat&Outillag Importé -10'!H96","v":0},null,0,0,0,0,0,0,null,null,0,0,0,0]
[91,{"$f":"'INVENT.Mat&Outillag Importé -10'!B97","v":0},{"$f":"'INVENT.Mat&Outillag Importé -10'!F97","v":0},{"$f":"'INVENT.Mat&Outillag Importé -10'!C97","v":0},{"$f":"'INVENT.Mat&Outillag Importé -10'!H97","v":0},null,0,0,0,0,0,0,null,null,0,0,0,0]
[92,{"$f":"'INVENT.Mat&Outillag Importé -10'!B98","v":0},{"$f":"'INVENT.Mat&Outillag Importé -10'!F98","v":0},{"$f":"'INVENT.Mat&Outillag Importé -10'!C98","v":0},{"$f":"'INVENT.Mat&Outillag Importé -10'!H98","v":0},null,0,0,0,0,0,0,null,null,0,0,0,0]
[93,{"$f":"'INVENT.Mat&Outillag Importé -10'!B99","v":0},{"$f":"'INVENT.Mat&Outillag Importé -10'!F99","v":0},{"$f":"'INVENT.Mat&Outillag Importé -10'!C99","v":0},{"$f":"'INVENT.Mat&Outillag Importé -10'!H99","v":0},null,0,0,0,0,0,0,null,null,0,0,0,0]
[94,{"$f":"'INVENT.Mat&Outillag Importé -10'!B100","v":0},{"$f":"'INVENT.Mat&Outillag Importé -10'!F100","v":0},{"$f":"'INVENT.Mat&Outillag Importé -10'!C100","v":0},{"$f":"'INVENT.Mat&Outillag Importé -10'!H100","v":0},null,0,0,0,0,0,0,null,null,0,0,0,0]
[95,{"$f":"'INVENT.Mat&Outillag Importé -10'!B101","v":0},{"$f":"'INVENT.Mat&Outillag Importé -10'!F101","v":0},{"$f":"'INVENT.Mat&Outillag Importé -10'!C101","v":0},{"$f":"'INVENT.Mat&Outillag Importé -10'!H101","v":0},null,0,0,0,0,0,0,null,null,0,0,0,0]
[96,{"$f":"'INVENT.Mat&Outillag Importé -10'!B102","v":0},{"$f":"'INVENT.Mat&Outillag Importé -10'!F102","v":0},{"$f":"'INVENT.Mat&Outillag Importé -10'!C102","v":0},{"$f":"'INVENT.Mat&Outillag Importé -10'!H102","v":0},null,0,0,0,0,0,0,null,null,0,0,0,0]
[97,{"$f":"'INVENT.Mat&Outillag Importé -10'!B103","v":0},{"$f":"'INVENT.Mat&Outillag Importé -10'!F103","v":0},{"$f":"'INVENT.Mat&Outillag Importé -10'!C103","v":0},{"$f":"'INVENT.Mat&Outillag Importé -10'!H103","v":0},null,0,0,0,0,0,0,null,null,0,0,0,0]
[98,{"$f":"'INVENT.Mat&Outillag Importé -10'!B104","v":0},{"$f":"'INVENT.Mat&Outillag Importé -10'!F104","v":0},{"$f":"'INVENT.Mat&Outillag Importé -10'!C104","v":0},{"$f":"'INVENT.Mat&Outillag Importé -10'!H104","v":0},null,0,0,0,0,0,0,null,null,0,0,0,0]
[99,{"$f":"'INVENT.Mat&Outillag Importé -10'!B105","v":0},{"$f":"'INVENT.Mat&Outillag Importé -10'!F105","v":0},{"$f":"'INVENT.Mat&Outillag Importé -10'!C105","v":0},{"$f":"'INVENT.Mat&Outillag Importé -10'!H105","v":0},null,0,0,0,0,0,0,null,null,0,0,0,0]
[100,{"$f":"'INVENT.Mat&Outillag Importé -10'!B106","v":0},{"$f":"'INVENT.Mat&Outillag Importé -10'!F106","v":0},{"$f":"'INVENT.Mat&Outillag Importé -10'!C106","v":0},{"$f":"'INVENT.Mat&Outillag Importé -10'!H106","v":0},null,0,0,0,0,0,0,null,null,0,0,0,0]
[101,{"$f":"'INVENT.Mat&Outillag Importé -10'!B107","v":0},{"$f":"'INVENT.Mat&Outillag Importé -10'!F107","v":0},{"$f":"'INVENT.Mat&Outillag Importé -10'!C107","v":0},{"$f":"'INVENT.Mat&Outillag Importé -10'!H107","v":0},null,0,0,0,0,0,0,null,null,0,0,0,0]
[102,{"$f":"'INVENT.Mat&Outillag Importé -10'!B108","v":0},{"$f":"'INVENT.Mat&Outillag Importé -10'!F108","v":0},{"$f":"'INVENT.Mat&Outillag Importé -10'!C108","v":0},{"$f":"'INVENT.Mat&Outillag Importé -10'!H108","v":0},null,0,0,0,0,0,0,null,null,0,0,0,0]
[103,{"$f":"'INVENT.Mat&Outillag Importé -10'!B109","v":0},{"$f":"'INVENT.Mat&Outillag Importé -10'!F109","v":0},{"$f":"'INVENT.Mat&Outillag Importé -10'!C109","v":0},{"$f":"'INVENT.Mat&Outillag Importé -10'!H109","v":0},null,0,0,0,0,0,0,null,null,0,0,0,0]
[{"$f":"+A110+1","v":104},{"$f":"'INVENT.Mat&Outillag Importé -10'!B110","v":0},{"$f":"'INVENT.Mat&Outillag Importé -10'!F110","v":0},{"$f":"'INVENT.Mat&Outillag Importé -10'!C110","v":0},{"$f":"'INVENT.Mat&Outillag Importé -10'!H110","v":0},null,0,0,0,0,0,0,null,null,0,0,0,0]
[105,{"$f":"'INVENT.Mat&Outillag Importé -10'!B111","v":0},{"$f":"'INVENT.Mat&Outillag Importé -10'!F111","v":0},{"$f":"'INVENT.Mat&Outillag Importé -10'!C111","v":0},{"$f":"'INVENT.Mat&Outillag Importé -10'!H111","v":0},null,0,0,0,0,0,0,null,null,0,0,0,0]
[106,{"$f":"'INVENT.Mat&Outillag Importé -10'!B112","v":0},{"$f":"'INVENT.Mat&Outillag Importé -10'!F112","v":0},{"$f":"'INVENT.Mat&Outillag Importé -10'!C112","v":0},{"$f":"'INVENT.Mat&Outillag Importé -10'!H112","v":0},null,0,0,0,0,0,0,null,null,0,0,0,0]
[107,{"$f":"'INVENT.Mat&Outillag Importé -10'!B113","v":0},{"$f":"'INVENT.Mat&Outillag Importé -10'!F113","v":0},{"$f":"'INVENT.Mat&Outillag Importé -10'!C113","v":0},{"$f":"'INVENT.Mat&Outillag Importé -10'!H113","v":0},null,0,0,0,0,0,0,null,null,0,0,0,0]
[108,{"$f":"'INVENT.Mat&Outillag Importé -10'!B114","v":0},{"$f":"'INVENT.Mat&Outillag Importé -10'!F114","v":0},{"$f":"'INVENT.Mat&Outillag Importé -10'!C114","v":0},{"$f":"'INVENT.Mat&Outillag Importé -10'!H114","v":0},null,0,0,0,0,0,0,null,null,0,0,0,0]
[109,{"$f":"'INVENT.Mat&Outillag Importé -10'!B115","v":0},{"$f":"'INVENT.Mat&Outillag Importé -10'!F115","v":0},{"$f":"'INVENT.Mat&Outillag Importé -10'!C115","v":0},{"$f":"'INVENT.Mat&Outillag Importé -10'!H115","v":0},null,0,0,0,0,0,0,null,null,0,0,0,0]
[110,{"$f":"'INVENT.Mat&Outillag Importé -10'!B116","v":0},{"$f":"'INVENT.Mat&Outillag Importé -10'!F116","v":0},{"$f":"'INVENT.Mat&Outillag Importé -10'!C116","v":0},{"$f":"'INVENT.Mat&Outillag Importé -10'!H116","v":0},null,0,0,0,0,0,0,null,null,0,0,0,0]
[111,{"$f":"'INVENT.Mat&Outillag Importé -10'!B117","v":0},{"$f":"'INVENT.Mat&Outillag Importé -10'!F117","v":0},{"$f":"'INVENT.Mat&Outillag Importé -10'!C117","v":0},{"$f":"'INVENT.Mat&Outillag Importé -10'!H117","v":0},null,0,0,0,0,0,0,null,null,0,0,0,0]
[112,{"$f":"'INVENT.Mat&Outillag Importé -10'!B118","v":0},{"$f":"'INVENT.Mat&Outillag Importé -10'!F118","v":0},{"$f":"'INVENT.Mat&Outillag Importé -10'!C118","v":0},{"$f":"'INVENT.Mat&Outillag Importé -10'!H118","v":0},null,{"$f":"F119*E119","v":0},0,0,0,{"$f":"(E119+G119+H119)*18%","v":0},{"$f":"SUM(G119:K119)+E119","v":0},null,null,{"$f":"(M119+N119)*18%","v":0},{"$f":"O119+N119+M119","v":0},{"$f":"+R119-O119-K119","v":0},{"$f":"P119+L119","v":0}]
[113,{"$f":"'INVENT.Mat&Outillag Importé -10'!B119","v":0},{"$f":"'INVENT.Mat&Outillag Importé -10'!F119","v":0},{"$f":"'INVENT.Mat&Outillag Importé -10'!C119","v":0},{"$f":"'INVENT.Mat&Outillag Importé -10'!H119","v":0},null,0,0,0,0,0,0,null,null,0,0,0,0]
[114,{"$f":"'INVENT.Mat&Outillag Importé -10'!B120","v":0},{"$f":"'INVENT.Mat&Outillag Importé -10'!F120","v":0},{"$f":"'INVENT.Mat&Outillag Importé -10'!C120","v":0},{"$f":"'INVENT.Mat&Outillag Importé -10'!H120","v":0},null,0,0,0,0,0,0,null,null,0,0,0,0]
[115,{"$f":"'INVENT.Mat&Outillag Importé -10'!B121","v":0},{"$f":"'INVENT.Mat&Outillag Importé -10'!F121","v":0},{"$f":"'INVENT.Mat&Outillag Importé -10'!C121","v":0},{"$f":"'INVENT.Mat&Outillag Importé -10'!H121","v":0},null,0,0,0,0,0,0,null,null,0,0,0,0]
[116,{"$f":"'INVENT.Mat&Outillag Importé -10'!B122","v":0},{"$f":"'INVENT.Mat&Outillag Importé -10'!F122","v":0},{"$f":"'INVENT.Mat&Outillag Importé -10'!C122","v":0},{"$f":"'INVENT.Mat&Outillag Importé -10'!H122","v":0},null,0,0,0,0,0,0,null,null,0,0,0,0]
[117,{"$f":"'INVENT.Mat&Outillag Importé -10'!B123","v":0},{"$f":"'INVENT.Mat&Outillag Importé -10'!F123","v":0},{"$f":"'INVENT.Mat&Outillag Importé -10'!C123","v":0},{"$f":"'INVENT.Mat&Outillag Importé -10'!H123","v":0},null,0,0,0,0,0,0,null,null,0,0,0,0]
[118,{"$f":"'INVENT.Mat&Outillag Importé -10'!B124","v":0},{"$f":"'INVENT.Mat&Outillag Importé -10'!F124","v":0},{"$f":"'INVENT.Mat&Outillag Importé -10'!C124","v":0},{"$f":"'INVENT.Mat&Outillag Importé -10'!H124","v":0},null,0,0,0,0,0,0,null,null,0,0,0,0]
[119,{"$f":"'INVENT.Mat&Outillag Importé -10'!B125","v":0},{"$f":"'INVENT.Mat&Outillag Importé -10'!F125","v":0},{"$f":"'INVENT.Mat&Outillag Importé -10'!C125","v":0},{"$f":"'INVENT.Mat&Outillag Importé -10'!H125","v":0},null,0,0,0,0,0,0,null,null,0,0,0,0]
[120,{"$f":"'INVENT.Mat&Outillag Importé -10'!B126","v":0},{"$f":"'INVENT.Mat&Outillag Importé -10'!F126","v":0},{"$f":"'INVENT.Mat&Outillag Importé -10'!C126","v":0},{"$f":"'INVENT.Mat&Outillag Importé -10'!H126","v":0},null,0,0,0,0,0,0,null,null,0,0,0,0]
[121,{"$f":"'INVENT.Mat&Outillag Importé -10'!B127","v":0},{"$f":"'INVENT.Mat&Outillag Importé -10'!F127","v":0},{"$f":"'INVENT.Mat&Outillag Importé -10'!C127","v":0},{"$f":"'INVENT.Mat&Outillag Importé -10'!H127","v":0},null,0,0,0,0,0,0,null,null,0,0,0,0]
[122,{"$f":"'INVENT.Mat&Outillag Importé -10'!B128","v":0},{"$f":"'INVENT.Mat&Outillag Importé -10'!F128","v":0},{"$f":"'INVENT.Mat&Outillag Importé -10'!C128","v":0},{"$f":"'INVENT.Mat&Outillag Importé -10'!H128","v":0},null,0,0,0,0,0,0,null,null,0,0,0,0]
[123,{"$f":"'INVENT.Mat&Outillag Importé -10'!B129","v":0},{"$f":"'INVENT.Mat&Outillag Importé -10'!F129","v":0},{"$f":"'INVENT.Mat&Outillag Importé -10'!C129","v":0},{"$f":"'INVENT.Mat&Outillag Importé -10'!H129","v":0},null,0,0,0,0,0,0,null,null,0,0,0,0]
[124,{"$f":"'INVENT.Mat&Outillag Importé -10'!B130","v":0},{"$f":"'INVENT.Mat&Outillag Importé -10'!F130","v":0},{"$f":"'INVENT.Mat&Outillag Importé -10'!C130","v":0},{"$f":"'INVENT.Mat&Outillag Importé -10'!H130","v":0},null,0,0,0,0,0,0,null,null,0,0,0,0]
[125,{"$f":"'INVENT.Mat&Outillag Importé -10'!B131","v":0},{"$f":"'INVENT.Mat&Outillag Importé -10'!F131","v":0},{"$f":"'INVENT.Mat&Outillag Importé -10'!C131","v":0},{"$f":"'INVENT.Mat&Outillag Importé -10'!H131","v":0},null,0,0,0,0,0,0,null,null,0,0,0,0]
[126,{"$f":"'INVENT.Mat&Outillag Importé -10'!B132","v":0},{"$f":"'INVENT.Mat&Outillag Importé -10'!F132","v":0},{"$f":"'INVENT.Mat&Outillag Importé -10'!C132","v":0},{"$f":"'INVENT.Mat&Outillag Importé -10'!H132","v":0},null,0,0,0,0,0,0,null,null,0,0,0,0]
[127,{"$f":"'INVENT.Mat&Outillag Importé -10'!B133","v":0},{"$f":"'INVENT.Mat&Outillag Importé -10'!F133","v":0},{"$f":"'INVENT.Mat&Outillag Importé -10'!C133","v":0},{"$f":"'INVENT.Mat&Outillag Importé -10'!H133","v":0},null,0,0,0,0,0,0,null,null,0,0,0,0]
[128,{"$f":"'INVENT.Mat&Outillag Importé -10'!B134","v":0},{"$f":"'INVENT.Mat&Outillag Importé -10'!F134","v":0},{"$f":"'INVENT.Mat&Outillag Importé -10'!C134","v":0},{"$f":"'INVENT.Mat&Outillag Importé -10'!H134","v":0},null,0,0,0,0,0,0,null,null,0,0,0,0]
[129,{"$f":"'INVENT.Mat&Outillag Importé -10'!B135","v":0},{"$f":"'INVENT.Mat&Outillag Importé -10'!F135","v":0},{"$f":"'INVENT.Mat&Outillag Importé -10'!C135","v":0},{"$f":"'INVENT.Mat&Outillag Importé -10'!H135","v":0},null,0,0,0,0,0,0,null,null,0,0,0,0]
[130,{"$f":"'INVENT.Mat&Outillag Importé -10'!B136","v":0},{"$f":"'INVENT.Mat&Outillag Importé -10'!F136","v":0},{"$f":"'INVENT.Mat&Outillag Importé -10'!C136","v":0},{"$f":"'INVENT.Mat&Outillag Importé -10'!H136","v":0},null,0,{"$f":"E137*1%","v":0},{"$f":"E137*1%","v":0},{"$f":"E137*0.5%","v":0},0,0,null,null,0,0,0,0]
[131,{"$f":"'INVENT.Mat&Outillag Importé -10'!B137","v":0},{"$f":"'INVENT.Mat&Outillag Importé -10'!F137","v":0},{"$f":"'INVENT.Mat&Outillag Importé -10'!C137","v":0},{"$f":"'INVENT.Mat&Outillag Importé -10'!H137","v":0},null,0,0,0,0,0,0,null,null,0,0,0,0]
[132,{"$f":"'INVENT.Mat&Outillag Importé -10'!B138","v":0},{"$f":"'INVENT.Mat&Outillag Importé -10'!F138","v":0},{"$f":"'INVENT.Mat&Outillag Importé -10'!C138","v":0},{"$f":"'INVENT.Mat&Outillag Importé -10'!H138","v":0},null,0,0,0,0,0,0,null,null,0,0,0,0]
[133,{"$f":"'INVENT.Mat&Outillag Importé -10'!B139","v":0},{"$f":"'INVENT.Mat&Outillag Importé -10'!F139","v":0},{"$f":"'INVENT.Mat&Outillag Importé -10'!C139","v":0},{"$f":"'INVENT.Mat&Outillag Importé -10'!H139","v":0},null,0,0,0,0,0,0,null,null,0,0,0,0]
[134,{"$f":"'INVENT.Mat&Outillag Importé -10'!B140","v":0},{"$f":"'INVENT.Mat&Outillag Importé -10'!F140","v":0},{"$f":"'INVENT.Mat&Outillag Importé -10'!C140","v":0},{"$f":"'INVENT.Mat&Outillag Importé -10'!H140","v":0},null,0,0,0,0,0,0,null,null,0,0,0,0]
[135,{"$f":"'INVENT.Mat&Outillag Importé -10'!B141","v":0},{"$f":"'INVENT.Mat&Outillag Importé -10'!F141","v":0},{"$f":"'INVENT.Mat&Outillag Importé -10'!C141","v":0},{"$f":"'INVENT.Mat&Outillag Importé -10'!H141","v":0},null,0,0,0,0,0,0,null,null,0,0,0,0]
[136,{"$f":"'INVENT.Mat&Outillag Importé -10'!B142","v":0},{"$f":"'INVENT.Mat&Outillag Importé -10'!F142","v":0},{"$f":"'INVENT.Mat&Outillag Importé -10'!C142","v":0},{"$f":"'INVENT.Mat&Outillag Importé -10'!H142","v":0},null,0,0,0,0,0,0,null,null,0,0,0,0]
[137,{"$f":"'INVENT.Mat&Outillag Importé -10'!B143","v":0},{"$f":"'INVENT.Mat&Outillag Importé -10'!F143","v":0},{"$f":"'INVENT.Mat&Outillag Importé -10'!C143","v":0},{"$f":"'INVENT.Mat&Outillag Importé -10'!H143","v":0},null,0,0,0,0,0,0,null,null,0,0,0,0]
[138,{"$f":"'INVENT.Mat&Outillag Importé -10'!B144","v":0},{"$f":"'INVENT.Mat&Outillag Importé -10'!F144","v":0},{"$f":"'INVENT.Mat&Outillag Importé -10'!C144","v":0},{"$f":"'INVENT.Mat&Outillag Importé -10'!H144","v":0},null,0,0,0,0,0,0,null,null,0,0,0,0]
[139,{"$f":"'INVENT.Mat&Outillag Importé -10'!B145","v":0},{"$f":"'INVENT.Mat&Outillag Importé -10'!F145","v":0},{"$f":"'INVENT.Mat&Outillag Importé -10'!C145","v":0},{"$f":"'INVENT.Mat&Outillag Importé -10'!H145","v":0},null,0,0,0,0,0,0,null,null,0,0,0,0]
[140,{"$f":"'INVENT.Mat&Outillag Importé -10'!B146","v":0},{"$f":"'INVENT.Mat&Outillag Importé -10'!F146","v":0},{"$f":"'INVENT.Mat&Outillag Importé -10'!C146","v":0},{"$f":"'INVENT.Mat&Outillag Importé -10'!H146","v":0},null,0,0,0,0,0,0,null,null,0,0,0,0]
[141,{"$f":"'INVENT.Mat&Outillag Importé -10'!B147","v":0},{"$f":"'INVENT.Mat&Outillag Importé -10'!F147","v":0},{"$f":"'INVENT.Mat&Outillag Importé -10'!C147","v":0},{"$f":"'INVENT.Mat&Outillag Importé -10'!H147","v":0},null,0,0,0,0,0,0,null,null,0,0,0,0]
[142,{"$f":"'INVENT.Mat&Outillag Importé -10'!B148","v":0},{"$f":"'INVENT.Mat&Outillag Importé -10'!F148","v":0},{"$f":"'INVENT.Mat&Outillag Importé -10'!C148","v":0},{"$f":"'INVENT.Mat&Outillag Importé -10'!H148","v":0},null,0,0,0,0,0,0,null,null,0,0,0,0]
[143,{"$f":"'INVENT.Mat&Outillag Importé -10'!B149","v":0},{"$f":"'INVENT.Mat&Outillag Importé -10'!F149","v":0},{"$f":"'INVENT.Mat&Outillag Importé -10'!C149","v":0},{"$f":"'INVENT.Mat&Outillag Importé -10'!H149","v":0},null,0,0,0,0,0,0,null,null,0,0,0,0]
[144,{"$f":"'INVENT.Mat&Outillag Importé -10'!B150","v":0},{"$f":"'INVENT.Mat&Outillag Importé -10'!F150","v":0},{"$f":"'INVENT.Mat&Outillag Importé -10'!C150","v":0},{"$f":"'INVENT.Mat&Outillag Importé -10'!H150","v":0},null,0,0,0,0,0,0,null,null,0,0,0,0]
[145,{"$f":"'INVENT.Mat&Outillag Importé -10'!B151","v":0},{"$f":"'INVENT.Mat&Outillag Importé -10'!F151","v":0},{"$f":"'INVENT.Mat&Outillag Importé -10'!C151","v":0},{"$f":"'INVENT.Mat&Outillag Importé -10'!H151","v":0},null,0,0,0,0,0,0,null,null,0,0,0,0]
[146,{"$f":"'INVENT.Mat&Outillag Importé -10'!B152","v":0},{"$f":"'INVENT.Mat&Outillag Importé -10'!F152","v":0},{"$f":"'INVENT.Mat&Outillag Importé -10'!C152","v":0},{"$f":"'INVENT.Mat&Outillag Importé -10'!H152","v":0},null,0,0,0,0,0,0,null,null,0,0,0,0]
[147,{"$f":"'INVENT.Mat&Outillag Importé -10'!B153","v":0},{"$f":"'INVENT.Mat&Outillag Importé -10'!F153","v":0},{"$f":"'INVENT.Mat&Outillag Importé -10'!C153","v":0},{"$f":"'INVENT.Mat&Outillag Importé -10'!H153","v":0},null,0,0,0,0,0,0,null,null,0,0,0,0]
[148,{"$f":"'INVENT.Mat&Outillag Importé -10'!B154","v":0},{"$f":"'INVENT.Mat&Outillag Importé -10'!F154","v":0},{"$f":"'INVENT.Mat&Outillag Importé -10'!C154","v":0},{"$f":"'INVENT.Mat&Outillag Importé -10'!H154","v":0},null,0,0,0,0,0,0,null,null,0,0,0,0]
[149,{"$f":"'INVENT.Mat&Outillag Importé -10'!B155","v":0},{"$f":"'INVENT.Mat&Outillag Importé -10'!F155","v":0},{"$f":"'INVENT.Mat&Outillag Importé -10'!C155","v":0},{"$f":"'INVENT.Mat&Outillag Importé -10'!H155","v":0},null,0,0,0,0,0,0,null,null,0,0,0,0]
[150,{"$f":"'INVENT.Mat&Outillag Importé -10'!B156","v":0},{"$f":"'INVENT.Mat&Outillag Importé -10'!F156","v":0},{"$f":"'INVENT.Mat&Outillag Importé -10'!C156","v":0},{"$f":"'INVENT.Mat&Outillag Importé -10'!H156","v":0},null,0,0,0,0,0,0,null,null,0,0,0,0]
[151,{"$f":"'INVENT.Mat&Outillag Importé -10'!B157","v":0},{"$f":"'INVENT.Mat&Outillag Importé -10'!F157","v":0},{"$f":"'INVENT.Mat&Outillag Importé -10'!C157","v":0},{"$f":"'INVENT.Mat&Outillag Importé -10'!H157","v":0},null,0,0,0,0,0,0,null,null,0,0,0,0]
[152,{"$f":"'INVENT.Mat&Outillag Importé -10'!B158","v":0},{"$f":"'INVENT.Mat&Outillag Importé -10'!F158","v":0},{"$f":"'INVENT.Mat&Outillag Importé -10'!C158","v":0},{"$f":"'INVENT.Mat&Outillag Importé -10'!H158","v":0},null,0,0,0,0,0,0,null,null,0,0,0,0]
[153,{"$f":"'INVENT.Mat&Outillag Importé -10'!B159","v":0},{"$f":"'INVENT.Mat&Outillag Importé -10'!F159","v":0},{"$f":"'INVENT.Mat&Outillag Importé -10'!C159","v":0},{"$f":"'INVENT.Mat&Outillag Importé -10'!H159","v":0},null,0,0,0,0,0,0,null,null,0,0,0,0]
[154,{"$f":"'INVENT.Mat&Outillag Importé -10'!B160","v":0},{"$f":"'INVENT.Mat&Outillag Importé -10'!F160","v":0},{"$f":"'INVENT.Mat&Outillag Importé -10'!C160","v":0},{"$f":"'INVENT.Mat&Outillag Importé -10'!H160","v":0},null,0,0,0,0,0,0,null,null,0,0,0,0]
[155,{"$f":"'INVENT.Mat&Outillag Importé -10'!B161","v":0},{"$f":"'INVENT.Mat&Outillag Importé -10'!F161","v":0},{"$f":"'INVENT.Mat&Outillag Importé -10'!C161","v":0},{"$f":"'INVENT.Mat&Outillag Importé -10'!H161","v":0},null,0,0,0,0,0,0,null,null,0,0,0,0]
[156,{"$f":"'INVENT.Mat&Outillag Importé -10'!B162","v":0},{"$f":"'INVENT.Mat&Outillag Importé -10'!F162","v":0},{"$f":"'INVENT.Mat&Outillag Importé -10'!C162","v":0},{"$f":"'INVENT.Mat&Outillag Importé -10'!H162","v":0},null,0,0,0,0,0,0,null,null,0,0,0,0]
[157,{"$f":"'INVENT.Mat&Outillag Importé -10'!B163","v":0},{"$f":"'INVENT.Mat&Outillag Importé -10'!F163","v":0},{"$f":"'INVENT.Mat&Outillag Importé -10'!C163","v":0},{"$f":"'INVENT.Mat&Outillag Importé -10'!H163","v":0},null,0,0,0,0,0,0,null,null,0,0,0,0]
[158,{"$f":"'INVENT.Mat&Outillag Importé -10'!B164","v":0},{"$f":"'INVENT.Mat&Outillag Importé -10'!F164","v":0},{"$f":"'INVENT.Mat&Outillag Importé -10'!C164","v":0},{"$f":"'INVENT.Mat&Outillag Importé -10'!H164","v":0},null,0,0,0,0,0,0,null,null,0,0,0,0]
[159,{"$f":"'INVENT.Mat&Outillag Importé -10'!B165","v":0},{"$f":"'INVENT.Mat&Outillag Importé -10'!F165","v":0},{"$f":"'INVENT.Mat&Outillag Importé -10'!C165","v":0},{"$f":"'INVENT.Mat&Outillag Importé -10'!H165","v":0},null,0,0,0,0,0,0,null,null,0,0,0,0]
[160,{"$f":"'INVENT.Mat&Outillag Importé -10'!B166","v":0},{"$f":"'INVENT.Mat&Outillag Importé -10'!F166","v":0},{"$f":"'INVENT.Mat&Outillag Importé -10'!C166","v":0},{"$f":"'INVENT.Mat&Outillag Importé -10'!H166","v":0},null,0,0,0,0,0,0,null,null,0,0,0,0]
[161,{"$f":"'INVENT.Mat&Outillag Importé -10'!B167","v":0},{"$f":"'INVENT.Mat&Outillag Importé -10'!F167","v":0},{"$f":"'INVENT.Mat&Outillag Importé -10'!C167","v":0},{"$f":"'INVENT.Mat&Outillag Importé -10'!H167","v":0},null,0,0,0,0,0,0,null,null,0,0,0,0]
[162,{"$f":"'INVENT.Mat&Outillag Importé -10'!B168","v":0},{"$f":"'INVENT.Mat&Outillag Importé -10'!F168","v":0},{"$f":"'INVENT.Mat&Outillag Importé -10'!C168","v":0},{"$f":"'INVENT.Mat&Outillag Importé -10'!H168","v":0},null,0,0,0,0,0,0,null,null,0,0,0,0]
[163,{"$f":"'INVENT.Mat&Outillag Importé -10'!B169","v":0},{"$f":"'INVENT.Mat&Outillag Importé -10'!F169","v":0},{"$f":"'INVENT.Mat&Outillag Importé -10'!C169","v":0},{"$f":"'INVENT.Mat&Outillag Importé -10'!H169","v":0},null,0,0,0,0,0,0,null,null,0,0,0,0]
[164,{"$f":"'INVENT.Mat&Outillag Importé -10'!B170","v":0},{"$f":"'INVENT.Mat&Outillag Importé -10'!F170","v":0},{"$f":"'INVENT.Mat&Outillag Importé -10'!C170","v":0},{"$f":"'INVENT.Mat&Outillag Importé -10'!H170","v":0},null,0,0,0,0,0,0,null,null,0,0,0,0]
[165,{"$f":"'INVENT.Mat&Outillag Importé -10'!B171","v":0},{"$f":"'INVENT.Mat&Outillag Importé -10'!F171","v":0},{"$f":"'INVENT.Mat&Outillag Importé -10'!C171","v":0},{"$f":"'INVENT.Mat&Outillag Importé -10'!H171","v":0},null,0,0,0,0,0,0,null,null,0,0,0,0]
[166,{"$f":"'INVENT.Mat&Outillag Importé -10'!B172","v":0},{"$f":"'INVENT.Mat&Outillag Importé -10'!F172","v":0},{"$f":"'INVENT.Mat&Outillag Importé -10'!C172","v":0},{"$f":"'INVENT.Mat&Outillag Importé -10'!H172","v":0},null,0,0,0,0,0,0,null,null,0,0,0,0]
[167,{"$f":"'INVENT.Mat&Outillag Importé -10'!B173","v":0},{"$f":"'INVENT.Mat&Outillag Importé -10'!F173","v":0},{"$f":"'INVENT.Mat&Outillag Importé -10'!C173","v":0},{"$f":"'INVENT.Mat&Outillag Importé -10'!H173","v":0},null,0,0,0,0,0,0,null,null,0,0,0,0]
[{"$f":"+A174+1","v":168},{"$f":"'INVENT.Mat&Outillag Importé -10'!B174","v":0},{"$f":"'INVENT.Mat&Outillag Importé -10'!F174","v":0},{"$f":"'INVENT.Mat&Outillag Importé -10'!C174","v":0},{"$f":"'INVENT.Mat&Outillag Importé -10'!H174","v":0},null,0,0,0,0,0,0,null,null,0,0,0,0]
[169,{"$f":"'INVENT.Mat&Outillag Importé -10'!B175","v":0},{"$f":"'INVENT.Mat&Outillag Importé -10'!F175","v":0},{"$f":"'INVENT.Mat&Outillag Importé -10'!C175","v":0},{"$f":"'INVENT.Mat&Outillag Importé -10'!H175","v":0},null,0,0,0,0,0,0,null,null,0,0,0,0]
[170,{"$f":"'INVENT.Mat&Outillag Importé -10'!B176","v":0},{"$f":"'INVENT.Mat&Outillag Importé -10'!F176","v":0},{"$f":"'INVENT.Mat&Outillag Importé -10'!C176","v":0},{"$f":"'INVENT.Mat&Outillag Importé -10'!H176","v":0},null,0,0,0,0,0,0,null,null,0,0,0,0]
[171,{"$f":"'INVENT.Mat&Outillag Importé -10'!B177","v":0},{"$f":"'INVENT.Mat&Outillag Importé -10'!F177","v":0},{"$f":"'INVENT.Mat&Outillag Importé -10'!C177","v":0},{"$f":"'INVENT.Mat&Outillag Importé -10'!H177","v":0},null,0,0,0,0,0,0,null,null,0,0,0,0]
[172,{"$f":"'INVENT.Mat&Outillag Importé -10'!B178","v":0},{"$f":"'INVENT.Mat&Outillag Importé -10'!F178","v":0},{"$f":"'INVENT.Mat&Outillag Importé -10'!C178","v":0},{"$f":"'INVENT.Mat&Outillag Importé -10'!H178","v":0},null,0,0,0,0,0,0,null,null,0,0,0,0]
[173,{"$f":"'INVENT.Mat&Outillag Importé -10'!B179","v":0},{"$f":"'INVENT.Mat&Outillag Importé -10'!F179","v":0},{"$f":"'INVENT.Mat&Outillag Importé -10'!C179","v":0},{"$f":"'INVENT.Mat&Outillag Importé -10'!H179","v":0},null,0,0,0,0,0,0,null,null,0,0,0,0]
[174,{"$f":"'INVENT.Mat&Outillag Importé -10'!B180","v":0},{"$f":"'INVENT.Mat&Outillag Importé -10'!F180","v":0},{"$f":"'INVENT.Mat&Outillag Importé -10'!C180","v":0},{"$f":"'INVENT.Mat&Outillag Importé -10'!H180","v":0},null,0,0,0,0,0,0,null,null,0,0,0,0]
[175,{"$f":"'INVENT.Mat&Outillag Importé -10'!B181","v":0},{"$f":"'INVENT.Mat&Outillag Importé -10'!F181","v":0},{"$f":"'INVENT.Mat&Outillag Importé -10'!C181","v":0},{"$f":"'INVENT.Mat&Outillag Importé -10'!H181","v":0},null,0,0,0,0,0,0,null,null,0,0,0,0]
[176,{"$f":"'INVENT.Mat&Outillag Importé -10'!B182","v":0},{"$f":"'INVENT.Mat&Outillag Importé -10'!F182","v":0},{"$f":"'INVENT.Mat&Outillag Importé -10'!C182","v":0},{"$f":"'INVENT.Mat&Outillag Importé -10'!H182","v":0},null,{"$f":"F183*E183","v":0},0,0,0,{"$f":"(E183+G183+H183)*18%","v":0},{"$f":"SUM(G183:K183)+E183","v":0},null,null,{"$f":"(M183+N183)*18%","v":0},{"$f":"O183+N183+M183","v":0},{"$f":"+R183-O183-K183","v":0},{"$f":"P183+L183","v":0}]
[177,{"$f":"'INVENT.Mat&Outillag Importé -10'!B183","v":0},{"$f":"'INVENT.Mat&Outillag Importé -10'!F183","v":0},{"$f":"'INVENT.Mat&Outillag Importé -10'!C183","v":0},{"$f":"'INVENT.Mat&Outillag Importé -10'!H183","v":0},null,0,0,0,0,0,0,null,null,0,0,0,0]
[178,{"$f":"'INVENT.Mat&Outillag Importé -10'!B184","v":0},{"$f":"'INVENT.Mat&Outillag Importé -10'!F184","v":0},{"$f":"'INVENT.Mat&Outillag Importé -10'!C184","v":0},{"$f":"'INVENT.Mat&Outillag Importé -10'!H184","v":0},null,0,0,0,0,0,0,null,null,0,0,0,0]
[179,{"$f":"'INVENT.Mat&Outillag Importé -10'!B185","v":0},{"$f":"'INVENT.Mat&Outillag Importé -10'!F185","v":0},{"$f":"'INVENT.Mat&Outillag Importé -10'!C185","v":0},{"$f":"'INVENT.Mat&Outillag Importé -10'!H185","v":0},null,0,0,0,0,0,0,null,null,0,0,0,0]
[180,{"$f":"'INVENT.Mat&Outillag Importé -10'!B186","v":0},{"$f":"'INVENT.Mat&Outillag Importé -10'!F186","v":0},{"$f":"'INVENT.Mat&Outillag Importé -10'!C186","v":0},{"$f":"'INVENT.Mat&Outillag Importé -10'!H186","v":0},null,0,0,0,0,0,0,null,null,0,0,0,0]
[181,{"$f":"'INVENT.Mat&Outillag Importé -10'!B187","v":0},{"$f":"'INVENT.Mat&Outillag Importé -10'!F187","v":0},{"$f":"'INVENT.Mat&Outillag Importé -10'!C187","v":0},{"$f":"'INVENT.Mat&Outillag Importé -10'!H187","v":0},null,0,0,0,0,0,0,null,null,0,0,0,0]
[182,{"$f":"'INVENT.Mat&Outillag Importé -10'!B188","v":0},{"$f":"'INVENT.Mat&Outillag Importé -10'!F188","v":0},{"$f":"'INVENT.Mat&Outillag Importé -10'!C188","v":0},{"$f":"'INVENT.Mat&Outillag Importé -10'!H188","v":0},null,0,0,0,0,0,0,null,null,0,0,0,0]
[183,{"$f":"'INVENT.Mat&Outillag Importé -10'!B189","v":0},{"$f":"'INVENT.Mat&Outillag Importé -10'!F189","v":0},{"$f":"'INVENT.Mat&Outillag Importé -10'!C189","v":0},{"$f":"'INVENT.Mat&Outillag Importé -10'!H189","v":0},null,0,0,0,0,0,0,null,null,0,0,0,0]
[184,{"$f":"'INVENT.Mat&Outillag Importé -10'!B190","v":0},{"$f":"'INVENT.Mat&Outillag Importé -10'!F190","v":0},{"$f":"'INVENT.Mat&Outillag Importé -10'!C190","v":0},{"$f":"'INVENT.Mat&Outillag Importé -10'!H190","v":0},null,0,0,0,0,0,0,null,null,0,0,0,0]
[185,{"$f":"'INVENT.Mat&Outillag Importé -10'!B191","v":0},{"$f":"'INVENT.Mat&Outillag Importé -10'!F191","v":0},{"$f":"'INVENT.Mat&Outillag Importé -10'!C191","v":0},{"$f":"'INVENT.Mat&Outillag Importé -10'!H191","v":0},null,0,0,0,0,0,0,null,null,0,0,0,0]
[186,{"$f":"'INVENT.Mat&Outillag Importé -10'!B192","v":0},{"$f":"'INVENT.Mat&Outillag Importé -10'!F192","v":0},{"$f":"'INVENT.Mat&Outillag Importé -10'!C192","v":0},{"$f":"'INVENT.Mat&Outillag Importé -10'!H192","v":0},null,0,0,0,0,0,0,null,null,0,0,0,0]
[187,{"$f":"'INVENT.Mat&Outillag Importé -10'!B193","v":0},{"$f":"'INVENT.Mat&Outillag Importé -10'!F193","v":0},{"$f":"'INVENT.Mat&Outillag Importé -10'!C193","v":0},{"$f":"'INVENT.Mat&Outillag Importé -10'!H193","v":0},null,0,0,0,0,0,0,null,null,0,0,0,0]
[188,{"$f":"'INVENT.Mat&Outillag Importé -10'!B194","v":0},{"$f":"'INVENT.Mat&Outillag Importé -10'!F194","v":0},{"$f":"'INVENT.Mat&Outillag Importé -10'!C194","v":0},{"$f":"'INVENT.Mat&Outillag Importé -10'!H194","v":0},null,0,0,0,0,0,0,null,null,0,0,0,0]
[189,{"$f":"'INVENT.Mat&Outillag Importé -10'!B195","v":0},{"$f":"'INVENT.Mat&Outillag Importé -10'!F195","v":0},{"$f":"'INVENT.Mat&Outillag Importé -10'!C195","v":0},{"$f":"'INVENT.Mat&Outillag Importé -10'!H195","v":0},null,0,0,0,0,0,0,null,null,0,0,0,0]
[190,{"$f":"'INVENT.Mat&Outillag Importé -10'!B196","v":0},{"$f":"'INVENT.Mat&Outillag Importé -10'!F196","v":0},{"$f":"'INVENT.Mat&Outillag Importé -10'!C196","v":0},{"$f":"'INVENT.Mat&Outillag Importé -10'!H196","v":0},null,0,0,0,0,0,0,null,null,0,0,0,0]
[191,{"$f":"'INVENT.Mat&Outillag Importé -10'!B197","v":0},{"$f":"'INVENT.Mat&Outillag Importé -10'!F197","v":0},{"$f":"'INVENT.Mat&Outillag Importé -10'!C197","v":0},{"$f":"'INVENT.Mat&Outillag Importé -10'!H197","v":0},null,0,0,0,0,0,0,null,null,0,0,0,0]
[192,{"$f":"'INVENT.Mat&Outillag Importé -10'!B198","v":0},{"$f":"'INVENT.Mat&Outillag Importé -10'!F198","v":0},{"$f":"'INVENT.Mat&Outillag Importé -10'!C198","v":0},{"$f":"'INVENT.Mat&Outillag Importé -10'!H198","v":0},null,0,0,0,0,0,0,null,null,0,0,0,0]
[193,{"$f":"'INVENT.Mat&Outillag Importé -10'!B199","v":0},{"$f":"'INVENT.Mat&Outillag Importé -10'!F199","v":0},{"$f":"'INVENT.Mat&Outillag Importé -10'!C199","v":0},{"$f":"'INVENT.Mat&Outillag Importé -10'!H199","v":0},null,0,0,0,0,0,0,null,null,0,0,0,0]
[194,{"$f":"'INVENT.Mat&Outillag Importé -10'!B200","v":0},{"$f":"'INVENT.Mat&Outillag Importé -10'!F200","v":0},{"$f":"'INVENT.Mat&Outillag Importé -10'!C200","v":0},{"$f":"'INVENT.Mat&Outillag Importé -10'!H200","v":0},null,0,{"$f":"E201*1%","v":0},{"$f":"E201*1%","v":0},{"$f":"E201*0.5%","v":0},0,0,null,null,0,0,0,0]
[195,{"$f":"'INVENT.Mat&Outillag Importé -10'!B201","v":0},{"$f":"'INVENT.Mat&Outillag Importé -10'!F201","v":0},{"$f":"'INVENT.Mat&Outillag Importé -10'!C201","v":0},{"$f":"'INVENT.Mat&Outillag Importé -10'!H201","v":0},null,0,0,0,0,0,0,null,null,0,0,0,0]
[196,{"$f":"'INVENT.Mat&Outillag Importé -10'!B202","v":0},{"$f":"'INVENT.Mat&Outillag Importé -10'!F202","v":0},{"$f":"'INVENT.Mat&Outillag Importé -10'!C202","v":0},{"$f":"'INVENT.Mat&Outillag Importé -10'!H202","v":0},null,0,0,0,0,0,0,null,null,0,0,0,0]
[197,{"$f":"'INVENT.Mat&Outillag Importé -10'!B203","v":0},{"$f":"'INVENT.Mat&Outillag Importé -10'!F203","v":0},{"$f":"'INVENT.Mat&Outillag Importé -10'!C203","v":0},{"$f":"'INVENT.Mat&Outillag Importé -10'!H203","v":0},null,0,0,0,0,0,0,null,null,0,0,0,0]
[198,{"$f":"'INVENT.Mat&Outillag Importé -10'!B204","v":0},{"$f":"'INVENT.Mat&Outillag Importé -10'!F204","v":0},{"$f":"'INVENT.Mat&Outillag Importé -10'!C204","v":0},{"$f":"'INVENT.Mat&Outillag Importé -10'!H204","v":0},null,0,0,0,0,0,0,null,null,0,0,0,0]
[199,{"$f":"'INVENT.Mat&Outillag Importé -10'!B205","v":0},{"$f":"'INVENT.Mat&Outillag Importé -10'!F205","v":0},{"$f":"'INVENT.Mat&Outillag Importé -10'!C205","v":0},{"$f":"'INVENT.Mat&Outillag Importé -10'!H205","v":0},null,0,0,0,0,0,0,null,null,0,0,0,0]
[200,{"$f":"'INVENT.Mat&Outillag Importé -10'!B206","v":0},{"$f":"'INVENT.Mat&Outillag Importé -10'!F206","v":0},{"$f":"'INVENT.Mat&Outillag Importé -10'!C206","v":0},{"$f":"'INVENT.Mat&Outillag Importé -10'!H206","v":0},null,0,0,0,0,0,0,null,null,0,0,0,0]
[201,{"$f":"'INVENT.Mat&Outillag Importé -10'!B207","v":0},{"$f":"'INVENT.Mat&Outillag Importé -10'!F207","v":0},{"$f":"'INVENT.Mat&Outillag Importé -10'!C207","v":0},{"$f":"'INVENT.Mat&Outillag Importé -10'!H207","v":0},null,0,0,0,0,0,0,null,null,0,0,0,0]
[202,{"$f":"'INVENT.Mat&Outillag Importé -10'!B208","v":0},{"$f":"'INVENT.Mat&Outillag Importé -10'!F208","v":0},{"$f":"'INVENT.Mat&Outillag Importé -10'!C208","v":0},{"$f":"'INVENT.Mat&Outillag Importé -10'!H208","v":0},null,0,0,0,0,0,0,null,null,0,0,0,0]
[203,{"$f":"'INVENT.Mat&Outillag Importé -10'!B209","v":0},{"$f":"'INVENT.Mat&Outillag Importé -10'!F209","v":0},{"$f":"'INVENT.Mat&Outillag Importé -10'!C209","v":0},{"$f":"'INVENT.Mat&Outillag Importé -10'!H209","v":0},null,0,0,0,0,0,0,null,null,0,0,0,0]
[204,{"$f":"'INVENT.Mat&Outillag Importé -10'!B210","v":0},{"$f":"'INVENT.Mat&Outillag Importé -10'!F210","v":0},{"$f":"'INVENT.Mat&Outillag Importé -10'!C210","v":0},{"$f":"'INVENT.Mat&Outillag Importé -10'!H210","v":0},null,0,0,0,0,0,0,null,null,0,0,0,0]
[205,{"$f":"'INVENT.Mat&Outillag Importé -10'!B211","v":0},{"$f":"'INVENT.Mat&Outillag Importé -10'!F211","v":0},{"$f":"'INVENT.Mat&Outillag Importé -10'!C211","v":0},{"$f":"'INVENT.Mat&Outillag Importé -10'!H211","v":0},null,0,0,0,0,0,0,null,null,0,0,0,0]
[206,{"$f":"'INVENT.Mat&Outillag Importé -10'!B212","v":0},{"$f":"'INVENT.Mat&Outillag Importé -10'!F212","v":0},{"$f":"'INVENT.Mat&Outillag Importé -10'!C212","v":0},{"$f":"'INVENT.Mat&Outillag Importé -10'!H212","v":0},null,0,0,0,0,0,0,null,null,0,0,0,0]
[207,{"$f":"'INVENT.Mat&Outillag Importé -10'!B213","v":0},{"$f":"'INVENT.Mat&Outillag Importé -10'!F213","v":0},{"$f":"'INVENT.Mat&Outillag Importé -10'!C213","v":0},{"$f":"'INVENT.Mat&Outillag Importé -10'!H213","v":0},null,0,0,0,0,0,0,null,null,0,0,0,0]
[208,{"$f":"'INVENT.Mat&Outillag Importé -10'!B214","v":0},{"$f":"'INVENT.Mat&Outillag Importé -10'!F214","v":0},{"$f":"'INVENT.Mat&Outillag Importé -10'!C214","v":0},{"$f":"'INVENT.Mat&Outillag Importé -10'!H214","v":0},null,0,0,0,0,0,0,null,null,0,0,0,0]
[209,{"$f":"'INVENT.Mat&Outillag Importé -10'!B215","v":0},{"$f":"'INVENT.Mat&Outillag Importé -10'!F215","v":0},{"$f":"'INVENT.Mat&Outillag Importé -10'!C215","v":0},{"$f":"'INVENT.Mat&Outillag Importé -10'!H215","v":0},null,0,0,0,0,0,0,null,null,0,0,0,0]
[210,{"$f":"'INVENT.Mat&Outillag Importé -10'!B216","v":0},{"$f":"'INVENT.Mat&Outillag Importé -10'!F216","v":0},{"$f":"'INVENT.Mat&Outillag Importé -10'!C216","v":0},{"$f":"'INVENT.Mat&Outillag Importé -10'!H216","v":0},null,0,0,0,0,0,0,null,null,0,0,0,0]
[211,{"$f":"'INVENT.Mat&Outillag Importé -10'!B217","v":0},{"$f":"'INVENT.Mat&Outillag Importé -10'!F217","v":0},{"$f":"'INVENT.Mat&Outillag Importé -10'!C217","v":0},{"$f":"'INVENT.Mat&Outillag Importé -10'!H217","v":0},null,0,0,0,0,0,0,null,null,0,0,0,0]
[212,{"$f":"'INVENT.Mat&Outillag Importé -10'!B218","v":0},{"$f":"'INVENT.Mat&Outillag Importé -10'!F218","v":0},{"$f":"'INVENT.Mat&Outillag Importé -10'!C218","v":0},{"$f":"'INVENT.Mat&Outillag Importé -10'!H218","v":0},null,0,0,0,0,0,0,null,null,0,0,0,0]
[213,{"$f":"'INVENT.Mat&Outillag Importé -10'!B219","v":0},{"$f":"'INVENT.Mat&Outillag Importé -10'!F219","v":0},{"$f":"'INVENT.Mat&Outillag Importé -10'!C219","v":0},{"$f":"'INVENT.Mat&Outillag Importé -10'!H219","v":0},null,0,0,0,0,0,0,null,null,0,0,0,0]
[214,{"$f":"'INVENT.Mat&Outillag Importé -10'!B220","v":0},{"$f":"'INVENT.Mat&Outillag Importé -10'!F220","v":0},{"$f":"'INVENT.Mat&Outillag Importé -10'!C220","v":0},{"$f":"'INVENT.Mat&Outillag Importé -10'!H220","v":0},null,0,0,0,0,0,0,null,null,0,0,0,0]
[215,{"$f":"'INVENT.Mat&Outillag Importé -10'!B221","v":0},{"$f":"'INVENT.Mat&Outillag Importé -10'!F221","v":0},{"$f":"'INVENT.Mat&Outillag Importé -10'!C221","v":0},{"$f":"'INVENT.Mat&Outillag Importé -10'!H221","v":0},null,0,0,0,0,0,0,null,null,0,0,0,0]
[216,{"$f":"'INVENT.Mat&Outillag Importé -10'!B222","v":0},{"$f":"'INVENT.Mat&Outillag Importé -10'!F222","v":0},{"$f":"'INVENT.Mat&Outillag Importé -10'!C222","v":0},{"$f":"'INVENT.Mat&Outillag Importé -10'!H222","v":0},null,0,0,0,0,0,0,null,null,0,0,0,0]
[217,{"$f":"'INVENT.Mat&Outillag Importé -10'!B223","v":0},{"$f":"'INVENT.Mat&Outillag Importé -10'!F223","v":0},{"$f":"'INVENT.Mat&Outillag Importé -10'!C223","v":0},{"$f":"'INVENT.Mat&Outillag Importé -10'!H223","v":0},null,0,0,0,0,0,0,null,null,0,0,0,0]
[218,{"$f":"'INVENT.Mat&Outillag Importé -10'!B224","v":0},{"$f":"'INVENT.Mat&Outillag Importé -10'!F224","v":0},{"$f":"'INVENT.Mat&Outillag Importé -10'!C224","v":0},{"$f":"'INVENT.Mat&Outillag Importé -10'!H224","v":0},null,0,0,0,0,0,0,null,null,0,0,0,0]
[219,{"$f":"'INVENT.Mat&Outillag Importé -10'!B225","v":0},{"$f":"'INVENT.Mat&Outillag Importé -10'!F225","v":0},{"$f":"'INVENT.Mat&Outillag Importé -10'!C225","v":0},{"$f":"'INVENT.Mat&Outillag Importé -10'!H225","v":0},null,0,0,0,0,0,0,null,null,0,0,0,0]
[220,{"$f":"'INVENT.Mat&Outillag Importé -10'!B226","v":0},{"$f":"'INVENT.Mat&Outillag Importé -10'!F226","v":0},{"$f":"'INVENT.Mat&Outillag Importé -10'!C226","v":0},{"$f":"'INVENT.Mat&Outillag Importé -10'!H226","v":0},null,0,0,0,0,0,0,null,null,0,0,0,0]
[221,{"$f":"'INVENT.Mat&Outillag Importé -10'!B227","v":0},{"$f":"'INVENT.Mat&Outillag Importé -10'!F227","v":0},{"$f":"'INVENT.Mat&Outillag Importé -10'!C227","v":0},{"$f":"'INVENT.Mat&Outillag Importé -10'!H227","v":0},null,0,0,0,0,0,0,null,null,0,0,0,0]
[222,{"$f":"'INVENT.Mat&Outillag Importé -10'!B228","v":0},{"$f":"'INVENT.Mat&Outillag Importé -10'!F228","v":0},{"$f":"'INVENT.Mat&Outillag Importé -10'!C228","v":0},{"$f":"'INVENT.Mat&Outillag Importé -10'!H228","v":0},null,0,0,0,0,0,0,null,null,0,0,0,0]
[223,{"$f":"'INVENT.Mat&Outillag Importé -10'!B229","v":0},{"$f":"'INVENT.Mat&Outillag Importé -10'!F229","v":0},{"$f":"'INVENT.Mat&Outillag Importé -10'!C229","v":0},{"$f":"'INVENT.Mat&Outillag Importé -10'!H229","v":0},null,0,0,0,0,0,0,null,null,0,0,0,0]
[224,{"$f":"'INVENT.Mat&Outillag Importé -10'!B230","v":0},{"$f":"'INVENT.Mat&Outillag Importé -10'!F230","v":0},{"$f":"'INVENT.Mat&Outillag Importé -10'!C230","v":0},{"$f":"'INVENT.Mat&Outillag Importé -10'!H230","v":0},null,0,0,0,0,0,0,null,null,0,0,0,0]
[225,{"$f":"'INVENT.Mat&Outillag Importé -10'!B231","v":0},{"$f":"'INVENT.Mat&Outillag Importé -10'!F231","v":0},{"$f":"'INVENT.Mat&Outillag Importé -10'!C231","v":0},{"$f":"'INVENT.Mat&Outillag Importé -10'!H231","v":0},null,0,0,0,0,0,0,null,null,0,0,0,0]
[226,{"$f":"'INVENT.Mat&Outillag Importé -10'!B232","v":0},{"$f":"'INVENT.Mat&Outillag Importé -10'!F232","v":0},{"$f":"'INVENT.Mat&Outillag Importé -10'!C232","v":0},{"$f":"'INVENT.Mat&Outillag Importé -10'!H232","v":0},null,0,0,0,0,0,0,null,null,0,0,0,0]
[227,{"$f":"'INVENT.Mat&Outillag Importé -10'!B233","v":0},{"$f":"'INVENT.Mat&Outillag Importé -10'!F233","v":0},{"$f":"'INVENT.Mat&Outillag Importé -10'!C233","v":0},{"$f":"'INVENT.Mat&Outillag Importé -10'!H233","v":0},null,0,0,0,0,0,0,null,null,0,0,0,0]
[228,{"$f":"'INVENT.Mat&Outillag Importé -10'!B234","v":0},{"$f":"'INVENT.Mat&Outillag Importé -10'!F234","v":0},{"$f":"'INVENT.Mat&Outillag Importé -10'!C234","v":0},{"$f":"'INVENT.Mat&Outillag Importé -10'!H234","v":0},null,0,0,0,0,0,0,null,null,0,0,0,0]
[229,{"$f":"'INVENT.Mat&Outillag Importé -10'!B235","v":0},{"$f":"'INVENT.Mat&Outillag Importé -10'!F235","v":0},{"$f":"'INVENT.Mat&Outillag Importé -10'!C235","v":0},{"$f":"'INVENT.Mat&Outillag Importé -10'!H235","v":0},null,0,0,0,0,0,0,null,null,0,0,0,0]
[230,{"$f":"'INVENT.Mat&Outillag Importé -10'!B236","v":0},{"$f":"'INVENT.Mat&Outillag Importé -10'!F236","v":0},{"$f":"'INVENT.Mat&Outillag Importé -10'!C236","v":0},{"$f":"'INVENT.Mat&Outillag Importé -10'!H236","v":0},null,0,0,0,0,0,0,null,null,0,0,0,0]
[231,{"$f":"'INVENT.Mat&Outillag Importé -10'!B237","v":0},{"$f":"'INVENT.Mat&Outillag Importé -10'!F237","v":0},{"$f":"'INVENT.Mat&Outillag Importé -10'!C237","v":0},{"$f":"'INVENT.Mat&Outillag Importé -10'!H237","v":0},null,0,0,0,0,0,0,null,null,0,0,0,0]
[{"$f":"+A238+1","v":232},{"$f":"'INVENT.Mat&Outillag Importé -10'!B238","v":0},{"$f":"'INVENT.Mat&Outillag Importé -10'!F238","v":0},{"$f":"'INVENT.Mat&Outillag Importé -10'!C238","v":0},{"$f":"'INVENT.Mat&Outillag Importé -10'!H238","v":0},null,0,0,0,0,0,0,null,null,0,0,0,0]
[233,{"$f":"'INVENT.Mat&Outillag Importé -10'!B239","v":0},{"$f":"'INVENT.Mat&Outillag Importé -10'!F239","v":0},{"$f":"'INVENT.Mat&Outillag Importé -10'!C239","v":0},{"$f":"'INVENT.Mat&Outillag Importé -10'!H239","v":0},null,0,0,0,0,0,0,null,null,0,0,0,0]
[234,{"$f":"'INVENT.Mat&Outillag Importé -10'!B240","v":0},{"$f":"'INVENT.Mat&Outillag Importé -10'!F240","v":0},{"$f":"'INVENT.Mat&Outillag Importé -10'!C240","v":0},{"$f":"'INVENT.Mat&Outillag Importé -10'!H240","v":0},null,0,0,0,0,0,0,null,null,0,0,0,0]
[235,{"$f":"'INVENT.Mat&Outillag Importé -10'!B241","v":0},{"$f":"'INVENT.Mat&Outillag Importé -10'!F241","v":0},{"$f":"'INVENT.Mat&Outillag Importé -10'!C241","v":0},{"$f":"'INVENT.Mat&Outillag Importé -10'!H241","v":0},null,0,0,0,0,0,0,null,null,0,0,0,0]
[236,{"$f":"'INVENT.Mat&Outillag Importé -10'!B242","v":0},{"$f":"'INVENT.Mat&Outillag Importé -10'!F242","v":0},{"$f":"'INVENT.Mat&Outillag Importé -10'!C242","v":0},{"$f":"'INVENT.Mat&Outillag Importé -10'!H242","v":0},null,0,0,0,0,0,0,null,null,0,0,0,0]
[237,{"$f":"'INVENT.Mat&Outillag Importé -10'!B243","v":0},{"$f":"'INVENT.Mat&Outillag Importé -10'!F243","v":0},{"$f":"'INVENT.Mat&Outillag Importé -10'!C243","v":0},{"$f":"'INVENT.Mat&Outillag Importé -10'!H243","v":0},null,0,0,0,0,0,0,null,null,0,0,0,0]
[238,{"$f":"'INVENT.Mat&Outillag Importé -10'!B244","v":0},{"$f":"'INVENT.Mat&Outillag Importé -10'!F244","v":0},{"$f":"'INVENT.Mat&Outillag Importé -10'!C244","v":0},{"$f":"'INVENT.Mat&Outillag Importé -10'!H244","v":0},null,0,0,0,0,0,0,null,null,0,0,0,0]
[239,{"$f":"'INVENT.Mat&Outillag Importé -10'!B245","v":0},{"$f":"'INVENT.Mat&Outillag Importé -10'!F245","v":0},{"$f":"'INVENT.Mat&Outillag Importé -10'!C245","v":0},{"$f":"'INVENT.Mat&Outillag Importé -10'!H245","v":0},null,0,0,0,0,0,0,null,null,0,0,0,0]
[240,{"$f":"'INVENT.Mat&Outillag Importé -10'!B246","v":0},{"$f":"'INVENT.Mat&Outillag Importé -10'!F246","v":0},{"$f":"'INVENT.Mat&Outillag Importé -10'!C246","v":0},{"$f":"'INVENT.Mat&Outillag Importé -10'!H246","v":0},null,{"$f":"F247*E247","v":0},0,0,0,{"$f":"(E247+G247+H247)*18%","v":0},{"$f":"SUM(G247:K247)+E247","v":0},null,null,{"$f":"(M247+N247)*18%","v":0},{"$f":"O247+N247+M247","v":0},{"$f":"+R247-O247-K247","v":0},{"$f":"P247+L247","v":0}]
[241,{"$f":"'INVENT.Mat&Outillag Importé -10'!B247","v":0},{"$f":"'INVENT.Mat&Outillag Importé -10'!F247","v":0},{"$f":"'INVENT.Mat&Outillag Importé -10'!C247","v":0},{"$f":"'INVENT.Mat&Outillag Importé -10'!H247","v":0},null,0,0,0,0,0,0,null,null,0,0,0,0]
[242,{"$f":"'INVENT.Mat&Outillag Importé -10'!B248","v":0},{"$f":"'INVENT.Mat&Outillag Importé -10'!F248","v":0},{"$f":"'INVENT.Mat&Outillag Importé -10'!C248","v":0},{"$f":"'INVENT.Mat&Outillag Importé -10'!H248","v":0},null,0,0,0,0,0,0,null,null,0,0,0,0]
[243,{"$f":"'INVENT.Mat&Outillag Importé -10'!B249","v":0},{"$f":"'INVENT.Mat&Outillag Importé -10'!F249","v":0},{"$f":"'INVENT.Mat&Outillag Importé -10'!C249","v":0},{"$f":"'INVENT.Mat&Outillag Importé -10'!H249","v":0},null,0,0,0,0,0,0,null,null,0,0,0,0]
[244,{"$f":"'INVENT.Mat&Outillag Importé -10'!B250","v":0},{"$f":"'INVENT.Mat&Outillag Importé -10'!F250","v":0},{"$f":"'INVENT.Mat&Outillag Importé -10'!C250","v":0},{"$f":"'INVENT.Mat&Outillag Importé -10'!H250","v":0},null,0,0,0,0,0,0,null,null,0,0,0,0]
[245,{"$f":"'INVENT.Mat&Outillag Importé -10'!B251","v":0},{"$f":"'INVENT.Mat&Outillag Importé -10'!F251","v":0},{"$f":"'INVENT.Mat&Outillag Importé -10'!C251","v":0},{"$f":"'INVENT.Mat&Outillag Importé -10'!H251","v":0},null,0,0,0,0,0,0,null,null,0,0,0,0]
[246,{"$f":"'INVENT.Mat&Outillag Importé -10'!B252","v":0},{"$f":"'INVENT.Mat&Outillag Importé -10'!F252","v":0},{"$f":"'INVENT.Mat&Outillag Importé -10'!C252","v":0},{"$f":"'INVENT.Mat&Outillag Importé -10'!H252","v":0},null,0,0,0,0,0,0,null,null,0,0,0,0]
[247,{"$f":"'INVENT.Mat&Outillag Importé -10'!B253","v":0},{"$f":"'INVENT.Mat&Outillag Importé -10'!F253","v":0},{"$f":"'INVENT.Mat&Outillag Importé -10'!C253","v":0},{"$f":"'INVENT.Mat&Outillag Importé -10'!H253","v":0},null,0,0,0,0,0,0,null,null,0,0,0,0]
[248,{"$f":"'INVENT.Mat&Outillag Importé -10'!B254","v":0},{"$f":"'INVENT.Mat&Outillag Importé -10'!F254","v":0},{"$f":"'INVENT.Mat&Outillag Importé -10'!C254","v":0},{"$f":"'INVENT.Mat&Outillag Importé -10'!H254","v":0},null,0,0,0,0,0,0,null,null,0,0,0,0]
[249,{"$f":"'INVENT.Mat&Outillag Importé -10'!B255","v":0},{"$f":"'INVENT.Mat&Outillag Importé -10'!F255","v":0},{"$f":"'INVENT.Mat&Outillag Importé -10'!C255","v":0},{"$f":"'INVENT.Mat&Outillag Importé -10'!H255","v":0},null,0,0,0,0,0,0,null,null,0,0,0,0]
[250,{"$f":"'INVENT.Mat&Outillag Importé -10'!B256","v":0},{"$f":"'INVENT.Mat&Outillag Importé -10'!F256","v":0},{"$f":"'INVENT.Mat&Outillag Importé -10'!C256","v":0},{"$f":"'INVENT.Mat&Outillag Importé -10'!H256","v":0},null,0,0,0,0,0,0,null,null,0,0,0,0]
[251,{"$f":"'INVENT.Mat&Outillag Importé -10'!B257","v":0},{"$f":"'INVENT.Mat&Outillag Importé -10'!F257","v":0},{"$f":"'INVENT.Mat&Outillag Importé -10'!C257","v":0},{"$f":"'INVENT.Mat&Outillag Importé -10'!H257","v":0},null,0,0,0,0,0,0,null,null,0,0,0,0]
[252,{"$f":"'INVENT.Mat&Outillag Importé -10'!B258","v":0},{"$f":"'INVENT.Mat&Outillag Importé -10'!F258","v":0},{"$f":"'INVENT.Mat&Outillag Importé -10'!C258","v":0},{"$f":"'INVENT.Mat&Outillag Importé -10'!H258","v":0},null,0,0,0,0,0,0,null,null,0,0,0,0]
[253,{"$f":"'INVENT.Mat&Outillag Importé -10'!B259","v":0},{"$f":"'INVENT.Mat&Outillag Importé -10'!F259","v":0},{"$f":"'INVENT.Mat&Outillag Importé -10'!C259","v":0},{"$f":"'INVENT.Mat&Outillag Importé -10'!H259","v":0},null,0,0,0,0,0,0,null,null,0,0,0,0]
[254,{"$f":"'INVENT.Mat&Outillag Importé -10'!B260","v":0},{"$f":"'INVENT.Mat&Outillag Importé -10'!F260","v":0},{"$f":"'INVENT.Mat&Outillag Importé -10'!C260","v":0},{"$f":"'INVENT.Mat&Outillag Importé -10'!H260","v":0},null,0,0,0,0,0,0,null,null,0,0,0,0]
[255,{"$f":"'INVENT.Mat&Outillag Importé -10'!B261","v":0},{"$f":"'INVENT.Mat&Outillag Importé -10'!F261","v":0},{"$f":"'INVENT.Mat&Outillag Importé -10'!C261","v":0},{"$f":"'INVENT.Mat&Outillag Importé -10'!H261","v":0},null,0,0,0,0,0,0,null,null,0,0,0,0]
[256,{"$f":"'INVENT.Mat&Outillag Importé -10'!B262","v":0},{"$f":"'INVENT.Mat&Outillag Importé -10'!F262","v":0},{"$f":"'INVENT.Mat&Outillag Importé -10'!C262","v":0},{"$f":"'INVENT.Mat&Outillag Importé -10'!H262","v":0},null,0,0,0,0,0,0,null,null,0,0,0,0]
[257,{"$f":"'INVENT.Mat&Outillag Importé -10'!B263","v":0},{"$f":"'INVENT.Mat&Outillag Importé -10'!F263","v":0},{"$f":"'INVENT.Mat&Outillag Importé -10'!C263","v":0},{"$f":"'INVENT.Mat&Outillag Importé -10'!H263","v":0},null,0,0,0,0,0,0,null,null,0,0,0,0]
[258,{"$f":"'INVENT.Mat&Outillag Importé -10'!B264","v":0},{"$f":"'INVENT.Mat&Outillag Importé -10'!F264","v":0},{"$f":"'INVENT.Mat&Outillag Importé -10'!C264","v":0},{"$f":"'INVENT.Mat&Outillag Importé -10'!H264","v":0},null,0,{"$f":"E265*1%","v":0},{"$f":"E265*1%","v":0},{"$f":"E265*0.5%","v":0},0,0,null,null,0,0,0,0]
[259,{"$f":"'INVENT.Mat&Outillag Importé -10'!B265","v":0},{"$f":"'INVENT.Mat&Outillag Importé -10'!F265","v":0},{"$f":"'INVENT.Mat&Outillag Importé -10'!C265","v":0},{"$f":"'INVENT.Mat&Outillag Importé -10'!H265","v":0},null,0,0,0,0,0,0,null,null,0,0,0,0]
[260,{"$f":"'INVENT.Mat&Outillag Importé -10'!B266","v":0},{"$f":"'INVENT.Mat&Outillag Importé -10'!F266","v":0},{"$f":"'INVENT.Mat&Outillag Importé -10'!C266","v":0},{"$f":"'INVENT.Mat&Outillag Importé -10'!H266","v":0},null,0,0,0,0,0,0,null,null,0,0,0,0]
[261,{"$f":"'INVENT.Mat&Outillag Importé -10'!B267","v":0},{"$f":"'INVENT.Mat&Outillag Importé -10'!F267","v":0},{"$f":"'INVENT.Mat&Outillag Importé -10'!C267","v":0},{"$f":"'INVENT.Mat&Outillag Importé -10'!H267","v":0},null,0,0,0,0,0,0,null,null,0,0,0,0]
[262,{"$f":"'INVENT.Mat&Outillag Importé -10'!B268","v":0},{"$f":"'INVENT.Mat&Outillag Importé -10'!F268","v":0},{"$f":"'INVENT.Mat&Outillag Importé -10'!C268","v":0},{"$f":"'INVENT.Mat&Outillag Importé -10'!H268","v":0},null,0,0,0,0,0,0,null,null,0,0,0,0]
[263,{"$f":"'INVENT.Mat&Outillag Importé -10'!B269","v":0},{"$f":"'INVENT.Mat&Outillag Importé -10'!F269","v":0},{"$f":"'INVENT.Mat&Outillag Importé -10'!C269","v":0},{"$f":"'INVENT.Mat&Outillag Importé -10'!H269","v":0},null,0,0,0,0,0,0,null,null,0,0,0,0]
[264,{"$f":"'INVENT.Mat&Outillag Importé -10'!B270","v":0},{"$f":"'INVENT.Mat&Outillag Importé -10'!F270","v":0},{"$f":"'INVENT.Mat&Outillag Importé -10'!C270","v":0},{"$f":"'INVENT.Mat&Outillag Importé -10'!H270","v":0},null,0,0,0,0,0,0,null,null,0,0,0,0]
[265,{"$f":"'INVENT.Mat&Outillag Importé -10'!B271","v":0},{"$f":"'INVENT.Mat&Outillag Importé -10'!F271","v":0},{"$f":"'INVENT.Mat&Outillag Importé -10'!C271","v":0},{"$f":"'INVENT.Mat&Outillag Importé -10'!H271","v":0},null,0,0,0,0,0,0,null,null,0,0,0,0]
[266,{"$f":"'INVENT.Mat&Outillag Importé -10'!B272","v":0},{"$f":"'INVENT.Mat&Outillag Importé -10'!F272","v":0},{"$f":"'INVENT.Mat&Outillag Importé -10'!C272","v":0},{"$f":"'INVENT.Mat&Outillag Importé -10'!H272","v":0},null,0,0,0,0,0,0,null,null,0,0,0,0]
[267,{"$f":"'INVENT.Mat&Outillag Importé -10'!B273","v":0},{"$f":"'INVENT.Mat&Outillag Importé -10'!F273","v":0},{"$f":"'INVENT.Mat&Outillag Importé -10'!C273","v":0},{"$f":"'INVENT.Mat&Outillag Importé -10'!H273","v":0},null,0,0,0,0,0,0,null,null,0,0,0,0]
[268,{"$f":"'INVENT.Mat&Outillag Importé -10'!B274","v":0},{"$f":"'INVENT.Mat&Outillag Importé -10'!F274","v":0},{"$f":"'INVENT.Mat&Outillag Importé -10'!C274","v":0},{"$f":"'INVENT.Mat&Outillag Importé -10'!H274","v":0},null,0,0,0,0,0,0,null,null,0,0,0,0]
[269,{"$f":"'INVENT.Mat&Outillag Importé -10'!B275","v":0},{"$f":"'INVENT.Mat&Outillag Importé -10'!F275","v":0},{"$f":"'INVENT.Mat&Outillag Importé -10'!C275","v":0},{"$f":"'INVENT.Mat&Outillag Importé -10'!H275","v":0},null,0,0,0,0,0,0,null,null,0,0,0,0]
[270,{"$f":"'INVENT.Mat&Outillag Importé -10'!B276","v":0},{"$f":"'INVENT.Mat&Outillag Importé -10'!F276","v":0},{"$f":"'INVENT.Mat&Outillag Importé -10'!C276","v":0},{"$f":"'INVENT.Mat&Outillag Importé -10'!H276","v":0},null,0,0,0,0,0,0,null,null,0,0,0,0]
[271,{"$f":"'INVENT.Mat&Outillag Importé -10'!B277","v":0},{"$f":"'INVENT.Mat&Outillag Importé -10'!F277","v":0},{"$f":"'INVENT.Mat&Outillag Importé -10'!C277","v":0},{"$f":"'INVENT.Mat&Outillag Importé -10'!H277","v":0},null,0,0,0,0,0,0,null,null,0,0,0,0]
[272,{"$f":"'INVENT.Mat&Outillag Importé -10'!B278","v":0},{"$f":"'INVENT.Mat&Outillag Importé -10'!F278","v":0},{"$f":"'INVENT.Mat&Outillag Importé -10'!C278","v":0},{"$f":"'INVENT.Mat&Outillag Importé -10'!H278","v":0},null,0,0,0,0,0,0,null,null,0,0,0,0]
[273,{"$f":"'INVENT.Mat&Outillag Importé -10'!B279","v":0},{"$f":"'INVENT.Mat&Outillag Importé -10'!F279","v":0},{"$f":"'INVENT.Mat&Outillag Importé -10'!C279","v":0},{"$f":"'INVENT.Mat&Outillag Importé -10'!H279","v":0},null,0,0,0,0,0,0,null,null,0,0,0,0]
[274,{"$f":"'INVENT.Mat&Outillag Importé -10'!B280","v":0},{"$f":"'INVENT.Mat&Outillag Importé -10'!F280","v":0},{"$f":"'INVENT.Mat&Outillag Importé -10'!C280","v":0},{"$f":"'INVENT.Mat&Outillag Importé -10'!H280","v":0},null,0,0,0,0,0,0,null,null,0,0,0,0]
[275,{"$f":"'INVENT.Mat&Outillag Importé -10'!B281","v":0},{"$f":"'INVENT.Mat&Outillag Importé -10'!F281","v":0},{"$f":"'INVENT.Mat&Outillag Importé -10'!C281","v":0},{"$f":"'INVENT.Mat&Outillag Importé -10'!H281","v":0},null,0,0,0,0,0,0,null,null,0,0,0,0]
[276,{"$f":"'INVENT.Mat&Outillag Importé -10'!B282","v":0},{"$f":"'INVENT.Mat&Outillag Importé -10'!F282","v":0},{"$f":"'INVENT.Mat&Outillag Importé -10'!C282","v":0},{"$f":"'INVENT.Mat&Outillag Importé -10'!H282","v":0},null,0,0,0,0,0,0,null,null,0,0,0,0]
[277,{"$f":"'INVENT.Mat&Outillag Importé -10'!B283","v":0},{"$f":"'INVENT.Mat&Outillag Importé -10'!F283","v":0},{"$f":"'INVENT.Mat&Outillag Importé -10'!C283","v":0},{"$f":"'INVENT.Mat&Outillag Importé -10'!H283","v":0},null,0,0,0,0,0,0,null,null,0,0,0,0]
[278,{"$f":"'INVENT.Mat&Outillag Importé -10'!B284","v":0},{"$f":"'INVENT.Mat&Outillag Importé -10'!F284","v":0},{"$f":"'INVENT.Mat&Outillag Importé -10'!C284","v":0},{"$f":"'INVENT.Mat&Outillag Importé -10'!H284","v":0},null,0,0,0,0,0,0,null,null,0,0,0,0]
[279,{"$f":"'INVENT.Mat&Outillag Importé -10'!B285","v":0},{"$f":"'INVENT.Mat&Outillag Importé -10'!F285","v":0},{"$f":"'INVENT.Mat&Outillag Importé -10'!C285","v":0},{"$f":"'INVENT.Mat&Outillag Importé -10'!H285","v":0},null,0,0,0,0,0,0,null,null,0,0,0,0]
[280,{"$f":"'INVENT.Mat&Outillag Importé -10'!B286","v":0},{"$f":"'INVENT.Mat&Outillag Importé -10'!F286","v":0},{"$f":"'INVENT.Mat&Outillag Importé -10'!C286","v":0},{"$f":"'INVENT.Mat&Outillag Importé -10'!H286","v":0},null,0,0,0,0,0,0,null,null,0,0,0,0]
[281,{"$f":"'INVENT.Mat&Outillag Importé -10'!B287","v":0},{"$f":"'INVENT.Mat&Outillag Importé -10'!F287","v":0},{"$f":"'INVENT.Mat&Outillag Importé -10'!C287","v":0},{"$f":"'INVENT.Mat&Outillag Importé -10'!H287","v":0},null,0,0,0,0,0,0,null,null,0,0,0,0]
[282,{"$f":"'INVENT.Mat&Outillag Importé -10'!B288","v":0},{"$f":"'INVENT.Mat&Outillag Importé -10'!F288","v":0},{"$f":"'INVENT.Mat&Outillag Importé -10'!C288","v":0},{"$f":"'INVENT.Mat&Outillag Importé -10'!H288","v":0},null,0,0,0,0,0,0,null,null,0,0,0,0]
[283,{"$f":"'INVENT.Mat&Outillag Importé -10'!B289","v":0},{"$f":"'INVENT.Mat&Outillag Importé -10'!F289","v":0},{"$f":"'INVENT.Mat&Outillag Importé -10'!C289","v":0},{"$f":"'INVENT.Mat&Outillag Importé -10'!H289","v":0},null,0,0,0,0,0,0,null,null,0,0,0,0]
[284,{"$f":"'INVENT.Mat&Outillag Importé -10'!B290","v":0},{"$f":"'INVENT.Mat&Outillag Importé -10'!F290","v":0},{"$f":"'INVENT.Mat&Outillag Importé -10'!C290","v":0},{"$f":"'INVENT.Mat&Outillag Importé -10'!H290","v":0},null,0,0,0,0,0,0,null,null,0,0,0,0]
[285,{"$f":"'INVENT.Mat&Outillag Importé -10'!B291","v":0},{"$f":"'INVENT.Mat&Outillag Importé -10'!F291","v":0},{"$f":"'INVENT.Mat&Outillag Importé -10'!C291","v":0},{"$f":"'INVENT.Mat&Outillag Importé -10'!H291","v":0},null,0,0,0,0,0,0,null,null,0,0,0,0]
[286,{"$f":"'INVENT.Mat&Outillag Importé -10'!B292","v":0},{"$f":"'INVENT.Mat&Outillag Importé -10'!F292","v":0},{"$f":"'INVENT.Mat&Outillag Importé -10'!C292","v":0},{"$f":"'INVENT.Mat&Outillag Importé -10'!H292","v":0},null,0,0,0,0,0,0,null,null,0,0,0,0]
[287,{"$f":"'INVENT.Mat&Outillag Importé -10'!B293","v":0},{"$f":"'INVENT.Mat&Outillag Importé -10'!F293","v":0},{"$f":"'INVENT.Mat&Outillag Importé -10'!C293","v":0},{"$f":"'INVENT.Mat&Outillag Importé -10'!H293","v":0},null,0,0,0,0,0,0,null,null,0,0,0,0]
[288,{"$f":"'INVENT.Mat&Outillag Importé -10'!B294","v":0},{"$f":"'INVENT.Mat&Outillag Importé -10'!F294","v":0},{"$f":"'INVENT.Mat&Outillag Importé -10'!C294","v":0},{"$f":"'INVENT.Mat&Outillag Importé -10'!H294","v":0},null,0,0,0,0,0,0,null,null,0,0,0,0]
[289,{"$f":"'INVENT.Mat&Outillag Importé -10'!B295","v":0},{"$f":"'INVENT.Mat&Outillag Importé -10'!F295","v":0},{"$f":"'INVENT.Mat&Outillag Importé -10'!C295","v":0},{"$f":"'INVENT.Mat&Outillag Importé -10'!H295","v":0},null,0,0,0,0,0,0,null,null,0,0,0,0]
[290,{"$f":"'INVENT.Mat&Outillag Importé -10'!B296","v":0},{"$f":"'INVENT.Mat&Outillag Importé -10'!F296","v":0},{"$f":"'INVENT.Mat&Outillag Importé -10'!C296","v":0},{"$f":"'INVENT.Mat&Outillag Importé -10'!H296","v":0},null,0,0,0,0,0,0,null,null,0,0,0,0]
[291,{"$f":"'INVENT.Mat&Outillag Importé -10'!B297","v":0},{"$f":"'INVENT.Mat&Outillag Importé -10'!F297","v":0},{"$f":"'INVENT.Mat&Outillag Importé -10'!C297","v":0},{"$f":"'INVENT.Mat&Outillag Importé -10'!H297","v":0},null,0,0,0,0,0,0,null,null,0,0,0,0]
[292,{"$f":"'INVENT.Mat&Outillag Importé -10'!B298","v":0},{"$f":"'INVENT.Mat&Outillag Importé -10'!F298","v":0},{"$f":"'INVENT.Mat&Outillag Importé -10'!C298","v":0},{"$f":"'INVENT.Mat&Outillag Importé -10'!H298","v":0},null,0,0,0,0,0,0,null,null,0,0,0,0]
[293,{"$f":"'INVENT.Mat&Outillag Importé -10'!B299","v":0},{"$f":"'INVENT.Mat&Outillag Importé -10'!F299","v":0},{"$f":"'INVENT.Mat&Outillag Importé -10'!C299","v":0},{"$f":"'INVENT.Mat&Outillag Importé -10'!H299","v":0},null,0,0,0,0,0,0,null,null,0,0,0,0]
[294,{"$f":"'INVENT.Mat&Outillag Importé -10'!B300","v":0},{"$f":"'INVENT.Mat&Outillag Importé -10'!F300","v":0},{"$f":"'INVENT.Mat&Outillag Importé -10'!C300","v":0},{"$f":"'INVENT.Mat&Outillag Importé -10'!H300","v":0},null,0,0,0,0,0,0,null,null,0,0,0,0]
[295,{"$f":"'INVENT.Mat&Outillag Importé -10'!B301","v":0},{"$f":"'INVENT.Mat&Outillag Importé -10'!F301","v":0},{"$f":"'INVENT.Mat&Outillag Importé -10'!C301","v":0},{"$f":"'INVENT.Mat&Outillag Importé -10'!H301","v":0},null,0,0,0,0,0,0,null,null,0,0,0,0]
[{"$f":"+A302+1","v":296},{"$f":"'INVENT.Mat&Outillag Importé -10'!B302","v":0},{"$f":"'INVENT.Mat&Outillag Importé -10'!F302","v":0},{"$f":"'INVENT.Mat&Outillag Importé -10'!C302","v":0},{"$f":"'INVENT.Mat&Outillag Importé -10'!H302","v":0},null,0,0,0,0,0,0,null,null,0,0,0,0]
[297,{"$f":"'INVENT.Mat&Outillag Importé -10'!B303","v":0},{"$f":"'INVENT.Mat&Outillag Importé -10'!F303","v":0},{"$f":"'INVENT.Mat&Outillag Importé -10'!C303","v":0},{"$f":"'INVENT.Mat&Outillag Importé -10'!H303","v":0},null,0,0,0,0,0,0,null,null,0,0,0,0]
[298,{"$f":"'INVENT.Mat&Outillag Importé -10'!B304","v":0},{"$f":"'INVENT.Mat&Outillag Importé -10'!F304","v":0},{"$f":"'INVENT.Mat&Outillag Importé -10'!C304","v":0},{"$f":"'INVENT.Mat&Outillag Importé -10'!H304","v":0},null,0,0,0,0,0,0,null,null,0,0,0,0]
[299,{"$f":"'INVENT.Mat&Outillag Importé -10'!B305","v":0},{"$f":"'INVENT.Mat&Outillag Importé -10'!F305","v":0},{"$f":"'INVENT.Mat&Outillag Importé -10'!C305","v":0},{"$f":"'INVENT.Mat&Outillag Importé -10'!H305","v":0},null,0,0,0,0,0,0,null,null,0,0,0,0]
[300,{"$f":"'INVENT.Mat&Outillag Importé -10'!B306","v":0},{"$f":"'INVENT.Mat&Outillag Importé -10'!F306","v":0},{"$f":"'INVENT.Mat&Outillag Importé -10'!C306","v":0},{"$f":"'INVENT.Mat&Outillag Importé -10'!H306","v":0},null,0,0,0,0,0,0,null,null,0,0,0,0]
[301,{"$f":"'INVENT.Mat&Outillag Importé -10'!B307","v":0},{"$f":"'INVENT.Mat&Outillag Importé -10'!F307","v":0},{"$f":"'INVENT.Mat&Outillag Importé -10'!C307","v":0},{"$f":"'INVENT.Mat&Outillag Importé -10'!H307","v":0},null,0,0,0,0,0,0,null,null,0,0,0,0]
[302,{"$f":"'INVENT.Mat&Outillag Importé -10'!B308","v":0},{"$f":"'INVENT.Mat&Outillag Importé -10'!F308","v":0},{"$f":"'INVENT.Mat&Outillag Importé -10'!C308","v":0},{"$f":"'INVENT.Mat&Outillag Importé -10'!H308","v":0},null,0,0,0,0,0,0,null,null,0,0,0,0]
[303,{"$f":"'INVENT.Mat&Outillag Importé -10'!B309","v":0},{"$f":"'INVENT.Mat&Outillag Importé -10'!F309","v":0},{"$f":"'INVENT.Mat&Outillag Importé -10'!C309","v":0},{"$f":"'INVENT.Mat&Outillag Importé -10'!H309","v":0},null,0,0,0,0,0,0,null,null,0,0,0,0]
[304,{"$f":"'INVENT.Mat&Outillag Importé -10'!B310","v":0},{"$f":"'INVENT.Mat&Outillag Importé -10'!F310","v":0},{"$f":"'INVENT.Mat&Outillag Importé -10'!C310","v":0},{"$f":"'INVENT.Mat&Outillag Importé -10'!H310","v":0},null,{"$f":"F311*E311","v":0},0,0,0,{"$f":"(E311+G311+H311)*18%","v":0},{"$f":"SUM(G311:K311)+E311","v":0},null,null,{"$f":"(M311+N311)*18%","v":0},{"$f":"O311+N311+M311","v":0},{"$f":"+R311-O311-K311","v":0},{"$f":"P311+L311","v":0}]
[305,{"$f":"'INVENT.Mat&Outillag Importé -10'!B311","v":0},{"$f":"'INVENT.Mat&Outillag Importé -10'!F311","v":0},{"$f":"'INVENT.Mat&Outillag Importé -10'!C311","v":0},{"$f":"'INVENT.Mat&Outillag Importé -10'!H311","v":0},null,0,0,0,0,0,0,null,null,0,0,0,0]
[306,{"$f":"'INVENT.Mat&Outillag Importé -10'!B312","v":0},{"$f":"'INVENT.Mat&Outillag Importé -10'!F312","v":0},{"$f":"'INVENT.Mat&Outillag Importé -10'!C312","v":0},{"$f":"'INVENT.Mat&Outillag Importé -10'!H312","v":0},null,0,0,0,0,0,0,null,null,0,0,0,0]
[307,{"$f":"'INVENT.Mat&Outillag Importé -10'!B313","v":0},{"$f":"'INVENT.Mat&Outillag Importé -10'!F313","v":0},{"$f":"'INVENT.Mat&Outillag Importé -10'!C313","v":0},{"$f":"'INVENT.Mat&Outillag Importé -10'!H313","v":0},null,0,0,0,0,0,0,null,null,0,0,0,0]
[308,{"$f":"'INVENT.Mat&Outillag Importé -10'!B314","v":0},{"$f":"'INVENT.Mat&Outillag Importé -10'!F314","v":0},{"$f":"'INVENT.Mat&Outillag Importé -10'!C314","v":0},{"$f":"'INVENT.Mat&Outillag Importé -10'!H314","v":0},null,0,0,0,0,0,0,null,null,0,0,0,0]
[309,{"$f":"'INVENT.Mat&Outillag Importé -10'!B315","v":0},{"$f":"'INVENT.Mat&Outillag Importé -10'!F315","v":0},{"$f":"'INVENT.Mat&Outillag Importé -10'!C315","v":0},{"$f":"'INVENT.Mat&Outillag Importé -10'!H315","v":0},null,0,0,0,0,0,0,null,null,0,0,0,0]
[310,{"$f":"'INVENT.Mat&Outillag Importé -10'!B316","v":0},{"$f":"'INVENT.Mat&Outillag Importé -10'!F316","v":0},{"$f":"'INVENT.Mat&Outillag Importé -10'!C316","v":0},{"$f":"'INVENT.Mat&Outillag Importé -10'!H316","v":0},null,0,0,0,0,0,0,null,null,0,0,0,0]
[311,{"$f":"'INVENT.Mat&Outillag Importé -10'!B317","v":0},{"$f":"'INVENT.Mat&Outillag Importé -10'!F317","v":0},{"$f":"'INVENT.Mat&Outillag Importé -10'!C317","v":0},{"$f":"'INVENT.Mat&Outillag Importé -10'!H317","v":0},null,0,0,0,0,0,0,null,null,0,0,0,0]
[312,{"$f":"'INVENT.Mat&Outillag Importé -10'!B318","v":0},{"$f":"'INVENT.Mat&Outillag Importé -10'!F318","v":0},{"$f":"'INVENT.Mat&Outillag Importé -10'!C318","v":0},{"$f":"'INVENT.Mat&Outillag Importé -10'!H318","v":0},null,0,0,0,0,0,0,null,null,0,0,0,0]
[313,{"$f":"'INVENT.Mat&Outillag Importé -10'!B319","v":0},{"$f":"'INVENT.Mat&Outillag Importé -10'!F319","v":0},{"$f":"'INVENT.Mat&Outillag Importé -10'!C319","v":0},{"$f":"'INVENT.Mat&Outillag Importé -10'!H319","v":0},null,0,0,0,0,0,0,null,null,0,0,0,0]
[314,{"$f":"'INVENT.Mat&Outillag Importé -10'!B320","v":0},{"$f":"'INVENT.Mat&Outillag Importé -10'!F320","v":0},{"$f":"'INVENT.Mat&Outillag Importé -10'!C320","v":0},{"$f":"'INVENT.Mat&Outillag Importé -10'!H320","v":0},null,0,0,0,0,0,0,null,null,0,0,0,0]
[315,{"$f":"'INVENT.Mat&Outillag Importé -10'!B321","v":0},{"$f":"'INVENT.Mat&Outillag Importé -10'!F321","v":0},{"$f":"'INVENT.Mat&Outillag Importé -10'!C321","v":0},{"$f":"'INVENT.Mat&Outillag Importé -10'!H321","v":0},null,0,0,0,0,0,0,null,null,0,0,0,0]
[316,{"$f":"'INVENT.Mat&Outillag Importé -10'!B322","v":0},{"$f":"'INVENT.Mat&Outillag Importé -10'!F322","v":0},{"$f":"'INVENT.Mat&Outillag Importé -10'!C322","v":0},{"$f":"'INVENT.Mat&Outillag Importé -10'!H322","v":0},null,0,0,0,0,0,0,null,null,0,0,0,0]
[317,{"$f":"'INVENT.Mat&Outillag Importé -10'!B323","v":0},{"$f":"'INVENT.Mat&Outillag Importé -10'!F323","v":0},{"$f":"'INVENT.Mat&Outillag Importé -10'!C323","v":0},{"$f":"'INVENT.Mat&Outillag Importé -10'!H323","v":0},null,0,0,0,0,0,0,null,null,0,0,0,0]
[318,{"$f":"'INVENT.Mat&Outillag Importé -10'!B324","v":0},{"$f":"'INVENT.Mat&Outillag Importé -10'!F324","v":0},{"$f":"'INVENT.Mat&Outillag Importé -10'!C324","v":0},{"$f":"'INVENT.Mat&Outillag Importé -10'!H324","v":0},null,0,0,0,0,0,0,null,null,0,0,0,0]
[319,{"$f":"'INVENT.Mat&Outillag Importé -10'!B325","v":0},{"$f":"'INVENT.Mat&Outillag Importé -10'!F325","v":0},{"$f":"'INVENT.Mat&Outillag Importé -10'!C325","v":0},{"$f":"'INVENT.Mat&Outillag Importé -10'!H325","v":0},null,0,0,0,0,0,0,null,null,0,0,0,0]
[320,{"$f":"'INVENT.Mat&Outillag Importé -10'!B326","v":0},{"$f":"'INVENT.Mat&Outillag Importé -10'!F326","v":0},{"$f":"'INVENT.Mat&Outillag Importé -10'!C326","v":0},{"$f":"'INVENT.Mat&Outillag Importé -10'!H326","v":0},null,0,0,0,0,0,0,null,null,0,0,0,0]
[321,{"$f":"'INVENT.Mat&Outillag Importé -10'!B327","v":0},{"$f":"'INVENT.Mat&Outillag Importé -10'!F327","v":0},{"$f":"'INVENT.Mat&Outillag Importé -10'!C327","v":0},{"$f":"'INVENT.Mat&Outillag Importé -10'!H327","v":0},null,0,0,0,0,0,0,null,null,0,0,0,0]
[322,{"$f":"'INVENT.Mat&Outillag Importé -10'!B328","v":0},{"$f":"'INVENT.Mat&Outillag Importé -10'!F328","v":0},{"$f":"'INVENT.Mat&Outillag Importé -10'!C328","v":0},{"$f":"'INVENT.Mat&Outillag Importé -10'!H328","v":0},null,0,{"$f":"E329*1%","v":0},{"$f":"E329*1%","v":0},{"$f":"E329*0.5%","v":0},0,0,null,null,0,0,0,0]
[323,{"$f":"'INVENT.Mat&Outillag Importé -10'!B329","v":0},{"$f":"'INVENT.Mat&Outillag Importé -10'!F329","v":0},{"$f":"'INVENT.Mat&Outillag Importé -10'!C329","v":0},{"$f":"'INVENT.Mat&Outillag Importé -10'!H329","v":0},null,0,0,0,0,0,0,null,null,0,0,0,0]
[324,{"$f":"'INVENT.Mat&Outillag Importé -10'!B330","v":0},{"$f":"'INVENT.Mat&Outillag Importé -10'!F330","v":0},{"$f":"'INVENT.Mat&Outillag Importé -10'!C330","v":0},{"$f":"'INVENT.Mat&Outillag Importé -10'!H330","v":0},null,0,0,0,0,0,0,null,null,0,0,0,0]
[325,{"$f":"'INVENT.Mat&Outillag Importé -10'!B331","v":0},{"$f":"'INVENT.Mat&Outillag Importé -10'!F331","v":0},{"$f":"'INVENT.Mat&Outillag Importé -10'!C331","v":0},{"$f":"'INVENT.Mat&Outillag Importé -10'!H331","v":0},null,0,0,0,0,0,0,null,null,0,0,0,0]
[326,{"$f":"'INVENT.Mat&Outillag Importé -10'!B332","v":0},{"$f":"'INVENT.Mat&Outillag Importé -10'!F332","v":0},{"$f":"'INVENT.Mat&Outillag Importé -10'!C332","v":0},{"$f":"'INVENT.Mat&Outillag Importé -10'!H332","v":0},null,0,0,0,0,0,0,null,null,0,0,0,0]
[327,{"$f":"'INVENT.Mat&Outillag Importé -10'!B333","v":0},{"$f":"'INVENT.Mat&Outillag Importé -10'!F333","v":0},{"$f":"'INVENT.Mat&Outillag Importé -10'!C333","v":0},{"$f":"'INVENT.Mat&Outillag Importé -10'!H333","v":0},null,0,0,0,0,0,0,null,null,0,0,0,0]
[328,{"$f":"'INVENT.Mat&Outillag Importé -10'!B334","v":0},{"$f":"'INVENT.Mat&Outillag Importé -10'!F334","v":0},{"$f":"'INVENT.Mat&Outillag Importé -10'!C334","v":0},{"$f":"'INVENT.Mat&Outillag Importé -10'!H334","v":0},null,0,0,0,0,0,0,null,null,0,0,0,0]
[329,{"$f":"'INVENT.Mat&Outillag Importé -10'!B335","v":0},{"$f":"'INVENT.Mat&Outillag Importé -10'!F335","v":0},{"$f":"'INVENT.Mat&Outillag Importé -10'!C335","v":0},{"$f":"'INVENT.Mat&Outillag Importé -10'!H335","v":0},null,0,0,0,0,0,0,null,null,0,0,0,0]
[330,{"$f":"'INVENT.Mat&Outillag Importé -10'!B336","v":0},{"$f":"'INVENT.Mat&Outillag Importé -10'!F336","v":0},{"$f":"'INVENT.Mat&Outillag Importé -10'!C336","v":0},{"$f":"'INVENT.Mat&Outillag Importé -10'!H336","v":0},null,0,0,0,0,0,0,null,null,0,0,0,0]
[331,{"$f":"'INVENT.Mat&Outillag Importé -10'!B337","v":0},{"$f":"'INVENT.Mat&Outillag Importé -10'!F337","v":0},{"$f":"'INVENT.Mat&Outillag Importé -10'!C337","v":0},{"$f":"'INVENT.Mat&Outillag Importé -10'!H337","v":0},null,0,0,0,0,0,0,null,null,0,0,0,0]
[332,{"$f":"'INVENT.Mat&Outillag Importé -10'!B338","v":0},{"$f":"'INVENT.Mat&Outillag Importé -10'!F338","v":0},{"$f":"'INVENT.Mat&Outillag Importé -10'!C338","v":0},{"$f":"'INVENT.Mat&Outillag Importé -10'!H338","v":0},null,0,0,0,0,0,0,null,null,0,0,0,0]
[333,{"$f":"'INVENT.Mat&Outillag Importé -10'!B339","v":0},{"$f":"'INVENT.Mat&Outillag Importé -10'!F339","v":0},{"$f":"'INVENT.Mat&Outillag Importé -10'!C339","v":0},{"$f":"'INVENT.Mat&Outillag Importé -10'!H339","v":0},null,0,0,0,0,0,0,null,null,0,0,0,0]
[334,{"$f":"'INVENT.Mat&Outillag Importé -10'!B340","v":0},{"$f":"'INVENT.Mat&Outillag Importé -10'!F340","v":0},{"$f":"'INVENT.Mat&Outillag Importé -10'!C340","v":0},{"$f":"'INVENT.Mat&Outillag Importé -10'!H340","v":0},null,0,0,0,0,0,0,null,null,0,0,0,0]
[335,{"$f":"'INVENT.Mat&Outillag Importé -10'!B341","v":0},{"$f":"'INVENT.Mat&Outillag Importé -10'!F341","v":0},{"$f":"'INVENT.Mat&Outillag Importé -10'!C341","v":0},{"$f":"'INVENT.Mat&Outillag Importé -10'!H341","v":0},null,0,0,0,0,0,0,null,null,0,0,0,0]
[336,{"$f":"'INVENT.Mat&Outillag Importé -10'!B342","v":0},{"$f":"'INVENT.Mat&Outillag Importé -10'!F342","v":0},{"$f":"'INVENT.Mat&Outillag Importé -10'!C342","v":0},{"$f":"'INVENT.Mat&Outillag Importé -10'!H342","v":0},null,0,0,0,0,0,0,null,null,0,0,0,0]
[337,{"$f":"'INVENT.Mat&Outillag Importé -10'!B343","v":0},{"$f":"'INVENT.Mat&Outillag Importé -10'!F343","v":0},{"$f":"'INVENT.Mat&Outillag Importé -10'!C343","v":0},{"$f":"'INVENT.Mat&Outillag Importé -10'!H343","v":0},null,0,0,0,0,0,0,null,null,0,0,0,0]
[338,{"$f":"'INVENT.Mat&Outillag Importé -10'!B344","v":0},{"$f":"'INVENT.Mat&Outillag Importé -10'!F344","v":0},{"$f":"'INVENT.Mat&Outillag Importé -10'!C344","v":0},{"$f":"'INVENT.Mat&Outillag Importé -10'!H344","v":0},null,0,0,0,0,0,0,null,null,0,0,0,0]
[339,{"$f":"'INVENT.Mat&Outillag Importé -10'!B345","v":0},{"$f":"'INVENT.Mat&Outillag Importé -10'!F345","v":0},{"$f":"'INVENT.Mat&Outillag Importé -10'!C345","v":0},{"$f":"'INVENT.Mat&Outillag Importé -10'!H345","v":0},null,0,0,0,0,0,0,null,null,0,0,0,0]
[340,{"$f":"'INVENT.Mat&Outillag Importé -10'!B346","v":0},{"$f":"'INVENT.Mat&Outillag Importé -10'!F346","v":0},{"$f":"'INVENT.Mat&Outillag Importé -10'!C346","v":0},{"$f":"'INVENT.Mat&Outillag Importé -10'!H346","v":0},null,0,0,0,0,0,0,null,null,0,0,0,0]
[341,{"$f":"'INVENT.Mat&Outillag Importé -10'!B347","v":0},{"$f":"'INVENT.Mat&Outillag Importé -10'!F347","v":0},{"$f":"'INVENT.Mat&Outillag Importé -10'!C347","v":0},{"$f":"'INVENT.Mat&Outillag Importé -10'!H347","v":0},null,0,0,0,0,0,0,null,null,0,0,0,0]
[342,{"$f":"'INVENT.Mat&Outillag Importé -10'!B348","v":0},{"$f":"'INVENT.Mat&Outillag Importé -10'!F348","v":0},{"$f":"'INVENT.Mat&Outillag Importé -10'!C348","v":0},{"$f":"'INVENT.Mat&Outillag Importé -10'!H348","v":0},null,0,0,0,0,0,0,null,null,0,0,0,0]
[343,{"$f":"'INVENT.Mat&Outillag Importé -10'!B349","v":0},{"$f":"'INVENT.Mat&Outillag Importé -10'!F349","v":0},{"$f":"'INVENT.Mat&Outillag Importé -10'!C349","v":0},{"$f":"'INVENT.Mat&Outillag Importé -10'!H349","v":0},null,0,0,0,0,0,0,null,null,0,0,0,0]
[344,{"$f":"'INVENT.Mat&Outillag Importé -10'!B350","v":0},{"$f":"'INVENT.Mat&Outillag Importé -10'!F350","v":0},{"$f":"'INVENT.Mat&Outillag Importé -10'!C350","v":0},{"$f":"'INVENT.Mat&Outillag Importé -10'!H350","v":0},null,0,0,0,0,0,0,null,null,0,0,0,0]
[345,{"$f":"'INVENT.Mat&Outillag Importé -10'!B351","v":0},{"$f":"'INVENT.Mat&Outillag Importé -10'!F351","v":0},{"$f":"'INVENT.Mat&Outillag Importé -10'!C351","v":0},{"$f":"'INVENT.Mat&Outillag Importé -10'!H351","v":0},null,0,0,0,0,0,0,null,null,0,0,0,0]
[346,{"$f":"'INVENT.Mat&Outillag Importé -10'!B352","v":0},{"$f":"'INVENT.Mat&Outillag Importé -10'!F352","v":0},{"$f":"'INVENT.Mat&Outillag Importé -10'!C352","v":0},{"$f":"'INVENT.Mat&Outillag Importé -10'!H352","v":0},null,0,0,0,0,0,0,null,null,0,0,0,0]
[347,{"$f":"'INVENT.Mat&Outillag Importé -10'!B353","v":0},{"$f":"'INVENT.Mat&Outillag Importé -10'!F353","v":0},{"$f":"'INVENT.Mat&Outillag Importé -10'!C353","v":0},{"$f":"'INVENT.Mat&Outillag Importé -10'!H353","v":0},null,0,0,0,0,0,0,null,null,0,0,0,0]
[348,{"$f":"'INVENT.Mat&Outillag Importé -10'!B354","v":0},{"$f":"'INVENT.Mat&Outillag Importé -10'!F354","v":0},{"$f":"'INVENT.Mat&Outillag Importé -10'!C354","v":0},{"$f":"'INVENT.Mat&Outillag Importé -10'!H354","v":0},null,0,0,0,0,0,0,null,null,0,0,0,0]
[349,{"$f":"'INVENT.Mat&Outillag Importé -10'!B355","v":0},{"$f":"'INVENT.Mat&Outillag Importé -10'!F355","v":0},{"$f":"'INVENT.Mat&Outillag Importé -10'!C355","v":0},{"$f":"'INVENT.Mat&Outillag Importé -10'!H355","v":0},null,0,0,0,0,0,0,null,null,0,0,0,0]
[350,{"$f":"'INVENT.Mat&Outillag Importé -10'!B356","v":0},{"$f":"'INVENT.Mat&Outillag Importé -10'!F356","v":0},{"$f":"'INVENT.Mat&Outillag Importé -10'!C356","v":0},{"$f":"'INVENT.Mat&Outillag Importé -10'!H356","v":0},null,0,0,0,0,0,0,null,null,0,0,0,0]
[351,{"$f":"'INVENT.Mat&Outillag Importé -10'!B357","v":0},{"$f":"'INVENT.Mat&Outillag Importé -10'!F357","v":0},{"$f":"'INVENT.Mat&Outillag Importé -10'!C357","v":0},{"$f":"'INVENT.Mat&Outillag Importé -10'!H357","v":0},null,0,0,0,0,0,0,null,null,0,0,0,0]
[352,{"$f":"'INVENT.Mat&Outillag Importé -10'!B358","v":0},{"$f":"'INVENT.Mat&Outillag Importé -10'!F358","v":0},{"$f":"'INVENT.Mat&Outillag Importé -10'!C358","v":0},{"$f":"'INVENT.Mat&Outillag Importé -10'!H358","v":0},null,0,0,0,0,0,0,null,null,0,0,0,0]
[353,{"$f":"'INVENT.Mat&Outillag Importé -10'!B359","v":0},{"$f":"'INVENT.Mat&Outillag Importé -10'!F359","v":0},{"$f":"'INVENT.Mat&Outillag Importé -10'!C359","v":0},{"$f":"'INVENT.Mat&Outillag Importé -10'!H359","v":0},null,0,0,0,0,0,0,null,null,0,0,0,0]
[354,{"$f":"'INVENT.Mat&Outillag Importé -10'!B360","v":0},{"$f":"'INVENT.Mat&Outillag Importé -10'!F360","v":0},{"$f":"'INVENT.Mat&Outillag Importé -10'!C360","v":0},{"$f":"'INVENT.Mat&Outillag Importé -10'!H360","v":0},null,0,0,0,0,0,0,null,null,0,0,0,0]
[355,{"$f":"'INVENT.Mat&Outillag Importé -10'!B361","v":0},{"$f":"'INVENT.Mat&Outillag Importé -10'!F361","v":0},{"$f":"'INVENT.Mat&Outillag Importé -10'!C361","v":0},{"$f":"'INVENT.Mat&Outillag Importé -10'!H361","v":0},null,0,0,0,0,0,0,null,null,0,0,0,0]
[356,{"$f":"'INVENT.Mat&Outillag Importé -10'!B362","v":0},{"$f":"'INVENT.Mat&Outillag Importé -10'!F362","v":0},{"$f":"'INVENT.Mat&Outillag Importé -10'!C362","v":0},{"$f":"'INVENT.Mat&Outillag Importé -10'!H362","v":0},null,0,0,0,0,0,0,null,null,0,0,0,0]
[357,{"$f":"'INVENT.Mat&Outillag Importé -10'!B363","v":0},{"$f":"'INVENT.Mat&Outillag Importé -10'!F363","v":0},{"$f":"'INVENT.Mat&Outillag Importé -10'!C363","v":0},{"$f":"'INVENT.Mat&Outillag Importé -10'!H363","v":0},null,0,0,0,0,0,0,null,null,0,0,0,0]
[358,{"$f":"'INVENT.Mat&Outillag Importé -10'!B364","v":0},{"$f":"'INVENT.Mat&Outillag Importé -10'!F364","v":0},{"$f":"'INVENT.Mat&Outillag Importé -10'!C364","v":0},{"$f":"'INVENT.Mat&Outillag Importé -10'!H364","v":0},null,0,0,0,0,0,0,null,null,0,0,0,0]
[359,{"$f":"'INVENT.Mat&Outillag Importé -10'!B365","v":0},{"$f":"'INVENT.Mat&Outillag Importé -10'!F365","v":0},{"$f":"'INVENT.Mat&Outillag Importé -10'!C365","v":0},{"$f":"'INVENT.Mat&Outillag Importé -10'!H365","v":0},null,0,0,0,0,0,0,null,null,0,0,0,0]
[{"$f":"+A366+1","v":360},{"$f":"'INVENT.Mat&Outillag Importé -10'!B366","v":0},{"$f":"'INVENT.Mat&Outillag Importé -10'!F366","v":0},{"$f":"'INVENT.Mat&Outillag Importé -10'!C366","v":0},{"$f":"'INVENT.Mat&Outillag Importé -10'!H366","v":0},null,0,0,0,0,0,0,null,null,0,0,0,0]
[361,{"$f":"'INVENT.Mat&Outillag Importé -10'!B367","v":0},{"$f":"'INVENT.Mat&Outillag Importé -10'!F367","v":0},{"$f":"'INVENT.Mat&Outillag Importé -10'!C367","v":0},{"$f":"'INVENT.Mat&Outillag Importé -10'!H367","v":0},null,0,0,0,0,0,0,null,null,0,0,0,0]
[362,{"$f":"'INVENT.Mat&Outillag Importé -10'!B368","v":0},{"$f":"'INVENT.Mat&Outillag Importé -10'!F368","v":0},{"$f":"'INVENT.Mat&Outillag Importé -10'!C368","v":0},{"$f":"'INVENT.Mat&Outillag Importé -10'!H368","v":0},null,0,0,0,0,0,0,null,null,0,0,0,0]
[363,{"$f":"'INVENT.Mat&Outillag Importé -10'!B369","v":0},{"$f":"'INVENT.Mat&Outillag Importé -10'!F369","v":0},{"$f":"'INVENT.Mat&Outillag Importé -10'!C369","v":0},{"$f":"'INVENT.Mat&Outillag Importé -10'!H369","v":0},null,0,0,0,0,0,0,null,null,0,0,0,0]
[364,{"$f":"'INVENT.Mat&Outillag Importé -10'!B370","v":0},{"$f":"'INVENT.Mat&Outillag Importé -10'!F370","v":0},{"$f":"'INVENT.Mat&Outillag Importé -10'!C370","v":0},{"$f":"'INVENT.Mat&Outillag Importé -10'!H370","v":0},null,0,0,0,0,0,0,null,null,0,0,0,0]
[365,{"$f":"'INVENT.Mat&Outillag Importé -10'!B371","v":0},{"$f":"'INVENT.Mat&Outillag Importé -10'!F371","v":0},{"$f":"'INVENT.Mat&Outillag Importé -10'!C371","v":0},{"$f":"'INVENT.Mat&Outillag Importé -10'!H371","v":0},null,0,0,0,0,0,0,null,null,0,0,0,0]
[366,{"$f":"'INVENT.Mat&Outillag Importé -10'!B372","v":0},{"$f":"'INVENT.Mat&Outillag Importé -10'!F372","v":0},{"$f":"'INVENT.Mat&Outillag Importé -10'!C372","v":0},{"$f":"'INVENT.Mat&Outillag Importé -10'!H372","v":0},null,0,0,0,0,0,0,null,null,0,0,0,0]
[367,{"$f":"'INVENT.Mat&Outillag Importé -10'!B373","v":0},{"$f":"'INVENT.Mat&Outillag Importé -10'!F373","v":0},{"$f":"'INVENT.Mat&Outillag Importé -10'!C373","v":0},{"$f":"'INVENT.Mat&Outillag Importé -10'!H373","v":0},null,0,0,0,0,0,0,null,null,0,0,0,0]
[368,{"$f":"'INVENT.Mat&Outillag Importé -10'!B374","v":0},{"$f":"'INVENT.Mat&Outillag Importé -10'!F374","v":0},{"$f":"'INVENT.Mat&Outillag Importé -10'!C374","v":0},{"$f":"'INVENT.Mat&Outillag Importé -10'!H374","v":0},null,{"$f":"F375*E375","v":0},0,0,0,{"$f":"(E375+G375+H375)*18%","v":0},{"$f":"SUM(G375:K375)+E375","v":0},null,null,{"$f":"(M375+N375)*18%","v":0},{"$f":"O375+N375+M375","v":0},{"$f":"+R375-O375-K375","v":0},{"$f":"P375+L375","v":0}]
[369,{"$f":"'INVENT.Mat&Outillag Importé -10'!B375","v":0},{"$f":"'INVENT.Mat&Outillag Importé -10'!F375","v":0},{"$f":"'INVENT.Mat&Outillag Importé -10'!C375","v":0},{"$f":"'INVENT.Mat&Outillag Importé -10'!H375","v":0},null,0,0,0,0,0,0,null,null,0,0,0,0]
[370,{"$f":"'INVENT.Mat&Outillag Importé -10'!B376","v":0},{"$f":"'INVENT.Mat&Outillag Importé -10'!F376","v":0},{"$f":"'INVENT.Mat&Outillag Importé -10'!C376","v":0},{"$f":"'INVENT.Mat&Outillag Importé -10'!H376","v":0},null,0,0,0,0,0,0,null,null,0,0,0,0]
[371,{"$f":"'INVENT.Mat&Outillag Importé -10'!B377","v":0},{"$f":"'INVENT.Mat&Outillag Importé -10'!F377","v":0},{"$f":"'INVENT.Mat&Outillag Importé -10'!C377","v":0},{"$f":"'INVENT.Mat&Outillag Importé -10'!H377","v":0},null,0,0,0,0,0,0,null,null,0,0,0,0]
[372,{"$f":"'INVENT.Mat&Outillag Importé -10'!B378","v":0},{"$f":"'INVENT.Mat&Outillag Importé -10'!F378","v":0},{"$f":"'INVENT.Mat&Outillag Importé -10'!C378","v":0},{"$f":"'INVENT.Mat&Outillag Importé -10'!H378","v":0},null,0,0,0,0,0,0,null,null,0,0,0,0]
[373,{"$f":"'INVENT.Mat&Outillag Importé -10'!B379","v":0},{"$f":"'INVENT.Mat&Outillag Importé -10'!F379","v":0},{"$f":"'INVENT.Mat&Outillag Importé -10'!C379","v":0},{"$f":"'INVENT.Mat&Outillag Importé -10'!H379","v":0},null,0,0,0,0,0,0,null,null,0,0,0,0]
[374,{"$f":"'INVENT.Mat&Outillag Importé -10'!B380","v":0},{"$f":"'INVENT.Mat&Outillag Importé -10'!F380","v":0},{"$f":"'INVENT.Mat&Outillag Importé -10'!C380","v":0},{"$f":"'INVENT.Mat&Outillag Importé -10'!H380","v":0},null,0,0,0,0,0,0,null,null,0,0,0,0]
[375,{"$f":"'INVENT.Mat&Outillag Importé -10'!B381","v":0},{"$f":"'INVENT.Mat&Outillag Importé -10'!F381","v":0},{"$f":"'INVENT.Mat&Outillag Importé -10'!C381","v":0},{"$f":"'INVENT.Mat&Outillag Importé -10'!H381","v":0},null,0,0,0,0,0,0,null,null,0,0,0,0]
[376,{"$f":"'INVENT.Mat&Outillag Importé -10'!B382","v":0},{"$f":"'INVENT.Mat&Outillag Importé -10'!F382","v":0},{"$f":"'INVENT.Mat&Outillag Importé -10'!C382","v":0},{"$f":"'INVENT.Mat&Outillag Importé -10'!H382","v":0},null,0,0,0,0,0,0,null,null,0,0,0,0]
[377,{"$f":"'INVENT.Mat&Outillag Importé -10'!B383","v":0},{"$f":"'INVENT.Mat&Outillag Importé -10'!F383","v":0},{"$f":"'INVENT.Mat&Outillag Importé -10'!C383","v":0},{"$f":"'INVENT.Mat&Outillag Importé -10'!H383","v":0},null,0,0,0,0,0,0,null,null,0,0,0,0]
[378,{"$f":"'INVENT.Mat&Outillag Importé -10'!B384","v":0},{"$f":"'INVENT.Mat&Outillag Importé -10'!F384","v":0},{"$f":"'INVENT.Mat&Outillag Importé -10'!C384","v":0},{"$f":"'INVENT.Mat&Outillag Importé -10'!H384","v":0},null,0,0,0,0,0,0,null,null,0,0,0,0]
[379,{"$f":"'INVENT.Mat&Outillag Importé -10'!B385","v":0},{"$f":"'INVENT.Mat&Outillag Importé -10'!F385","v":0},{"$f":"'INVENT.Mat&Outillag Importé -10'!C385","v":0},{"$f":"'INVENT.Mat&Outillag Importé -10'!H385","v":0},null,0,0,0,0,0,0,null,null,0,0,0,0]
[380,{"$f":"'INVENT.Mat&Outillag Importé -10'!B386","v":0},{"$f":"'INVENT.Mat&Outillag Importé -10'!F386","v":0},{"$f":"'INVENT.Mat&Outillag Importé -10'!C386","v":0},{"$f":"'INVENT.Mat&Outillag Importé -10'!H386","v":0},null,0,0,0,0,0,0,null,null,0,0,0,0]
[381,{"$f":"'INVENT.Mat&Outillag Importé -10'!B387","v":0},{"$f":"'INVENT.Mat&Outillag Importé -10'!F387","v":0},{"$f":"'INVENT.Mat&Outillag Importé -10'!C387","v":0},{"$f":"'INVENT.Mat&Outillag Importé -10'!H387","v":0},null,0,0,0,0,0,0,null,null,0,0,0,0]
[382,{"$f":"'INVENT.Mat&Outillag Importé -10'!B388","v":0},{"$f":"'INVENT.Mat&Outillag Importé -10'!F388","v":0},{"$f":"'INVENT.Mat&Outillag Importé -10'!C388","v":0},{"$f":"'INVENT.Mat&Outillag Importé -10'!H388","v":0},null,0,0,0,0,0,0,null,null,0,0,0,0]
[383,{"$f":"'INVENT.Mat&Outillag Importé -10'!B389","v":0},{"$f":"'INVENT.Mat&Outillag Importé -10'!F389","v":0},{"$f":"'INVENT.Mat&Outillag Importé -10'!C389","v":0},{"$f":"'INVENT.Mat&Outillag Importé -10'!H389","v":0},null,0,0,0,0,0,0,null,null,0,0,0,0]
[384,{"$f":"'INVENT.Mat&Outillag Importé -10'!B390","v":0},{"$f":"'INVENT.Mat&Outillag Importé -10'!F390","v":0},{"$f":"'INVENT.Mat&Outillag Importé -10'!C390","v":0},{"$f":"'INVENT.Mat&Outillag Importé -10'!H390","v":0},null,0,0,0,0,0,0,null,null,0,0,0,0]
[385,{"$f":"'INVENT.Mat&Outillag Importé -10'!B391","v":0},{"$f":"'INVENT.Mat&Outillag Importé -10'!F391","v":0},{"$f":"'INVENT.Mat&Outillag Importé -10'!C391","v":0},{"$f":"'INVENT.Mat&Outillag Importé -10'!H391","v":0},null,0,0,0,0,0,0,null,null,0,0,0,0]
[386,{"$f":"'INVENT.Mat&Outillag Importé -10'!B392","v":0},{"$f":"'INVENT.Mat&Outillag Importé -10'!F392","v":0},{"$f":"'INVENT.Mat&Outillag Importé -10'!C392","v":0},{"$f":"'INVENT.Mat&Outillag Importé -10'!H392","v":0},null,0,{"$f":"E393*1%","v":0},{"$f":"E393*1%","v":0},{"$f":"E393*0.5%","v":0},0,0,null,null,0,0,0,0]
[387,{"$f":"'INVENT.Mat&Outillag Importé -10'!B393","v":0},{"$f":"'INVENT.Mat&Outillag Importé -10'!F393","v":0},{"$f":"'INVENT.Mat&Outillag Importé -10'!C393","v":0},{"$f":"'INVENT.Mat&Outillag Importé -10'!H393","v":0},null,0,0,0,0,0,0,null,null,0,0,0,0]
[388,{"$f":"'INVENT.Mat&Outillag Importé -10'!B394","v":0},{"$f":"'INVENT.Mat&Outillag Importé -10'!F394","v":0},{"$f":"'INVENT.Mat&Outillag Importé -10'!C394","v":0},{"$f":"'INVENT.Mat&Outillag Importé -10'!H394","v":0},null,0,0,0,0,0,0,null,null,0,0,0,0]
[389,{"$f":"'INVENT.Mat&Outillag Importé -10'!B395","v":0},{"$f":"'INVENT.Mat&Outillag Importé -10'!F395","v":0},{"$f":"'INVENT.Mat&Outillag Importé -10'!C395","v":0},{"$f":"'INVENT.Mat&Outillag Importé -10'!H395","v":0},null,0,0,0,0,0,0,null,null,0,0,0,0]
[390,{"$f":"'INVENT.Mat&Outillag Importé -10'!B396","v":0},{"$f":"'INVENT.Mat&Outillag Importé -10'!F396","v":0},{"$f":"'INVENT.Mat&Outillag Importé -10'!C396","v":0},{"$f":"'INVENT.Mat&Outillag Importé -10'!H396","v":0},null,0,0,0,0,0,0,null,null,0,0,0,0]
[391,{"$f":"'INVENT.Mat&Outillag Importé -10'!B397","v":0},{"$f":"'INVENT.Mat&Outillag Importé -10'!F397","v":0},{"$f":"'INVENT.Mat&Outillag Importé -10'!C397","v":0},{"$f":"'INVENT.Mat&Outillag Importé -10'!H397","v":0},null,0,0,0,0,0,0,null,null,0,0,0,0]
[392,{"$f":"'INVENT.Mat&Outillag Importé -10'!B398","v":0},{"$f":"'INVENT.Mat&Outillag Importé -10'!F398","v":0},{"$f":"'INVENT.Mat&Outillag Importé -10'!C398","v":0},{"$f":"'INVENT.Mat&Outillag Importé -10'!H398","v":0},null,0,0,0,0,0,0,null,null,0,0,0,0]
[393,{"$f":"'INVENT.Mat&Outillag Importé -10'!B399","v":0},{"$f":"'INVENT.Mat&Outillag Importé -10'!F399","v":0},{"$f":"'INVENT.Mat&Outillag Importé -10'!C399","v":0},{"$f":"'INVENT.Mat&Outillag Importé -10'!H399","v":0},null,0,0,0,0,0,0,null,null,0,0,0,0]
[394,{"$f":"'INVENT.Mat&Outillag Importé -10'!B400","v":0},{"$f":"'INVENT.Mat&Outillag Importé -10'!F400","v":0},{"$f":"'INVENT.Mat&Outillag Importé -10'!C400","v":0},{"$f":"'INVENT.Mat&Outillag Importé -10'!H400","v":0},null,0,0,0,0,0,0,null,null,0,0,0,0]
[395,{"$f":"'INVENT.Mat&Outillag Importé -10'!B401","v":0},{"$f":"'INVENT.Mat&Outillag Importé -10'!F401","v":0},{"$f":"'INVENT.Mat&Outillag Importé -10'!C401","v":0},{"$f":"'INVENT.Mat&Outillag Importé -10'!H401","v":0},null,0,0,0,0,0,0,null,null,0,0,0,0]
[396,{"$f":"'INVENT.Mat&Outillag Importé -10'!B402","v":0},{"$f":"'INVENT.Mat&Outillag Importé -10'!F402","v":0},{"$f":"'INVENT.Mat&Outillag Importé -10'!C402","v":0},{"$f":"'INVENT.Mat&Outillag Importé -10'!H402","v":0},null,0,0,0,0,0,0,null,null,0,0,0,0]
[397,{"$f":"'INVENT.Mat&Outillag Importé -10'!B403","v":0},{"$f":"'INVENT.Mat&Outillag Importé -10'!F403","v":0},{"$f":"'INVENT.Mat&Outillag Importé -10'!C403","v":0},{"$f":"'INVENT.Mat&Outillag Importé -10'!H403","v":0},null,0,0,0,0,0,0,null,null,0,0,0,0]
[398,{"$f":"'INVENT.Mat&Outillag Importé -10'!B404","v":0},{"$f":"'INVENT.Mat&Outillag Importé -10'!F404","v":0},{"$f":"'INVENT.Mat&Outillag Importé -10'!C404","v":0},{"$f":"'INVENT.Mat&Outillag Importé -10'!H404","v":0},null,0,0,0,0,0,0,null,null,0,0,0,0]
[399,{"$f":"'INVENT.Mat&Outillag Importé -10'!B405","v":0},{"$f":"'INVENT.Mat&Outillag Importé -10'!F405","v":0},{"$f":"'INVENT.Mat&Outillag Importé -10'!C405","v":0},{"$f":"'INVENT.Mat&Outillag Importé -10'!H405","v":0},null,0,0,0,0,0,0,null,null,0,0,0,0]
[400,{"$f":"'INVENT.Mat&Outillag Importé -10'!B406","v":0},{"$f":"'INVENT.Mat&Outillag Importé -10'!F406","v":0},{"$f":"'INVENT.Mat&Outillag Importé -10'!C406","v":0},{"$f":"'INVENT.Mat&Outillag Importé -10'!H406","v":0},null,0,0,0,0,0,0,null,null,0,0,0,0]
[401,{"$f":"'INVENT.Mat&Outillag Importé -10'!B407","v":0},{"$f":"'INVENT.Mat&Outillag Importé -10'!F407","v":0},{"$f":"'INVENT.Mat&Outillag Importé -10'!C407","v":0},{"$f":"'INVENT.Mat&Outillag Importé -10'!H407","v":0},null,0,0,0,0,0,0,null,null,0,0,0,0]
[402,{"$f":"'INVENT.Mat&Outillag Importé -10'!B408","v":0},{"$f":"'INVENT.Mat&Outillag Importé -10'!F408","v":0},{"$f":"'INVENT.Mat&Outillag Importé -10'!C408","v":0},{"$f":"'INVENT.Mat&Outillag Importé -10'!H408","v":0},null,0,0,0,0,0,0,null,null,0,0,0,0]
[403,{"$f":"'INVENT.Mat&Outillag Importé -10'!B409","v":0},{"$f":"'INVENT.Mat&Outillag Importé -10'!F409","v":0},{"$f":"'INVENT.Mat&Outillag Importé -10'!C409","v":0},{"$f":"'INVENT.Mat&Outillag Importé -10'!H409","v":0},null,0,0,0,0,0,0,null,null,0,0,0,0]
[404,{"$f":"'INVENT.Mat&Outillag Importé -10'!B410","v":0},{"$f":"'INVENT.Mat&Outillag Importé -10'!F410","v":0},{"$f":"'INVENT.Mat&Outillag Importé -10'!C410","v":0},{"$f":"'INVENT.Mat&Outillag Importé -10'!H410","v":0},null,0,0,0,0,0,0,null,null,0,0,0,0]
[405,{"$f":"'INVENT.Mat&Outillag Importé -10'!B411","v":0},{"$f":"'INVENT.Mat&Outillag Importé -10'!F411","v":0},{"$f":"'INVENT.Mat&Outillag Importé -10'!C411","v":0},{"$f":"'INVENT.Mat&Outillag Importé -10'!H411","v":0},null,0,0,0,0,0,0,null,null,0,0,0,0]
[406,{"$f":"'INVENT.Mat&Outillag Importé -10'!B412","v":0},{"$f":"'INVENT.Mat&Outillag Importé -10'!F412","v":0},{"$f":"'INVENT.Mat&Outillag Importé -10'!C412","v":0},{"$f":"'INVENT.Mat&Outillag Importé -10'!H412","v":0},null,0,0,0,0,0,0,null,null,0,0,0,0]
[407,{"$f":"'INVENT.Mat&Outillag Importé -10'!B413","v":0},{"$f":"'INVENT.Mat&Outillag Importé -10'!F413","v":0},{"$f":"'INVENT.Mat&Outillag Importé -10'!C413","v":0},{"$f":"'INVENT.Mat&Outillag Importé -10'!H413","v":0},null,0,0,0,0,0,0,null,null,0,0,0,0]
[408,{"$f":"'INVENT.Mat&Outillag Importé -10'!B414","v":0},{"$f":"'INVENT.Mat&Outillag Importé -10'!F414","v":0},{"$f":"'INVENT.Mat&Outillag Importé -10'!C414","v":0},{"$f":"'INVENT.Mat&Outillag Importé -10'!H414","v":0},null,0,0,0,0,0,0,null,null,0,0,0,0]
[409,{"$f":"'INVENT.Mat&Outillag Importé -10'!B415","v":0},{"$f":"'INVENT.Mat&Outillag Importé -10'!F415","v":0},{"$f":"'INVENT.Mat&Outillag Importé -10'!C415","v":0},{"$f":"'INVENT.Mat&Outillag Importé -10'!H415","v":0},null,0,0,0,0,0,0,null,null,0,0,0,0]
[410,{"$f":"'INVENT.Mat&Outillag Importé -10'!B416","v":0},{"$f":"'INVENT.Mat&Outillag Importé -10'!F416","v":0},{"$f":"'INVENT.Mat&Outillag Importé -10'!C416","v":0},{"$f":"'INVENT.Mat&Outillag Importé -10'!H416","v":0},null,0,0,0,0,0,0,null,null,0,0,0,0]
[411,{"$f":"'INVENT.Mat&Outillag Importé -10'!B417","v":0},{"$f":"'INVENT.Mat&Outillag Importé -10'!F417","v":0},{"$f":"'INVENT.Mat&Outillag Importé -10'!C417","v":0},{"$f":"'INVENT.Mat&Outillag Importé -10'!H417","v":0},null,0,0,0,0,0,0,null,null,0,0,0,0]
[412,{"$f":"'INVENT.Mat&Outillag Importé -10'!B418","v":0},{"$f":"'INVENT.Mat&Outillag Importé -10'!F418","v":0},{"$f":"'INVENT.Mat&Outillag Importé -10'!C418","v":0},{"$f":"'INVENT.Mat&Outillag Importé -10'!H418","v":0},null,0,0,0,0,0,0,null,null,0,0,0,0]
[413,{"$f":"'INVENT.Mat&Outillag Importé -10'!B419","v":0},{"$f":"'INVENT.Mat&Outillag Importé -10'!F419","v":0},{"$f":"'INVENT.Mat&Outillag Importé -10'!C419","v":0},{"$f":"'INVENT.Mat&Outillag Importé -10'!H419","v":0},null,0,0,0,0,0,0,null,null,0,0,0,0]
[414,{"$f":"'INVENT.Mat&Outillag Importé -10'!B420","v":0},{"$f":"'INVENT.Mat&Outillag Importé -10'!F420","v":0},{"$f":"'INVENT.Mat&Outillag Importé -10'!C420","v":0},{"$f":"'INVENT.Mat&Outillag Importé -10'!H420","v":0},null,0,0,0,0,0,0,null,null,0,0,0,0]
[415,{"$f":"'INVENT.Mat&Outillag Importé -10'!B421","v":0},{"$f":"'INVENT.Mat&Outillag Importé -10'!F421","v":0},{"$f":"'INVENT.Mat&Outillag Importé -10'!C421","v":0},{"$f":"'INVENT.Mat&Outillag Importé -10'!H421","v":0},null,0,0,0,0,0,0,null,null,0,0,0,0]
[416,{"$f":"'INVENT.Mat&Outillag Importé -10'!B422","v":0},{"$f":"'INVENT.Mat&Outillag Importé -10'!F422","v":0},{"$f":"'INVENT.Mat&Outillag Importé -10'!C422","v":0},{"$f":"'INVENT.Mat&Outillag Importé -10'!H422","v":0},null,0,0,0,0,0,0,null,null,0,0,0,0]
[417,{"$f":"'INVENT.Mat&Outillag Importé -10'!B423","v":0},{"$f":"'INVENT.Mat&Outillag Importé -10'!F423","v":0},{"$f":"'INVENT.Mat&Outillag Importé -10'!C423","v":0},{"$f":"'INVENT.Mat&Outillag Importé -10'!H423","v":0},null,0,0,0,0,0,0,null,null,0,0,0,0]
[418,{"$f":"'INVENT.Mat&Outillag Importé -10'!B424","v":0},{"$f":"'INVENT.Mat&Outillag Importé -10'!F424","v":0},{"$f":"'INVENT.Mat&Outillag Importé -10'!C424","v":0},{"$f":"'INVENT.Mat&Outillag Importé -10'!H424","v":0},null,0,0,0,0,0,0,null,null,0,0,0,0]
[419,{"$f":"'INVENT.Mat&Outillag Importé -10'!B425","v":0},{"$f":"'INVENT.Mat&Outillag Importé -10'!F425","v":0},{"$f":"'INVENT.Mat&Outillag Importé -10'!C425","v":0},{"$f":"'INVENT.Mat&Outillag Importé -10'!H425","v":0},null,0,0,0,0,0,0,null,null,0,0,0,0]
[420,{"$f":"'INVENT.Mat&Outillag Importé -10'!B426","v":0},{"$f":"'INVENT.Mat&Outillag Importé -10'!F426","v":0},{"$f":"'INVENT.Mat&Outillag Importé -10'!C426","v":0},{"$f":"'INVENT.Mat&Outillag Importé -10'!H426","v":0},null,0,0,0,0,0,0,null,null,0,0,0,0]
[421,{"$f":"'INVENT.Mat&Outillag Importé -10'!B427","v":0},{"$f":"'INVENT.Mat&Outillag Importé -10'!F427","v":0},{"$f":"'INVENT.Mat&Outillag Importé -10'!C427","v":0},{"$f":"'INVENT.Mat&Outillag Importé -10'!H427","v":0},null,0,0,0,0,0,0,null,null,0,0,0,0]
[422,{"$f":"'INVENT.Mat&Outillag Importé -10'!B428","v":0},{"$f":"'INVENT.Mat&Outillag Importé -10'!F428","v":0},{"$f":"'INVENT.Mat&Outillag Importé -10'!C428","v":0},{"$f":"'INVENT.Mat&Outillag Importé -10'!H428","v":0},null,0,0,0,0,0,0,null,null,0,0,0,0]
[423,{"$f":"'INVENT.Mat&Outillag Importé -10'!B429","v":0},{"$f":"'INVENT.Mat&Outillag Importé -10'!F429","v":0},{"$f":"'INVENT.Mat&Outillag Importé -10'!C429","v":0},{"$f":"'INVENT.Mat&Outillag Importé -10'!H429","v":0},null,0,0,0,0,0,0,null,null,0,0,0,0]
[{"$f":"+A430+1","v":424},{"$f":"'INVENT.Mat&Outillag Importé -10'!B430","v":0},{"$f":"'INVENT.Mat&Outillag Importé -10'!F430","v":0},{"$f":"'INVENT.Mat&Outillag Importé -10'!C430","v":0},{"$f":"'INVENT.Mat&Outillag Importé -10'!H430","v":0},null,0,0,0,0,0,0,null,null,0,0,0,0]
[425,{"$f":"'INVENT.Mat&Outillag Importé -10'!B431","v":0},{"$f":"'INVENT.Mat&Outillag Importé -10'!F431","v":0},{"$f":"'INVENT.Mat&Outillag Importé -10'!C431","v":0},{"$f":"'INVENT.Mat&Outillag Importé -10'!H431","v":0},null,0,0,0,0,0,0,null,null,0,0,0,0]
[426,{"$f":"'INVENT.Mat&Outillag Importé -10'!B432","v":0},{"$f":"'INVENT.Mat&Outillag Importé -10'!F432","v":0},{"$f":"'INVENT.Mat&Outillag Importé -10'!C432","v":0},{"$f":"'INVENT.Mat&Outillag Importé -10'!H432","v":0},null,0,0,0,0,0,0,null,null,0,0,0,0]
[427,{"$f":"'INVENT.Mat&Outillag Importé -10'!B433","v":0},{"$f":"'INVENT.Mat&Outillag Importé -10'!F433","v":0},{"$f":"'INVENT.Mat&Outillag Importé -10'!C433","v":0},{"$f":"'INVENT.Mat&Outillag Importé -10'!H433","v":0},null,0,0,0,0,0,0,null,null,0,0,0,0]
[428,{"$f":"'INVENT.Mat&Outillag Importé -10'!B434","v":0},{"$f":"'INVENT.Mat&Outillag Importé -10'!F434","v":0},{"$f":"'INVENT.Mat&Outillag Importé -10'!C434","v":0},{"$f":"'INVENT.Mat&Outillag Importé -10'!H434","v":0},null,0,0,0,0,0,0,null,null,0,0,0,0]
[429,{"$f":"'INVENT.Mat&Outillag Importé -10'!B435","v":0},{"$f":"'INVENT.Mat&Outillag Importé -10'!F435","v":0},{"$f":"'INVENT.Mat&Outillag Importé -10'!C435","v":0},{"$f":"'INVENT.Mat&Outillag Importé -10'!H435","v":0},null,0,0,0,0,0,0,null,null,0,0,0,0]
[430,{"$f":"'INVENT.Mat&Outillag Importé -10'!B436","v":0},{"$f":"'INVENT.Mat&Outillag Importé -10'!F436","v":0},{"$f":"'INVENT.Mat&Outillag Importé -10'!C436","v":0},{"$f":"'INVENT.Mat&Outillag Importé -10'!H436","v":0},null,0,0,0,0,0,0,null,null,0,0,0,0]
[431,{"$f":"'INVENT.Mat&Outillag Importé -10'!B437","v":0},{"$f":"'INVENT.Mat&Outillag Importé -10'!F437","v":0},{"$f":"'INVENT.Mat&Outillag Importé -10'!C437","v":0},{"$f":"'INVENT.Mat&Outillag Importé -10'!H437","v":0},null,0,0,0,0,0,0,null,null,0,0,0,0]
[432,{"$f":"'INVENT.Mat&Outillag Importé -10'!B438","v":0},{"$f":"'INVENT.Mat&Outillag Importé -10'!F438","v":0},{"$f":"'INVENT.Mat&Outillag Importé -10'!C438","v":0},{"$f":"'INVENT.Mat&Outillag Importé -10'!H438","v":0},null,{"$f":"F439*E439","v":0},0,0,0,{"$f":"(E439+G439+H439)*18%","v":0},{"$f":"SUM(G439:K439)+E439","v":0},null,null,{"$f":"(M439+N439)*18%","v":0},{"$f":"O439+N439+M439","v":0},{"$f":"+R439-O439-K439","v":0},{"$f":"P439+L439","v":0}]
[433,{"$f":"'INVENT.Mat&Outillag Importé -10'!B439","v":0},{"$f":"'INVENT.Mat&Outillag Importé -10'!F439","v":0},{"$f":"'INVENT.Mat&Outillag Importé -10'!C439","v":0},{"$f":"'INVENT.Mat&Outillag Importé -10'!H439","v":0},null,0,0,0,0,0,0,null,null,0,0,0,0]
[434,{"$f":"'INVENT.Mat&Outillag Importé -10'!B440","v":0},{"$f":"'INVENT.Mat&Outillag Importé -10'!F440","v":0},{"$f":"'INVENT.Mat&Outillag Importé -10'!C440","v":0},{"$f":"'INVENT.Mat&Outillag Importé -10'!H440","v":0},null,0,0,0,0,0,0,null,null,0,0,0,0]
[435,{"$f":"'INVENT.Mat&Outillag Importé -10'!B441","v":0},{"$f":"'INVENT.Mat&Outillag Importé -10'!F441","v":0},{"$f":"'INVENT.Mat&Outillag Importé -10'!C441","v":0},{"$f":"'INVENT.Mat&Outillag Importé -10'!H441","v":0},null,0,0,0,0,0,0,null,null,0,0,0,0]
[436,{"$f":"'INVENT.Mat&Outillag Importé -10'!B442","v":0},{"$f":"'INVENT.Mat&Outillag Importé -10'!F442","v":0},{"$f":"'INVENT.Mat&Outillag Importé -10'!C442","v":0},{"$f":"'INVENT.Mat&Outillag Importé -10'!H442","v":0},null,0,0,0,0,0,0,null,null,0,0,0,0]
[437,{"$f":"'INVENT.Mat&Outillag Importé -10'!B443","v":0},{"$f":"'INVENT.Mat&Outillag Importé -10'!F443","v":0},{"$f":"'INVENT.Mat&Outillag Importé -10'!C443","v":0},{"$f":"'INVENT.Mat&Outillag Importé -10'!H443","v":0},null,0,0,0,0,0,0,null,null,0,0,0,0]
[438,{"$f":"'INVENT.Mat&Outillag Importé -10'!B444","v":0},{"$f":"'INVENT.Mat&Outillag Importé -10'!F444","v":0},{"$f":"'INVENT.Mat&Outillag Importé -10'!C444","v":0},{"$f":"'INVENT.Mat&Outillag Importé -10'!H444","v":0},null,0,0,0,0,0,0,null,null,0,0,0,0]
[439,{"$f":"'INVENT.Mat&Outillag Importé -10'!B445","v":0},{"$f":"'INVENT.Mat&Outillag Importé -10'!F445","v":0},{"$f":"'INVENT.Mat&Outillag Importé -10'!C445","v":0},{"$f":"'INVENT.Mat&Outillag Importé -10'!H445","v":0},null,0,0,0,0,0,0,null,null,0,0,0,0]
[440,{"$f":"'INVENT.Mat&Outillag Importé -10'!B446","v":0},{"$f":"'INVENT.Mat&Outillag Importé -10'!F446","v":0},{"$f":"'INVENT.Mat&Outillag Importé -10'!C446","v":0},{"$f":"'INVENT.Mat&Outillag Importé -10'!H446","v":0},null,0,0,0,0,0,0,null,null,0,0,0,0]
[441,{"$f":"'INVENT.Mat&Outillag Importé -10'!B447","v":0},{"$f":"'INVENT.Mat&Outillag Importé -10'!F447","v":0},{"$f":"'INVENT.Mat&Outillag Importé -10'!C447","v":0},{"$f":"'INVENT.Mat&Outillag Importé -10'!H447","v":0},null,0,0,0,0,0,0,null,null,0,0,0,0]
[442,{"$f":"'INVENT.Mat&Outillag Importé -10'!B448","v":0},{"$f":"'INVENT.Mat&Outillag Importé -10'!F448","v":0},{"$f":"'INVENT.Mat&Outillag Importé -10'!C448","v":0},{"$f":"'INVENT.Mat&Outillag Importé -10'!H448","v":0},null,0,0,0,0,0,0,null,null,0,0,0,0]
[443,{"$f":"'INVENT.Mat&Outillag Importé -10'!B449","v":0},{"$f":"'INVENT.Mat&Outillag Importé -10'!F449","v":0},{"$f":"'INVENT.Mat&Outillag Importé -10'!C449","v":0},{"$f":"'INVENT.Mat&Outillag Importé -10'!H449","v":0},null,0,0,0,0,0,0,null,null,0,0,0,0]
[444,{"$f":"'INVENT.Mat&Outillag Importé -10'!B450","v":0},{"$f":"'INVENT.Mat&Outillag Importé -10'!F450","v":0},{"$f":"'INVENT.Mat&Outillag Importé -10'!C450","v":0},{"$f":"'INVENT.Mat&Outillag Importé -10'!H450","v":0},null,0,0,0,0,0,0,null,null,0,0,0,0]
[445,{"$f":"'INVENT.Mat&Outillag Importé -10'!B451","v":0},{"$f":"'INVENT.Mat&Outillag Importé -10'!F451","v":0},{"$f":"'INVENT.Mat&Outillag Importé -10'!C451","v":0},{"$f":"'INVENT.Mat&Outillag Importé -10'!H451","v":0},null,0,0,0,0,0,0,null,null,0,0,0,0]
[446,{"$f":"'INVENT.Mat&Outillag Importé -10'!B452","v":0},{"$f":"'INVENT.Mat&Outillag Importé -10'!F452","v":0},{"$f":"'INVENT.Mat&Outillag Importé -10'!C452","v":0},{"$f":"'INVENT.Mat&Outillag Importé -10'!H452","v":0},null,0,0,0,0,0,0,null,null,0,0,0,0]
[447,{"$f":"'INVENT.Mat&Outillag Importé -10'!B453","v":0},{"$f":"'INVENT.Mat&Outillag Importé -10'!F453","v":0},{"$f":"'INVENT.Mat&Outillag Importé -10'!C453","v":0},{"$f":"'INVENT.Mat&Outillag Importé -10'!H453","v":0},null,0,0,0,0,0,0,null,null,0,0,0,0]
[448,{"$f":"'INVENT.Mat&Outillag Importé -10'!B454","v":0},{"$f":"'INVENT.Mat&Outillag Importé -10'!F454","v":0},{"$f":"'INVENT.Mat&Outillag Importé -10'!C454","v":0},{"$f":"'INVENT.Mat&Outillag Importé -10'!H454","v":0},null,0,0,0,0,0,0,null,null,0,0,0,0]
[449,{"$f":"'INVENT.Mat&Outillag Importé -10'!B455","v":0},{"$f":"'INVENT.Mat&Outillag Importé -10'!F455","v":0},{"$f":"'INVENT.Mat&Outillag Importé -10'!C455","v":0},{"$f":"'INVENT.Mat&Outillag Importé -10'!H455","v":0},null,0,0,0,0,0,0,null,null,0,0,0,0]
[450,{"$f":"'INVENT.Mat&Outillag Importé -10'!B456","v":0},{"$f":"'INVENT.Mat&Outillag Importé -10'!F456","v":0},{"$f":"'INVENT.Mat&Outillag Importé -10'!C456","v":0},{"$f":"'INVENT.Mat&Outillag Importé -10'!H456","v":0},null,0,{"$f":"E457*1%","v":0},{"$f":"E457*1%","v":0},{"$f":"E457*0.5%","v":0},0,0,null,null,0,0,0,0]
[451,{"$f":"'INVENT.Mat&Outillag Importé -10'!B457","v":0},{"$f":"'INVENT.Mat&Outillag Importé -10'!F457","v":0},{"$f":"'INVENT.Mat&Outillag Importé -10'!C457","v":0},{"$f":"'INVENT.Mat&Outillag Importé -10'!H457","v":0},null,0,0,0,0,0,0,null,null,0,0,0,0]
[452,{"$f":"'INVENT.Mat&Outillag Importé -10'!B458","v":0},{"$f":"'INVENT.Mat&Outillag Importé -10'!F458","v":0},{"$f":"'INVENT.Mat&Outillag Importé -10'!C458","v":0},{"$f":"'INVENT.Mat&Outillag Importé -10'!H458","v":0},null,0,0,0,0,0,0,null,null,0,0,0,0]
[453,{"$f":"'INVENT.Mat&Outillag Importé -10'!B459","v":0},{"$f":"'INVENT.Mat&Outillag Importé -10'!F459","v":0},{"$f":"'INVENT.Mat&Outillag Importé -10'!C459","v":0},{"$f":"'INVENT.Mat&Outillag Importé -10'!H459","v":0},null,0,0,0,0,0,0,null,null,0,0,0,0]
[454,{"$f":"'INVENT.Mat&Outillag Importé -10'!B460","v":0},{"$f":"'INVENT.Mat&Outillag Importé -10'!F460","v":0},{"$f":"'INVENT.Mat&Outillag Importé -10'!C460","v":0},{"$f":"'INVENT.Mat&Outillag Importé -10'!H460","v":0},null,0,0,0,0,0,0,null,null,0,0,0,0]
[455,{"$f":"'INVENT.Mat&Outillag Importé -10'!B461","v":0},{"$f":"'INVENT.Mat&Outillag Importé -10'!F461","v":0},{"$f":"'INVENT.Mat&Outillag Importé -10'!C461","v":0},{"$f":"'INVENT.Mat&Outillag Importé -10'!H461","v":0},null,0,0,0,0,0,0,null,null,0,0,0,0]
[456,{"$f":"'INVENT.Mat&Outillag Importé -10'!B462","v":0},{"$f":"'INVENT.Mat&Outillag Importé -10'!F462","v":0},{"$f":"'INVENT.Mat&Outillag Importé -10'!C462","v":0},{"$f":"'INVENT.Mat&Outillag Importé -10'!H462","v":0},null,0,0,0,0,0,0,null,null,0,0,0,0]
[457,{"$f":"'INVENT.Mat&Outillag Importé -10'!B463","v":0},{"$f":"'INVENT.Mat&Outillag Importé -10'!F463","v":0},{"$f":"'INVENT.Mat&Outillag Importé -10'!C463","v":0},{"$f":"'INVENT.Mat&Outillag Importé -10'!H463","v":0},null,0,0,0,0,0,0,null,null,0,0,0,0]
[458,{"$f":"'INVENT.Mat&Outillag Importé -10'!B464","v":0},{"$f":"'INVENT.Mat&Outillag Importé -10'!F464","v":0},{"$f":"'INVENT.Mat&Outillag Importé -10'!C464","v":0},{"$f":"'INVENT.Mat&Outillag Importé -10'!H464","v":0},null,0,0,0,0,0,0,null,null,0,0,0,0]
[459,{"$f":"'INVENT.Mat&Outillag Importé -10'!B465","v":0},{"$f":"'INVENT.Mat&Outillag Importé -10'!F465","v":0},{"$f":"'INVENT.Mat&Outillag Importé -10'!C465","v":0},{"$f":"'INVENT.Mat&Outillag Importé -10'!H465","v":0},null,0,0,0,0,0,0,null,null,0,0,0,0]
[460,{"$f":"'INVENT.Mat&Outillag Importé -10'!B466","v":0},{"$f":"'INVENT.Mat&Outillag Importé -10'!F466","v":0},{"$f":"'INVENT.Mat&Outillag Importé -10'!C466","v":0},{"$f":"'INVENT.Mat&Outillag Importé -10'!H466","v":0},null,0,0,0,0,0,0,null,null,0,0,0,0]
[461,{"$f":"'INVENT.Mat&Outillag Importé -10'!B467","v":0},{"$f":"'INVENT.Mat&Outillag Importé -10'!F467","v":0},{"$f":"'INVENT.Mat&Outillag Importé -10'!C467","v":0},{"$f":"'INVENT.Mat&Outillag Importé -10'!H467","v":0},null,0,0,0,0,0,0,null,null,0,0,0,0]
[462,{"$f":"'INVENT.Mat&Outillag Importé -10'!B468","v":0},{"$f":"'INVENT.Mat&Outillag Importé -10'!F468","v":0},{"$f":"'INVENT.Mat&Outillag Importé -10'!C468","v":0},{"$f":"'INVENT.Mat&Outillag Importé -10'!H468","v":0},null,0,0,0,0,0,0,null,null,0,0,0,0]
[463,{"$f":"'INVENT.Mat&Outillag Importé -10'!B469","v":0},{"$f":"'INVENT.Mat&Outillag Importé -10'!F469","v":0},{"$f":"'INVENT.Mat&Outillag Importé -10'!C469","v":0},{"$f":"'INVENT.Mat&Outillag Importé -10'!H469","v":0},null,0,0,0,0,0,0,null,null,0,0,0,0]
[464,{"$f":"'INVENT.Mat&Outillag Importé -10'!B470","v":0},{"$f":"'INVENT.Mat&Outillag Importé -10'!F470","v":0},{"$f":"'INVENT.Mat&Outillag Importé -10'!C470","v":0},{"$f":"'INVENT.Mat&Outillag Importé -10'!H470","v":0},null,0,0,0,0,0,0,null,null,0,0,0,0]
[465,{"$f":"'INVENT.Mat&Outillag Importé -10'!B471","v":0},{"$f":"'INVENT.Mat&Outillag Importé -10'!F471","v":0},{"$f":"'INVENT.Mat&Outillag Importé -10'!C471","v":0},{"$f":"'INVENT.Mat&Outillag Importé -10'!H471","v":0},null,0,0,0,0,0,0,null,null,0,0,0,0]
[466,{"$f":"'INVENT.Mat&Outillag Importé -10'!B472","v":0},{"$f":"'INVENT.Mat&Outillag Importé -10'!F472","v":0},{"$f":"'INVENT.Mat&Outillag Importé -10'!C472","v":0},{"$f":"'INVENT.Mat&Outillag Importé -10'!H472","v":0},null,0,0,0,0,0,0,null,null,0,0,0,0]
[467,{"$f":"'INVENT.Mat&Outillag Importé -10'!B473","v":0},{"$f":"'INVENT.Mat&Outillag Importé -10'!F473","v":0},{"$f":"'INVENT.Mat&Outillag Importé -10'!C473","v":0},{"$f":"'INVENT.Mat&Outillag Importé -10'!H473","v":0},null,0,0,0,0,0,0,null,null,0,0,0,0]
[468,{"$f":"'INVENT.Mat&Outillag Importé -10'!B474","v":0},{"$f":"'INVENT.Mat&Outillag Importé -10'!F474","v":0},{"$f":"'INVENT.Mat&Outillag Importé -10'!C474","v":0},{"$f":"'INVENT.Mat&Outillag Importé -10'!H474","v":0},null,0,0,0,0,0,0,null,null,0,0,0,0]
[469,{"$f":"'INVENT.Mat&Outillag Importé -10'!B475","v":0},{"$f":"'INVENT.Mat&Outillag Importé -10'!F475","v":0},{"$f":"'INVENT.Mat&Outillag Importé -10'!C475","v":0},{"$f":"'INVENT.Mat&Outillag Importé -10'!H475","v":0},null,0,0,0,0,0,0,null,null,0,0,0,0]
[470,{"$f":"'INVENT.Mat&Outillag Importé -10'!B476","v":0},{"$f":"'INVENT.Mat&Outillag Importé -10'!F476","v":0},{"$f":"'INVENT.Mat&Outillag Importé -10'!C476","v":0},{"$f":"'INVENT.Mat&Outillag Importé -10'!H476","v":0},null,0,0,0,0,0,0,null,null,0,0,0,0]
[471,{"$f":"'INVENT.Mat&Outillag Importé -10'!B477","v":0},{"$f":"'INVENT.Mat&Outillag Importé -10'!F477","v":0},{"$f":"'INVENT.Mat&Outillag Importé -10'!C477","v":0},{"$f":"'INVENT.Mat&Outillag Importé -10'!H477","v":0},null,0,0,0,0,0,0,null,null,0,0,0,0]
[472,{"$f":"'INVENT.Mat&Outillag Importé -10'!B478","v":0},{"$f":"'INVENT.Mat&Outillag Importé -10'!F478","v":0},{"$f":"'INVENT.Mat&Outillag Importé -10'!C478","v":0},{"$f":"'INVENT.Mat&Outillag Importé -10'!H478","v":0},null,0,0,0,0,0,0,null,null,0,0,0,0]
[473,{"$f":"'INVENT.Mat&Outillag Importé -10'!B479","v":0},{"$f":"'INVENT.Mat&Outillag Importé -10'!F479","v":0},{"$f":"'INVENT.Mat&Outillag Importé -10'!C479","v":0},{"$f":"'INVENT.Mat&Outillag Importé -10'!H479","v":0},null,0,0,0,0,0,0,null,null,0,0,0,0]
[474,{"$f":"'INVENT.Mat&Outillag Importé -10'!B480","v":0},{"$f":"'INVENT.Mat&Outillag Importé -10'!F480","v":0},{"$f":"'INVENT.Mat&Outillag Importé -10'!C480","v":0},{"$f":"'INVENT.Mat&Outillag Importé -10'!H480","v":0},null,0,0,0,0,0,0,null,null,0,0,0,0]
[475,{"$f":"'INVENT.Mat&Outillag Importé -10'!B481","v":0},{"$f":"'INVENT.Mat&Outillag Importé -10'!F481","v":0},{"$f":"'INVENT.Mat&Outillag Importé -10'!C481","v":0},{"$f":"'INVENT.Mat&Outillag Importé -10'!H481","v":0},null,0,0,0,0,0,0,null,null,0,0,0,0]
[476,{"$f":"'INVENT.Mat&Outillag Importé -10'!B482","v":0},{"$f":"'INVENT.Mat&Outillag Importé -10'!F482","v":0},{"$f":"'INVENT.Mat&Outillag Importé -10'!C482","v":0},{"$f":"'INVENT.Mat&Outillag Importé -10'!H482","v":0},null,0,0,0,0,0,0,null,null,0,0,0,0]
[477,{"$f":"'INVENT.Mat&Outillag Importé -10'!B483","v":0},{"$f":"'INVENT.Mat&Outillag Importé -10'!F483","v":0},{"$f":"'INVENT.Mat&Outillag Importé -10'!C483","v":0},{"$f":"'INVENT.Mat&Outillag Importé -10'!H483","v":0},null,0,0,0,0,0,0,null,null,0,0,0,0]
[478,{"$f":"'INVENT.Mat&Outillag Importé -10'!B484","v":0},{"$f":"'INVENT.Mat&Outillag Importé -10'!F484","v":0},{"$f":"'INVENT.Mat&Outillag Importé -10'!C484","v":0},{"$f":"'INVENT.Mat&Outillag Importé -10'!H484","v":0},null,0,0,0,0,0,0,null,null,0,0,0,0]
[479,{"$f":"'INVENT.Mat&Outillag Importé -10'!B485","v":0},{"$f":"'INVENT.Mat&Outillag Importé -10'!F485","v":0},{"$f":"'INVENT.Mat&Outillag Importé -10'!C485","v":0},{"$f":"'INVENT.Mat&Outillag Importé -10'!H485","v":0},null,0,0,0,0,0,0,null,null,0,0,0,0]
[480,{"$f":"'INVENT.Mat&Outillag Importé -10'!B486","v":0},{"$f":"'INVENT.Mat&Outillag Importé -10'!F486","v":0},{"$f":"'INVENT.Mat&Outillag Importé -10'!C486","v":0},{"$f":"'INVENT.Mat&Outillag Importé -10'!H486","v":0},null,0,0,0,0,0,0,null,null,0,0,0,0]
[481,{"$f":"'INVENT.Mat&Outillag Importé -10'!B487","v":0},{"$f":"'INVENT.Mat&Outillag Importé -10'!F487","v":0},{"$f":"'INVENT.Mat&Outillag Importé -10'!C487","v":0},{"$f":"'INVENT.Mat&Outillag Importé -10'!H487","v":0},null,0,0,0,0,0,0,null,null,0,0,0,0]
[482,{"$f":"'INVENT.Mat&Outillag Importé -10'!B488","v":0},{"$f":"'INVENT.Mat&Outillag Importé -10'!F488","v":0},{"$f":"'INVENT.Mat&Outillag Importé -10'!C488","v":0},{"$f":"'INVENT.Mat&Outillag Importé -10'!H488","v":0},null,0,0,0,0,0,0,null,null,0,0,0,0]
[483,{"$f":"'INVENT.Mat&Outillag Importé -10'!B489","v":0},{"$f":"'INVENT.Mat&Outillag Importé -10'!F489","v":0},{"$f":"'INVENT.Mat&Outillag Importé -10'!C489","v":0},{"$f":"'INVENT.Mat&Outillag Importé -10'!H489","v":0},null,0,0,0,0,0,0,null,null,0,0,0,0]
[484,{"$f":"'INVENT.Mat&Outillag Importé -10'!B490","v":0},{"$f":"'INVENT.Mat&Outillag Importé -10'!F490","v":0},{"$f":"'INVENT.Mat&Outillag Importé -10'!C490","v":0},{"$f":"'INVENT.Mat&Outillag Importé -10'!H490","v":0},null,0,0,0,0,0,0,null,null,0,0,0,0]
[485,{"$f":"'INVENT.Mat&Outillag Importé -10'!B491","v":0},{"$f":"'INVENT.Mat&Outillag Importé -10'!F491","v":0},{"$f":"'INVENT.Mat&Outillag Importé -10'!C491","v":0},{"$f":"'INVENT.Mat&Outillag Importé -10'!H491","v":0},null,0,0,0,0,0,0,null,null,0,0,0,0]
[486,{"$f":"'INVENT.Mat&Outillag Importé -10'!B492","v":0},{"$f":"'INVENT.Mat&Outillag Importé -10'!F492","v":0},{"$f":"'INVENT.Mat&Outillag Importé -10'!C492","v":0},{"$f":"'INVENT.Mat&Outillag Importé -10'!H492","v":0},null,0,0,0,0,0,0,null,null,0,0,0,0]
[487,{"$f":"'INVENT.Mat&Outillag Importé -10'!B493","v":0},{"$f":"'INVENT.Mat&Outillag Importé -10'!F493","v":0},{"$f":"'INVENT.Mat&Outillag Importé -10'!C493","v":0},{"$f":"'INVENT.Mat&Outillag Importé -10'!H493","v":0},null,0,0,0,0,0,0,null,null,0,0,0,0]
[{"$f":"+A494+1","v":488},{"$f":"'INVENT.Mat&Outillag Importé -10'!B494","v":0},{"$f":"'INVENT.Mat&Outillag Importé -10'!F494","v":0},{"$f":"'INVENT.Mat&Outillag Importé -10'!C494","v":0},{"$f":"'INVENT.Mat&Outillag Importé -10'!H494","v":0},null,0,0,0,0,0,0,null,null,0,0,0,0]
[489,{"$f":"'INVENT.Mat&Outillag Importé -10'!B495","v":0},{"$f":"'INVENT.Mat&Outillag Importé -10'!F495","v":0},{"$f":"'INVENT.Mat&Outillag Importé -10'!C495","v":0},{"$f":"'INVENT.Mat&Outillag Importé -10'!H495","v":0},null,0,0,0,0,0,0,null,null,0,0,0,0]
[490,{"$f":"'INVENT.Mat&Outillag Importé -10'!B496","v":0},{"$f":"'INVENT.Mat&Outillag Importé -10'!F496","v":0},{"$f":"'INVENT.Mat&Outillag Importé -10'!C496","v":0},{"$f":"'INVENT.Mat&Outillag Importé -10'!H496","v":0},null,0,0,0,0,0,0,null,null,0,0,0,0]
[491,{"$f":"'INVENT.Mat&Outillag Importé -10'!B497","v":0},{"$f":"'INVENT.Mat&Outillag Importé -10'!F497","v":0},{"$f":"'INVENT.Mat&Outillag Importé -10'!C497","v":0},{"$f":"'INVENT.Mat&Outillag Importé -10'!H497","v":0},null,0,0,0,0,0,0,null,null,0,0,0,0]
[492,{"$f":"'INVENT.Mat&Outillag Importé -10'!B498","v":0},{"$f":"'INVENT.Mat&Outillag Importé -10'!F498","v":0},{"$f":"'INVENT.Mat&Outillag Importé -10'!C498","v":0},{"$f":"'INVENT.Mat&Outillag Importé -10'!H498","v":0},null,0,0,0,0,0,0,null,null,0,0,0,0]
[493,{"$f":"'INVENT.Mat&Outillag Importé -10'!B499","v":0},{"$f":"'INVENT.Mat&Outillag Importé -10'!F499","v":0},{"$f":"'INVENT.Mat&Outillag Importé -10'!C499","v":0},{"$f":"'INVENT.Mat&Outillag Importé -10'!H499","v":0},null,0,0,0,0,0,0,null,null,0,0,0,0]
[494,{"$f":"'INVENT.Mat&Outillag Importé -10'!B500","v":0},{"$f":"'INVENT.Mat&Outillag Importé -10'!F500","v":0},{"$f":"'INVENT.Mat&Outillag Importé -10'!C500","v":0},{"$f":"'INVENT.Mat&Outillag Importé -10'!H500","v":0},null,0,0,0,0,0,0,null,null,0,0,0,0]
[495,{"$f":"'INVENT.Mat&Outillag Importé -10'!B501","v":0},{"$f":"'INVENT.Mat&Outillag Importé -10'!F501","v":0},{"$f":"'INVENT.Mat&Outillag Importé -10'!C501","v":0},{"$f":"'INVENT.Mat&Outillag Importé -10'!H501","v":0},null,0,0,0,0,0,0,null,null,0,0,0,0]
[496,{"$f":"'INVENT.Mat&Outillag Importé -10'!B502","v":0},{"$f":"'INVENT.Mat&Outillag Importé -10'!F502","v":0},{"$f":"'INVENT.Mat&Outillag Importé -10'!C502","v":0},{"$f":"'INVENT.Mat&Outillag Importé -10'!H502","v":0},null,{"$f":"F503*E503","v":0},0,0,0,{"$f":"(E503+G503+H503)*18%","v":0},{"$f":"SUM(G503:K503)+E503","v":0},null,null,{"$f":"(M503+N503)*18%","v":0},{"$f":"O503+N503+M503","v":0},{"$f":"+R503-O503-K503","v":0},{"$f":"P503+L503","v":0}]
[497,{"$f":"'INVENT.Mat&Outillag Importé -10'!B503","v":0},{"$f":"'INVENT.Mat&Outillag Importé -10'!F503","v":0},{"$f":"'INVENT.Mat&Outillag Importé -10'!C503","v":0},{"$f":"'INVENT.Mat&Outillag Importé -10'!H503","v":0},null,{"$f":"F504*E504","v":0},0,0,0,{"$f":"(E504+G504+H504)*18%","v":0},{"$f":"SUM(G504:K504)+E504","v":0},null,null,{"$f":"(M504+N504)*18%","v":0},{"$f":"O504+N504+M504","v":0},{"$f":"+R504-O504-K504","v":0},{"$f":"P504+L504","v":0}]
[498,{"$f":"'INVENT.Mat&Outillag Importé -10'!B504","v":0},{"$f":"'INVENT.Mat&Outillag Importé -10'!F504","v":0},{"$f":"'INVENT.Mat&Outillag Importé -10'!C504","v":0},{"$f":"'INVENT.Mat&Outillag Importé -10'!H504","v":0},null,{"$f":"F505*E505","v":0},0,0,0,{"$f":"(E505+G505+H505)*18%","v":0},{"$f":"SUM(G505:K505)+E505","v":0},null,null,{"$f":"(M505+N505)*18%","v":0},{"$f":"O505+N505+M505","v":0},{"$f":"+R505-O505-K505","v":0},{"$f":"P505+L505","v":0}]
[499,{"$f":"'INVENT.Mat&Outillag Importé -10'!B505","v":0},{"$f":"'INVENT.Mat&Outillag Importé -10'!F505","v":0},{"$f":"'INVENT.Mat&Outillag Importé -10'!C505","v":0},{"$f":"'INVENT.Mat&Outillag Importé -10'!H505","v":0},null,{"$f":"F506*E506","v":0},0,0,0,{"$f":"(E506+G506+H506)*18%","v":0},{"$f":"SUM(G506:K506)+E506","v":0},null,null,{"$f":"(M506+N506)*18%","v":0},{"$f":"O506+N506+M506","v":0},{"$f":"+R506-O506-K506","v":0},{"$f":"P506+L506","v":0}]
[500,{"$f":"'INVENT.Mat&Outillag Importé -10'!B506","v":0},{"$f":"'INVENT.Mat&Outillag Importé -10'!F506","v":0},{"$f":"'INVENT.Mat&Outillag Importé -10'!C506","v":0},{"$f":"'INVENT.Mat&Outillag Importé -10'!H506","v":0},null,{"$f":"F507*E507","v":0},0,0,0,{"$f":"(E507+G507+H507)*18%","v":0},{"$f":"SUM(G507:K507)+E507","v":0},null,null,{"$f":"(M507+N507)*18%","v":0},{"$f":"O507+N507+M507","v":0},{"$f":"+R507-O507-K507","v":0},{"$f":"P507+L507","v":0}]
[501,{"$f":"'INVENT.Mat&Outillag Importé -10'!B507","v":0},{"$f":"'INVENT.Mat&Outillag Importé -10'!F507","v":0},{"$f":"'INVENT.Mat&Outillag Importé -10'!C507","v":0},{"$f":"'INVENT.Mat&Outillag Importé -10'!H507","v":0},null,{"$f":"F508*E508","v":0},{"$f":"E508*1%","v":0},{"$f":"E508*1%","v":0},{"$f":"E508*0.5%","v":0},{"$f":"(E508+G508+H508)*18%","v":0},{"$f":"SUM(G508:K508)+E508","v":0},null,null,{"$f":"(M508+N508)*18%","v":0},{"$f":"O508+N508+M508","v":0},{"$f":"+R508-O508-K508","v":0},{"$f":"P508+L508","v":0}]
[502,{"$f":"'INVENT.Mat&Outillag Importé -10'!B508","v":0},{"$f":"'INVENT.Mat&Outillag Importé -10'!F508","v":0},{"$f":"'INVENT.Mat&Outillag Importé -10'!C508","v":0},{"$f":"'INVENT.Mat&Outillag Importé -10'!H508","v":0},null,0,0,0,0,0,0,null,null,0,0,0,0]
[503,{"$f":"'INVENT.Mat&Outillag Importé -10'!B509","v":0},{"$f":"'INVENT.Mat&Outillag Importé -10'!F509","v":0},{"$f":"'INVENT.Mat&Outillag Importé -10'!C509","v":0},{"$f":"'INVENT.Mat&Outillag Importé -10'!H509","v":0},null,0,0,0,0,0,0,null,null,0,0,0,0]
[504,{"$f":"'INVENT.Mat&Outillag Importé -10'!B510","v":0},{"$f":"'INVENT.Mat&Outillag Importé -10'!F510","v":0},{"$f":"'INVENT.Mat&Outillag Importé -10'!C510","v":0},{"$f":"'INVENT.Mat&Outillag Importé -10'!H510","v":0},null,0,0,0,0,0,0,null,null,0,0,0,0]
[505,{"$f":"'INVENT.Mat&Outillag Importé -10'!B511","v":0},{"$f":"'INVENT.Mat&Outillag Importé -10'!F511","v":0},{"$f":"'INVENT.Mat&Outillag Importé -10'!C511","v":0},{"$f":"'INVENT.Mat&Outillag Importé -10'!H511","v":0},null,0,0,0,0,0,0,null,null,0,0,0,0]
[506,{"$f":"'INVENT.Mat&Outillag Importé -10'!B512","v":0},{"$f":"'INVENT.Mat&Outillag Importé -10'!F512","v":0},{"$f":"'INVENT.Mat&Outillag Importé -10'!C512","v":0},{"$f":"'INVENT.Mat&Outillag Importé -10'!H512","v":0},null,0,0,0,0,0,0,null,null,0,0,0,0]
[507,{"$f":"'INVENT.Mat&Outillag Importé -10'!B513","v":0},{"$f":"'INVENT.Mat&Outillag Importé -10'!F513","v":0},{"$f":"'INVENT.Mat&Outillag Importé -10'!C513","v":0},{"$f":"'INVENT.Mat&Outillag Importé -10'!H513","v":0},null,0,0,0,0,0,0,null,null,0,0,0,0]
[508,{"$f":"'INVENT.Mat&Outillag Importé -10'!B514","v":0},{"$f":"'INVENT.Mat&Outillag Importé -10'!F514","v":0},{"$f":"'INVENT.Mat&Outillag Importé -10'!C514","v":0},{"$f":"'INVENT.Mat&Outillag Importé -10'!H514","v":0},null,0,0,0,0,0,0,null,null,0,0,0,0]
[509,{"$f":"'INVENT.Mat&Outillag Importé -10'!B515","v":0},{"$f":"'INVENT.Mat&Outillag Importé -10'!F515","v":0},{"$f":"'INVENT.Mat&Outillag Importé -10'!C515","v":0},{"$f":"'INVENT.Mat&Outillag Importé -10'!H515","v":0},null,0,0,0,0,0,0,null,null,0,0,0,0]
[510,{"$f":"'INVENT.Mat&Outillag Importé -10'!B516","v":0},{"$f":"'INVENT.Mat&Outillag Importé -10'!F516","v":0},{"$f":"'INVENT.Mat&Outillag Importé -10'!C516","v":0},{"$f":"'INVENT.Mat&Outillag Importé -10'!H516","v":0},null,0,0,0,0,0,0,null,null,0,0,0,0]
[511,{"$f":"'INVENT.Mat&Outillag Importé -10'!B517","v":0},{"$f":"'INVENT.Mat&Outillag Importé -10'!F517","v":0},{"$f":"'INVENT.Mat&Outillag Importé -10'!C517","v":0},{"$f":"'INVENT.Mat&Outillag Importé -10'!H517","v":0},null,0,0,0,0,0,0,null,null,0,0,0,0]
[512,{"$f":"'INVENT.Mat&Outillag Importé -10'!B518","v":0},{"$f":"'INVENT.Mat&Outillag Importé -10'!F518","v":0},{"$f":"'INVENT.Mat&Outillag Importé -10'!C518","v":0},{"$f":"'INVENT.Mat&Outillag Importé -10'!H518","v":0},null,0,0,0,0,0,0,null,null,0,0,0,0]
[513,{"$f":"'INVENT.Mat&Outillag Importé -10'!B519","v":0},{"$f":"'INVENT.Mat&Outillag Importé -10'!F519","v":0},{"$f":"'INVENT.Mat&Outillag Importé -10'!C519","v":0},{"$f":"'INVENT.Mat&Outillag Importé -10'!H519","v":0},null,0,0,0,0,0,0,null,null,0,0,0,0]
[514,{"$f":"'INVENT.Mat&Outillag Importé -10'!B520","v":0},{"$f":"'INVENT.Mat&Outillag Importé -10'!F520","v":0},{"$f":"'INVENT.Mat&Outillag Importé -10'!C520","v":0},{"$f":"'INVENT.Mat&Outillag Importé -10'!H520","v":0},null,0,0,0,0,0,0,null,null,0,0,0,0]
[515,{"$f":"'INVENT.Mat&Outillag Importé -10'!B521","v":0},{"$f":"'INVENT.Mat&Outillag Importé -10'!F521","v":0},{"$f":"'INVENT.Mat&Outillag Importé -10'!C521","v":0},{"$f":"'INVENT.Mat&Outillag Importé -10'!H521","v":0},null,0,0,0,0,0,0,null,null,0,0,0,0]
[516,{"$f":"'INVENT.Mat&Outillag Importé -10'!B522","v":0},{"$f":"'INVENT.Mat&Outillag Importé -10'!F522","v":0},{"$f":"'INVENT.Mat&Outillag Importé -10'!C522","v":0},{"$f":"'INVENT.Mat&Outillag Importé -10'!H522","v":0},null,0,0,0,0,0,0,null,null,0,0,0,0]
[517,{"$f":"'INVENT.Mat&Outillag Importé -10'!B523","v":0},{"$f":"'INVENT.Mat&Outillag Importé -10'!F523","v":0},{"$f":"'INVENT.Mat&Outillag Importé -10'!C523","v":0},{"$f":"'INVENT.Mat&Outillag Importé -10'!H523","v":0},null,0,0,0,0,0,0,null,null,0,0,0,0]
[518,{"$f":"'INVENT.Mat&Outillag Importé -10'!B524","v":0},{"$f":"'INVENT.Mat&Outillag Importé -10'!F524","v":0},{"$f":"'INVENT.Mat&Outillag Importé -10'!C524","v":0},{"$f":"'INVENT.Mat&Outillag Importé -10'!H524","v":0},null,0,0,0,0,0,0,null,null,0,0,0,0]
[519,{"$f":"'INVENT.Mat&Outillag Importé -10'!B525","v":0},{"$f":"'INVENT.Mat&Outillag Importé -10'!F525","v":0},{"$f":"'INVENT.Mat&Outillag Importé -10'!C525","v":0},{"$f":"'INVENT.Mat&Outillag Importé -10'!H525","v":0},null,0,0,0,0,0,0,null,null,0,0,0,0]
[520,{"$f":"'INVENT.Mat&Outillag Importé -10'!B526","v":0},{"$f":"'INVENT.Mat&Outillag Importé -10'!F526","v":0},{"$f":"'INVENT.Mat&Outillag Importé -10'!C526","v":0},{"$f":"'INVENT.Mat&Outillag Importé -10'!H526","v":0},null,0,0,0,0,0,0,null,null,0,0,0,0]
[521,{"$f":"'INVENT.Mat&Outillag Importé -10'!B527","v":0},{"$f":"'INVENT.Mat&Outillag Importé -10'!F527","v":0},{"$f":"'INVENT.Mat&Outillag Importé -10'!C527","v":0},{"$f":"'INVENT.Mat&Outillag Importé -10'!H527","v":0},null,0,0,0,0,0,0,null,null,0,0,0,0]
[522,{"$f":"'INVENT.Mat&Outillag Importé -10'!B528","v":0},{"$f":"'INVENT.Mat&Outillag Importé -10'!F528","v":0},{"$f":"'INVENT.Mat&Outillag Importé -10'!C528","v":0},{"$f":"'INVENT.Mat&Outillag Importé -10'!H528","v":0},null,0,0,0,0,0,0,null,null,0,0,0,0]
[523,{"$f":"'INVENT.Mat&Outillag Importé -10'!B529","v":0},{"$f":"'INVENT.Mat&Outillag Importé -10'!F529","v":0},{"$f":"'INVENT.Mat&Outillag Importé -10'!C529","v":0},{"$f":"'INVENT.Mat&Outillag Importé -10'!H529","v":0},null,0,0,0,0,0,0,null,null,0,0,0,0]
[524,{"$f":"'INVENT.Mat&Outillag Importé -10'!B530","v":0},{"$f":"'INVENT.Mat&Outillag Importé -10'!F530","v":0},{"$f":"'INVENT.Mat&Outillag Importé -10'!C530","v":0},{"$f":"'INVENT.Mat&Outillag Importé -10'!H530","v":0},null,0,0,0,0,0,0,null,null,0,0,0,0]
[525,{"$f":"'INVENT.Mat&Outillag Importé -10'!B531","v":0},{"$f":"'INVENT.Mat&Outillag Importé -10'!F531","v":0},{"$f":"'INVENT.Mat&Outillag Importé -10'!C531","v":0},{"$f":"'INVENT.Mat&Outillag Importé -10'!H531","v":0},null,0,0,0,0,0,0,null,null,0,0,0,0]
[526,{"$f":"'INVENT.Mat&Outillag Importé -10'!B532","v":0},{"$f":"'INVENT.Mat&Outillag Importé -10'!F532","v":0},{"$f":"'INVENT.Mat&Outillag Importé -10'!C532","v":0},{"$f":"'INVENT.Mat&Outillag Importé -10'!H532","v":0},null,0,0,0,0,0,0,null,null,0,0,0,0]
[527,{"$f":"'INVENT.Mat&Outillag Importé -10'!B533","v":0},{"$f":"'INVENT.Mat&Outillag Importé -10'!F533","v":0},{"$f":"'INVENT.Mat&Outillag Importé -10'!C533","v":0},{"$f":"'INVENT.Mat&Outillag Importé -10'!H533","v":0},null,0,0,0,0,0,0,null,null,0,0,0,0]
[528,{"$f":"'INVENT.Mat&Outillag Importé -10'!B534","v":0},{"$f":"'INVENT.Mat&Outillag Importé -10'!F534","v":0},{"$f":"'INVENT.Mat&Outillag Importé -10'!C534","v":0},{"$f":"'INVENT.Mat&Outillag Importé -10'!H534","v":0},null,0,0,0,0,0,0,null,null,0,0,0,0]
[529,{"$f":"'INVENT.Mat&Outillag Importé -10'!B535","v":0},{"$f":"'INVENT.Mat&Outillag Importé -10'!F535","v":0},{"$f":"'INVENT.Mat&Outillag Importé -10'!C535","v":0},{"$f":"'INVENT.Mat&Outillag Importé -10'!H535","v":0},null,0,0,0,0,0,0,null,null,0,0,0,0]
[530,{"$f":"'INVENT.Mat&Outillag Importé -10'!B536","v":0},{"$f":"'INVENT.Mat&Outillag Importé -10'!F536","v":0},{"$f":"'INVENT.Mat&Outillag Importé -10'!C536","v":0},{"$f":"'INVENT.Mat&Outillag Importé -10'!H536","v":0},null,0,0,0,0,0,0,null,null,0,0,0,0]
[531,{"$f":"'INVENT.Mat&Outillag Importé -10'!B537","v":0},{"$f":"'INVENT.Mat&Outillag Importé -10'!F537","v":0},{"$f":"'INVENT.Mat&Outillag Importé -10'!C537","v":0},{"$f":"'INVENT.Mat&Outillag Importé -10'!H537","v":0},null,0,0,0,0,0,0,null,null,0,0,0,0]
[532,{"$f":"'INVENT.Mat&Outillag Importé -10'!B538","v":0},{"$f":"'INVENT.Mat&Outillag Importé -10'!F538","v":0},{"$f":"'INVENT.Mat&Outillag Importé -10'!C538","v":0},{"$f":"'INVENT.Mat&Outillag Importé -10'!H538","v":0},null,0,0,0,0,0,0,null,null,0,0,0,0]
[533,{"$f":"'INVENT.Mat&Outillag Importé -10'!B539","v":0},{"$f":"'INVENT.Mat&Outillag Importé -10'!F539","v":0},{"$f":"'INVENT.Mat&Outillag Importé -10'!C539","v":0},{"$f":"'INVENT.Mat&Outillag Importé -10'!H539","v":0},null,0,0,0,0,0,0,null,null,0,0,0,0]
[534,{"$f":"'INVENT.Mat&Outillag Importé -10'!B540","v":0},{"$f":"'INVENT.Mat&Outillag Importé -10'!F540","v":0},{"$f":"'INVENT.Mat&Outillag Importé -10'!C540","v":0},{"$f":"'INVENT.Mat&Outillag Importé -10'!H540","v":0},null,0,0,0,0,0,0,null,null,0,0,0,0]
[535,{"$f":"'INVENT.Mat&Outillag Importé -10'!B541","v":0},{"$f":"'INVENT.Mat&Outillag Importé -10'!F541","v":0},{"$f":"'INVENT.Mat&Outillag Importé -10'!C541","v":0},{"$f":"'INVENT.Mat&Outillag Importé -10'!H541","v":0},null,0,0,0,0,0,0,null,null,0,0,0,0]
[536,{"$f":"'INVENT.Mat&Outillag Importé -10'!B542","v":0},{"$f":"'INVENT.Mat&Outillag Importé -10'!F542","v":0},{"$f":"'INVENT.Mat&Outillag Importé -10'!C542","v":0},{"$f":"'INVENT.Mat&Outillag Importé -10'!H542","v":0},null,0,0,0,0,0,0,null,null,0,0,0,0]
[537,{"$f":"'INVENT.Mat&Outillag Importé -10'!B543","v":0},{"$f":"'INVENT.Mat&Outillag Importé -10'!F543","v":0},{"$f":"'INVENT.Mat&Outillag Importé -10'!C543","v":0},{"$f":"'INVENT.Mat&Outillag Importé -10'!H543","v":0},null,0,0,0,0,0,0,null,null,0,0,0,0]
[538,{"$f":"'INVENT.Mat&Outillag Importé -10'!B544","v":0},{"$f":"'INVENT.Mat&Outillag Importé -10'!F544","v":0},{"$f":"'INVENT.Mat&Outillag Importé -10'!C544","v":0},{"$f":"'INVENT.Mat&Outillag Importé -10'!H544","v":0},null,0,0,0,0,0,0,null,null,0,0,0,0]
[539,{"$f":"'INVENT.Mat&Outillag Importé -10'!B545","v":0},{"$f":"'INVENT.Mat&Outillag Importé -10'!F545","v":0},{"$f":"'INVENT.Mat&Outillag Importé -10'!C545","v":0},{"$f":"'INVENT.Mat&Outillag Importé -10'!H545","v":0},null,0,0,0,0,0,0,null,null,0,0,0,0]
[540,{"$f":"'INVENT.Mat&Outillag Importé -10'!B546","v":0},{"$f":"'INVENT.Mat&Outillag Importé -10'!F546","v":0},{"$f":"'INVENT.Mat&Outillag Importé -10'!C546","v":0},{"$f":"'INVENT.Mat&Outillag Importé -10'!H546","v":0},null,0,0,0,0,0,0,null,null,0,0,0,0]
[541,{"$f":"'INVENT.Mat&Outillag Importé -10'!B547","v":0},{"$f":"'INVENT.Mat&Outillag Importé -10'!F547","v":0},{"$f":"'INVENT.Mat&Outillag Importé -10'!C547","v":0},{"$f":"'INVENT.Mat&Outillag Importé -10'!H547","v":0},null,0,0,0,0,0,0,null,null,0,0,0,0]
[542,{"$f":"'INVENT.Mat&Outillag Importé -10'!B548","v":0},{"$f":"'INVENT.Mat&Outillag Importé -10'!F548","v":0},{"$f":"'INVENT.Mat&Outillag Importé -10'!C548","v":0},{"$f":"'INVENT.Mat&Outillag Importé -10'!H548","v":0},null,0,0,0,0,0,0,null,null,0,0,0,0]
[543,{"$f":"'INVENT.Mat&Outillag Importé -10'!B549","v":0},{"$f":"'INVENT.Mat&Outillag Importé -10'!F549","v":0},{"$f":"'INVENT.Mat&Outillag Importé -10'!C549","v":0},{"$f":"'INVENT.Mat&Outillag Importé -10'!H549","v":0},null,0,0,0,0,0,0,null,null,0,0,0,0]
[544,{"$f":"'INVENT.Mat&Outillag Importé -10'!B550","v":0},{"$f":"'INVENT.Mat&Outillag Importé -10'!F550","v":0},{"$f":"'INVENT.Mat&Outillag Importé -10'!C550","v":0},{"$f":"'INVENT.Mat&Outillag Importé -10'!H550","v":0},null,0,0,0,0,0,0,null,null,0,0,0,0]
[545,{"$f":"'INVENT.Mat&Outillag Importé -10'!B551","v":0},{"$f":"'INVENT.Mat&Outillag Importé -10'!F551","v":0},{"$f":"'INVENT.Mat&Outillag Importé -10'!C551","v":0},{"$f":"'INVENT.Mat&Outillag Importé -10'!H551","v":0},null,0,0,0,0,0,0,null,null,0,0,0,0]
[546,{"$f":"'INVENT.Mat&Outillag Importé -10'!B552","v":0},{"$f":"'INVENT.Mat&Outillag Importé -10'!F552","v":0},{"$f":"'INVENT.Mat&Outillag Importé -10'!C552","v":0},{"$f":"'INVENT.Mat&Outillag Importé -10'!H552","v":0},null,0,0,0,0,0,0,null,null,0,0,0,0]
[547,{"$f":"'INVENT.Mat&Outillag Importé -10'!B553","v":0},{"$f":"'INVENT.Mat&Outillag Importé -10'!F553","v":0},{"$f":"'INVENT.Mat&Outillag Importé -10'!C553","v":0},{"$f":"'INVENT.Mat&Outillag Importé -10'!H553","v":0},null,0,0,0,0,0,0,null,null,0,0,0,0]
[548,{"$f":"'INVENT.Mat&Outillag Importé -10'!B554","v":0},{"$f":"'INVENT.Mat&Outillag Importé -10'!F554","v":0},{"$f":"'INVENT.Mat&Outillag Importé -10'!C554","v":0},{"$f":"'INVENT.Mat&Outillag Importé -10'!H554","v":0},null,0,0,0,0,0,0,null,null,0,0,0,0]
[549,{"$f":"'INVENT.Mat&Outillag Importé -10'!B555","v":0},{"$f":"'INVENT.Mat&Outillag Importé -10'!F555","v":0},{"$f":"'INVENT.Mat&Outillag Importé -10'!C555","v":0},{"$f":"'INVENT.Mat&Outillag Importé -10'!H555","v":0},null,0,0,0,0,0,0,null,null,0,0,0,0]
[550,{"$f":"'INVENT.Mat&Outillag Importé -10'!B556","v":0},{"$f":"'INVENT.Mat&Outillag Importé -10'!F556","v":0},{"$f":"'INVENT.Mat&Outillag Importé -10'!C556","v":0},{"$f":"'INVENT.Mat&Outillag Importé -10'!H556","v":0},null,0,0,0,0,0,0,null,null,0,0,0,0]
[551,{"$f":"'INVENT.Mat&Outillag Importé -10'!B557","v":0},{"$f":"'INVENT.Mat&Outillag Importé -10'!F557","v":0},{"$f":"'INVENT.Mat&Outillag Importé -10'!C557","v":0},{"$f":"'INVENT.Mat&Outillag Importé -10'!H557","v":0},null,0,0,0,0,0,0,null,null,0,0,0,0]
[{"$f":"+A558+1","v":552},{"$f":"'INVENT.Mat&Outillag Importé -10'!B558","v":0},{"$f":"'INVENT.Mat&Outillag Importé -10'!F558","v":0},{"$f":"'INVENT.Mat&Outillag Importé -10'!C558","v":0},{"$f":"'INVENT.Mat&Outillag Importé -10'!H558","v":0},null,0,0,0,0,0,0,null,null,0,0,0,0]
[553,{"$f":"'INVENT.Mat&Outillag Importé -10'!B559","v":0},{"$f":"'INVENT.Mat&Outillag Importé -10'!F559","v":0},{"$f":"'INVENT.Mat&Outillag Importé -10'!C559","v":0},{"$f":"'INVENT.Mat&Outillag Importé -10'!H559","v":0},null,0,0,0,0,0,0,null,null,0,0,0,0]
[554,{"$f":"'INVENT.Mat&Outillag Importé -10'!B560","v":0},{"$f":"'INVENT.Mat&Outillag Importé -10'!F560","v":0},{"$f":"'INVENT.Mat&Outillag Importé -10'!C560","v":0},{"$f":"'INVENT.Mat&Outillag Importé -10'!H560","v":0},null,0,0,0,0,0,0,null,null,0,0,0,0]
[555,{"$f":"'INVENT.Mat&Outillag Importé -10'!B561","v":0},{"$f":"'INVENT.Mat&Outillag Importé -10'!F561","v":0},{"$f":"'INVENT.Mat&Outillag Importé -10'!C561","v":0},{"$f":"'INVENT.Mat&Outillag Importé -10'!H561","v":0},null,0,0,0,0,0,0,null,null,0,0,0,0]
[556,{"$f":"'INVENT.Mat&Outillag Importé -10'!B562","v":0},{"$f":"'INVENT.Mat&Outillag Importé -10'!F562","v":0},{"$f":"'INVENT.Mat&Outillag Importé -10'!C562","v":0},{"$f":"'INVENT.Mat&Outillag Importé -10'!H562","v":0},null,0,0,0,0,0,0,null,null,0,0,0,0]
[557,{"$f":"'INVENT.Mat&Outillag Importé -10'!B563","v":0},{"$f":"'INVENT.Mat&Outillag Importé -10'!F563","v":0},{"$f":"'INVENT.Mat&Outillag Importé -10'!C563","v":0},{"$f":"'INVENT.Mat&Outillag Importé -10'!H563","v":0},null,0,0,0,0,0,0,null,null,0,0,0,0]
[558,{"$f":"'INVENT.Mat&Outillag Importé -10'!B564","v":0},{"$f":"'INVENT.Mat&Outillag Importé -10'!F564","v":0},{"$f":"'INVENT.Mat&Outillag Importé -10'!C564","v":0},{"$f":"'INVENT.Mat&Outillag Importé -10'!H564","v":0},null,0,0,0,0,0,0,null,null,0,0,0,0]
[559,{"$f":"'INVENT.Mat&Outillag Importé -10'!B565","v":0},{"$f":"'INVENT.Mat&Outillag Importé -10'!F565","v":0},{"$f":"'INVENT.Mat&Outillag Importé -10'!C565","v":0},{"$f":"'INVENT.Mat&Outillag Importé -10'!H565","v":0},null,0,0,0,0,0,0,null,null,0,0,0,0]
[560,{"$f":"'INVENT.Mat&Outillag Importé -10'!B566","v":0},{"$f":"'INVENT.Mat&Outillag Importé -10'!F566","v":0},{"$f":"'INVENT.Mat&Outillag Importé -10'!C566","v":0},{"$f":"'INVENT.Mat&Outillag Importé -10'!H566","v":0},null,0,0,0,0,0,0,null,null,0,0,0,0]
[561,{"$f":"'INVENT.Mat&Outillag Importé -10'!B567","v":0},{"$f":"'INVENT.Mat&Outillag Importé -10'!F567","v":0},{"$f":"'INVENT.Mat&Outillag Importé -10'!C567","v":0},{"$f":"'INVENT.Mat&Outillag Importé -10'!H567","v":0},null,0,0,0,0,0,0,null,null,0,0,0,0]
[562,{"$f":"'INVENT.Mat&Outillag Importé -10'!B568","v":0},{"$f":"'INVENT.Mat&Outillag Importé -10'!F568","v":0},{"$f":"'INVENT.Mat&Outillag Importé -10'!C568","v":0},{"$f":"'INVENT.Mat&Outillag Importé -10'!H568","v":0},null,0,0,0,0,0,0,null,null,0,0,0,0]
[563,{"$f":"'INVENT.Mat&Outillag Importé -10'!B569","v":0},{"$f":"'INVENT.Mat&Outillag Importé -10'!F569","v":0},{"$f":"'INVENT.Mat&Outillag Importé -10'!C569","v":0},{"$f":"'INVENT.Mat&Outillag Importé -10'!H569","v":0},null,0,0,0,0,0,0,null,null,0,0,0,0]
[564,{"$f":"'INVENT.Mat&Outillag Importé -10'!B570","v":0},{"$f":"'INVENT.Mat&Outillag Importé -10'!F570","v":0},{"$f":"'INVENT.Mat&Outillag Importé -10'!C570","v":0},{"$f":"'INVENT.Mat&Outillag Importé -10'!H570","v":0},null,0,0,0,0,0,0,null,null,0,0,0,0]
[565,{"$f":"'INVENT.Mat&Outillag Importé -10'!B571","v":0},{"$f":"'INVENT.Mat&Outillag Importé -10'!F571","v":0},{"$f":"'INVENT.Mat&Outillag Importé -10'!C571","v":0},{"$f":"'INVENT.Mat&Outillag Importé -10'!H571","v":0},null,{"$f":"F572*E572","v":0},{"$f":"E572*1%","v":0},{"$f":"E572*1%","v":0},{"$f":"E572*0.5%","v":0},{"$f":"(E572+G572+H572)*18%","v":0},{"$f":"SUM(G572:K572)+E572","v":0},null,null,{"$f":"(M572+N572)*18%","v":0},{"$f":"O572+N572+M572","v":0},{"$f":"+R572-O572-K572","v":0},{"$f":"P572+L572","v":0}]
[566,{"$f":"'INVENT.Mat&Outillag Importé -10'!B572","v":0},{"$f":"'INVENT.Mat&Outillag Importé -10'!F572","v":0},{"$f":"'INVENT.Mat&Outillag Importé -10'!C572","v":0},{"$f":"'INVENT.Mat&Outillag Importé -10'!H572","v":0},null,0,0,0,0,0,0,null,null,0,0,0,0]
[567,{"$f":"'INVENT.Mat&Outillag Importé -10'!B573","v":0},{"$f":"'INVENT.Mat&Outillag Importé -10'!F573","v":0},{"$f":"'INVENT.Mat&Outillag Importé -10'!C573","v":0},{"$f":"'INVENT.Mat&Outillag Importé -10'!H573","v":0},null,0,0,0,0,0,0,null,null,0,0,0,0]
[568,{"$f":"'INVENT.Mat&Outillag Importé -10'!B574","v":0},{"$f":"'INVENT.Mat&Outillag Importé -10'!F574","v":0},{"$f":"'INVENT.Mat&Outillag Importé -10'!C574","v":0},{"$f":"'INVENT.Mat&Outillag Importé -10'!H574","v":0},null,0,0,0,0,0,0,null,null,0,0,0,0]
[569,{"$f":"'INVENT.Mat&Outillag Importé -10'!B575","v":0},{"$f":"'INVENT.Mat&Outillag Importé -10'!F575","v":0},{"$f":"'INVENT.Mat&Outillag Importé -10'!C575","v":0},{"$f":"'INVENT.Mat&Outillag Importé -10'!H575","v":0},null,0,0,0,0,0,0,null,null,0,0,0,0]
[570,{"$f":"'INVENT.Mat&Outillag Importé -10'!B576","v":0},{"$f":"'INVENT.Mat&Outillag Importé -10'!F576","v":0},{"$f":"'INVENT.Mat&Outillag Importé -10'!C576","v":0},{"$f":"'INVENT.Mat&Outillag Importé -10'!H576","v":0},null,0,0,0,0,0,0,null,null,0,0,0,0]
[571,{"$f":"'INVENT.Mat&Outillag Importé -10'!B577","v":0},{"$f":"'INVENT.Mat&Outillag Importé -10'!F577","v":0},{"$f":"'INVENT.Mat&Outillag Importé -10'!C577","v":0},{"$f":"'INVENT.Mat&Outillag Importé -10'!H577","v":0},null,0,0,0,0,0,0,null,null,0,0,0,0]
[572,{"$f":"'INVENT.Mat&Outillag Importé -10'!B578","v":0},{"$f":"'INVENT.Mat&Outillag Importé -10'!F578","v":0},{"$f":"'INVENT.Mat&Outillag Importé -10'!C578","v":0},{"$f":"'INVENT.Mat&Outillag Importé -10'!H578","v":0},null,0,0,0,0,0,0,null,null,0,0,0,0]
[573,{"$f":"'INVENT.Mat&Outillag Importé -10'!B579","v":0},{"$f":"'INVENT.Mat&Outillag Importé -10'!F579","v":0},{"$f":"'INVENT.Mat&Outillag Importé -10'!C579","v":0},{"$f":"'INVENT.Mat&Outillag Importé -10'!H579","v":0},null,0,0,0,0,0,0,null,null,0,0,0,0]
[574,{"$f":"'INVENT.Mat&Outillag Importé -10'!B580","v":0},{"$f":"'INVENT.Mat&Outillag Importé -10'!F580","v":0},{"$f":"'INVENT.Mat&Outillag Importé -10'!C580","v":0},{"$f":"'INVENT.Mat&Outillag Importé -10'!H580","v":0},null,0,0,0,0,0,0,null,null,0,0,0,0]
[575,{"$f":"'INVENT.Mat&Outillag Importé -10'!B581","v":0},{"$f":"'INVENT.Mat&Outillag Importé -10'!F581","v":0},{"$f":"'INVENT.Mat&Outillag Importé -10'!C581","v":0},{"$f":"'INVENT.Mat&Outillag Importé -10'!H581","v":0},null,0,0,0,0,0,0,null,null,0,0,0,0]
[576,{"$f":"'INVENT.Mat&Outillag Importé -10'!B582","v":0},{"$f":"'INVENT.Mat&Outillag Importé -10'!F582","v":0},{"$f":"'INVENT.Mat&Outillag Importé -10'!C582","v":0},{"$f":"'INVENT.Mat&Outillag Importé -10'!H582","v":0},null,0,0,0,0,0,0,null,null,0,0,0,0]
[577,{"$f":"'INVENT.Mat&Outillag Importé -10'!B583","v":0},{"$f":"'INVENT.Mat&Outillag Importé -10'!F583","v":0},{"$f":"'INVENT.Mat&Outillag Importé -10'!C583","v":0},{"$f":"'INVENT.Mat&Outillag Importé -10'!H583","v":0},null,0,0,0,0,0,0,null,null,0,0,0,0]
[578,{"$f":"'INVENT.Mat&Outillag Importé -10'!B584","v":0},{"$f":"'INVENT.Mat&Outillag Importé -10'!F584","v":0},{"$f":"'INVENT.Mat&Outillag Importé -10'!C584","v":0},{"$f":"'INVENT.Mat&Outillag Importé -10'!H584","v":0},null,0,0,0,0,0,0,null,null,0,0,0,0]
[579,{"$f":"'INVENT.Mat&Outillag Importé -10'!B585","v":0},{"$f":"'INVENT.Mat&Outillag Importé -10'!F585","v":0},{"$f":"'INVENT.Mat&Outillag Importé -10'!C585","v":0},{"$f":"'INVENT.Mat&Outillag Importé -10'!H585","v":0},null,0,0,0,0,0,0,null,null,0,0,0,0]
[580,{"$f":"'INVENT.Mat&Outillag Importé -10'!B586","v":0},{"$f":"'INVENT.Mat&Outillag Importé -10'!F586","v":0},{"$f":"'INVENT.Mat&Outillag Importé -10'!C586","v":0},{"$f":"'INVENT.Mat&Outillag Importé -10'!H586","v":0},null,0,0,0,0,0,0,null,null,0,0,0,0]
[581,{"$f":"'INVENT.Mat&Outillag Importé -10'!B587","v":0},{"$f":"'INVENT.Mat&Outillag Importé -10'!F587","v":0},{"$f":"'INVENT.Mat&Outillag Importé -10'!C587","v":0},{"$f":"'INVENT.Mat&Outillag Importé -10'!H587","v":0},null,0,0,0,0,0,0,null,null,0,0,0,0]
[582,{"$f":"'INVENT.Mat&Outillag Importé -10'!B588","v":0},{"$f":"'INVENT.Mat&Outillag Importé -10'!F588","v":0},{"$f":"'INVENT.Mat&Outillag Importé -10'!C588","v":0},{"$f":"'INVENT.Mat&Outillag Importé -10'!H588","v":0},null,0,0,0,0,0,0,null,null,0,0,0,0]
[583,{"$f":"'INVENT.Mat&Outillag Importé -10'!B589","v":0},{"$f":"'INVENT.Mat&Outillag Importé -10'!F589","v":0},{"$f":"'INVENT.Mat&Outillag Importé -10'!C589","v":0},{"$f":"'INVENT.Mat&Outillag Importé -10'!H589","v":0},null,0,0,0,0,0,0,null,null,0,0,0,0]
[584,{"$f":"'INVENT.Mat&Outillag Importé -10'!B590","v":0},{"$f":"'INVENT.Mat&Outillag Importé -10'!F590","v":0},{"$f":"'INVENT.Mat&Outillag Importé -10'!C590","v":0},{"$f":"'INVENT.Mat&Outillag Importé -10'!H590","v":0},null,0,0,0,0,0,0,null,null,0,0,0,0]
[585,{"$f":"'INVENT.Mat&Outillag Importé -10'!B591","v":0},{"$f":"'INVENT.Mat&Outillag Importé -10'!F591","v":0},{"$f":"'INVENT.Mat&Outillag Importé -10'!C591","v":0},{"$f":"'INVENT.Mat&Outillag Importé -10'!H591","v":0},null,0,0,0,0,0,0,null,null,0,0,0,0]
[586,{"$f":"'INVENT.Mat&Outillag Importé -10'!B592","v":0},{"$f":"'INVENT.Mat&Outillag Importé -10'!F592","v":0},{"$f":"'INVENT.Mat&Outillag Importé -10'!C592","v":0},{"$f":"'INVENT.Mat&Outillag Importé -10'!H592","v":0},null,0,0,0,0,0,0,null,null,0,0,0,0]
[587,{"$f":"'INVENT.Mat&Outillag Importé -10'!B593","v":0},{"$f":"'INVENT.Mat&Outillag Importé -10'!F593","v":0},{"$f":"'INVENT.Mat&Outillag Importé -10'!C593","v":0},{"$f":"'INVENT.Mat&Outillag Importé -10'!H593","v":0},null,0,0,0,0,0,0,null,null,0,0,0,0]
[588,{"$f":"'INVENT.Mat&Outillag Importé -10'!B594","v":0},{"$f":"'INVENT.Mat&Outillag Importé -10'!F594","v":0},{"$f":"'INVENT.Mat&Outillag Importé -10'!C594","v":0},{"$f":"'INVENT.Mat&Outillag Importé -10'!H594","v":0},null,0,0,0,0,0,0,null,null,0,0,0,0]
[589,{"$f":"'INVENT.Mat&Outillag Importé -10'!B595","v":0},{"$f":"'INVENT.Mat&Outillag Importé -10'!F595","v":0},{"$f":"'INVENT.Mat&Outillag Importé -10'!C595","v":0},{"$f":"'INVENT.Mat&Outillag Importé -10'!H595","v":0},null,0,0,0,0,0,0,null,null,0,0,0,0]
[590,{"$f":"'INVENT.Mat&Outillag Importé -10'!B596","v":0},{"$f":"'INVENT.Mat&Outillag Importé -10'!F596","v":0},{"$f":"'INVENT.Mat&Outillag Importé -10'!C596","v":0},{"$f":"'INVENT.Mat&Outillag Importé -10'!H596","v":0},null,0,0,0,0,0,0,null,null,0,0,0,0]
[591,{"$f":"'INVENT.Mat&Outillag Importé -10'!B597","v":0},{"$f":"'INVENT.Mat&Outillag Importé -10'!F597","v":0},{"$f":"'INVENT.Mat&Outillag Importé -10'!C597","v":0},{"$f":"'INVENT.Mat&Outillag Importé -10'!H597","v":0},null,0,0,0,0,0,0,null,null,0,0,0,0]
[592,{"$f":"'INVENT.Mat&Outillag Importé -10'!B598","v":0},{"$f":"'INVENT.Mat&Outillag Importé -10'!F598","v":0},{"$f":"'INVENT.Mat&Outillag Importé -10'!C598","v":0},{"$f":"'INVENT.Mat&Outillag Importé -10'!H598","v":0},null,0,0,0,0,0,0,null,null,0,0,0,0]
[593,{"$f":"'INVENT.Mat&Outillag Importé -10'!B599","v":0},{"$f":"'INVENT.Mat&Outillag Importé -10'!F599","v":0},{"$f":"'INVENT.Mat&Outillag Importé -10'!C599","v":0},{"$f":"'INVENT.Mat&Outillag Importé -10'!H599","v":0},null,0,0,0,0,0,0,null,null,0,0,0,0]
[594,{"$f":"'INVENT.Mat&Outillag Importé -10'!B600","v":0},{"$f":"'INVENT.Mat&Outillag Importé -10'!F600","v":0},{"$f":"'INVENT.Mat&Outillag Importé -10'!C600","v":0},{"$f":"'INVENT.Mat&Outillag Importé -10'!H600","v":0},null,0,0,0,0,0,0,null,null,0,0,0,0]
[595,{"$f":"'INVENT.Mat&Outillag Importé -10'!B601","v":0},{"$f":"'INVENT.Mat&Outillag Importé -10'!F601","v":0},{"$f":"'INVENT.Mat&Outillag Importé -10'!C601","v":0},{"$f":"'INVENT.Mat&Outillag Importé -10'!H601","v":0},null,0,0,0,0,0,0,null,null,0,0,0,0]
[596,{"$f":"'INVENT.Mat&Outillag Importé -10'!B602","v":0},{"$f":"'INVENT.Mat&Outillag Importé -10'!F602","v":0},{"$f":"'INVENT.Mat&Outillag Importé -10'!C602","v":0},{"$f":"'INVENT.Mat&Outillag Importé -10'!H602","v":0},null,0,0,0,0,0,0,null,null,0,0,0,0]
[597,{"$f":"'INVENT.Mat&Outillag Importé -10'!B603","v":0},{"$f":"'INVENT.Mat&Outillag Importé -10'!F603","v":0},{"$f":"'INVENT.Mat&Outillag Importé -10'!C603","v":0},{"$f":"'INVENT.Mat&Outillag Importé -10'!H603","v":0},null,0,0,0,0,0,0,null,null,0,0,0,0]
[598,{"$f":"'INVENT.Mat&Outillag Importé -10'!B604","v":0},{"$f":"'INVENT.Mat&Outillag Importé -10'!F604","v":0},{"$f":"'INVENT.Mat&Outillag Importé -10'!C604","v":0},{"$f":"'INVENT.Mat&Outillag Importé -10'!H604","v":0},null,0,0,0,0,0,0,null,null,0,0,0,0]
[599,{"$f":"'INVENT.Mat&Outillag Importé -10'!B605","v":0},{"$f":"'INVENT.Mat&Outillag Importé -10'!F605","v":0},{"$f":"'INVENT.Mat&Outillag Importé -10'!C605","v":0},{"$f":"'INVENT.Mat&Outillag Importé -10'!H605","v":0},null,0,0,0,0,0,0,null,null,0,0,0,0]
[600,{"$f":"'INVENT.Mat&Outillag Importé -10'!B606","v":0},{"$f":"'INVENT.Mat&Outillag Importé -10'!F606","v":0},{"$f":"'INVENT.Mat&Outillag Importé -10'!C606","v":0},{"$f":"'INVENT.Mat&Outillag Importé -10'!H606","v":0},null,0,0,0,0,0,0,null,null,0,0,0,0]
[601,{"$f":"'INVENT.Mat&Outillag Importé -10'!B607","v":0},{"$f":"'INVENT.Mat&Outillag Importé -10'!F607","v":0},{"$f":"'INVENT.Mat&Outillag Importé -10'!C607","v":0},{"$f":"'INVENT.Mat&Outillag Importé -10'!H607","v":0},null,0,0,0,0,0,0,null,null,0,0,0,0]
[602,{"$f":"'INVENT.Mat&Outillag Importé -10'!B608","v":0},{"$f":"'INVENT.Mat&Outillag Importé -10'!F608","v":0},{"$f":"'INVENT.Mat&Outillag Importé -10'!C608","v":0},{"$f":"'INVENT.Mat&Outillag Importé -10'!H608","v":0},null,0,0,0,0,0,0,null,null,0,0,0,0]
[603,{"$f":"'INVENT.Mat&Outillag Importé -10'!B609","v":0},{"$f":"'INVENT.Mat&Outillag Importé -10'!F609","v":0},{"$f":"'INVENT.Mat&Outillag Importé -10'!C609","v":0},{"$f":"'INVENT.Mat&Outillag Importé -10'!H609","v":0},null,0,0,0,0,0,0,null,null,0,0,0,0]
[604,{"$f":"'INVENT.Mat&Outillag Importé -10'!B610","v":0},{"$f":"'INVENT.Mat&Outillag Importé -10'!F610","v":0},{"$f":"'INVENT.Mat&Outillag Importé -10'!C610","v":0},{"$f":"'INVENT.Mat&Outillag Importé -10'!H610","v":0},null,0,0,0,0,0,0,null,null,0,0,0,0]
[605,{"$f":"'INVENT.Mat&Outillag Importé -10'!B611","v":0},{"$f":"'INVENT.Mat&Outillag Importé -10'!F611","v":0},{"$f":"'INVENT.Mat&Outillag Importé -10'!C611","v":0},{"$f":"'INVENT.Mat&Outillag Importé -10'!H611","v":0},null,0,0,0,0,0,0,null,null,0,0,0,0]
[606,{"$f":"'INVENT.Mat&Outillag Importé -10'!B612","v":0},{"$f":"'INVENT.Mat&Outillag Importé -10'!F612","v":0},{"$f":"'INVENT.Mat&Outillag Importé -10'!C612","v":0},{"$f":"'INVENT.Mat&Outillag Importé -10'!H612","v":0},null,0,0,0,0,0,0,null,null,0,0,0,0]
[607,{"$f":"'INVENT.Mat&Outillag Importé -10'!B613","v":0},{"$f":"'INVENT.Mat&Outillag Importé -10'!F613","v":0},{"$f":"'INVENT.Mat&Outillag Importé -10'!C613","v":0},{"$f":"'INVENT.Mat&Outillag Importé -10'!H613","v":0},null,0,0,0,0,0,0,null,null,0,0,0,0]
[608,{"$f":"'INVENT.Mat&Outillag Importé -10'!B614","v":0},{"$f":"'INVENT.Mat&Outillag Importé -10'!F614","v":0},{"$f":"'INVENT.Mat&Outillag Importé -10'!C614","v":0},{"$f":"'INVENT.Mat&Outillag Importé -10'!H614","v":0},null,0,0,0,0,0,0,null,null,0,0,0,0]
[609,{"$f":"'INVENT.Mat&Outillag Importé -10'!B615","v":0},{"$f":"'INVENT.Mat&Outillag Importé -10'!F615","v":0},{"$f":"'INVENT.Mat&Outillag Importé -10'!C615","v":0},{"$f":"'INVENT.Mat&Outillag Importé -10'!H615","v":0},null,0,0,0,0,0,0,null,null,0,0,0,0]
[610,{"$f":"'INVENT.Mat&Outillag Importé -10'!B616","v":0},{"$f":"'INVENT.Mat&Outillag Importé -10'!F616","v":0},{"$f":"'INVENT.Mat&Outillag Importé -10'!C616","v":0},{"$f":"'INVENT.Mat&Outillag Importé -10'!H616","v":0},null,0,0,0,0,0,0,null,null,0,0,0,0]
[611,{"$f":"'INVENT.Mat&Outillag Importé -10'!B617","v":0},{"$f":"'INVENT.Mat&Outillag Importé -10'!F617","v":0},{"$f":"'INVENT.Mat&Outillag Importé -10'!C617","v":0},{"$f":"'INVENT.Mat&Outillag Importé -10'!H617","v":0},null,0,0,0,0,0,0,null,null,0,0,0,0]
[612,{"$f":"'INVENT.Mat&Outillag Importé -10'!B618","v":0},{"$f":"'INVENT.Mat&Outillag Importé -10'!F618","v":0},{"$f":"'INVENT.Mat&Outillag Importé -10'!C618","v":0},{"$f":"'INVENT.Mat&Outillag Importé -10'!H618","v":0},null,0,0,0,0,0,0,null,null,0,0,0,0]
[613,{"$f":"'INVENT.Mat&Outillag Importé -10'!B619","v":0},{"$f":"'INVENT.Mat&Outillag Importé -10'!F619","v":0},{"$f":"'INVENT.Mat&Outillag Importé -10'!C619","v":0},{"$f":"'INVENT.Mat&Outillag Importé -10'!H619","v":0},null,0,0,0,0,0,0,null,null,0,0,0,0]
[614,{"$f":"'INVENT.Mat&Outillag Importé -10'!B620","v":0},{"$f":"'INVENT.Mat&Outillag Importé -10'!F620","v":0},{"$f":"'INVENT.Mat&Outillag Importé -10'!C620","v":0},{"$f":"'INVENT.Mat&Outillag Importé -10'!H620","v":0},null,0,0,0,0,0,0,null,null,0,0,0,0]
[615,{"$f":"'INVENT.Mat&Outillag Importé -10'!B621","v":0},{"$f":"'INVENT.Mat&Outillag Importé -10'!F621","v":0},{"$f":"'INVENT.Mat&Outillag Importé -10'!C621","v":0},{"$f":"'INVENT.Mat&Outillag Importé -10'!H621","v":0},null,0,0,0,0,0,0,null,null,0,0,0,0]
[{"$f":"+A622+1","v":616},{"$f":"'INVENT.Mat&Outillag Importé -10'!B622","v":0},{"$f":"'INVENT.Mat&Outillag Importé -10'!F622","v":0},{"$f":"'INVENT.Mat&Outillag Importé -10'!C622","v":0},{"$f":"'INVENT.Mat&Outillag Importé -10'!H622","v":0},null,0,0,0,0,0,0,null,null,0,0,0,0]
[617,{"$f":"'INVENT.Mat&Outillag Importé -10'!B623","v":0},{"$f":"'INVENT.Mat&Outillag Importé -10'!F623","v":0},{"$f":"'INVENT.Mat&Outillag Importé -10'!C623","v":0},{"$f":"'INVENT.Mat&Outillag Importé -10'!H623","v":0},null,0,0,0,0,0,0,null,null,0,0,0,0]
[618,{"$f":"'INVENT.Mat&Outillag Importé -10'!B624","v":0},{"$f":"'INVENT.Mat&Outillag Importé -10'!F624","v":0},{"$f":"'INVENT.Mat&Outillag Importé -10'!C624","v":0},{"$f":"'INVENT.Mat&Outillag Importé -10'!H624","v":0},null,0,0,0,0,0,0,null,null,0,0,0,0]
[619,{"$f":"'INVENT.Mat&Outillag Importé -10'!B625","v":0},{"$f":"'INVENT.Mat&Outillag Importé -10'!F625","v":0},{"$f":"'INVENT.Mat&Outillag Importé -10'!C625","v":0},{"$f":"'INVENT.Mat&Outillag Importé -10'!H625","v":0},null,0,0,0,0,0,0,null,null,0,0,0,0]
[620,{"$f":"'INVENT.Mat&Outillag Importé -10'!B626","v":0},{"$f":"'INVENT.Mat&Outillag Importé -10'!F626","v":0},{"$f":"'INVENT.Mat&Outillag Importé -10'!C626","v":0},{"$f":"'INVENT.Mat&Outillag Importé -10'!H626","v":0},null,0,0,0,0,0,0,null,null,0,0,0,0]
[621,{"$f":"'INVENT.Mat&Outillag Importé -10'!B627","v":0},{"$f":"'INVENT.Mat&Outillag Importé -10'!F627","v":0},{"$f":"'INVENT.Mat&Outillag Importé -10'!C627","v":0},{"$f":"'INVENT.Mat&Outillag Importé -10'!H627","v":0},null,0,0,0,0,0,0,null,null,0,0,0,0]
[622,{"$f":"'INVENT.Mat&Outillag Importé -10'!B628","v":0},{"$f":"'INVENT.Mat&Outillag Importé -10'!F628","v":0},{"$f":"'INVENT.Mat&Outillag Importé -10'!C628","v":0},{"$f":"'INVENT.Mat&Outillag Importé -10'!H628","v":0},null,0,0,0,0,0,0,null,null,0,0,0,0]
[623,{"$f":"'INVENT.Mat&Outillag Importé -10'!B629","v":0},{"$f":"'INVENT.Mat&Outillag Importé -10'!F629","v":0},{"$f":"'INVENT.Mat&Outillag Importé -10'!C629","v":0},{"$f":"'INVENT.Mat&Outillag Importé -10'!H629","v":0},null,0,0,0,0,0,0,null,null,0,0,0,0]
[624,{"$f":"'INVENT.Mat&Outillag Importé -10'!B630","v":0},{"$f":"'INVENT.Mat&Outillag Importé -10'!F630","v":0},{"$f":"'INVENT.Mat&Outillag Importé -10'!C630","v":0},{"$f":"'INVENT.Mat&Outillag Importé -10'!H630","v":0},null,0,0,0,0,0,0,null,null,0,0,0,0]
[625,{"$f":"'INVENT.Mat&Outillag Importé -10'!B631","v":0},{"$f":"'INVENT.Mat&Outillag Importé -10'!F631","v":0},{"$f":"'INVENT.Mat&Outillag Importé -10'!C631","v":0},{"$f":"'INVENT.Mat&Outillag Importé -10'!H631","v":0},null,0,0,0,0,0,0,null,null,0,0,0,0]
[626,{"$f":"'INVENT.Mat&Outillag Importé -10'!B632","v":0},{"$f":"'INVENT.Mat&Outillag Importé -10'!F632","v":0},{"$f":"'INVENT.Mat&Outillag Importé -10'!C632","v":0},{"$f":"'INVENT.Mat&Outillag Importé -10'!H632","v":0},null,0,0,0,0,0,0,null,null,0,0,0,0]
[627,{"$f":"'INVENT.Mat&Outillag Importé -10'!B633","v":0},{"$f":"'INVENT.Mat&Outillag Importé -10'!F633","v":0},{"$f":"'INVENT.Mat&Outillag Importé -10'!C633","v":0},{"$f":"'INVENT.Mat&Outillag Importé -10'!H633","v":0},null,0,0,0,0,0,0,null,null,0,0,0,0]
[628,{"$f":"'INVENT.Mat&Outillag Importé -10'!B634","v":0},{"$f":"'INVENT.Mat&Outillag Importé -10'!F634","v":0},{"$f":"'INVENT.Mat&Outillag Importé -10'!C634","v":0},{"$f":"'INVENT.Mat&Outillag Importé -10'!H634","v":0},null,0,0,0,0,0,0,null,null,0,0,0,0]
[629,{"$f":"'INVENT.Mat&Outillag Importé -10'!B635","v":0},{"$f":"'INVENT.Mat&Outillag Importé -10'!F635","v":0},{"$f":"'INVENT.Mat&Outillag Importé -10'!C635","v":0},{"$f":"'INVENT.Mat&Outillag Importé -10'!H635","v":0},null,{"$f":"F636*E636","v":0},{"$f":"E636*1%","v":0},{"$f":"E636*1%","v":0},{"$f":"E636*0.5%","v":0},{"$f":"(E636+G636+H636)*18%","v":0},{"$f":"SUM(G636:K636)+E636","v":0},null,null,{"$f":"(M636+N636)*18%","v":0},{"$f":"O636+N636+M636","v":0},{"$f":"+R636-O636-K636","v":0},{"$f":"P636+L636","v":0}]
[630,{"$f":"'INVENT.Mat&Outillag Importé -10'!B636","v":0},{"$f":"'INVENT.Mat&Outillag Importé -10'!F636","v":0},{"$f":"'INVENT.Mat&Outillag Importé -10'!C636","v":0},{"$f":"'INVENT.Mat&Outillag Importé -10'!H636","v":0},null,0,0,0,0,0,0,null,null,0,0,0,0]
[631,{"$f":"'INVENT.Mat&Outillag Importé -10'!B637","v":0},{"$f":"'INVENT.Mat&Outillag Importé -10'!F637","v":0},{"$f":"'INVENT.Mat&Outillag Importé -10'!C637","v":0},{"$f":"'INVENT.Mat&Outillag Importé -10'!H637","v":0},null,0,0,0,0,0,0,null,null,0,0,0,0]
[632,{"$f":"'INVENT.Mat&Outillag Importé -10'!B638","v":0},{"$f":"'INVENT.Mat&Outillag Importé -10'!F638","v":0},{"$f":"'INVENT.Mat&Outillag Importé -10'!C638","v":0},{"$f":"'INVENT.Mat&Outillag Importé -10'!H638","v":0},null,0,0,0,0,0,0,null,null,0,0,0,0]
[633,{"$f":"'INVENT.Mat&Outillag Importé -10'!B639","v":0},{"$f":"'INVENT.Mat&Outillag Importé -10'!F639","v":0},{"$f":"'INVENT.Mat&Outillag Importé -10'!C639","v":0},{"$f":"'INVENT.Mat&Outillag Importé -10'!H639","v":0},null,0,0,0,0,0,0,null,null,0,0,0,0]
[634,{"$f":"'INVENT.Mat&Outillag Importé -10'!B640","v":0},{"$f":"'INVENT.Mat&Outillag Importé -10'!F640","v":0},{"$f":"'INVENT.Mat&Outillag Importé -10'!C640","v":0},{"$f":"'INVENT.Mat&Outillag Importé -10'!H640","v":0},null,0,0,0,0,0,0,null,null,0,0,0,0]
[635,{"$f":"'INVENT.Mat&Outillag Importé -10'!B641","v":0},{"$f":"'INVENT.Mat&Outillag Importé -10'!F641","v":0},{"$f":"'INVENT.Mat&Outillag Importé -10'!C641","v":0},{"$f":"'INVENT.Mat&Outillag Importé -10'!H641","v":0},null,0,0,0,0,0,0,null,null,0,0,0,0]
[636,{"$f":"'INVENT.Mat&Outillag Importé -10'!B642","v":0},{"$f":"'INVENT.Mat&Outillag Importé -10'!F642","v":0},{"$f":"'INVENT.Mat&Outillag Importé -10'!C642","v":0},{"$f":"'INVENT.Mat&Outillag Importé -10'!H642","v":0},null,0,0,0,0,0,0,null,null,0,0,0,0]
[637,{"$f":"'INVENT.Mat&Outillag Importé -10'!B643","v":0},{"$f":"'INVENT.Mat&Outillag Importé -10'!F643","v":0},{"$f":"'INVENT.Mat&Outillag Importé -10'!C643","v":0},{"$f":"'INVENT.Mat&Outillag Importé -10'!H643","v":0},null,0,0,0,0,0,0,null,null,0,0,0,0]
[638,{"$f":"'INVENT.Mat&Outillag Importé -10'!B644","v":0},{"$f":"'INVENT.Mat&Outillag Importé -10'!F644","v":0},{"$f":"'INVENT.Mat&Outillag Importé -10'!C644","v":0},{"$f":"'INVENT.Mat&Outillag Importé -10'!H644","v":0},null,0,0,0,0,0,0,null,null,0,0,0,0]
[639,{"$f":"'INVENT.Mat&Outillag Importé -10'!B645","v":0},{"$f":"'INVENT.Mat&Outillag Importé -10'!F645","v":0},{"$f":"'INVENT.Mat&Outillag Importé -10'!C645","v":0},{"$f":"'INVENT.Mat&Outillag Importé -10'!H645","v":0},null,0,0,0,0,0,0,null,null,0,0,0,0]
[640,{"$f":"'INVENT.Mat&Outillag Importé -10'!B646","v":0},{"$f":"'INVENT.Mat&Outillag Importé -10'!F646","v":0},{"$f":"'INVENT.Mat&Outillag Importé -10'!C646","v":0},{"$f":"'INVENT.Mat&Outillag Importé -10'!H646","v":0},null,0,0,0,0,0,0,null,null,0,0,0,0]
[641,{"$f":"'INVENT.Mat&Outillag Importé -10'!B647","v":0},{"$f":"'INVENT.Mat&Outillag Importé -10'!F647","v":0},{"$f":"'INVENT.Mat&Outillag Importé -10'!C647","v":0},{"$f":"'INVENT.Mat&Outillag Importé -10'!H647","v":0},null,0,0,0,0,0,0,null,null,0,0,0,0]
[642,{"$f":"'INVENT.Mat&Outillag Importé -10'!B648","v":0},{"$f":"'INVENT.Mat&Outillag Importé -10'!F648","v":0},{"$f":"'INVENT.Mat&Outillag Importé -10'!C648","v":0},{"$f":"'INVENT.Mat&Outillag Importé -10'!H648","v":0},null,0,0,0,0,0,0,null,null,0,0,0,0]
[643,{"$f":"'INVENT.Mat&Outillag Importé -10'!B649","v":0},{"$f":"'INVENT.Mat&Outillag Importé -10'!F649","v":0},{"$f":"'INVENT.Mat&Outillag Importé -10'!C649","v":0},{"$f":"'INVENT.Mat&Outillag Importé -10'!H649","v":0},null,0,0,0,0,0,0,null,null,0,0,0,0]
[644,{"$f":"'INVENT.Mat&Outillag Importé -10'!B650","v":0},{"$f":"'INVENT.Mat&Outillag Importé -10'!F650","v":0},{"$f":"'INVENT.Mat&Outillag Importé -10'!C650","v":0},{"$f":"'INVENT.Mat&Outillag Importé -10'!H650","v":0},null,0,0,0,0,0,0,null,null,0,0,0,0]
[645,{"$f":"'INVENT.Mat&Outillag Importé -10'!B651","v":0},{"$f":"'INVENT.Mat&Outillag Importé -10'!F651","v":0},{"$f":"'INVENT.Mat&Outillag Importé -10'!C651","v":0},{"$f":"'INVENT.Mat&Outillag Importé -10'!H651","v":0},null,0,0,0,0,0,0,null,null,0,0,0,0]
[646,{"$f":"'INVENT.Mat&Outillag Importé -10'!B652","v":0},{"$f":"'INVENT.Mat&Outillag Importé -10'!F652","v":0},{"$f":"'INVENT.Mat&Outillag Importé -10'!C652","v":0},{"$f":"'INVENT.Mat&Outillag Importé -10'!H652","v":0},null,0,0,0,0,0,0,null,null,0,0,0,0]
[647,{"$f":"'INVENT.Mat&Outillag Importé -10'!B653","v":0},{"$f":"'INVENT.Mat&Outillag Importé -10'!F653","v":0},{"$f":"'INVENT.Mat&Outillag Importé -10'!C653","v":0},{"$f":"'INVENT.Mat&Outillag Importé -10'!H653","v":0},null,0,0,0,0,0,0,null,null,0,0,0,0]
[648,{"$f":"'INVENT.Mat&Outillag Importé -10'!B654","v":0},{"$f":"'INVENT.Mat&Outillag Importé -10'!F654","v":0},{"$f":"'INVENT.Mat&Outillag Importé -10'!C654","v":0},{"$f":"'INVENT.Mat&Outillag Importé -10'!H654","v":0},null,0,0,0,0,0,0,null,null,0,0,0,0]
[649,{"$f":"'INVENT.Mat&Outillag Importé -10'!B655","v":0},{"$f":"'INVENT.Mat&Outillag Importé -10'!F655","v":0},{"$f":"'INVENT.Mat&Outillag Importé -10'!C655","v":0},{"$f":"'INVENT.Mat&Outillag Importé -10'!H655","v":0},null,0,0,0,0,0,0,null,null,0,0,0,0]
[650,{"$f":"'INVENT.Mat&Outillag Importé -10'!B656","v":0},{"$f":"'INVENT.Mat&Outillag Importé -10'!F656","v":0},{"$f":"'INVENT.Mat&Outillag Importé -10'!C656","v":0},{"$f":"'INVENT.Mat&Outillag Importé -10'!H656","v":0},null,0,0,0,0,0,0,null,null,0,0,0,0]
[651,{"$f":"'INVENT.Mat&Outillag Importé -10'!B657","v":0},{"$f":"'INVENT.Mat&Outillag Importé -10'!F657","v":0},{"$f":"'INVENT.Mat&Outillag Importé -10'!C657","v":0},{"$f":"'INVENT.Mat&Outillag Importé -10'!H657","v":0},null,0,0,0,0,0,0,null,null,0,0,0,0]
[652,{"$f":"'INVENT.Mat&Outillag Importé -10'!B658","v":0},{"$f":"'INVENT.Mat&Outillag Importé -10'!F658","v":0},{"$f":"'INVENT.Mat&Outillag Importé -10'!C658","v":0},{"$f":"'INVENT.Mat&Outillag Importé -10'!H658","v":0},null,0,0,0,0,0,0,null,null,0,0,0,0]
[653,{"$f":"'INVENT.Mat&Outillag Importé -10'!B659","v":0},{"$f":"'INVENT.Mat&Outillag Importé -10'!F659","v":0},{"$f":"'INVENT.Mat&Outillag Importé -10'!C659","v":0},{"$f":"'INVENT.Mat&Outillag Importé -10'!H659","v":0},null,0,0,0,0,0,0,null,null,0,0,0,0]
[654,{"$f":"'INVENT.Mat&Outillag Importé -10'!B660","v":0},{"$f":"'INVENT.Mat&Outillag Importé -10'!F660","v":0},{"$f":"'INVENT.Mat&Outillag Importé -10'!C660","v":0},{"$f":"'INVENT.Mat&Outillag Importé -10'!H660","v":0},null,0,0,0,0,0,0,null,null,0,0,0,0]
[655,{"$f":"'INVENT.Mat&Outillag Importé -10'!B661","v":0},{"$f":"'INVENT.Mat&Outillag Importé -10'!F661","v":0},{"$f":"'INVENT.Mat&Outillag Importé -10'!C661","v":0},{"$f":"'INVENT.Mat&Outillag Importé -10'!H661","v":0},null,0,0,0,0,0,0,null,null,0,0,0,0]
[656,{"$f":"'INVENT.Mat&Outillag Importé -10'!B662","v":0},{"$f":"'INVENT.Mat&Outillag Importé -10'!F662","v":0},{"$f":"'INVENT.Mat&Outillag Importé -10'!C662","v":0},{"$f":"'INVENT.Mat&Outillag Importé -10'!H662","v":0},null,0,0,0,0,0,0,null,null,0,0,0,0]
[657,{"$f":"'INVENT.Mat&Outillag Importé -10'!B663","v":0},{"$f":"'INVENT.Mat&Outillag Importé -10'!F663","v":0},{"$f":"'INVENT.Mat&Outillag Importé -10'!C663","v":0},{"$f":"'INVENT.Mat&Outillag Importé -10'!H663","v":0},null,0,0,0,0,0,0,null,null,0,0,0,0]
[658,{"$f":"'INVENT.Mat&Outillag Importé -10'!B664","v":0},{"$f":"'INVENT.Mat&Outillag Importé -10'!F664","v":0},{"$f":"'INVENT.Mat&Outillag Importé -10'!C664","v":0},{"$f":"'INVENT.Mat&Outillag Importé -10'!H664","v":0},null,0,0,0,0,0,0,null,null,0,0,0,0]
[659,{"$f":"'INVENT.Mat&Outillag Importé -10'!B665","v":0},{"$f":"'INVENT.Mat&Outillag Importé -10'!F665","v":0},{"$f":"'INVENT.Mat&Outillag Importé -10'!C665","v":0},{"$f":"'INVENT.Mat&Outillag Importé -10'!H665","v":0},null,0,0,0,0,0,0,null,null,0,0,0,0]
[660,{"$f":"'INVENT.Mat&Outillag Importé -10'!B666","v":0},{"$f":"'INVENT.Mat&Outillag Importé -10'!F666","v":0},{"$f":"'INVENT.Mat&Outillag Importé -10'!C666","v":0},{"$f":"'INVENT.Mat&Outillag Importé -10'!H666","v":0},null,0,0,0,0,0,0,null,null,0,0,0,0]
[661,{"$f":"'INVENT.Mat&Outillag Importé -10'!B667","v":0},{"$f":"'INVENT.Mat&Outillag Importé -10'!F667","v":0},{"$f":"'INVENT.Mat&Outillag Importé -10'!C667","v":0},{"$f":"'INVENT.Mat&Outillag Importé -10'!H667","v":0},null,0,0,0,0,0,0,null,null,0,0,0,0]
[662,{"$f":"'INVENT.Mat&Outillag Importé -10'!B668","v":0},{"$f":"'INVENT.Mat&Outillag Importé -10'!F668","v":0},{"$f":"'INVENT.Mat&Outillag Importé -10'!C668","v":0},{"$f":"'INVENT.Mat&Outillag Importé -10'!H668","v":0},null,0,0,0,0,0,0,null,null,0,0,0,0]
[663,{"$f":"'INVENT.Mat&Outillag Importé -10'!B669","v":0},{"$f":"'INVENT.Mat&Outillag Importé -10'!F669","v":0},{"$f":"'INVENT.Mat&Outillag Importé -10'!C669","v":0},{"$f":"'INVENT.Mat&Outillag Importé -10'!H669","v":0},null,0,0,0,0,0,0,null,null,0,0,0,0]
[664,{"$f":"'INVENT.Mat&Outillag Importé -10'!B670","v":0},{"$f":"'INVENT.Mat&Outillag Importé -10'!F670","v":0},{"$f":"'INVENT.Mat&Outillag Importé -10'!C670","v":0},{"$f":"'INVENT.Mat&Outillag Importé -10'!H670","v":0},null,0,0,0,0,0,0,null,null,0,0,0,0]
[665,{"$f":"'INVENT.Mat&Outillag Importé -10'!B671","v":0},{"$f":"'INVENT.Mat&Outillag Importé -10'!F671","v":0},{"$f":"'INVENT.Mat&Outillag Importé -10'!C671","v":0},{"$f":"'INVENT.Mat&Outillag Importé -10'!H671","v":0},null,0,0,0,0,0,0,null,null,0,0,0,0]
[666,{"$f":"'INVENT.Mat&Outillag Importé -10'!B672","v":0},{"$f":"'INVENT.Mat&Outillag Importé -10'!F672","v":0},{"$f":"'INVENT.Mat&Outillag Importé -10'!C672","v":0},{"$f":"'INVENT.Mat&Outillag Importé -10'!H672","v":0},null,0,0,0,0,0,0,null,null,0,0,0,0]
[667,{"$f":"'INVENT.Mat&Outillag Importé -10'!B673","v":0},{"$f":"'INVENT.Mat&Outillag Importé -10'!F673","v":0},{"$f":"'INVENT.Mat&Outillag Importé -10'!C673","v":0},{"$f":"'INVENT.Mat&Outillag Importé -10'!H673","v":0},null,0,0,0,0,0,0,null,null,0,0,0,0]
[668,{"$f":"'INVENT.Mat&Outillag Importé -10'!B674","v":0},{"$f":"'INVENT.Mat&Outillag Importé -10'!F674","v":0},{"$f":"'INVENT.Mat&Outillag Importé -10'!C674","v":0},{"$f":"'INVENT.Mat&Outillag Importé -10'!H674","v":0},null,0,0,0,0,0,0,null,null,0,0,0,0]
[669,{"$f":"'INVENT.Mat&Outillag Importé -10'!B675","v":0},{"$f":"'INVENT.Mat&Outillag Importé -10'!F675","v":0},{"$f":"'INVENT.Mat&Outillag Importé -10'!C675","v":0},{"$f":"'INVENT.Mat&Outillag Importé -10'!H675","v":0},null,0,0,0,0,0,0,null,null,0,0,0,0]
[670,{"$f":"'INVENT.Mat&Outillag Importé -10'!B676","v":0},{"$f":"'INVENT.Mat&Outillag Importé -10'!F676","v":0},{"$f":"'INVENT.Mat&Outillag Importé -10'!C676","v":0},{"$f":"'INVENT.Mat&Outillag Importé -10'!H676","v":0},null,0,0,0,0,0,0,null,null,0,0,0,0]
[671,{"$f":"'INVENT.Mat&Outillag Importé -10'!B677","v":0},{"$f":"'INVENT.Mat&Outillag Importé -10'!F677","v":0},{"$f":"'INVENT.Mat&Outillag Importé -10'!C677","v":0},{"$f":"'INVENT.Mat&Outillag Importé -10'!H677","v":0},null,0,0,0,0,0,0,null,null,0,0,0,0]
[672,{"$f":"'INVENT.Mat&Outillag Importé -10'!B678","v":0},{"$f":"'INVENT.Mat&Outillag Importé -10'!F678","v":0},{"$f":"'INVENT.Mat&Outillag Importé -10'!C678","v":0},{"$f":"'INVENT.Mat&Outillag Importé -10'!H678","v":0},null,0,0,0,0,0,0,null,null,0,0,0,0]
[673,{"$f":"'INVENT.Mat&Outillag Importé -10'!B679","v":0},{"$f":"'INVENT.Mat&Outillag Importé -10'!F679","v":0},{"$f":"'INVENT.Mat&Outillag Importé -10'!C679","v":0},{"$f":"'INVENT.Mat&Outillag Importé -10'!H679","v":0},null,0,0,0,0,0,0,null,null,0,0,0,0]
[674,{"$f":"'INVENT.Mat&Outillag Importé -10'!B680","v":0},{"$f":"'INVENT.Mat&Outillag Importé -10'!F680","v":0},{"$f":"'INVENT.Mat&Outillag Importé -10'!C680","v":0},{"$f":"'INVENT.Mat&Outillag Importé -10'!H680","v":0},null,0,0,0,0,0,0,null,null,0,0,0,0]
[675,{"$f":"'INVENT.Mat&Outillag Importé -10'!B681","v":0},{"$f":"'INVENT.Mat&Outillag Importé -10'!F681","v":0},{"$f":"'INVENT.Mat&Outillag Importé -10'!C681","v":0},{"$f":"'INVENT.Mat&Outillag Importé -10'!H681","v":0},null,0,0,0,0,0,0,null,null,0,0,0,0]
[676,{"$f":"'INVENT.Mat&Outillag Importé -10'!B682","v":0},{"$f":"'INVENT.Mat&Outillag Importé -10'!F682","v":0},{"$f":"'INVENT.Mat&Outillag Importé -10'!C682","v":0},{"$f":"'INVENT.Mat&Outillag Importé -10'!H682","v":0},null,0,0,0,0,0,0,null,null,0,0,0,0]
[677,{"$f":"'INVENT.Mat&Outillag Importé -10'!B683","v":0},{"$f":"'INVENT.Mat&Outillag Importé -10'!F683","v":0},{"$f":"'INVENT.Mat&Outillag Importé -10'!C683","v":0},{"$f":"'INVENT.Mat&Outillag Importé -10'!H683","v":0},null,0,0,0,0,0,0,null,null,0,0,0,0]
[678,{"$f":"'INVENT.Mat&Outillag Importé -10'!B684","v":0},{"$f":"'INVENT.Mat&Outillag Importé -10'!F684","v":0},{"$f":"'INVENT.Mat&Outillag Importé -10'!C684","v":0},{"$f":"'INVENT.Mat&Outillag Importé -10'!H684","v":0},null,0,0,0,0,0,0,null,null,0,0,0,0]
[679,{"$f":"'INVENT.Mat&Outillag Importé -10'!B685","v":0},{"$f":"'INVENT.Mat&Outillag Importé -10'!F685","v":0},{"$f":"'INVENT.Mat&Outillag Importé -10'!C685","v":0},{"$f":"'INVENT.Mat&Outillag Importé -10'!H685","v":0},null,0,0,0,0,0,0,null,null,0,0,0,0]
[{"$f":"+A686+1","v":680},{"$f":"'INVENT.Mat&Outillag Importé -10'!B686","v":0},{"$f":"'INVENT.Mat&Outillag Importé -10'!F686","v":0},{"$f":"'INVENT.Mat&Outillag Importé -10'!C686","v":0},{"$f":"'INVENT.Mat&Outillag Importé -10'!H686","v":0},null,0,0,0,0,0,0,null,null,0,0,0,0]
[681,{"$f":"'INVENT.Mat&Outillag Importé -10'!B687","v":0},{"$f":"'INVENT.Mat&Outillag Importé -10'!F687","v":0},{"$f":"'INVENT.Mat&Outillag Importé -10'!C687","v":0},{"$f":"'INVENT.Mat&Outillag Importé -10'!H687","v":0},null,0,0,0,0,0,0,null,null,0,0,0,0]
[682,{"$f":"'INVENT.Mat&Outillag Importé -10'!B688","v":0},{"$f":"'INVENT.Mat&Outillag Importé -10'!F688","v":0},{"$f":"'INVENT.Mat&Outillag Importé -10'!C688","v":0},{"$f":"'INVENT.Mat&Outillag Importé -10'!H688","v":0},null,0,0,0,0,0,0,null,null,0,0,0,0]
[683,{"$f":"'INVENT.Mat&Outillag Importé -10'!B689","v":0},{"$f":"'INVENT.Mat&Outillag Importé -10'!F689","v":0},{"$f":"'INVENT.Mat&Outillag Importé -10'!C689","v":0},{"$f":"'INVENT.Mat&Outillag Importé -10'!H689","v":0},null,0,0,0,0,0,0,null,null,0,0,0,0]
[684,{"$f":"'INVENT.Mat&Outillag Importé -10'!B690","v":0},{"$f":"'INVENT.Mat&Outillag Importé -10'!F690","v":0},{"$f":"'INVENT.Mat&Outillag Importé -10'!C690","v":0},{"$f":"'INVENT.Mat&Outillag Importé -10'!H690","v":0},null,0,0,0,0,0,0,null,null,0,0,0,0]
[685,{"$f":"'INVENT.Mat&Outillag Importé -10'!B691","v":0},{"$f":"'INVENT.Mat&Outillag Importé -10'!F691","v":0},{"$f":"'INVENT.Mat&Outillag Importé -10'!C691","v":0},{"$f":"'INVENT.Mat&Outillag Importé -10'!H691","v":0},null,0,0,0,0,0,0,null,null,0,0,0,0]
[686,{"$f":"'INVENT.Mat&Outillag Importé -10'!B692","v":0},{"$f":"'INVENT.Mat&Outillag Importé -10'!F692","v":0},{"$f":"'INVENT.Mat&Outillag Importé -10'!C692","v":0},{"$f":"'INVENT.Mat&Outillag Importé -10'!H692","v":0},null,0,0,0,0,0,0,null,null,0,0,0,0]
[687,{"$f":"'INVENT.Mat&Outillag Importé -10'!B693","v":0},{"$f":"'INVENT.Mat&Outillag Importé -10'!F693","v":0},{"$f":"'INVENT.Mat&Outillag Importé -10'!C693","v":0},{"$f":"'INVENT.Mat&Outillag Importé -10'!H693","v":0},null,0,0,0,0,0,0,null,null,0,0,0,0]
[688,{"$f":"'INVENT.Mat&Outillag Importé -10'!B694","v":0},{"$f":"'INVENT.Mat&Outillag Importé -10'!F694","v":0},{"$f":"'INVENT.Mat&Outillag Importé -10'!C694","v":0},{"$f":"'INVENT.Mat&Outillag Importé -10'!H694","v":0},null,0,0,0,0,0,0,null,null,0,0,0,0]
[689,{"$f":"'INVENT.Mat&Outillag Importé -10'!B695","v":0},{"$f":"'INVENT.Mat&Outillag Importé -10'!F695","v":0},{"$f":"'INVENT.Mat&Outillag Importé -10'!C695","v":0},{"$f":"'INVENT.Mat&Outillag Importé -10'!H695","v":0},null,0,0,0,0,0,0,null,null,0,0,0,0]
[690,{"$f":"'INVENT.Mat&Outillag Importé -10'!B696","v":0},{"$f":"'INVENT.Mat&Outillag Importé -10'!F696","v":0},{"$f":"'INVENT.Mat&Outillag Importé -10'!C696","v":0},{"$f":"'INVENT.Mat&Outillag Importé -10'!H696","v":0},null,0,0,0,0,0,0,null,null,0,0,0,0]
[691,{"$f":"'INVENT.Mat&Outillag Importé -10'!B697","v":0},{"$f":"'INVENT.Mat&Outillag Importé -10'!F697","v":0},{"$f":"'INVENT.Mat&Outillag Importé -10'!C697","v":0},{"$f":"'INVENT.Mat&Outillag Importé -10'!H697","v":0},null,0,0,0,0,0,0,null,null,0,0,0,0]
[692,{"$f":"'INVENT.Mat&Outillag Importé -10'!B698","v":0},{"$f":"'INVENT.Mat&Outillag Importé -10'!F698","v":0},{"$f":"'INVENT.Mat&Outillag Importé -10'!C698","v":0},{"$f":"'INVENT.Mat&Outillag Importé -10'!H698","v":0},null,0,0,0,0,0,0,null,null,0,0,0,0]
[693,{"$f":"'INVENT.Mat&Outillag Importé -10'!B699","v":0},{"$f":"'INVENT.Mat&Outillag Importé -10'!F699","v":0},{"$f":"'INVENT.Mat&Outillag Importé -10'!C699","v":0},{"$f":"'INVENT.Mat&Outillag Importé -10'!H699","v":0},null,{"$f":"F700*E700","v":0},{"$f":"E700*1%","v":0},{"$f":"E700*1%","v":0},{"$f":"E700*0.5%","v":0},{"$f":"(E700+G700+H700)*18%","v":0},{"$f":"SUM(G700:K700)+E700","v":0},null,null,{"$f":"(M700+N700)*18%","v":0},{"$f":"O700+N700+M700","v":0},{"$f":"+R700-O700-K700","v":0},{"$f":"P700+L700","v":0}]
[694,{"$f":"'INVENT.Mat&Outillag Importé -10'!B700","v":0},{"$f":"'INVENT.Mat&Outillag Importé -10'!F700","v":0},{"$f":"'INVENT.Mat&Outillag Importé -10'!C700","v":0},{"$f":"'INVENT.Mat&Outillag Importé -10'!H700","v":0},null,0,0,0,0,0,0,null,null,0,0,0,0]
[695,{"$f":"'INVENT.Mat&Outillag Importé -10'!B701","v":0},{"$f":"'INVENT.Mat&Outillag Importé -10'!F701","v":0},{"$f":"'INVENT.Mat&Outillag Importé -10'!C701","v":0},{"$f":"'INVENT.Mat&Outillag Importé -10'!H701","v":0},null,0,0,0,0,0,0,null,null,0,0,0,0]
[696,{"$f":"'INVENT.Mat&Outillag Importé -10'!B702","v":0},{"$f":"'INVENT.Mat&Outillag Importé -10'!F702","v":0},{"$f":"'INVENT.Mat&Outillag Importé -10'!C702","v":0},{"$f":"'INVENT.Mat&Outillag Importé -10'!H702","v":0},null,0,0,0,0,0,0,null,null,0,0,0,0]
[697,{"$f":"'INVENT.Mat&Outillag Importé -10'!B703","v":0},{"$f":"'INVENT.Mat&Outillag Importé -10'!F703","v":0},{"$f":"'INVENT.Mat&Outillag Importé -10'!C703","v":0},{"$f":"'INVENT.Mat&Outillag Importé -10'!H703","v":0},null,0,0,0,0,0,0,null,null,0,0,0,0]
[698,{"$f":"'INVENT.Mat&Outillag Importé -10'!B704","v":0},{"$f":"'INVENT.Mat&Outillag Importé -10'!F704","v":0},{"$f":"'INVENT.Mat&Outillag Importé -10'!C704","v":0},{"$f":"'INVENT.Mat&Outillag Importé -10'!H704","v":0},null,0,0,0,0,0,0,null,null,0,0,0,0]
[699,{"$f":"'INVENT.Mat&Outillag Importé -10'!B705","v":0},{"$f":"'INVENT.Mat&Outillag Importé -10'!F705","v":0},{"$f":"'INVENT.Mat&Outillag Importé -10'!C705","v":0},{"$f":"'INVENT.Mat&Outillag Importé -10'!H705","v":0},null,0,0,0,0,0,0,null,null,0,0,0,0]
[700,{"$f":"'INVENT.Mat&Outillag Importé -10'!B706","v":0},{"$f":"'INVENT.Mat&Outillag Importé -10'!F706","v":0},{"$f":"'INVENT.Mat&Outillag Importé -10'!C706","v":0},{"$f":"'INVENT.Mat&Outillag Importé -10'!H706","v":0},null,0,0,0,0,0,0,null,null,0,0,0,0]
[701,{"$f":"'INVENT.Mat&Outillag Importé -10'!B707","v":0},{"$f":"'INVENT.Mat&Outillag Importé -10'!F707","v":0},{"$f":"'INVENT.Mat&Outillag Importé -10'!C707","v":0},{"$f":"'INVENT.Mat&Outillag Importé -10'!H707","v":0},null,0,0,0,0,0,0,null,null,0,0,0,0]
[702,{"$f":"'INVENT.Mat&Outillag Importé -10'!B708","v":0},{"$f":"'INVENT.Mat&Outillag Importé -10'!F708","v":0},{"$f":"'INVENT.Mat&Outillag Importé -10'!C708","v":0},{"$f":"'INVENT.Mat&Outillag Importé -10'!H708","v":0},null,0,0,0,0,0,0,null,null,0,0,0,0]
[703,{"$f":"'INVENT.Mat&Outillag Importé -10'!B709","v":0},{"$f":"'INVENT.Mat&Outillag Importé -10'!F709","v":0},{"$f":"'INVENT.Mat&Outillag Importé -10'!C709","v":0},{"$f":"'INVENT.Mat&Outillag Importé -10'!H709","v":0},null,0,0,0,0,0,0,null,null,0,0,0,0]
[704,{"$f":"'INVENT.Mat&Outillag Importé -10'!B710","v":0},{"$f":"'INVENT.Mat&Outillag Importé -10'!F710","v":0},{"$f":"'INVENT.Mat&Outillag Importé -10'!C710","v":0},{"$f":"'INVENT.Mat&Outillag Importé -10'!H710","v":0},null,0,0,0,0,0,0,null,null,0,0,0,0]
[705,{"$f":"'INVENT.Mat&Outillag Importé -10'!B711","v":0},{"$f":"'INVENT.Mat&Outillag Importé -10'!F711","v":0},{"$f":"'INVENT.Mat&Outillag Importé -10'!C711","v":0},{"$f":"'INVENT.Mat&Outillag Importé -10'!H711","v":0},null,0,0,0,0,0,0,null,null,0,0,0,0]
[706,{"$f":"'INVENT.Mat&Outillag Importé -10'!B712","v":0},{"$f":"'INVENT.Mat&Outillag Importé -10'!F712","v":0},{"$f":"'INVENT.Mat&Outillag Importé -10'!C712","v":0},{"$f":"'INVENT.Mat&Outillag Importé -10'!H712","v":0},null,0,0,0,0,0,0,null,null,0,0,0,0]
[707,{"$f":"'INVENT.Mat&Outillag Importé -10'!B713","v":0},{"$f":"'INVENT.Mat&Outillag Importé -10'!F713","v":0},{"$f":"'INVENT.Mat&Outillag Importé -10'!C713","v":0},{"$f":"'INVENT.Mat&Outillag Importé -10'!H713","v":0},null,0,0,0,0,0,0,null,null,0,0,0,0]
[708,{"$f":"'INVENT.Mat&Outillag Importé -10'!B714","v":0},{"$f":"'INVENT.Mat&Outillag Importé -10'!F714","v":0},{"$f":"'INVENT.Mat&Outillag Importé -10'!C714","v":0},{"$f":"'INVENT.Mat&Outillag Importé -10'!H714","v":0},null,0,0,0,0,0,0,null,null,0,0,0,0]
[709,{"$f":"'INVENT.Mat&Outillag Importé -10'!B715","v":0},{"$f":"'INVENT.Mat&Outillag Importé -10'!F715","v":0},{"$f":"'INVENT.Mat&Outillag Importé -10'!C715","v":0},{"$f":"'INVENT.Mat&Outillag Importé -10'!H715","v":0},null,0,0,0,0,0,0,null,null,0,0,0,0]
[710,{"$f":"'INVENT.Mat&Outillag Importé -10'!B716","v":0},{"$f":"'INVENT.Mat&Outillag Importé -10'!F716","v":0},{"$f":"'INVENT.Mat&Outillag Importé -10'!C716","v":0},{"$f":"'INVENT.Mat&Outillag Importé -10'!H716","v":0},null,0,0,0,0,0,0,null,null,0,0,0,0]
[711,{"$f":"'INVENT.Mat&Outillag Importé -10'!B717","v":0},{"$f":"'INVENT.Mat&Outillag Importé -10'!F717","v":0},{"$f":"'INVENT.Mat&Outillag Importé -10'!C717","v":0},{"$f":"'INVENT.Mat&Outillag Importé -10'!H717","v":0},null,0,0,0,0,0,0,null,null,0,0,0,0]
[712,{"$f":"'INVENT.Mat&Outillag Importé -10'!B718","v":0},{"$f":"'INVENT.Mat&Outillag Importé -10'!F718","v":0},{"$f":"'INVENT.Mat&Outillag Importé -10'!C718","v":0},{"$f":"'INVENT.Mat&Outillag Importé -10'!H718","v":0},null,0,0,0,0,0,0,null,null,0,0,0,0]
[713,{"$f":"'INVENT.Mat&Outillag Importé -10'!B719","v":0},{"$f":"'INVENT.Mat&Outillag Importé -10'!F719","v":0},{"$f":"'INVENT.Mat&Outillag Importé -10'!C719","v":0},{"$f":"'INVENT.Mat&Outillag Importé -10'!H719","v":0},null,0,0,0,0,0,0,null,null,0,0,0,0]
[714,{"$f":"'INVENT.Mat&Outillag Importé -10'!B720","v":0},{"$f":"'INVENT.Mat&Outillag Importé -10'!F720","v":0},{"$f":"'INVENT.Mat&Outillag Importé -10'!C720","v":0},{"$f":"'INVENT.Mat&Outillag Importé -10'!H720","v":0},null,0,0,0,0,0,0,null,null,0,0,0,0]
[715,{"$f":"'INVENT.Mat&Outillag Importé -10'!B721","v":0},{"$f":"'INVENT.Mat&Outillag Importé -10'!F721","v":0},{"$f":"'INVENT.Mat&Outillag Importé -10'!C721","v":0},{"$f":"'INVENT.Mat&Outillag Importé -10'!H721","v":0},null,0,0,0,0,0,0,null,null,0,0,0,0]
[716,{"$f":"'INVENT.Mat&Outillag Importé -10'!B722","v":0},{"$f":"'INVENT.Mat&Outillag Importé -10'!F722","v":0},{"$f":"'INVENT.Mat&Outillag Importé -10'!C722","v":0},{"$f":"'INVENT.Mat&Outillag Importé -10'!H722","v":0},null,0,0,0,0,0,0,null,null,0,0,0,0]
[717,{"$f":"'INVENT.Mat&Outillag Importé -10'!B723","v":0},{"$f":"'INVENT.Mat&Outillag Importé -10'!F723","v":0},{"$f":"'INVENT.Mat&Outillag Importé -10'!C723","v":0},{"$f":"'INVENT.Mat&Outillag Importé -10'!H723","v":0},null,0,0,0,0,0,0,null,null,0,0,0,0]
[718,{"$f":"'INVENT.Mat&Outillag Importé -10'!B724","v":0},{"$f":"'INVENT.Mat&Outillag Importé -10'!F724","v":0},{"$f":"'INVENT.Mat&Outillag Importé -10'!C724","v":0},{"$f":"'INVENT.Mat&Outillag Importé -10'!H724","v":0},null,0,0,0,0,0,0,null,null,0,0,0,0]
[719,{"$f":"'INVENT.Mat&Outillag Importé -10'!B725","v":0},{"$f":"'INVENT.Mat&Outillag Importé -10'!F725","v":0},{"$f":"'INVENT.Mat&Outillag Importé -10'!C725","v":0},{"$f":"'INVENT.Mat&Outillag Importé -10'!H725","v":0},null,0,0,0,0,0,0,null,null,0,0,0,0]
[720,{"$f":"'INVENT.Mat&Outillag Importé -10'!B726","v":0},{"$f":"'INVENT.Mat&Outillag Importé -10'!F726","v":0},{"$f":"'INVENT.Mat&Outillag Importé -10'!C726","v":0},{"$f":"'INVENT.Mat&Outillag Importé -10'!H726","v":0},null,0,0,0,0,0,0,null,null,0,0,0,0]
[721,{"$f":"'INVENT.Mat&Outillag Importé -10'!B727","v":0},{"$f":"'INVENT.Mat&Outillag Importé -10'!F727","v":0},{"$f":"'INVENT.Mat&Outillag Importé -10'!C727","v":0},{"$f":"'INVENT.Mat&Outillag Importé -10'!H727","v":0},null,0,0,0,0,0,0,null,null,0,0,0,0]
[722,{"$f":"'INVENT.Mat&Outillag Importé -10'!B728","v":0},{"$f":"'INVENT.Mat&Outillag Importé -10'!F728","v":0},{"$f":"'INVENT.Mat&Outillag Importé -10'!C728","v":0},{"$f":"'INVENT.Mat&Outillag Importé -10'!H728","v":0},null,0,0,0,0,0,0,null,null,0,0,0,0]
[723,{"$f":"'INVENT.Mat&Outillag Importé -10'!B729","v":0},{"$f":"'INVENT.Mat&Outillag Importé -10'!F729","v":0},{"$f":"'INVENT.Mat&Outillag Importé -10'!C729","v":0},{"$f":"'INVENT.Mat&Outillag Importé -10'!H729","v":0},null,0,0,0,0,0,0,null,null,0,0,0,0]
[724,{"$f":"'INVENT.Mat&Outillag Importé -10'!B730","v":0},{"$f":"'INVENT.Mat&Outillag Importé -10'!F730","v":0},{"$f":"'INVENT.Mat&Outillag Importé -10'!C730","v":0},{"$f":"'INVENT.Mat&Outillag Importé -10'!H730","v":0},null,0,0,0,0,0,0,null,null,0,0,0,0]
[725,{"$f":"'INVENT.Mat&Outillag Importé -10'!B731","v":0},{"$f":"'INVENT.Mat&Outillag Importé -10'!F731","v":0},{"$f":"'INVENT.Mat&Outillag Importé -10'!C731","v":0},{"$f":"'INVENT.Mat&Outillag Importé -10'!H731","v":0},null,0,0,0,0,0,0,null,null,0,0,0,0]
[726,{"$f":"'INVENT.Mat&Outillag Importé -10'!B732","v":0},{"$f":"'INVENT.Mat&Outillag Importé -10'!F732","v":0},{"$f":"'INVENT.Mat&Outillag Importé -10'!C732","v":0},{"$f":"'INVENT.Mat&Outillag Importé -10'!H732","v":0},null,0,0,0,0,0,0,null,null,0,0,0,0]
[727,{"$f":"'INVENT.Mat&Outillag Importé -10'!B733","v":0},{"$f":"'INVENT.Mat&Outillag Importé -10'!F733","v":0},{"$f":"'INVENT.Mat&Outillag Importé -10'!C733","v":0},{"$f":"'INVENT.Mat&Outillag Importé -10'!H733","v":0},null,0,0,0,0,0,0,null,null,0,0,0,0]
[728,{"$f":"'INVENT.Mat&Outillag Importé -10'!B734","v":0},{"$f":"'INVENT.Mat&Outillag Importé -10'!F734","v":0},{"$f":"'INVENT.Mat&Outillag Importé -10'!C734","v":0},{"$f":"'INVENT.Mat&Outillag Importé -10'!H734","v":0},null,0,0,0,0,0,0,null,null,0,0,0,0]
[729,{"$f":"'INVENT.Mat&Outillag Importé -10'!B735","v":0},{"$f":"'INVENT.Mat&Outillag Importé -10'!F735","v":0},{"$f":"'INVENT.Mat&Outillag Importé -10'!C735","v":0},{"$f":"'INVENT.Mat&Outillag Importé -10'!H735","v":0},null,0,0,0,0,0,0,null,null,0,0,0,0]
[730,{"$f":"'INVENT.Mat&Outillag Importé -10'!B736","v":0},{"$f":"'INVENT.Mat&Outillag Importé -10'!F736","v":0},{"$f":"'INVENT.Mat&Outillag Importé -10'!C736","v":0},{"$f":"'INVENT.Mat&Outillag Importé -10'!H736","v":0},null,0,0,0,0,0,0,null,null,0,0,0,0]
[731,{"$f":"'INVENT.Mat&Outillag Importé -10'!B737","v":0},{"$f":"'INVENT.Mat&Outillag Importé -10'!F737","v":0},{"$f":"'INVENT.Mat&Outillag Importé -10'!C737","v":0},{"$f":"'INVENT.Mat&Outillag Importé -10'!H737","v":0},null,0,0,0,0,0,0,null,null,0,0,0,0]
[732,{"$f":"'INVENT.Mat&Outillag Importé -10'!B738","v":0},{"$f":"'INVENT.Mat&Outillag Importé -10'!F738","v":0},{"$f":"'INVENT.Mat&Outillag Importé -10'!C738","v":0},{"$f":"'INVENT.Mat&Outillag Importé -10'!H738","v":0},null,0,0,0,0,0,0,null,null,0,0,0,0]
[733,{"$f":"'INVENT.Mat&Outillag Importé -10'!B739","v":0},{"$f":"'INVENT.Mat&Outillag Importé -10'!F739","v":0},{"$f":"'INVENT.Mat&Outillag Importé -10'!C739","v":0},{"$f":"'INVENT.Mat&Outillag Importé -10'!H739","v":0},null,0,0,0,0,0,0,null,null,0,0,0,0]
[734,{"$f":"'INVENT.Mat&Outillag Importé -10'!B740","v":0},{"$f":"'INVENT.Mat&Outillag Importé -10'!F740","v":0},{"$f":"'INVENT.Mat&Outillag Importé -10'!C740","v":0},{"$f":"'INVENT.Mat&Outillag Importé -10'!H740","v":0},null,0,0,0,0,0,0,null,null,0,0,0,0]
[735,{"$f":"'INVENT.Mat&Outillag Importé -10'!B741","v":0},{"$f":"'INVENT.Mat&Outillag Importé -10'!F741","v":0},{"$f":"'INVENT.Mat&Outillag Importé -10'!C741","v":0},{"$f":"'INVENT.Mat&Outillag Importé -10'!H741","v":0},null,0,0,0,0,0,0,null,null,0,0,0,0]
[736,{"$f":"'INVENT.Mat&Outillag Importé -10'!B742","v":0},{"$f":"'INVENT.Mat&Outillag Importé -10'!F742","v":0},{"$f":"'INVENT.Mat&Outillag Importé -10'!C742","v":0},{"$f":"'INVENT.Mat&Outillag Importé -10'!H742","v":0},null,0,0,0,0,0,0,null,null,0,0,0,0]
[737,{"$f":"'INVENT.Mat&Outillag Importé -10'!B743","v":0},{"$f":"'INVENT.Mat&Outillag Importé -10'!F743","v":0},{"$f":"'INVENT.Mat&Outillag Importé -10'!C743","v":0},{"$f":"'INVENT.Mat&Outillag Importé -10'!H743","v":0},null,0,0,0,0,0,0,null,null,0,0,0,0]
[738,{"$f":"'INVENT.Mat&Outillag Importé -10'!B744","v":0},{"$f":"'INVENT.Mat&Outillag Importé -10'!F744","v":0},{"$f":"'INVENT.Mat&Outillag Importé -10'!C744","v":0},{"$f":"'INVENT.Mat&Outillag Importé -10'!H744","v":0},null,0,0,0,0,0,0,null,null,0,0,0,0]
[739,{"$f":"'INVENT.Mat&Outillag Importé -10'!B745","v":0},{"$f":"'INVENT.Mat&Outillag Importé -10'!F745","v":0},{"$f":"'INVENT.Mat&Outillag Importé -10'!C745","v":0},{"$f":"'INVENT.Mat&Outillag Importé -10'!H745","v":0},null,0,0,0,0,0,0,null,null,0,0,0,0]
[740,{"$f":"'INVENT.Mat&Outillag Importé -10'!B746","v":0},{"$f":"'INVENT.Mat&Outillag Importé -10'!F746","v":0},{"$f":"'INVENT.Mat&Outillag Importé -10'!C746","v":0},{"$f":"'INVENT.Mat&Outillag Importé -10'!H746","v":0},null,0,0,0,0,0,0,null,null,0,0,0,0]
[741,{"$f":"'INVENT.Mat&Outillag Importé -10'!B747","v":0},{"$f":"'INVENT.Mat&Outillag Importé -10'!F747","v":0},{"$f":"'INVENT.Mat&Outillag Importé -10'!C747","v":0},{"$f":"'INVENT.Mat&Outillag Importé -10'!H747","v":0},null,0,0,0,0,0,0,null,null,0,0,0,0]
[742,{"$f":"'INVENT.Mat&Outillag Importé -10'!B748","v":0},{"$f":"'INVENT.Mat&Outillag Importé -10'!F748","v":0},{"$f":"'INVENT.Mat&Outillag Importé -10'!C748","v":0},{"$f":"'INVENT.Mat&Outillag Importé -10'!H748","v":0},null,0,0,0,0,0,0,null,null,0,0,0,0]
[743,{"$f":"'INVENT.Mat&Outillag Importé -10'!B749","v":0},{"$f":"'INVENT.Mat&Outillag Importé -10'!F749","v":0},{"$f":"'INVENT.Mat&Outillag Importé -10'!C749","v":0},{"$f":"'INVENT.Mat&Outillag Importé -10'!H749","v":0},null,0,0,0,0,0,0,null,null,0,0,0,0]
[{"$f":"+A750+1","v":744},{"$f":"'INVENT.Mat&Outillag Importé -10'!B750","v":0},{"$f":"'INVENT.Mat&Outillag Importé -10'!F750","v":0},{"$f":"'INVENT.Mat&Outillag Importé -10'!C750","v":0},{"$f":"'INVENT.Mat&Outillag Importé -10'!H750","v":0},null,0,0,0,0,0,0,null,null,0,0,0,0]
[745,{"$f":"'INVENT.Mat&Outillag Importé -10'!B751","v":0},{"$f":"'INVENT.Mat&Outillag Importé -10'!F751","v":0},{"$f":"'INVENT.Mat&Outillag Importé -10'!C751","v":0},{"$f":"'INVENT.Mat&Outillag Importé -10'!H751","v":0},null,0,0,0,0,0,0,null,null,0,0,0,0]
[746,{"$f":"'INVENT.Mat&Outillag Importé -10'!B752","v":0},{"$f":"'INVENT.Mat&Outillag Importé -10'!F752","v":0},{"$f":"'INVENT.Mat&Outillag Importé -10'!C752","v":0},{"$f":"'INVENT.Mat&Outillag Importé -10'!H752","v":0},null,0,0,0,0,0,0,null,null,0,0,0,0]
[747,{"$f":"'INVENT.Mat&Outillag Importé -10'!B753","v":0},{"$f":"'INVENT.Mat&Outillag Importé -10'!F753","v":0},{"$f":"'INVENT.Mat&Outillag Importé -10'!C753","v":0},{"$f":"'INVENT.Mat&Outillag Importé -10'!H753","v":0},null,0,0,0,0,0,0,null,null,0,0,0,0]
[748,{"$f":"'INVENT.Mat&Outillag Importé -10'!B754","v":0},{"$f":"'INVENT.Mat&Outillag Importé -10'!F754","v":0},{"$f":"'INVENT.Mat&Outillag Importé -10'!C754","v":0},{"$f":"'INVENT.Mat&Outillag Importé -10'!H754","v":0},null,0,0,0,0,0,0,null,null,0,0,0,0]
[749,{"$f":"'INVENT.Mat&Outillag Importé -10'!B755","v":0},{"$f":"'INVENT.Mat&Outillag Importé -10'!F755","v":0},{"$f":"'INVENT.Mat&Outillag Importé -10'!C755","v":0},{"$f":"'INVENT.Mat&Outillag Importé -10'!H755","v":0},null,0,0,0,0,0,0,null,null,0,0,0,0]
[750,{"$f":"'INVENT.Mat&Outillag Importé -10'!B756","v":0},{"$f":"'INVENT.Mat&Outillag Importé -10'!F756","v":0},{"$f":"'INVENT.Mat&Outillag Importé -10'!C756","v":0},{"$f":"'INVENT.Mat&Outillag Importé -10'!H756","v":0},null,0,0,0,0,0,0,null,null,0,0,0,0]
[751,{"$f":"'INVENT.Mat&Outillag Importé -10'!B757","v":0},{"$f":"'INVENT.Mat&Outillag Importé -10'!F757","v":0},{"$f":"'INVENT.Mat&Outillag Importé -10'!C757","v":0},{"$f":"'INVENT.Mat&Outillag Importé -10'!H757","v":0},null,0,0,0,0,0,0,null,null,0,0,0,0]
[752,{"$f":"'INVENT.Mat&Outillag Importé -10'!B758","v":0},{"$f":"'INVENT.Mat&Outillag Importé -10'!F758","v":0},{"$f":"'INVENT.Mat&Outillag Importé -10'!C758","v":0},{"$f":"'INVENT.Mat&Outillag Importé -10'!H758","v":0},null,0,0,0,0,0,0,null,null,0,0,0,0]
[753,{"$f":"'INVENT.Mat&Outillag Importé -10'!B759","v":0},{"$f":"'INVENT.Mat&Outillag Importé -10'!F759","v":0},{"$f":"'INVENT.Mat&Outillag Importé -10'!C759","v":0},{"$f":"'INVENT.Mat&Outillag Importé -10'!H759","v":0},null,0,0,0,0,0,0,null,null,0,0,0,0]
[754,{"$f":"'INVENT.Mat&Outillag Importé -10'!B760","v":0},{"$f":"'INVENT.Mat&Outillag Importé -10'!F760","v":0},{"$f":"'INVENT.Mat&Outillag Importé -10'!C760","v":0},{"$f":"'INVENT.Mat&Outillag Importé -10'!H760","v":0},null,0,0,0,0,0,0,null,null,0,0,0,0]
[755,{"$f":"'INVENT.Mat&Outillag Importé -10'!B761","v":0},{"$f":"'INVENT.Mat&Outillag Importé -10'!F761","v":0},{"$f":"'INVENT.Mat&Outillag Importé -10'!C761","v":0},{"$f":"'INVENT.Mat&Outillag Importé -10'!H761","v":0},null,0,0,0,0,0,0,null,null,0,0,0,0]
[756,{"$f":"'INVENT.Mat&Outillag Importé -10'!B762","v":0},{"$f":"'INVENT.Mat&Outillag Importé -10'!F762","v":0},{"$f":"'INVENT.Mat&Outillag Importé -10'!C762","v":0},{"$f":"'INVENT.Mat&Outillag Importé -10'!H762","v":0},null,0,0,0,0,0,0,null,null,0,0,0,0]
[757,{"$f":"'INVENT.Mat&Outillag Importé -10'!B763","v":0},{"$f":"'INVENT.Mat&Outillag Importé -10'!F763","v":0},{"$f":"'INVENT.Mat&Outillag Importé -10'!C763","v":0},{"$f":"'INVENT.Mat&Outillag Importé -10'!H763","v":0},null,{"$f":"F764*E764","v":0},{"$f":"E764*1%","v":0},{"$f":"E764*1%","v":0},{"$f":"E764*0.5%","v":0},{"$f":"(E764+G764+H764)*18%","v":0},{"$f":"SUM(G764:K764)+E764","v":0},null,null,{"$f":"(M764+N764)*18%","v":0},{"$f":"O764+N764+M764","v":0},{"$f":"+R764-O764-K764","v":0},{"$f":"P764+L764","v":0}]
[758,{"$f":"'INVENT.Mat&Outillag Importé -10'!B764","v":0},{"$f":"'INVENT.Mat&Outillag Importé -10'!F764","v":0},{"$f":"'INVENT.Mat&Outillag Importé -10'!C764","v":0},{"$f":"'INVENT.Mat&Outillag Importé -10'!H764","v":0},null,0,0,0,0,0,0,null,null,0,0,0,0]
[759,{"$f":"'INVENT.Mat&Outillag Importé -10'!B765","v":0},{"$f":"'INVENT.Mat&Outillag Importé -10'!F765","v":0},{"$f":"'INVENT.Mat&Outillag Importé -10'!C765","v":0},{"$f":"'INVENT.Mat&Outillag Importé -10'!H765","v":0},null,0,0,0,0,0,0,null,null,0,0,0,0]
[760,{"$f":"'INVENT.Mat&Outillag Importé -10'!B766","v":0},{"$f":"'INVENT.Mat&Outillag Importé -10'!F766","v":0},{"$f":"'INVENT.Mat&Outillag Importé -10'!C766","v":0},{"$f":"'INVENT.Mat&Outillag Importé -10'!H766","v":0},null,0,0,0,0,0,0,null,null,0,0,0,0]
[761,{"$f":"'INVENT.Mat&Outillag Importé -10'!B767","v":0},{"$f":"'INVENT.Mat&Outillag Importé -10'!F767","v":0},{"$f":"'INVENT.Mat&Outillag Importé -10'!C767","v":0},{"$f":"'INVENT.Mat&Outillag Importé -10'!H767","v":0},null,0,0,0,0,0,0,null,null,0,0,0,0]
[762,{"$f":"'INVENT.Mat&Outillag Importé -10'!B768","v":0},{"$f":"'INVENT.Mat&Outillag Importé -10'!F768","v":0},{"$f":"'INVENT.Mat&Outillag Importé -10'!C768","v":0},{"$f":"'INVENT.Mat&Outillag Importé -10'!H768","v":0},null,0,0,0,0,0,0,null,null,0,0,0,0]
[763,{"$f":"'INVENT.Mat&Outillag Importé -10'!B769","v":0},{"$f":"'INVENT.Mat&Outillag Importé -10'!F769","v":0},{"$f":"'INVENT.Mat&Outillag Importé -10'!C769","v":0},{"$f":"'INVENT.Mat&Outillag Importé -10'!H769","v":0},null,0,0,0,0,0,0,null,null,0,0,0,0]
[764,{"$f":"'INVENT.Mat&Outillag Importé -10'!B770","v":0},{"$f":"'INVENT.Mat&Outillag Importé -10'!F770","v":0},{"$f":"'INVENT.Mat&Outillag Importé -10'!C770","v":0},{"$f":"'INVENT.Mat&Outillag Importé -10'!H770","v":0},null,0,0,0,0,0,0,null,null,0,0,0,0]
[765,{"$f":"'INVENT.Mat&Outillag Importé -10'!B771","v":0},{"$f":"'INVENT.Mat&Outillag Importé -10'!F771","v":0},{"$f":"'INVENT.Mat&Outillag Importé -10'!C771","v":0},{"$f":"'INVENT.Mat&Outillag Importé -10'!H771","v":0},null,0,0,0,0,0,0,null,null,0,0,0,0]
[766,{"$f":"'INVENT.Mat&Outillag Importé -10'!B772","v":0},{"$f":"'INVENT.Mat&Outillag Importé -10'!F772","v":0},{"$f":"'INVENT.Mat&Outillag Importé -10'!C772","v":0},{"$f":"'INVENT.Mat&Outillag Importé -10'!H772","v":0},null,0,0,0,0,0,0,null,null,0,0,0,0]
[767,{"$f":"'INVENT.Mat&Outillag Importé -10'!B773","v":0},{"$f":"'INVENT.Mat&Outillag Importé -10'!F773","v":0},{"$f":"'INVENT.Mat&Outillag Importé -10'!C773","v":0},{"$f":"'INVENT.Mat&Outillag Importé -10'!H773","v":0},null,0,0,0,0,0,0,null,null,0,0,0,0]
[768,{"$f":"'INVENT.Mat&Outillag Importé -10'!B774","v":0},{"$f":"'INVENT.Mat&Outillag Importé -10'!F774","v":0},{"$f":"'INVENT.Mat&Outillag Importé -10'!C774","v":0},{"$f":"'INVENT.Mat&Outillag Importé -10'!H774","v":0},null,0,0,0,0,0,0,null,null,0,0,0,0]
[769,{"$f":"'INVENT.Mat&Outillag Importé -10'!B775","v":0},{"$f":"'INVENT.Mat&Outillag Importé -10'!F775","v":0},{"$f":"'INVENT.Mat&Outillag Importé -10'!C775","v":0},{"$f":"'INVENT.Mat&Outillag Importé -10'!H775","v":0},null,0,0,0,0,0,0,null,null,0,0,0,0]
[770,{"$f":"'INVENT.Mat&Outillag Importé -10'!B776","v":0},{"$f":"'INVENT.Mat&Outillag Importé -10'!F776","v":0},{"$f":"'INVENT.Mat&Outillag Importé -10'!C776","v":0},{"$f":"'INVENT.Mat&Outillag Importé -10'!H776","v":0},null,0,0,0,0,0,0,null,null,0,0,0,0]
[771,{"$f":"'INVENT.Mat&Outillag Importé -10'!B777","v":0},{"$f":"'INVENT.Mat&Outillag Importé -10'!F777","v":0},{"$f":"'INVENT.Mat&Outillag Importé -10'!C777","v":0},{"$f":"'INVENT.Mat&Outillag Importé -10'!H777","v":0},null,0,0,0,0,0,0,null,null,0,0,0,0]
[772,{"$f":"'INVENT.Mat&Outillag Importé -10'!B778","v":0},{"$f":"'INVENT.Mat&Outillag Importé -10'!F778","v":0},{"$f":"'INVENT.Mat&Outillag Importé -10'!C778","v":0},{"$f":"'INVENT.Mat&Outillag Importé -10'!H778","v":0},null,0,0,0,0,0,0,null,null,0,0,0,0]
[773,{"$f":"'INVENT.Mat&Outillag Importé -10'!B779","v":0},{"$f":"'INVENT.Mat&Outillag Importé -10'!F779","v":0},{"$f":"'INVENT.Mat&Outillag Importé -10'!C779","v":0},{"$f":"'INVENT.Mat&Outillag Importé -10'!H779","v":0},null,0,0,0,0,0,0,null,null,0,0,0,0]
[774,{"$f":"'INVENT.Mat&Outillag Importé -10'!B780","v":0},{"$f":"'INVENT.Mat&Outillag Importé -10'!F780","v":0},{"$f":"'INVENT.Mat&Outillag Importé -10'!C780","v":0},{"$f":"'INVENT.Mat&Outillag Importé -10'!H780","v":0},null,0,0,0,0,0,0,null,null,0,0,0,0]
[775,{"$f":"'INVENT.Mat&Outillag Importé -10'!B781","v":0},{"$f":"'INVENT.Mat&Outillag Importé -10'!F781","v":0},{"$f":"'INVENT.Mat&Outillag Importé -10'!C781","v":0},{"$f":"'INVENT.Mat&Outillag Importé -10'!H781","v":0},null,0,0,0,0,0,0,null,null,0,0,0,0]
[776,{"$f":"'INVENT.Mat&Outillag Importé -10'!B782","v":0},{"$f":"'INVENT.Mat&Outillag Importé -10'!F782","v":0},{"$f":"'INVENT.Mat&Outillag Importé -10'!C782","v":0},{"$f":"'INVENT.Mat&Outillag Importé -10'!H782","v":0},null,0,0,0,0,0,0,null,null,0,0,0,0]
[777,{"$f":"'INVENT.Mat&Outillag Importé -10'!B783","v":0},{"$f":"'INVENT.Mat&Outillag Importé -10'!F783","v":0},{"$f":"'INVENT.Mat&Outillag Importé -10'!C783","v":0},{"$f":"'INVENT.Mat&Outillag Importé -10'!H783","v":0},null,0,0,0,0,0,0,null,null,0,0,0,0]
[778,{"$f":"'INVENT.Mat&Outillag Importé -10'!B784","v":0},{"$f":"'INVENT.Mat&Outillag Importé -10'!F784","v":0},{"$f":"'INVENT.Mat&Outillag Importé -10'!C784","v":0},{"$f":"'INVENT.Mat&Outillag Importé -10'!H784","v":0},null,0,0,0,0,0,0,null,null,0,0,0,0]
[779,{"$f":"'INVENT.Mat&Outillag Importé -10'!B785","v":0},{"$f":"'INVENT.Mat&Outillag Importé -10'!F785","v":0},{"$f":"'INVENT.Mat&Outillag Importé -10'!C785","v":0},{"$f":"'INVENT.Mat&Outillag Importé -10'!H785","v":0},null,0,0,0,0,0,0,null,null,0,0,0,0]
[780,{"$f":"'INVENT.Mat&Outillag Importé -10'!B786","v":0},{"$f":"'INVENT.Mat&Outillag Importé -10'!F786","v":0},{"$f":"'INVENT.Mat&Outillag Importé -10'!C786","v":0},{"$f":"'INVENT.Mat&Outillag Importé -10'!H786","v":0},null,0,0,0,0,0,0,null,null,0,0,0,0]
[781,{"$f":"'INVENT.Mat&Outillag Importé -10'!B787","v":0},{"$f":"'INVENT.Mat&Outillag Importé -10'!F787","v":0},{"$f":"'INVENT.Mat&Outillag Importé -10'!C787","v":0},{"$f":"'INVENT.Mat&Outillag Importé -10'!H787","v":0},null,0,0,0,0,0,0,null,null,0,0,0,0]
[782,{"$f":"'INVENT.Mat&Outillag Importé -10'!B788","v":0},{"$f":"'INVENT.Mat&Outillag Importé -10'!F788","v":0},{"$f":"'INVENT.Mat&Outillag Importé -10'!C788","v":0},{"$f":"'INVENT.Mat&Outillag Importé -10'!H788","v":0},null,0,0,0,0,0,0,null,null,0,0,0,0]
[783,{"$f":"'INVENT.Mat&Outillag Importé -10'!B789","v":0},{"$f":"'INVENT.Mat&Outillag Importé -10'!F789","v":0},{"$f":"'INVENT.Mat&Outillag Importé -10'!C789","v":0},{"$f":"'INVENT.Mat&Outillag Importé -10'!H789","v":0},null,0,0,0,0,0,0,null,null,0,0,0,0]
[784,{"$f":"'INVENT.Mat&Outillag Importé -10'!B790","v":0},{"$f":"'INVENT.Mat&Outillag Importé -10'!F790","v":0},{"$f":"'INVENT.Mat&Outillag Importé -10'!C790","v":0},{"$f":"'INVENT.Mat&Outillag Importé -10'!H790","v":0},null,0,0,0,0,0,0,null,null,0,0,0,0]
[785,{"$f":"'INVENT.Mat&Outillag Importé -10'!B791","v":0},{"$f":"'INVENT.Mat&Outillag Importé -10'!F791","v":0},{"$f":"'INVENT.Mat&Outillag Importé -10'!C791","v":0},{"$f":"'INVENT.Mat&Outillag Importé -10'!H791","v":0},null,0,0,0,0,0,0,null,null,0,0,0,0]
[786,{"$f":"'INVENT.Mat&Outillag Importé -10'!B792","v":0},{"$f":"'INVENT.Mat&Outillag Importé -10'!F792","v":0},{"$f":"'INVENT.Mat&Outillag Importé -10'!C792","v":0},{"$f":"'INVENT.Mat&Outillag Importé -10'!H792","v":0},null,0,0,0,0,0,0,null,null,0,0,0,0]
[787,{"$f":"'INVENT.Mat&Outillag Importé -10'!B793","v":0},{"$f":"'INVENT.Mat&Outillag Importé -10'!F793","v":0},{"$f":"'INVENT.Mat&Outillag Importé -10'!C793","v":0},{"$f":"'INVENT.Mat&Outillag Importé -10'!H793","v":0},null,0,0,0,0,0,0,null,null,0,0,0,0]
[788,{"$f":"'INVENT.Mat&Outillag Importé -10'!B794","v":0},{"$f":"'INVENT.Mat&Outillag Importé -10'!F794","v":0},{"$f":"'INVENT.Mat&Outillag Importé -10'!C794","v":0},{"$f":"'INVENT.Mat&Outillag Importé -10'!H794","v":0},null,0,0,0,0,0,0,null,null,0,0,0,0]
[789,{"$f":"'INVENT.Mat&Outillag Importé -10'!B795","v":0},{"$f":"'INVENT.Mat&Outillag Importé -10'!F795","v":0},{"$f":"'INVENT.Mat&Outillag Importé -10'!C795","v":0},{"$f":"'INVENT.Mat&Outillag Importé -10'!H795","v":0},null,0,0,0,0,0,0,null,null,0,0,0,0]
[790,{"$f":"'INVENT.Mat&Outillag Importé -10'!B796","v":0},{"$f":"'INVENT.Mat&Outillag Importé -10'!F796","v":0},{"$f":"'INVENT.Mat&Outillag Importé -10'!C796","v":0},{"$f":"'INVENT.Mat&Outillag Importé -10'!H796","v":0},null,0,0,0,0,0,0,null,null,0,0,0,0]
[791,{"$f":"'INVENT.Mat&Outillag Importé -10'!B797","v":0},{"$f":"'INVENT.Mat&Outillag Importé -10'!F797","v":0},{"$f":"'INVENT.Mat&Outillag Importé -10'!C797","v":0},{"$f":"'INVENT.Mat&Outillag Importé -10'!H797","v":0},null,0,0,0,0,0,0,null,null,0,0,0,0]
[792,{"$f":"'INVENT.Mat&Outillag Importé -10'!B798","v":0},{"$f":"'INVENT.Mat&Outillag Importé -10'!F798","v":0},{"$f":"'INVENT.Mat&Outillag Importé -10'!C798","v":0},{"$f":"'INVENT.Mat&Outillag Importé -10'!H798","v":0},null,0,0,0,0,0,0,null,null,0,0,0,0]
[793,{"$f":"'INVENT.Mat&Outillag Importé -10'!B799","v":0},{"$f":"'INVENT.Mat&Outillag Importé -10'!F799","v":0},{"$f":"'INVENT.Mat&Outillag Importé -10'!C799","v":0},{"$f":"'INVENT.Mat&Outillag Importé -10'!H799","v":0},null,0,0,0,0,0,0,null,null,0,0,0,0]
[794,{"$f":"'INVENT.Mat&Outillag Importé -10'!B800","v":0},{"$f":"'INVENT.Mat&Outillag Importé -10'!F800","v":0},{"$f":"'INVENT.Mat&Outillag Importé -10'!C800","v":0},{"$f":"'INVENT.Mat&Outillag Importé -10'!H800","v":0},null,0,0,0,0,0,0,null,null,0,0,0,0]
[795,{"$f":"'INVENT.Mat&Outillag Importé -10'!B801","v":0},{"$f":"'INVENT.Mat&Outillag Importé -10'!F801","v":0},{"$f":"'INVENT.Mat&Outillag Importé -10'!C801","v":0},{"$f":"'INVENT.Mat&Outillag Importé -10'!H801","v":0},null,0,0,0,0,0,0,null,null,0,0,0,0]
[796,{"$f":"'INVENT.Mat&Outillag Importé -10'!B802","v":0},{"$f":"'INVENT.Mat&Outillag Importé -10'!F802","v":0},{"$f":"'INVENT.Mat&Outillag Importé -10'!C802","v":0},{"$f":"'INVENT.Mat&Outillag Importé -10'!H802","v":0},null,0,0,0,0,0,0,null,null,0,0,0,0]
[797,{"$f":"'INVENT.Mat&Outillag Importé -10'!B803","v":0},{"$f":"'INVENT.Mat&Outillag Importé -10'!F803","v":0},{"$f":"'INVENT.Mat&Outillag Importé -10'!C803","v":0},{"$f":"'INVENT.Mat&Outillag Importé -10'!H803","v":0},null,0,0,0,0,0,0,null,null,0,0,0,0]
[798,{"$f":"'INVENT.Mat&Outillag Importé -10'!B804","v":0},{"$f":"'INVENT.Mat&Outillag Importé -10'!F804","v":0},{"$f":"'INVENT.Mat&Outillag Importé -10'!C804","v":0},{"$f":"'INVENT.Mat&Outillag Importé -10'!H804","v":0},null,0,0,0,0,0,0,null,null,0,0,0,0]
[799,{"$f":"'INVENT.Mat&Outillag Importé -10'!B805","v":0},{"$f":"'INVENT.Mat&Outillag Importé -10'!F805","v":0},{"$f":"'INVENT.Mat&Outillag Importé -10'!C805","v":0},{"$f":"'INVENT.Mat&Outillag Importé -10'!H805","v":0},null,0,0,0,0,0,0,null,null,0,0,0,0]
[800,{"$f":"'INVENT.Mat&Outillag Importé -10'!B806","v":0},{"$f":"'INVENT.Mat&Outillag Importé -10'!F806","v":0},{"$f":"'INVENT.Mat&Outillag Importé -10'!C806","v":0},{"$f":"'INVENT.Mat&Outillag Importé -10'!H806","v":0},null,0,0,0,0,0,0,null,null,0,0,0,0]
[801,{"$f":"'INVENT.Mat&Outillag Importé -10'!B807","v":0},{"$f":"'INVENT.Mat&Outillag Importé -10'!F807","v":0},{"$f":"'INVENT.Mat&Outillag Importé -10'!C807","v":0},{"$f":"'INVENT.Mat&Outillag Importé -10'!H807","v":0},null,0,0,0,0,0,0,null,null,0,0,0,0]
[802,{"$f":"'INVENT.Mat&Outillag Importé -10'!B808","v":0},{"$f":"'INVENT.Mat&Outillag Importé -10'!F808","v":0},{"$f":"'INVENT.Mat&Outillag Importé -10'!C808","v":0},{"$f":"'INVENT.Mat&Outillag Importé -10'!H808","v":0},null,0,0,0,0,0,0,null,null,0,0,0,0]
[803,{"$f":"'INVENT.Mat&Outillag Importé -10'!B809","v":0},{"$f":"'INVENT.Mat&Outillag Importé -10'!F809","v":0},{"$f":"'INVENT.Mat&Outillag Importé -10'!C809","v":0},{"$f":"'INVENT.Mat&Outillag Importé -10'!H809","v":0},null,0,0,0,0,0,0,null,null,0,0,0,0]
[804,{"$f":"'INVENT.Mat&Outillag Importé -10'!B810","v":0},{"$f":"'INVENT.Mat&Outillag Importé -10'!F810","v":0},{"$f":"'INVENT.Mat&Outillag Importé -10'!C810","v":0},{"$f":"'INVENT.Mat&Outillag Importé -10'!H810","v":0},null,0,0,0,0,0,0,null,null,0,0,0,0]
[805,{"$f":"'INVENT.Mat&Outillag Importé -10'!B811","v":0},{"$f":"'INVENT.Mat&Outillag Importé -10'!F811","v":0},{"$f":"'INVENT.Mat&Outillag Importé -10'!C811","v":0},{"$f":"'INVENT.Mat&Outillag Importé -10'!H811","v":0},null,0,0,0,0,0,0,null,null,0,0,0,0]
[806,{"$f":"'INVENT.Mat&Outillag Importé -10'!B812","v":0},{"$f":"'INVENT.Mat&Outillag Importé -10'!F812","v":0},{"$f":"'INVENT.Mat&Outillag Importé -10'!C812","v":0},{"$f":"'INVENT.Mat&Outillag Importé -10'!H812","v":0},null,0,0,0,0,0,0,null,null,0,0,0,0]
[807,{"$f":"'INVENT.Mat&Outillag Importé -10'!B813","v":0},{"$f":"'INVENT.Mat&Outillag Importé -10'!F813","v":0},{"$f":"'INVENT.Mat&Outillag Importé -10'!C813","v":0},{"$f":"'INVENT.Mat&Outillag Importé -10'!H813","v":0},null,0,0,0,0,0,0,null,null,0,0,0,0]
[{"$f":"+A814+1","v":808},{"$f":"'INVENT.Mat&Outillag Importé -10'!B814","v":0},{"$f":"'INVENT.Mat&Outillag Importé -10'!F814","v":0},{"$f":"'INVENT.Mat&Outillag Importé -10'!C814","v":0},{"$f":"'INVENT.Mat&Outillag Importé -10'!H814","v":0},null,0,0,0,0,0,0,null,null,0,0,0,0]
[809,{"$f":"'INVENT.Mat&Outillag Importé -10'!B815","v":0},{"$f":"'INVENT.Mat&Outillag Importé -10'!F815","v":0},{"$f":"'INVENT.Mat&Outillag Importé -10'!C815","v":0},{"$f":"'INVENT.Mat&Outillag Importé -10'!H815","v":0},null,0,0,0,0,0,0,null,null,0,0,0,0]
[810,{"$f":"'INVENT.Mat&Outillag Importé -10'!B816","v":0},{"$f":"'INVENT.Mat&Outillag Importé -10'!F816","v":0},{"$f":"'INVENT.Mat&Outillag Importé -10'!C816","v":0},{"$f":"'INVENT.Mat&Outillag Importé -10'!H816","v":0},null,0,0,0,0,0,0,null,null,0,0,0,0]
[811,{"$f":"'INVENT.Mat&Outillag Importé -10'!B817","v":0},{"$f":"'INVENT.Mat&Outillag Importé -10'!F817","v":0},{"$f":"'INVENT.Mat&Outillag Importé -10'!C817","v":0},{"$f":"'INVENT.Mat&Outillag Importé -10'!H817","v":0},null,0,0,0,0,0,0,null,null,0,0,0,0]
[812,{"$f":"'INVENT.Mat&Outillag Importé -10'!B818","v":0},{"$f":"'INVENT.Mat&Outillag Importé -10'!F818","v":0},{"$f":"'INVENT.Mat&Outillag Importé -10'!C818","v":0},{"$f":"'INVENT.Mat&Outillag Importé -10'!H818","v":0},null,0,0,0,0,0,0,null,null,0,0,0,0]
[813,{"$f":"'INVENT.Mat&Outillag Importé -10'!B819","v":0},{"$f":"'INVENT.Mat&Outillag Importé -10'!F819","v":0},{"$f":"'INVENT.Mat&Outillag Importé -10'!C819","v":0},{"$f":"'INVENT.Mat&Outillag Importé -10'!H819","v":0},null,0,0,0,0,0,0,null,null,0,0,0,0]
[814,{"$f":"'INVENT.Mat&Outillag Importé -10'!B820","v":0},{"$f":"'INVENT.Mat&Outillag Importé -10'!F820","v":0},{"$f":"'INVENT.Mat&Outillag Importé -10'!C820","v":0},{"$f":"'INVENT.Mat&Outillag Importé -10'!H820","v":0},null,0,0,0,0,0,0,null,null,0,0,0,0]
[815,{"$f":"'INVENT.Mat&Outillag Importé -10'!B821","v":0},{"$f":"'INVENT.Mat&Outillag Importé -10'!F821","v":0},{"$f":"'INVENT.Mat&Outillag Importé -10'!C821","v":0},{"$f":"'INVENT.Mat&Outillag Importé -10'!H821","v":0},null,0,0,0,0,0,0,null,null,0,0,0,0]
[816,{"$f":"'INVENT.Mat&Outillag Importé -10'!B822","v":0},{"$f":"'INVENT.Mat&Outillag Importé -10'!F822","v":0},{"$f":"'INVENT.Mat&Outillag Importé -10'!C822","v":0},{"$f":"'INVENT.Mat&Outillag Importé -10'!H822","v":0},null,0,0,0,0,0,0,null,null,0,0,0,0]
[817,{"$f":"'INVENT.Mat&Outillag Importé -10'!B823","v":0},{"$f":"'INVENT.Mat&Outillag Importé -10'!F823","v":0},{"$f":"'INVENT.Mat&Outillag Importé -10'!C823","v":0},{"$f":"'INVENT.Mat&Outillag Importé -10'!H823","v":0},null,0,0,0,0,0,0,null,null,0,0,0,0]
[818,{"$f":"'INVENT.Mat&Outillag Importé -10'!B824","v":0},{"$f":"'INVENT.Mat&Outillag Importé -10'!F824","v":0},{"$f":"'INVENT.Mat&Outillag Importé -10'!C824","v":0},{"$f":"'INVENT.Mat&Outillag Importé -10'!H824","v":0},null,0,0,0,0,0,0,null,null,0,0,0,0]
[819,{"$f":"'INVENT.Mat&Outillag Importé -10'!B825","v":0},{"$f":"'INVENT.Mat&Outillag Importé -10'!F825","v":0},{"$f":"'INVENT.Mat&Outillag Importé -10'!C825","v":0},{"$f":"'INVENT.Mat&Outillag Importé -10'!H825","v":0},null,0,0,0,0,0,0,null,null,0,0,0,0]
[820,{"$f":"'INVENT.Mat&Outillag Importé -10'!B826","v":0},{"$f":"'INVENT.Mat&Outillag Importé -10'!F826","v":0},{"$f":"'INVENT.Mat&Outillag Importé -10'!C826","v":0},{"$f":"'INVENT.Mat&Outillag Importé -10'!H826","v":0},null,0,0,0,0,0,0,null,null,0,0,0,0]
[821,{"$f":"'INVENT.Mat&Outillag Importé -10'!B827","v":0},{"$f":"'INVENT.Mat&Outillag Importé -10'!F827","v":0},{"$f":"'INVENT.Mat&Outillag Importé -10'!C827","v":0},{"$f":"'INVENT.Mat&Outillag Importé -10'!H827","v":0},null,{"$f":"F828*E828","v":0},{"$f":"E828*1%","v":0},{"$f":"E828*1%","v":0},{"$f":"E828*0.5%","v":0},{"$f":"(E828+G828+H828)*18%","v":0},{"$f":"SUM(G828:K828)+E828","v":0},null,null,{"$f":"(M828+N828)*18%","v":0},{"$f":"O828+N828+M828","v":0},{"$f":"+R828-O828-K828","v":0},{"$f":"P828+L828","v":0}]
[822,{"$f":"'INVENT.Mat&Outillag Importé -10'!B828","v":0},{"$f":"'INVENT.Mat&Outillag Importé -10'!F828","v":0},{"$f":"'INVENT.Mat&Outillag Importé -10'!C828","v":0},{"$f":"'INVENT.Mat&Outillag Importé -10'!H828","v":0},null,0,0,0,0,0,0,null,null,0,0,0,0]
[823,{"$f":"'INVENT.Mat&Outillag Importé -10'!B829","v":0},{"$f":"'INVENT.Mat&Outillag Importé -10'!F829","v":0},{"$f":"'INVENT.Mat&Outillag Importé -10'!C829","v":0},{"$f":"'INVENT.Mat&Outillag Importé -10'!H829","v":0},null,0,0,0,0,0,0,null,null,0,0,0,0]
[824,{"$f":"'INVENT.Mat&Outillag Importé -10'!B830","v":0},{"$f":"'INVENT.Mat&Outillag Importé -10'!F830","v":0},{"$f":"'INVENT.Mat&Outillag Importé -10'!C830","v":0},{"$f":"'INVENT.Mat&Outillag Importé -10'!H830","v":0},null,0,0,0,0,0,0,null,null,0,0,0,0]
[825,{"$f":"'INVENT.Mat&Outillag Importé -10'!B831","v":0},{"$f":"'INVENT.Mat&Outillag Importé -10'!F831","v":0},{"$f":"'INVENT.Mat&Outillag Importé -10'!C831","v":0},{"$f":"'INVENT.Mat&Outillag Importé -10'!H831","v":0},null,0,0,0,0,0,0,null,null,0,0,0,0]
[826,{"$f":"'INVENT.Mat&Outillag Importé -10'!B832","v":0},{"$f":"'INVENT.Mat&Outillag Importé -10'!F832","v":0},{"$f":"'INVENT.Mat&Outillag Importé -10'!C832","v":0},{"$f":"'INVENT.Mat&Outillag Importé -10'!H832","v":0},null,0,0,0,0,0,0,null,null,0,0,0,0]
[827,{"$f":"'INVENT.Mat&Outillag Importé -10'!B833","v":0},{"$f":"'INVENT.Mat&Outillag Importé -10'!F833","v":0},{"$f":"'INVENT.Mat&Outillag Importé -10'!C833","v":0},{"$f":"'INVENT.Mat&Outillag Importé -10'!H833","v":0},null,0,0,0,0,0,0,null,null,0,0,0,0]
[828,{"$f":"'INVENT.Mat&Outillag Importé -10'!B834","v":0},{"$f":"'INVENT.Mat&Outillag Importé -10'!F834","v":0},{"$f":"'INVENT.Mat&Outillag Importé -10'!C834","v":0},{"$f":"'INVENT.Mat&Outillag Importé -10'!H834","v":0},null,0,0,0,0,0,0,null,null,0,0,0,0]
[829,{"$f":"'INVENT.Mat&Outillag Importé -10'!B835","v":0},{"$f":"'INVENT.Mat&Outillag Importé -10'!F835","v":0},{"$f":"'INVENT.Mat&Outillag Importé -10'!C835","v":0},{"$f":"'INVENT.Mat&Outillag Importé -10'!H835","v":0},null,0,0,0,0,0,0,null,null,0,0,0,0]
[830,{"$f":"'INVENT.Mat&Outillag Importé -10'!B836","v":0},{"$f":"'INVENT.Mat&Outillag Importé -10'!F836","v":0},{"$f":"'INVENT.Mat&Outillag Importé -10'!C836","v":0},{"$f":"'INVENT.Mat&Outillag Importé -10'!H836","v":0},null,0,0,0,0,0,0,null,null,0,0,0,0]
[831,{"$f":"'INVENT.Mat&Outillag Importé -10'!B837","v":0},{"$f":"'INVENT.Mat&Outillag Importé -10'!F837","v":0},{"$f":"'INVENT.Mat&Outillag Importé -10'!C837","v":0},{"$f":"'INVENT.Mat&Outillag Importé -10'!H837","v":0},null,0,0,0,0,0,0,null,null,0,0,0,0]
[832,{"$f":"'INVENT.Mat&Outillag Importé -10'!B838","v":0},{"$f":"'INVENT.Mat&Outillag Importé -10'!F838","v":0},{"$f":"'INVENT.Mat&Outillag Importé -10'!C838","v":0},{"$f":"'INVENT.Mat&Outillag Importé -10'!H838","v":0},null,0,0,0,0,0,0,null,null,0,0,0,0]
[833,{"$f":"'INVENT.Mat&Outillag Importé -10'!B839","v":0},{"$f":"'INVENT.Mat&Outillag Importé -10'!F839","v":0},{"$f":"'INVENT.Mat&Outillag Importé -10'!C839","v":0},{"$f":"'INVENT.Mat&Outillag Importé -10'!H839","v":0},null,0,0,0,0,0,0,null,null,0,0,0,0]
[834,{"$f":"'INVENT.Mat&Outillag Importé -10'!B840","v":0},{"$f":"'INVENT.Mat&Outillag Importé -10'!F840","v":0},{"$f":"'INVENT.Mat&Outillag Importé -10'!C840","v":0},{"$f":"'INVENT.Mat&Outillag Importé -10'!H840","v":0},null,0,0,0,0,0,0,null,null,0,0,0,0]
[835,{"$f":"'INVENT.Mat&Outillag Importé -10'!B841","v":0},{"$f":"'INVENT.Mat&Outillag Importé -10'!F841","v":0},{"$f":"'INVENT.Mat&Outillag Importé -10'!C841","v":0},{"$f":"'INVENT.Mat&Outillag Importé -10'!H841","v":0},null,0,0,0,0,0,0,null,null,0,0,0,0]
[836,{"$f":"'INVENT.Mat&Outillag Importé -10'!B842","v":0},{"$f":"'INVENT.Mat&Outillag Importé -10'!F842","v":0},{"$f":"'INVENT.Mat&Outillag Importé -10'!C842","v":0},{"$f":"'INVENT.Mat&Outillag Importé -10'!H842","v":0},null,0,0,0,0,0,0,null,null,0,0,0,0]
[837,{"$f":"'INVENT.Mat&Outillag Importé -10'!B843","v":0},{"$f":"'INVENT.Mat&Outillag Importé -10'!F843","v":0},{"$f":"'INVENT.Mat&Outillag Importé -10'!C843","v":0},{"$f":"'INVENT.Mat&Outillag Importé -10'!H843","v":0},null,0,0,0,0,0,0,null,null,0,0,0,0]
[838,{"$f":"'INVENT.Mat&Outillag Importé -10'!B844","v":0},{"$f":"'INVENT.Mat&Outillag Importé -10'!F844","v":0},{"$f":"'INVENT.Mat&Outillag Importé -10'!C844","v":0},{"$f":"'INVENT.Mat&Outillag Importé -10'!H844","v":0},null,0,0,0,0,0,0,null,null,0,0,0,0]
[839,{"$f":"'INVENT.Mat&Outillag Importé -10'!B845","v":0},{"$f":"'INVENT.Mat&Outillag Importé -10'!F845","v":0},{"$f":"'INVENT.Mat&Outillag Importé -10'!C845","v":0},{"$f":"'INVENT.Mat&Outillag Importé -10'!H845","v":0},null,0,0,0,0,0,0,null,null,0,0,0,0]
[840,{"$f":"'INVENT.Mat&Outillag Importé -10'!B846","v":0},{"$f":"'INVENT.Mat&Outillag Importé -10'!F846","v":0},{"$f":"'INVENT.Mat&Outillag Importé -10'!C846","v":0},{"$f":"'INVENT.Mat&Outillag Importé -10'!H846","v":0},null,0,0,0,0,0,0,null,null,0,0,0,0]
[841,{"$f":"'INVENT.Mat&Outillag Importé -10'!B847","v":0},{"$f":"'INVENT.Mat&Outillag Importé -10'!F847","v":0},{"$f":"'INVENT.Mat&Outillag Importé -10'!C847","v":0},{"$f":"'INVENT.Mat&Outillag Importé -10'!H847","v":0},null,0,0,0,0,0,0,null,null,0,0,0,0]
[842,{"$f":"'INVENT.Mat&Outillag Importé -10'!B848","v":0},{"$f":"'INVENT.Mat&Outillag Importé -10'!F848","v":0},{"$f":"'INVENT.Mat&Outillag Importé -10'!C848","v":0},{"$f":"'INVENT.Mat&Outillag Importé -10'!H848","v":0},null,0,0,0,0,0,0,null,null,0,0,0,0]
[843,{"$f":"'INVENT.Mat&Outillag Importé -10'!B849","v":0},{"$f":"'INVENT.Mat&Outillag Importé -10'!F849","v":0},{"$f":"'INVENT.Mat&Outillag Importé -10'!C849","v":0},{"$f":"'INVENT.Mat&Outillag Importé -10'!H849","v":0},null,0,0,0,0,0,0,null,null,0,0,0,0]
[844,{"$f":"'INVENT.Mat&Outillag Importé -10'!B850","v":0},{"$f":"'INVENT.Mat&Outillag Importé -10'!F850","v":0},{"$f":"'INVENT.Mat&Outillag Importé -10'!C850","v":0},{"$f":"'INVENT.Mat&Outillag Importé -10'!H850","v":0},null,0,0,0,0,0,0,null,null,0,0,0,0]
[845,{"$f":"'INVENT.Mat&Outillag Importé -10'!B851","v":0},{"$f":"'INVENT.Mat&Outillag Importé -10'!F851","v":0},{"$f":"'INVENT.Mat&Outillag Importé -10'!C851","v":0},{"$f":"'INVENT.Mat&Outillag Importé -10'!H851","v":0},null,0,0,0,0,0,0,null,null,0,0,0,0]
[846,{"$f":"'INVENT.Mat&Outillag Importé -10'!B852","v":0},{"$f":"'INVENT.Mat&Outillag Importé -10'!F852","v":0},{"$f":"'INVENT.Mat&Outillag Importé -10'!C852","v":0},{"$f":"'INVENT.Mat&Outillag Importé -10'!H852","v":0},null,0,0,0,0,0,0,null,null,0,0,0,0]
[847,{"$f":"'INVENT.Mat&Outillag Importé -10'!B853","v":0},{"$f":"'INVENT.Mat&Outillag Importé -10'!F853","v":0},{"$f":"'INVENT.Mat&Outillag Importé -10'!C853","v":0},{"$f":"'INVENT.Mat&Outillag Importé -10'!H853","v":0},null,0,0,0,0,0,0,null,null,0,0,0,0]
[848,{"$f":"'INVENT.Mat&Outillag Importé -10'!B854","v":0},{"$f":"'INVENT.Mat&Outillag Importé -10'!F854","v":0},{"$f":"'INVENT.Mat&Outillag Importé -10'!C854","v":0},{"$f":"'INVENT.Mat&Outillag Importé -10'!H854","v":0},null,0,0,0,0,0,0,null,null,0,0,0,0]
[849,{"$f":"'INVENT.Mat&Outillag Importé -10'!B855","v":0},{"$f":"'INVENT.Mat&Outillag Importé -10'!F855","v":0},{"$f":"'INVENT.Mat&Outillag Importé -10'!C855","v":0},{"$f":"'INVENT.Mat&Outillag Importé -10'!H855","v":0},null,0,0,0,0,0,0,null,null,0,0,0,0]
[850,{"$f":"'INVENT.Mat&Outillag Importé -10'!B856","v":0},{"$f":"'INVENT.Mat&Outillag Importé -10'!F856","v":0},{"$f":"'INVENT.Mat&Outillag Importé -10'!C856","v":0},{"$f":"'INVENT.Mat&Outillag Importé -10'!H856","v":0},null,0,0,0,0,0,0,null,null,0,0,0,0]
[851,{"$f":"'INVENT.Mat&Outillag Importé -10'!B857","v":0},{"$f":"'INVENT.Mat&Outillag Importé -10'!F857","v":0},{"$f":"'INVENT.Mat&Outillag Importé -10'!C857","v":0},{"$f":"'INVENT.Mat&Outillag Importé -10'!H857","v":0},null,0,0,0,0,0,0,null,null,0,0,0,0]
[852,{"$f":"'INVENT.Mat&Outillag Importé -10'!B858","v":0},{"$f":"'INVENT.Mat&Outillag Importé -10'!F858","v":0},{"$f":"'INVENT.Mat&Outillag Importé -10'!C858","v":0},{"$f":"'INVENT.Mat&Outillag Importé -10'!H858","v":0},null,0,0,0,0,0,0,null,null,0,0,0,0]
[853,{"$f":"'INVENT.Mat&Outillag Importé -10'!B859","v":0},{"$f":"'INVENT.Mat&Outillag Importé -10'!F859","v":0},{"$f":"'INVENT.Mat&Outillag Importé -10'!C859","v":0},{"$f":"'INVENT.Mat&Outillag Importé -10'!H859","v":0},null,0,0,0,0,0,0,null,null,0,0,0,0]
[854,{"$f":"'INVENT.Mat&Outillag Importé -10'!B860","v":0},{"$f":"'INVENT.Mat&Outillag Importé -10'!F860","v":0},{"$f":"'INVENT.Mat&Outillag Importé -10'!C860","v":0},{"$f":"'INVENT.Mat&Outillag Importé -10'!H860","v":0},null,0,0,0,0,0,0,null,null,0,0,0,0]
[855,{"$f":"'INVENT.Mat&Outillag Importé -10'!B861","v":0},{"$f":"'INVENT.Mat&Outillag Importé -10'!F861","v":0},{"$f":"'INVENT.Mat&Outillag Importé -10'!C861","v":0},{"$f":"'INVENT.Mat&Outillag Importé -10'!H861","v":0},null,0,0,0,0,0,0,null,null,0,0,0,0]
[856,{"$f":"'INVENT.Mat&Outillag Importé -10'!B862","v":0},{"$f":"'INVENT.Mat&Outillag Importé -10'!F862","v":0},{"$f":"'INVENT.Mat&Outillag Importé -10'!C862","v":0},{"$f":"'INVENT.Mat&Outillag Importé -10'!H862","v":0},null,0,0,0,0,0,0,null,null,0,0,0,0]
[857,{"$f":"'INVENT.Mat&Outillag Importé -10'!B863","v":0},{"$f":"'INVENT.Mat&Outillag Importé -10'!F863","v":0},{"$f":"'INVENT.Mat&Outillag Importé -10'!C863","v":0},{"$f":"'INVENT.Mat&Outillag Importé -10'!H863","v":0},null,0,0,0,0,0,0,null,null,0,0,0,0]
[858,{"$f":"'INVENT.Mat&Outillag Importé -10'!B864","v":0},{"$f":"'INVENT.Mat&Outillag Importé -10'!F864","v":0},{"$f":"'INVENT.Mat&Outillag Importé -10'!C864","v":0},{"$f":"'INVENT.Mat&Outillag Importé -10'!H864","v":0},null,0,0,0,0,0,0,null,null,0,0,0,0]
[859,{"$f":"'INVENT.Mat&Outillag Importé -10'!B865","v":0},{"$f":"'INVENT.Mat&Outillag Importé -10'!F865","v":0},{"$f":"'INVENT.Mat&Outillag Importé -10'!C865","v":0},{"$f":"'INVENT.Mat&Outillag Importé -10'!H865","v":0},null,0,0,0,0,0,0,null,null,0,0,0,0]
[860,{"$f":"'INVENT.Mat&Outillag Importé -10'!B866","v":0},{"$f":"'INVENT.Mat&Outillag Importé -10'!F866","v":0},{"$f":"'INVENT.Mat&Outillag Importé -10'!C866","v":0},{"$f":"'INVENT.Mat&Outillag Importé -10'!H866","v":0},null,0,0,0,0,0,0,null,null,0,0,0,0]
[861,{"$f":"'INVENT.Mat&Outillag Importé -10'!B867","v":0},{"$f":"'INVENT.Mat&Outillag Importé -10'!F867","v":0},{"$f":"'INVENT.Mat&Outillag Importé -10'!C867","v":0},{"$f":"'INVENT.Mat&Outillag Importé -10'!H867","v":0},null,0,0,0,0,0,0,null,null,0,0,0,0]
[862,{"$f":"'INVENT.Mat&Outillag Importé -10'!B868","v":0},{"$f":"'INVENT.Mat&Outillag Importé -10'!F868","v":0},{"$f":"'INVENT.Mat&Outillag Importé -10'!C868","v":0},{"$f":"'INVENT.Mat&Outillag Importé -10'!H868","v":0},null,0,0,0,0,0,0,null,null,0,0,0,0]
[863,{"$f":"'INVENT.Mat&Outillag Importé -10'!B869","v":0},{"$f":"'INVENT.Mat&Outillag Importé -10'!F869","v":0},{"$f":"'INVENT.Mat&Outillag Importé -10'!C869","v":0},{"$f":"'INVENT.Mat&Outillag Importé -10'!H869","v":0},null,0,0,0,0,0,0,null,null,0,0,0,0]
[864,{"$f":"'INVENT.Mat&Outillag Importé -10'!B870","v":0},{"$f":"'INVENT.Mat&Outillag Importé -10'!F870","v":0},{"$f":"'INVENT.Mat&Outillag Importé -10'!C870","v":0},{"$f":"'INVENT.Mat&Outillag Importé -10'!H870","v":0},null,0,0,0,0,0,0,null,null,0,0,0,0]
[865,{"$f":"'INVENT.Mat&Outillag Importé -10'!B871","v":0},{"$f":"'INVENT.Mat&Outillag Importé -10'!F871","v":0},{"$f":"'INVENT.Mat&Outillag Importé -10'!C871","v":0},{"$f":"'INVENT.Mat&Outillag Importé -10'!H871","v":0},null,0,0,0,0,0,0,null,null,0,0,0,0]
[866,{"$f":"'INVENT.Mat&Outillag Importé -10'!B872","v":0},{"$f":"'INVENT.Mat&Outillag Importé -10'!F872","v":0},{"$f":"'INVENT.Mat&Outillag Importé -10'!C872","v":0},{"$f":"'INVENT.Mat&Outillag Importé -10'!H872","v":0},null,0,0,0,0,0,0,null,null,0,0,0,0]
[867,{"$f":"'INVENT.Mat&Outillag Importé -10'!B873","v":0},{"$f":"'INVENT.Mat&Outillag Importé -10'!F873","v":0},{"$f":"'INVENT.Mat&Outillag Importé -10'!C873","v":0},{"$f":"'INVENT.Mat&Outillag Importé -10'!H873","v":0},null,0,0,0,0,0,0,null,null,0,0,0,0]
[868,{"$f":"'INVENT.Mat&Outillag Importé -10'!B874","v":0},{"$f":"'INVENT.Mat&Outillag Importé -10'!F874","v":0},{"$f":"'INVENT.Mat&Outillag Importé -10'!C874","v":0},{"$f":"'INVENT.Mat&Outillag Importé -10'!H874","v":0},null,0,0,0,0,0,0,null,null,0,0,0,0]
[869,{"$f":"'INVENT.Mat&Outillag Importé -10'!B875","v":0},{"$f":"'INVENT.Mat&Outillag Importé -10'!F875","v":0},{"$f":"'INVENT.Mat&Outillag Importé -10'!C875","v":0},{"$f":"'INVENT.Mat&Outillag Importé -10'!H875","v":0},null,0,0,0,0,0,0,null,null,0,0,0,0]
[870,{"$f":"'INVENT.Mat&Outillag Importé -10'!B876","v":0},{"$f":"'INVENT.Mat&Outillag Importé -10'!F876","v":0},{"$f":"'INVENT.Mat&Outillag Importé -10'!C876","v":0},{"$f":"'INVENT.Mat&Outillag Importé -10'!H876","v":0},null,0,0,0,0,0,0,null,null,0,0,0,0]
[871,{"$f":"'INVENT.Mat&Outillag Importé -10'!B877","v":0},{"$f":"'INVENT.Mat&Outillag Importé -10'!F877","v":0},{"$f":"'INVENT.Mat&Outillag Importé -10'!C877","v":0},{"$f":"'INVENT.Mat&Outillag Importé -10'!H877","v":0},null,0,0,0,0,0,0,null,null,0,0,0,0]
[{"$f":"+A878+1","v":872},{"$f":"'INVENT.Mat&Outillag Importé -10'!B878","v":0},{"$f":"'INVENT.Mat&Outillag Importé -10'!F878","v":0},{"$f":"'INVENT.Mat&Outillag Importé -10'!C878","v":0},{"$f":"'INVENT.Mat&Outillag Importé -10'!H878","v":0},null,0,0,0,0,0,0,null,null,0,0,0,0]
[873,{"$f":"'INVENT.Mat&Outillag Importé -10'!B879","v":0},{"$f":"'INVENT.Mat&Outillag Importé -10'!F879","v":0},{"$f":"'INVENT.Mat&Outillag Importé -10'!C879","v":0},{"$f":"'INVENT.Mat&Outillag Importé -10'!H879","v":0},null,0,0,0,0,0,0,null,null,0,0,0,0]
[874,{"$f":"'INVENT.Mat&Outillag Importé -10'!B880","v":0},{"$f":"'INVENT.Mat&Outillag Importé -10'!F880","v":0},{"$f":"'INVENT.Mat&Outillag Importé -10'!C880","v":0},{"$f":"'INVENT.Mat&Outillag Importé -10'!H880","v":0},null,0,0,0,0,0,0,null,null,0,0,0,0]
[875,{"$f":"'INVENT.Mat&Outillag Importé -10'!B881","v":0},{"$f":"'INVENT.Mat&Outillag Importé -10'!F881","v":0},{"$f":"'INVENT.Mat&Outillag Importé -10'!C881","v":0},{"$f":"'INVENT.Mat&Outillag Importé -10'!H881","v":0},null,0,0,0,0,0,0,null,null,0,0,0,0]
[876,{"$f":"'INVENT.Mat&Outillag Importé -10'!B882","v":0},{"$f":"'INVENT.Mat&Outillag Importé -10'!F882","v":0},{"$f":"'INVENT.Mat&Outillag Importé -10'!C882","v":0},{"$f":"'INVENT.Mat&Outillag Importé -10'!H882","v":0},null,0,0,0,0,0,0,null,null,0,0,0,0]
[877,{"$f":"'INVENT.Mat&Outillag Importé -10'!B883","v":0},{"$f":"'INVENT.Mat&Outillag Importé -10'!F883","v":0},{"$f":"'INVENT.Mat&Outillag Importé -10'!C883","v":0},{"$f":"'INVENT.Mat&Outillag Importé -10'!H883","v":0},null,0,0,0,0,0,0,null,null,0,0,0,0]
[878,{"$f":"'INVENT.Mat&Outillag Importé -10'!B884","v":0},{"$f":"'INVENT.Mat&Outillag Importé -10'!F884","v":0},{"$f":"'INVENT.Mat&Outillag Importé -10'!C884","v":0},{"$f":"'INVENT.Mat&Outillag Importé -10'!H884","v":0},null,0,0,0,0,0,0,null,null,0,0,0,0]
[879,{"$f":"'INVENT.Mat&Outillag Importé -10'!B885","v":0},{"$f":"'INVENT.Mat&Outillag Importé -10'!F885","v":0},{"$f":"'INVENT.Mat&Outillag Importé -10'!C885","v":0},{"$f":"'INVENT.Mat&Outillag Importé -10'!H885","v":0},null,0,0,0,0,0,0,null,null,0,0,0,0]
[880,{"$f":"'INVENT.Mat&Outillag Importé -10'!B886","v":0},{"$f":"'INVENT.Mat&Outillag Importé -10'!F886","v":0},{"$f":"'INVENT.Mat&Outillag Importé -10'!C886","v":0},{"$f":"'INVENT.Mat&Outillag Importé -10'!H886","v":0},null,0,0,0,0,0,0,null,null,0,0,0,0]
[881,{"$f":"'INVENT.Mat&Outillag Importé -10'!B887","v":0},{"$f":"'INVENT.Mat&Outillag Importé -10'!F887","v":0},{"$f":"'INVENT.Mat&Outillag Importé -10'!C887","v":0},{"$f":"'INVENT.Mat&Outillag Importé -10'!H887","v":0},null,0,0,0,0,0,0,null,null,0,0,0,0]
[882,{"$f":"'INVENT.Mat&Outillag Importé -10'!B888","v":0},{"$f":"'INVENT.Mat&Outillag Importé -10'!F888","v":0},{"$f":"'INVENT.Mat&Outillag Importé -10'!C888","v":0},{"$f":"'INVENT.Mat&Outillag Importé -10'!H888","v":0},null,0,0,0,0,0,0,null,null,0,0,0,0]
[883,{"$f":"'INVENT.Mat&Outillag Importé -10'!B889","v":0},{"$f":"'INVENT.Mat&Outillag Importé -10'!F889","v":0},{"$f":"'INVENT.Mat&Outillag Importé -10'!C889","v":0},{"$f":"'INVENT.Mat&Outillag Importé -10'!H889","v":0},null,0,0,0,0,0,0,null,null,0,0,0,0]
[884,{"$f":"'INVENT.Mat&Outillag Importé -10'!B890","v":0},{"$f":"'INVENT.Mat&Outillag Importé -10'!F890","v":0},{"$f":"'INVENT.Mat&Outillag Importé -10'!C890","v":0},{"$f":"'INVENT.Mat&Outillag Importé -10'!H890","v":0},null,0,0,0,0,0,0,null,null,0,0,0,0]
[885,{"$f":"'INVENT.Mat&Outillag Importé -10'!B891","v":0},{"$f":"'INVENT.Mat&Outillag Importé -10'!F891","v":0},{"$f":"'INVENT.Mat&Outillag Importé -10'!C891","v":0},{"$f":"'INVENT.Mat&Outillag Importé -10'!H891","v":0},null,{"$f":"F892*E892","v":0},{"$f":"E892*1%","v":0},{"$f":"E892*1%","v":0},{"$f":"E892*0.5%","v":0},{"$f":"(E892+G892+H892)*18%","v":0},{"$f":"SUM(G892:K892)+E892","v":0},null,null,{"$f":"(M892+N892)*18%","v":0},{"$f":"O892+N892+M892","v":0},{"$f":"+R892-O892-K892","v":0},{"$f":"P892+L892","v":0}]
[886,{"$f":"'INVENT.Mat&Outillag Importé -10'!B892","v":0},{"$f":"'INVENT.Mat&Outillag Importé -10'!F892","v":0},{"$f":"'INVENT.Mat&Outillag Importé -10'!C892","v":0},{"$f":"'INVENT.Mat&Outillag Importé -10'!H892","v":0},null,0,0,0,0,0,0,null,null,0,0,0,0]
[887,{"$f":"'INVENT.Mat&Outillag Importé -10'!B893","v":0},{"$f":"'INVENT.Mat&Outillag Importé -10'!F893","v":0},{"$f":"'INVENT.Mat&Outillag Importé -10'!C893","v":0},{"$f":"'INVENT.Mat&Outillag Importé -10'!H893","v":0},null,0,0,0,0,0,0,null,null,0,0,0,0]
[888,{"$f":"'INVENT.Mat&Outillag Importé -10'!B894","v":0},{"$f":"'INVENT.Mat&Outillag Importé -10'!F894","v":0},{"$f":"'INVENT.Mat&Outillag Importé -10'!C894","v":0},{"$f":"'INVENT.Mat&Outillag Importé -10'!H894","v":0},null,0,0,0,0,0,0,null,null,0,0,0,0]
[889,{"$f":"'INVENT.Mat&Outillag Importé -10'!B895","v":0},{"$f":"'INVENT.Mat&Outillag Importé -10'!F895","v":0},{"$f":"'INVENT.Mat&Outillag Importé -10'!C895","v":0},{"$f":"'INVENT.Mat&Outillag Importé -10'!H895","v":0},null,0,0,0,0,0,0,null,null,0,0,0,0]
[890,{"$f":"'INVENT.Mat&Outillag Importé -10'!B896","v":0},{"$f":"'INVENT.Mat&Outillag Importé -10'!F896","v":0},{"$f":"'INVENT.Mat&Outillag Importé -10'!C896","v":0},{"$f":"'INVENT.Mat&Outillag Importé -10'!H896","v":0},null,0,0,0,0,0,0,null,null,0,0,0,0]
[891,{"$f":"'INVENT.Mat&Outillag Importé -10'!B897","v":0},{"$f":"'INVENT.Mat&Outillag Importé -10'!F897","v":0},{"$f":"'INVENT.Mat&Outillag Importé -10'!C897","v":0},{"$f":"'INVENT.Mat&Outillag Importé -10'!H897","v":0},null,0,0,0,0,0,0,null,null,0,0,0,0]
[892,{"$f":"'INVENT.Mat&Outillag Importé -10'!B898","v":0},{"$f":"'INVENT.Mat&Outillag Importé -10'!F898","v":0},{"$f":"'INVENT.Mat&Outillag Importé -10'!C898","v":0},{"$f":"'INVENT.Mat&Outillag Importé -10'!H898","v":0},null,0,0,0,0,0,0,null,null,0,0,0,0]
[893,{"$f":"'INVENT.Mat&Outillag Importé -10'!B899","v":0},{"$f":"'INVENT.Mat&Outillag Importé -10'!F899","v":0},{"$f":"'INVENT.Mat&Outillag Importé -10'!C899","v":0},{"$f":"'INVENT.Mat&Outillag Importé -10'!H899","v":0},null,0,0,0,0,0,0,null,null,0,0,0,0]
[894,{"$f":"'INVENT.Mat&Outillag Importé -10'!B900","v":0},{"$f":"'INVENT.Mat&Outillag Importé -10'!F900","v":0},{"$f":"'INVENT.Mat&Outillag Importé -10'!C900","v":0},{"$f":"'INVENT.Mat&Outillag Importé -10'!H900","v":0},null,0,0,0,0,0,0,null,null,0,0,0,0]
[895,{"$f":"'INVENT.Mat&Outillag Importé -10'!B901","v":0},{"$f":"'INVENT.Mat&Outillag Importé -10'!F901","v":0},{"$f":"'INVENT.Mat&Outillag Importé -10'!C901","v":0},{"$f":"'INVENT.Mat&Outillag Importé -10'!H901","v":0},null,0,0,0,0,0,0,null,null,0,0,0,0]
[896,{"$f":"'INVENT.Mat&Outillag Importé -10'!B902","v":0},{"$f":"'INVENT.Mat&Outillag Importé -10'!F902","v":0},{"$f":"'INVENT.Mat&Outillag Importé -10'!C902","v":0},{"$f":"'INVENT.Mat&Outillag Importé -10'!H902","v":0},null,0,0,0,0,0,0,null,null,0,0,0,0]
[897,{"$f":"'INVENT.Mat&Outillag Importé -10'!B903","v":0},{"$f":"'INVENT.Mat&Outillag Importé -10'!F903","v":0},{"$f":"'INVENT.Mat&Outillag Importé -10'!C903","v":0},{"$f":"'INVENT.Mat&Outillag Importé -10'!H903","v":0},null,0,0,0,0,0,0,null,null,0,0,0,0]
[898,{"$f":"'INVENT.Mat&Outillag Importé -10'!B904","v":0},{"$f":"'INVENT.Mat&Outillag Importé -10'!F904","v":0},{"$f":"'INVENT.Mat&Outillag Importé -10'!C904","v":0},{"$f":"'INVENT.Mat&Outillag Importé -10'!H904","v":0},null,0,0,0,0,0,0,null,null,0,0,0,0]
[899,{"$f":"'INVENT.Mat&Outillag Importé -10'!B905","v":0},{"$f":"'INVENT.Mat&Outillag Importé -10'!F905","v":0},{"$f":"'INVENT.Mat&Outillag Importé -10'!C905","v":0},{"$f":"'INVENT.Mat&Outillag Importé -10'!H905","v":0},null,0,0,0,0,0,0,null,null,0,0,0,0]
[900,{"$f":"'INVENT.Mat&Outillag Importé -10'!B906","v":0},{"$f":"'INVENT.Mat&Outillag Importé -10'!F906","v":0},{"$f":"'INVENT.Mat&Outillag Importé -10'!C906","v":0},{"$f":"'INVENT.Mat&Outillag Importé -10'!H906","v":0},null,0,0,0,0,0,0,null,null,0,0,0,0]
[901,{"$f":"'INVENT.Mat&Outillag Importé -10'!B907","v":0},{"$f":"'INVENT.Mat&Outillag Importé -10'!F907","v":0},{"$f":"'INVENT.Mat&Outillag Importé -10'!C907","v":0},{"$f":"'INVENT.Mat&Outillag Importé -10'!H907","v":0},null,0,0,0,0,0,0,null,null,0,0,0,0]
[902,{"$f":"'INVENT.Mat&Outillag Importé -10'!B908","v":0},{"$f":"'INVENT.Mat&Outillag Importé -10'!F908","v":0},{"$f":"'INVENT.Mat&Outillag Importé -10'!C908","v":0},{"$f":"'INVENT.Mat&Outillag Importé -10'!H908","v":0},null,0,0,0,0,0,0,null,null,0,0,0,0]
[903,{"$f":"'INVENT.Mat&Outillag Importé -10'!B909","v":0},{"$f":"'INVENT.Mat&Outillag Importé -10'!F909","v":0},{"$f":"'INVENT.Mat&Outillag Importé -10'!C909","v":0},{"$f":"'INVENT.Mat&Outillag Importé -10'!H909","v":0},null,0,0,0,0,0,0,null,null,0,0,0,0]
[904,{"$f":"'INVENT.Mat&Outillag Importé -10'!B910","v":0},{"$f":"'INVENT.Mat&Outillag Importé -10'!F910","v":0},{"$f":"'INVENT.Mat&Outillag Importé -10'!C910","v":0},{"$f":"'INVENT.Mat&Outillag Importé -10'!H910","v":0},null,0,0,0,0,0,0,null,null,0,0,0,0]
[905,{"$f":"'INVENT.Mat&Outillag Importé -10'!B911","v":0},{"$f":"'INVENT.Mat&Outillag Importé -10'!F911","v":0},{"$f":"'INVENT.Mat&Outillag Importé -10'!C911","v":0},{"$f":"'INVENT.Mat&Outillag Importé -10'!H911","v":0},null,0,0,0,0,0,0,null,null,0,0,0,0]
[906,{"$f":"'INVENT.Mat&Outillag Importé -10'!B912","v":0},{"$f":"'INVENT.Mat&Outillag Importé -10'!F912","v":0},{"$f":"'INVENT.Mat&Outillag Importé -10'!C912","v":0},{"$f":"'INVENT.Mat&Outillag Importé -10'!H912","v":0},null,0,0,0,0,0,0,null,null,0,0,0,0]
[907,{"$f":"'INVENT.Mat&Outillag Importé -10'!B913","v":0},{"$f":"'INVENT.Mat&Outillag Importé -10'!F913","v":0},{"$f":"'INVENT.Mat&Outillag Importé -10'!C913","v":0},{"$f":"'INVENT.Mat&Outillag Importé -10'!H913","v":0},null,0,0,0,0,0,0,null,null,0,0,0,0]
[908,{"$f":"'INVENT.Mat&Outillag Importé -10'!B914","v":0},{"$f":"'INVENT.Mat&Outillag Importé -10'!F914","v":0},{"$f":"'INVENT.Mat&Outillag Importé -10'!C914","v":0},{"$f":"'INVENT.Mat&Outillag Importé -10'!H914","v":0},null,0,0,0,0,0,0,null,null,0,0,0,0]
[909,{"$f":"'INVENT.Mat&Outillag Importé -10'!B915","v":0},{"$f":"'INVENT.Mat&Outillag Importé -10'!F915","v":0},{"$f":"'INVENT.Mat&Outillag Importé -10'!C915","v":0},{"$f":"'INVENT.Mat&Outillag Importé -10'!H915","v":0},null,0,0,0,0,0,0,null,null,0,0,0,0]
[910,{"$f":"'INVENT.Mat&Outillag Importé -10'!B916","v":0},{"$f":"'INVENT.Mat&Outillag Importé -10'!F916","v":0},{"$f":"'INVENT.Mat&Outillag Importé -10'!C916","v":0},{"$f":"'INVENT.Mat&Outillag Importé -10'!H916","v":0},null,0,0,0,0,0,0,null,null,0,0,0,0]
[911,{"$f":"'INVENT.Mat&Outillag Importé -10'!B917","v":0},{"$f":"'INVENT.Mat&Outillag Importé -10'!F917","v":0},{"$f":"'INVENT.Mat&Outillag Importé -10'!C917","v":0},{"$f":"'INVENT.Mat&Outillag Importé -10'!H917","v":0},null,0,0,0,0,0,0,null,null,0,0,0,0]
[912,{"$f":"'INVENT.Mat&Outillag Importé -10'!B918","v":0},{"$f":"'INVENT.Mat&Outillag Importé -10'!F918","v":0},{"$f":"'INVENT.Mat&Outillag Importé -10'!C918","v":0},{"$f":"'INVENT.Mat&Outillag Importé -10'!H918","v":0},null,0,0,0,0,0,0,null,null,0,0,0,0]
[913,{"$f":"'INVENT.Mat&Outillag Importé -10'!B919","v":0},{"$f":"'INVENT.Mat&Outillag Importé -10'!F919","v":0},{"$f":"'INVENT.Mat&Outillag Importé -10'!C919","v":0},{"$f":"'INVENT.Mat&Outillag Importé -10'!H919","v":0},null,0,0,0,0,0,0,null,null,0,0,0,0]
[914,{"$f":"'INVENT.Mat&Outillag Importé -10'!B920","v":0},{"$f":"'INVENT.Mat&Outillag Importé -10'!F920","v":0},{"$f":"'INVENT.Mat&Outillag Importé -10'!C920","v":0},{"$f":"'INVENT.Mat&Outillag Importé -10'!H920","v":0},null,0,0,0,0,0,0,null,null,0,0,0,0]
[915,{"$f":"'INVENT.Mat&Outillag Importé -10'!B921","v":0},{"$f":"'INVENT.Mat&Outillag Importé -10'!F921","v":0},{"$f":"'INVENT.Mat&Outillag Importé -10'!C921","v":0},{"$f":"'INVENT.Mat&Outillag Importé -10'!H921","v":0},null,0,0,0,0,0,0,null,null,0,0,0,0]
[916,{"$f":"'INVENT.Mat&Outillag Importé -10'!B922","v":0},{"$f":"'INVENT.Mat&Outillag Importé -10'!F922","v":0},{"$f":"'INVENT.Mat&Outillag Importé -10'!C922","v":0},{"$f":"'INVENT.Mat&Outillag Importé -10'!H922","v":0},null,0,0,0,0,0,0,null,null,0,0,0,0]
[917,{"$f":"'INVENT.Mat&Outillag Importé -10'!B923","v":0},{"$f":"'INVENT.Mat&Outillag Importé -10'!F923","v":0},{"$f":"'INVENT.Mat&Outillag Importé -10'!C923","v":0},{"$f":"'INVENT.Mat&Outillag Importé -10'!H923","v":0},null,0,0,0,0,0,0,null,null,0,0,0,0]
[918,{"$f":"'INVENT.Mat&Outillag Importé -10'!B924","v":0},{"$f":"'INVENT.Mat&Outillag Importé -10'!F924","v":0},{"$f":"'INVENT.Mat&Outillag Importé -10'!C924","v":0},{"$f":"'INVENT.Mat&Outillag Importé -10'!H924","v":0},null,0,0,0,0,0,0,null,null,0,0,0,0]
[919,{"$f":"'INVENT.Mat&Outillag Importé -10'!B925","v":0},{"$f":"'INVENT.Mat&Outillag Importé -10'!F925","v":0},{"$f":"'INVENT.Mat&Outillag Importé -10'!C925","v":0},{"$f":"'INVENT.Mat&Outillag Importé -10'!H925","v":0},null,0,0,0,0,0,0,null,null,0,0,0,0]
[920,{"$f":"'INVENT.Mat&Outillag Importé -10'!B926","v":0},{"$f":"'INVENT.Mat&Outillag Importé -10'!F926","v":0},{"$f":"'INVENT.Mat&Outillag Importé -10'!C926","v":0},{"$f":"'INVENT.Mat&Outillag Importé -10'!H926","v":0},null,0,0,0,0,0,0,null,null,0,0,0,0]
[921,{"$f":"'INVENT.Mat&Outillag Importé -10'!B927","v":0},{"$f":"'INVENT.Mat&Outillag Importé -10'!F927","v":0},{"$f":"'INVENT.Mat&Outillag Importé -10'!C927","v":0},{"$f":"'INVENT.Mat&Outillag Importé -10'!H927","v":0},null,0,0,0,0,0,0,null,null,0,0,0,0]
[922,{"$f":"'INVENT.Mat&Outillag Importé -10'!B928","v":0},{"$f":"'INVENT.Mat&Outillag Importé -10'!F928","v":0},{"$f":"'INVENT.Mat&Outillag Importé -10'!C928","v":0},{"$f":"'INVENT.Mat&Outillag Importé -10'!H928","v":0},null,0,0,0,0,0,0,null,null,0,0,0,0]
[923,{"$f":"'INVENT.Mat&Outillag Importé -10'!B929","v":0},{"$f":"'INVENT.Mat&Outillag Importé -10'!F929","v":0},{"$f":"'INVENT.Mat&Outillag Importé -10'!C929","v":0},{"$f":"'INVENT.Mat&Outillag Importé -10'!H929","v":0},null,0,0,0,0,0,0,null,null,0,0,0,0]
[924,{"$f":"'INVENT.Mat&Outillag Importé -10'!B930","v":0},{"$f":"'INVENT.Mat&Outillag Importé -10'!F930","v":0},{"$f":"'INVENT.Mat&Outillag Importé -10'!C930","v":0},{"$f":"'INVENT.Mat&Outillag Importé -10'!H930","v":0},null,0,0,0,0,0,0,null,null,0,0,0,0]
[925,{"$f":"'INVENT.Mat&Outillag Importé -10'!B931","v":0},{"$f":"'INVENT.Mat&Outillag Importé -10'!F931","v":0},{"$f":"'INVENT.Mat&Outillag Importé -10'!C931","v":0},{"$f":"'INVENT.Mat&Outillag Importé -10'!H931","v":0},null,0,0,0,0,0,0,null,null,0,0,0,0]
[926,{"$f":"'INVENT.Mat&Outillag Importé -10'!B932","v":0},{"$f":"'INVENT.Mat&Outillag Importé -10'!F932","v":0},{"$f":"'INVENT.Mat&Outillag Importé -10'!C932","v":0},{"$f":"'INVENT.Mat&Outillag Importé -10'!H932","v":0},null,0,0,0,0,0,0,null,null,0,0,0,0]
[927,{"$f":"'INVENT.Mat&Outillag Importé -10'!B933","v":0},{"$f":"'INVENT.Mat&Outillag Importé -10'!F933","v":0},{"$f":"'INVENT.Mat&Outillag Importé -10'!C933","v":0},{"$f":"'INVENT.Mat&Outillag Importé -10'!H933","v":0},null,0,0,0,0,0,0,null,null,0,0,0,0]
[928,{"$f":"'INVENT.Mat&Outillag Importé -10'!B934","v":0},{"$f":"'INVENT.Mat&Outillag Importé -10'!F934","v":0},{"$f":"'INVENT.Mat&Outillag Importé -10'!C934","v":0},{"$f":"'INVENT.Mat&Outillag Importé -10'!H934","v":0},null,0,0,0,0,0,0,null,null,0,0,0,0]
[929,{"$f":"'INVENT.Mat&Outillag Importé -10'!B935","v":0},{"$f":"'INVENT.Mat&Outillag Importé -10'!F935","v":0},{"$f":"'INVENT.Mat&Outillag Importé -10'!C935","v":0},{"$f":"'INVENT.Mat&Outillag Importé -10'!H935","v":0},null,0,0,0,0,0,0,null,null,0,0,0,0]
[930,{"$f":"'INVENT.Mat&Outillag Importé -10'!B936","v":0},{"$f":"'INVENT.Mat&Outillag Importé -10'!F936","v":0},{"$f":"'INVENT.Mat&Outillag Importé -10'!C936","v":0},{"$f":"'INVENT.Mat&Outillag Importé -10'!H936","v":0},null,0,0,0,0,0,0,null,null,0,0,0,0]
[931,{"$f":"'INVENT.Mat&Outillag Importé -10'!B937","v":0},{"$f":"'INVENT.Mat&Outillag Importé -10'!F937","v":0},{"$f":"'INVENT.Mat&Outillag Importé -10'!C937","v":0},{"$f":"'INVENT.Mat&Outillag Importé -10'!H937","v":0},null,0,0,0,0,0,0,null,null,0,0,0,0]
[932,{"$f":"'INVENT.Mat&Outillag Importé -10'!B938","v":0},{"$f":"'INVENT.Mat&Outillag Importé -10'!F938","v":0},{"$f":"'INVENT.Mat&Outillag Importé -10'!C938","v":0},{"$f":"'INVENT.Mat&Outillag Importé -10'!H938","v":0},null,0,0,0,0,0,0,null,null,0,0,0,0]
[933,{"$f":"'INVENT.Mat&Outillag Importé -10'!B939","v":0},{"$f":"'INVENT.Mat&Outillag Importé -10'!F939","v":0},{"$f":"'INVENT.Mat&Outillag Importé -10'!C939","v":0},{"$f":"'INVENT.Mat&Outillag Importé -10'!H939","v":0},null,0,0,0,0,0,0,null,null,0,0,0,0]
[934,{"$f":"'INVENT.Mat&Outillag Importé -10'!B940","v":0},{"$f":"'INVENT.Mat&Outillag Importé -10'!F940","v":0},{"$f":"'INVENT.Mat&Outillag Importé -10'!C940","v":0},{"$f":"'INVENT.Mat&Outillag Importé -10'!H940","v":0},null,0,0,0,0,0,0,null,null,0,0,0,0]
[935,{"$f":"'INVENT.Mat&Outillag Importé -10'!B941","v":0},{"$f":"'INVENT.Mat&Outillag Importé -10'!F941","v":0},{"$f":"'INVENT.Mat&Outillag Importé -10'!C941","v":0},{"$f":"'INVENT.Mat&Outillag Importé -10'!H941","v":0},null,0,0,0,0,0,0,null,null,0,0,0,0]
[{"$f":"+A942+1","v":936},{"$f":"'INVENT.Mat&Outillag Importé -10'!B942","v":0},{"$f":"'INVENT.Mat&Outillag Importé -10'!F942","v":0},{"$f":"'INVENT.Mat&Outillag Importé -10'!C942","v":0},{"$f":"'INVENT.Mat&Outillag Importé -10'!H942","v":0},null,0,0,0,0,0,0,null,null,0,0,0,0]
[937,{"$f":"'INVENT.Mat&Outillag Importé -10'!B943","v":0},{"$f":"'INVENT.Mat&Outillag Importé -10'!F943","v":0},{"$f":"'INVENT.Mat&Outillag Importé -10'!C943","v":0},{"$f":"'INVENT.Mat&Outillag Importé -10'!H943","v":0},null,0,0,0,0,0,0,null,null,0,0,0,0]
[938,{"$f":"'INVENT.Mat&Outillag Importé -10'!B944","v":0},{"$f":"'INVENT.Mat&Outillag Importé -10'!F944","v":0},{"$f":"'INVENT.Mat&Outillag Importé -10'!C944","v":0},{"$f":"'INVENT.Mat&Outillag Importé -10'!H944","v":0},null,0,0,0,0,0,0,null,null,0,0,0,0]
[939,{"$f":"'INVENT.Mat&Outillag Importé -10'!B945","v":0},{"$f":"'INVENT.Mat&Outillag Importé -10'!F945","v":0},{"$f":"'INVENT.Mat&Outillag Importé -10'!C945","v":0},{"$f":"'INVENT.Mat&Outillag Importé -10'!H945","v":0},null,0,0,0,0,0,0,null,null,0,0,0,0]
[940,{"$f":"'INVENT.Mat&Outillag Importé -10'!B946","v":0},{"$f":"'INVENT.Mat&Outillag Importé -10'!F946","v":0},{"$f":"'INVENT.Mat&Outillag Importé -10'!C946","v":0},{"$f":"'INVENT.Mat&Outillag Importé -10'!H946","v":0},null,0,0,0,0,0,0,null,null,0,0,0,0]
[941,{"$f":"'INVENT.Mat&Outillag Importé -10'!B947","v":0},{"$f":"'INVENT.Mat&Outillag Importé -10'!F947","v":0},{"$f":"'INVENT.Mat&Outillag Importé -10'!C947","v":0},{"$f":"'INVENT.Mat&Outillag Importé -10'!H947","v":0},null,0,0,0,0,0,0,null,null,0,0,0,0]
[942,{"$f":"'INVENT.Mat&Outillag Importé -10'!B948","v":0},{"$f":"'INVENT.Mat&Outillag Importé -10'!F948","v":0},{"$f":"'INVENT.Mat&Outillag Importé -10'!C948","v":0},{"$f":"'INVENT.Mat&Outillag Importé -10'!H948","v":0},null,0,0,0,0,0,0,null,null,0,0,0,0]
[943,{"$f":"'INVENT.Mat&Outillag Importé -10'!B949","v":0},{"$f":"'INVENT.Mat&Outillag Importé -10'!F949","v":0},{"$f":"'INVENT.Mat&Outillag Importé -10'!C949","v":0},{"$f":"'INVENT.Mat&Outillag Importé -10'!H949","v":0},null,0,0,0,0,0,0,null,null,0,0,0,0]
[944,{"$f":"'INVENT.Mat&Outillag Importé -10'!B950","v":0},{"$f":"'INVENT.Mat&Outillag Importé -10'!F950","v":0},{"$f":"'INVENT.Mat&Outillag Importé -10'!C950","v":0},{"$f":"'INVENT.Mat&Outillag Importé -10'!H950","v":0},null,0,0,0,0,0,0,null,null,0,0,0,0]
[945,{"$f":"'INVENT.Mat&Outillag Importé -10'!B951","v":0},{"$f":"'INVENT.Mat&Outillag Importé -10'!F951","v":0},{"$f":"'INVENT.Mat&Outillag Importé -10'!C951","v":0},{"$f":"'INVENT.Mat&Outillag Importé -10'!H951","v":0},null,0,0,0,0,0,0,null,null,0,0,0,0]
[946,{"$f":"'INVENT.Mat&Outillag Importé -10'!B952","v":0},{"$f":"'INVENT.Mat&Outillag Importé -10'!F952","v":0},{"$f":"'INVENT.Mat&Outillag Importé -10'!C952","v":0},{"$f":"'INVENT.Mat&Outillag Importé -10'!H952","v":0},null,0,0,0,0,0,0,null,null,0,0,0,0]
[947,{"$f":"'INVENT.Mat&Outillag Importé -10'!B953","v":0},{"$f":"'INVENT.Mat&Outillag Importé -10'!F953","v":0},{"$f":"'INVENT.Mat&Outillag Importé -10'!C953","v":0},{"$f":"'INVENT.Mat&Outillag Importé -10'!H953","v":0},null,0,0,0,0,0,0,null,null,0,0,0,0]
[948,{"$f":"'INVENT.Mat&Outillag Importé -10'!B954","v":0},{"$f":"'INVENT.Mat&Outillag Importé -10'!F954","v":0},{"$f":"'INVENT.Mat&Outillag Importé -10'!C954","v":0},{"$f":"'INVENT.Mat&Outillag Importé -10'!H954","v":0},null,0,0,0,0,0,0,null,null,0,0,0,0]
[949,{"$f":"'INVENT.Mat&Outillag Importé -10'!B955","v":0},{"$f":"'INVENT.Mat&Outillag Importé -10'!F955","v":0},{"$f":"'INVENT.Mat&Outillag Importé -10'!C955","v":0},{"$f":"'INVENT.Mat&Outillag Importé -10'!H955","v":0},null,{"$f":"F956*E956","v":0},{"$f":"E956*1%","v":0},{"$f":"E956*1%","v":0},{"$f":"E956*0.5%","v":0},{"$f":"(E956+G956+H956)*18%","v":0},{"$f":"SUM(G956:K956)+E956","v":0},null,null,{"$f":"(M956+N956)*18%","v":0},{"$f":"O956+N956+M956","v":0},{"$f":"+R956-O956-K956","v":0},{"$f":"P956+L956","v":0}]
[950,{"$f":"'INVENT.Mat&Outillag Importé -10'!B956","v":0},{"$f":"'INVENT.Mat&Outillag Importé -10'!F956","v":0},{"$f":"'INVENT.Mat&Outillag Importé -10'!C956","v":0},{"$f":"'INVENT.Mat&Outillag Importé -10'!H956","v":0},null,0,0,0,0,0,0,null,null,0,0,0,0]
[951,{"$f":"'INVENT.Mat&Outillag Importé -10'!B957","v":0},{"$f":"'INVENT.Mat&Outillag Importé -10'!F957","v":0},{"$f":"'INVENT.Mat&Outillag Importé -10'!C957","v":0},{"$f":"'INVENT.Mat&Outillag Importé -10'!H957","v":0},null,0,0,0,0,0,0,null,null,0,0,0,0]
[952,{"$f":"'INVENT.Mat&Outillag Importé -10'!B958","v":0},{"$f":"'INVENT.Mat&Outillag Importé -10'!F958","v":0},{"$f":"'INVENT.Mat&Outillag Importé -10'!C958","v":0},{"$f":"'INVENT.Mat&Outillag Importé -10'!H958","v":0},null,0,0,0,0,0,0,null,null,0,0,0,0]
[953,{"$f":"'INVENT.Mat&Outillag Importé -10'!B959","v":0},{"$f":"'INVENT.Mat&Outillag Importé -10'!F959","v":0},{"$f":"'INVENT.Mat&Outillag Importé -10'!C959","v":0},{"$f":"'INVENT.Mat&Outillag Importé -10'!H959","v":0},null,0,0,0,0,0,0,null,null,0,0,0,0]
[954,{"$f":"'INVENT.Mat&Outillag Importé -10'!B960","v":0},{"$f":"'INVENT.Mat&Outillag Importé -10'!F960","v":0},{"$f":"'INVENT.Mat&Outillag Importé -10'!C960","v":0},{"$f":"'INVENT.Mat&Outillag Importé -10'!H960","v":0},null,0,0,0,0,0,0,null,null,0,0,0,0]
[955,{"$f":"'INVENT.Mat&Outillag Importé -10'!B961","v":0},{"$f":"'INVENT.Mat&Outillag Importé -10'!F961","v":0},{"$f":"'INVENT.Mat&Outillag Importé -10'!C961","v":0},{"$f":"'INVENT.Mat&Outillag Importé -10'!H961","v":0},null,0,0,0,0,0,0,null,null,0,0,0,0]
[956,{"$f":"'INVENT.Mat&Outillag Importé -10'!B962","v":0},{"$f":"'INVENT.Mat&Outillag Importé -10'!F962","v":0},{"$f":"'INVENT.Mat&Outillag Importé -10'!C962","v":0},{"$f":"'INVENT.Mat&Outillag Importé -10'!H962","v":0},null,0,0,0,0,0,0,null,null,0,0,0,0]
[957,{"$f":"'INVENT.Mat&Outillag Importé -10'!B963","v":0},{"$f":"'INVENT.Mat&Outillag Importé -10'!F963","v":0},{"$f":"'INVENT.Mat&Outillag Importé -10'!C963","v":0},{"$f":"'INVENT.Mat&Outillag Importé -10'!H963","v":0},null,0,0,0,0,0,0,null,null,0,0,0,0]
[958,{"$f":"'INVENT.Mat&Outillag Importé -10'!B964","v":0},{"$f":"'INVENT.Mat&Outillag Importé -10'!F964","v":0},{"$f":"'INVENT.Mat&Outillag Importé -10'!C964","v":0},{"$f":"'INVENT.Mat&Outillag Importé -10'!H964","v":0},null,0,0,0,0,0,0,null,null,0,0,0,0]
[959,{"$f":"'INVENT.Mat&Outillag Importé -10'!B965","v":0},{"$f":"'INVENT.Mat&Outillag Importé -10'!F965","v":0},{"$f":"'INVENT.Mat&Outillag Importé -10'!C965","v":0},{"$f":"'INVENT.Mat&Outillag Importé -10'!H965","v":0},null,0,0,0,0,0,0,null,null,0,0,0,0]
[960,{"$f":"'INVENT.Mat&Outillag Importé -10'!B966","v":0},{"$f":"'INVENT.Mat&Outillag Importé -10'!F966","v":0},{"$f":"'INVENT.Mat&Outillag Importé -10'!C966","v":0},{"$f":"'INVENT.Mat&Outillag Importé -10'!H966","v":0},null,0,0,0,0,0,0,null,null,0,0,0,0]
[961,{"$f":"'INVENT.Mat&Outillag Importé -10'!B967","v":0},{"$f":"'INVENT.Mat&Outillag Importé -10'!F967","v":0},{"$f":"'INVENT.Mat&Outillag Importé -10'!C967","v":0},{"$f":"'INVENT.Mat&Outillag Importé -10'!H967","v":0},null,0,0,0,0,0,0,null,null,0,0,0,0]
[962,{"$f":"'INVENT.Mat&Outillag Importé -10'!B968","v":0},{"$f":"'INVENT.Mat&Outillag Importé -10'!F968","v":0},{"$f":"'INVENT.Mat&Outillag Importé -10'!C968","v":0},{"$f":"'INVENT.Mat&Outillag Importé -10'!H968","v":0},null,0,0,0,0,0,0,null,null,0,0,0,0]
[963,{"$f":"'INVENT.Mat&Outillag Importé -10'!B969","v":0},{"$f":"'INVENT.Mat&Outillag Importé -10'!F969","v":0},{"$f":"'INVENT.Mat&Outillag Importé -10'!C969","v":0},{"$f":"'INVENT.Mat&Outillag Importé -10'!H969","v":0},null,0,0,0,0,0,0,null,null,0,0,0,0]
[964,{"$f":"'INVENT.Mat&Outillag Importé -10'!B970","v":0},{"$f":"'INVENT.Mat&Outillag Importé -10'!F970","v":0},{"$f":"'INVENT.Mat&Outillag Importé -10'!C970","v":0},{"$f":"'INVENT.Mat&Outillag Importé -10'!H970","v":0},null,0,0,0,0,0,0,null,null,0,0,0,0]
[965,{"$f":"'INVENT.Mat&Outillag Importé -10'!B971","v":0},{"$f":"'INVENT.Mat&Outillag Importé -10'!F971","v":0},{"$f":"'INVENT.Mat&Outillag Importé -10'!C971","v":0},{"$f":"'INVENT.Mat&Outillag Importé -10'!H971","v":0},null,0,0,0,0,0,0,null,null,0,0,0,0]
[966,{"$f":"'INVENT.Mat&Outillag Importé -10'!B972","v":0},{"$f":"'INVENT.Mat&Outillag Importé -10'!F972","v":0},{"$f":"'INVENT.Mat&Outillag Importé -10'!C972","v":0},{"$f":"'INVENT.Mat&Outillag Importé -10'!H972","v":0},null,0,0,0,0,0,0,null,null,0,0,0,0]
[967,{"$f":"'INVENT.Mat&Outillag Importé -10'!B973","v":0},{"$f":"'INVENT.Mat&Outillag Importé -10'!F973","v":0},{"$f":"'INVENT.Mat&Outillag Importé -10'!C973","v":0},{"$f":"'INVENT.Mat&Outillag Importé -10'!H973","v":0},null,0,0,0,0,0,0,null,null,0,0,0,0]
[968,{"$f":"'INVENT.Mat&Outillag Importé -10'!B974","v":0},{"$f":"'INVENT.Mat&Outillag Importé -10'!F974","v":0},{"$f":"'INVENT.Mat&Outillag Importé -10'!C974","v":0},{"$f":"'INVENT.Mat&Outillag Importé -10'!H974","v":0},null,0,0,0,0,0,0,null,null,0,0,0,0]
[969,{"$f":"'INVENT.Mat&Outillag Importé -10'!B975","v":0},{"$f":"'INVENT.Mat&Outillag Importé -10'!F975","v":0},{"$f":"'INVENT.Mat&Outillag Importé -10'!C975","v":0},{"$f":"'INVENT.Mat&Outillag Importé -10'!H975","v":0},null,0,0,0,0,0,0,null,null,0,0,0,0]
[970,{"$f":"'INVENT.Mat&Outillag Importé -10'!B976","v":0},{"$f":"'INVENT.Mat&Outillag Importé -10'!F976","v":0},{"$f":"'INVENT.Mat&Outillag Importé -10'!C976","v":0},{"$f":"'INVENT.Mat&Outillag Importé -10'!H976","v":0},null,0,0,0,0,0,0,null,null,0,0,0,0]
[971,{"$f":"'INVENT.Mat&Outillag Importé -10'!B977","v":0},{"$f":"'INVENT.Mat&Outillag Importé -10'!F977","v":0},{"$f":"'INVENT.Mat&Outillag Importé -10'!C977","v":0},{"$f":"'INVENT.Mat&Outillag Importé -10'!H977","v":0},null,0,0,0,0,0,0,null,null,0,0,0,0]
[972,{"$f":"'INVENT.Mat&Outillag Importé -10'!B978","v":0},{"$f":"'INVENT.Mat&Outillag Importé -10'!F978","v":0},{"$f":"'INVENT.Mat&Outillag Importé -10'!C978","v":0},{"$f":"'INVENT.Mat&Outillag Importé -10'!H978","v":0},null,0,0,0,0,0,0,null,null,0,0,0,0]
[973,{"$f":"'INVENT.Mat&Outillag Importé -10'!B979","v":0},{"$f":"'INVENT.Mat&Outillag Importé -10'!F979","v":0},{"$f":"'INVENT.Mat&Outillag Importé -10'!C979","v":0},{"$f":"'INVENT.Mat&Outillag Importé -10'!H979","v":0},null,0,0,0,0,0,0,null,null,0,0,0,0]
[974,{"$f":"'INVENT.Mat&Outillag Importé -10'!B980","v":0},{"$f":"'INVENT.Mat&Outillag Importé -10'!F980","v":0},{"$f":"'INVENT.Mat&Outillag Importé -10'!C980","v":0},{"$f":"'INVENT.Mat&Outillag Importé -10'!H980","v":0},null,0,0,0,0,0,0,null,null,0,0,0,0]
[975,{"$f":"'INVENT.Mat&Outillag Importé -10'!B981","v":0},{"$f":"'INVENT.Mat&Outillag Importé -10'!F981","v":0},{"$f":"'INVENT.Mat&Outillag Importé -10'!C981","v":0},{"$f":"'INVENT.Mat&Outillag Importé -10'!H981","v":0},null,0,0,0,0,0,0,null,null,0,0,0,0]
[976,{"$f":"'INVENT.Mat&Outillag Importé -10'!B982","v":0},{"$f":"'INVENT.Mat&Outillag Importé -10'!F982","v":0},{"$f":"'INVENT.Mat&Outillag Importé -10'!C982","v":0},{"$f":"'INVENT.Mat&Outillag Importé -10'!H982","v":0},null,0,0,0,0,0,0,null,null,0,0,0,0]
[977,{"$f":"'INVENT.Mat&Outillag Importé -10'!B983","v":0},{"$f":"'INVENT.Mat&Outillag Importé -10'!F983","v":0},{"$f":"'INVENT.Mat&Outillag Importé -10'!C983","v":0},{"$f":"'INVENT.Mat&Outillag Importé -10'!H983","v":0},null,0,0,0,0,0,0,null,null,0,0,0,0]
[978,{"$f":"'INVENT.Mat&Outillag Importé -10'!B984","v":0},{"$f":"'INVENT.Mat&Outillag Importé -10'!F984","v":0},{"$f":"'INVENT.Mat&Outillag Importé -10'!C984","v":0},{"$f":"'INVENT.Mat&Outillag Importé -10'!H984","v":0},null,0,0,0,0,0,0,null,null,0,0,0,0]
[979,{"$f":"'INVENT.Mat&Outillag Importé -10'!B985","v":0},{"$f":"'INVENT.Mat&Outillag Importé -10'!F985","v":0},{"$f":"'INVENT.Mat&Outillag Importé -10'!C985","v":0},{"$f":"'INVENT.Mat&Outillag Importé -10'!H985","v":0},null,0,0,0,0,0,0,null,null,0,0,0,0]
[980,{"$f":"'INVENT.Mat&Outillag Importé -10'!B986","v":0},{"$f":"'INVENT.Mat&Outillag Importé -10'!F986","v":0},{"$f":"'INVENT.Mat&Outillag Importé -10'!C986","v":0},{"$f":"'INVENT.Mat&Outillag Importé -10'!H986","v":0},null,0,0,0,0,0,0,null,null,0,0,0,0]
[981,{"$f":"'INVENT.Mat&Outillag Importé -10'!B987","v":0},{"$f":"'INVENT.Mat&Outillag Importé -10'!F987","v":0},{"$f":"'INVENT.Mat&Outillag Importé -10'!C987","v":0},{"$f":"'INVENT.Mat&Outillag Importé -10'!H987","v":0},null,0,0,0,0,0,0,null,null,0,0,0,0]
[982,{"$f":"'INVENT.Mat&Outillag Importé -10'!B988","v":0},{"$f":"'INVENT.Mat&Outillag Importé -10'!F988","v":0},{"$f":"'INVENT.Mat&Outillag Importé -10'!C988","v":0},{"$f":"'INVENT.Mat&Outillag Importé -10'!H988","v":0},null,0,0,0,0,0,0,null,null,0,0,0,0]
[983,{"$f":"'INVENT.Mat&Outillag Importé -10'!B989","v":0},{"$f":"'INVENT.Mat&Outillag Importé -10'!F989","v":0},{"$f":"'INVENT.Mat&Outillag Importé -10'!C989","v":0},{"$f":"'INVENT.Mat&Outillag Importé -10'!H989","v":0},null,0,0,0,0,0,0,null,null,0,0,0,0]
[984,{"$f":"'INVENT.Mat&Outillag Importé -10'!B990","v":0},{"$f":"'INVENT.Mat&Outillag Importé -10'!F990","v":0},{"$f":"'INVENT.Mat&Outillag Importé -10'!C990","v":0},{"$f":"'INVENT.Mat&Outillag Importé -10'!H990","v":0},null,0,0,0,0,0,0,null,null,0,0,0,0]
[985,{"$f":"'INVENT.Mat&Outillag Importé -10'!B991","v":0},{"$f":"'INVENT.Mat&Outillag Importé -10'!F991","v":0},{"$f":"'INVENT.Mat&Outillag Importé -10'!C991","v":0},{"$f":"'INVENT.Mat&Outillag Importé -10'!H991","v":0},null,0,0,0,0,0,0,null,null,0,0,0,0]
[986,{"$f":"'INVENT.Mat&Outillag Importé -10'!B992","v":0},{"$f":"'INVENT.Mat&Outillag Importé -10'!F992","v":0},{"$f":"'INVENT.Mat&Outillag Importé -10'!C992","v":0},{"$f":"'INVENT.Mat&Outillag Importé -10'!H992","v":0},null,0,0,0,0,0,0,null,null,0,0,0,0]
[987,{"$f":"'INVENT.Mat&Outillag Importé -10'!B993","v":0},{"$f":"'INVENT.Mat&Outillag Importé -10'!F993","v":0},{"$f":"'INVENT.Mat&Outillag Importé -10'!C993","v":0},{"$f":"'INVENT.Mat&Outillag Importé -10'!H993","v":0},null,0,0,0,0,0,0,null,null,0,0,0,0]
[988,{"$f":"'INVENT.Mat&Outillag Importé -10'!B994","v":0},{"$f":"'INVENT.Mat&Outillag Importé -10'!F994","v":0},{"$f":"'INVENT.Mat&Outillag Importé -10'!C994","v":0},{"$f":"'INVENT.Mat&Outillag Importé -10'!H994","v":0},null,0,0,0,0,0,0,null,null,0,0,0,0]
[989,{"$f":"'INVENT.Mat&Outillag Importé -10'!B995","v":0},{"$f":"'INVENT.Mat&Outillag Importé -10'!F995","v":0},{"$f":"'INVENT.Mat&Outillag Importé -10'!C995","v":0},{"$f":"'INVENT.Mat&Outillag Importé -10'!H995","v":0},null,0,0,0,0,0,0,null,null,0,0,0,0]
[990,{"$f":"'INVENT.Mat&Outillag Importé -10'!B996","v":0},{"$f":"'INVENT.Mat&Outillag Importé -10'!F996","v":0},{"$f":"'INVENT.Mat&Outillag Importé -10'!C996","v":0},{"$f":"'INVENT.Mat&Outillag Importé -10'!H996","v":0},null,0,0,0,0,0,0,null,null,0,0,0,0]
[991,{"$f":"'INVENT.Mat&Outillag Importé -10'!B997","v":0},{"$f":"'INVENT.Mat&Outillag Importé -10'!F997","v":0},{"$f":"'INVENT.Mat&Outillag Importé -10'!C997","v":0},{"$f":"'INVENT.Mat&Outillag Importé -10'!H997","v":0},null,0,0,0,0,0,0,null,null,0,0,0,0]
[992,{"$f":"'INVENT.Mat&Outillag Importé -10'!B998","v":0},{"$f":"'INVENT.Mat&Outillag Importé -10'!F998","v":0},{"$f":"'INVENT.Mat&Outillag Importé -10'!C998","v":0},{"$f":"'INVENT.Mat&Outillag Importé -10'!H998","v":0},null,0,0,0,0,0,0,null,null,0,0,0,0]
[993,{"$f":"'INVENT.Mat&Outillag Importé -10'!B999","v":0},{"$f":"'INVENT.Mat&Outillag Importé -10'!F999","v":0},{"$f":"'INVENT.Mat&Outillag Importé -10'!C999","v":0},{"$f":"'INVENT.Mat&Outillag Importé -10'!H999","v":0},null,0,0,0,0,0,0,null,null,0,0,0,0]
[994,{"$f":"'INVENT.Mat&Outillag Importé -10'!B1000","v":0},{"$f":"'INVENT.Mat&Outillag Importé -10'!F1000","v":0},{"$f":"'INVENT.Mat&Outillag Importé -10'!C1000","v":0},{"$f":"'INVENT.Mat&Outillag Importé -10'!H1000","v":0},null,0,0,0,0,0,0,null,null,0,0,0,0]
[995,{"$f":"'INVENT.Mat&Outillag Importé -10'!B1001","v":0},{"$f":"'INVENT.Mat&Outillag Importé -10'!F1001","v":0},{"$f":"'INVENT.Mat&Outillag Importé -10'!C1001","v":0},{"$f":"'INVENT.Mat&Outillag Importé -10'!H1001","v":0},null,0,0,0,0,0,0,null,null,0,0,0,0]
[996,{"$f":"'INVENT.Mat&Outillag Importé -10'!B1002","v":0},{"$f":"'INVENT.Mat&Outillag Importé -10'!F1002","v":0},{"$f":"'INVENT.Mat&Outillag Importé -10'!C1002","v":0},{"$f":"'INVENT.Mat&Outillag Importé -10'!H1002","v":0},null,0,0,0,0,0,0,null,null,0,0,0,0]
[997,{"$f":"'INVENT.Mat&Outillag Importé -10'!B1003","v":0},{"$f":"'INVENT.Mat&Outillag Importé -10'!F1003","v":0},{"$f":"'INVENT.Mat&Outillag Importé -10'!C1003","v":0},{"$f":"'INVENT.Mat&Outillag Importé -10'!H1003","v":0},null,0,0,0,0,0,0,null,null,0,0,0,0]
[998,{"$f":"'INVENT.Mat&Outillag Importé -10'!B1004","v":0},{"$f":"'INVENT.Mat&Outillag Importé -10'!F1004","v":0},{"$f":"'INVENT.Mat&Outillag Importé -10'!C1004","v":0},{"$f":"'INVENT.Mat&Outillag Importé -10'!H1004","v":0},null,0,0,0,0,0,0,null,null,0,0,0,0]
[999,{"$f":"'INVENT.Mat&Outillag Importé -10'!B1005","v":0},{"$f":"'INVENT.Mat&Outillag Importé -10'!F1005","v":0},{"$f":"'INVENT.Mat&Outillag Importé -10'!C1005","v":0},{"$f":"'INVENT.Mat&Outillag Importé -10'!H1005","v":0},null,0,0,0,0,0,0,null,null,0,0,0,0]
[{"$f":"+A1006+1","v":1000},{"$f":"'INVENT.Mat&Outillag Importé -10'!B1006","v":0},{"$f":"'INVENT.Mat&Outillag Importé -10'!F1006","v":0},{"$f":"'INVENT.Mat&Outillag Importé -10'!C1006","v":0},{"$f":"'INVENT.Mat&Outillag Importé -10'!H1006","v":0},null,{"$f":"F1007*E1007","v":0},0,0,0,{"$f":"(E1007+G1007+H1007)*18%","v":0},{"$f":"SUM(G1007:K1007)+E1007","v":0},null,null,{"$f":"(M1007+N1007)*18%","v":0},{"$f":"O1007+N1007+M1007","v":0},{"$f":"+R1007-O1007-K1007","v":0},{"$f":"P1007+L1007","v":0}]

{"sheet":"INVEST.Matériels Transport - 10","index":34,"n_rows":1007,"n_cols":18,"rows_kept":1007,"cut":false,"hidden":false,"merged":[[3,16,4,16],[2,2,4,2],[2,0,4,0],[3,17,4,17],[2,1,4,1],[2,16,2,17],[3,3,4,3],[3,4,4,4],[3,5,3,6],[3,7,4,7],[3,9,4,9],[3,10,4,10],[3,11,4,11],[3,12,4,12],[3,13,4,13],[3,14,4,14],[3,15,4,15],[3,8,4,8]]}
[null,null,null,{"$f":"'REFERENCES - 10'!D7","v":0},null,{"$f":"'REFERENCES - 10'!D9","v":0}]
[null,"INVESTISSEMENTS PREVUS SUR LA PERIODE DE REALISATION DU PROJET",null,null,null,null,null,null,null,null,null,null,null,null,null,null,null,"(En F. Cfa)"]
["N°","Désignation","Quantité","ACHAT A L'ETRANGER (en F. Cfa)",null,null,null,null,null,null,null,null,"ACHAT EN COTE D'IVOIRE (en F. Cfa)",null,null,null,"Coût total des Investissements "]
[null,null,null,"Position tarifaire","Cout CAF","Droit de douane / Droit fiscaux",null,"RSTAT (1%)","PCS\n(1%)","PCC\n (0,5%)","TVA sur Droit de Douane","Total Achat à l'étranger","Achats HT"," Coûts locaux (Transport, montage,..)","T.V.A","Total Achat en RCI","Coût total HT","Coût total TTC"]
[null,null,null,null,null,"Taux","Montant"]
[]
[null,"MATERIELS DE TRANSPORT",null,null,{"$f":"SUM(E8:E57)","v":0},null,{"$f":"SUM(G8:G57)","v":0},0,0,0,0,0,0,0,0,0,0,0]
[1,{"$f":"'INVENT.Mat Transp importés - 10'!B7","v":0},{"$f":"'INVENT.Mat Transp importés - 10'!F7","v":0},{"$f":"'INVENT.Mat Transp importés - 10'!C7","v":0},{"$f":"'INVENT.Mat Transp importés - 10'!H7","v":0},null,{"$f":"F8*E8","v":0},{"$f":"E8*1%","v":0},{"$f":"E8*1%","v":0},{"$f":"E8*0.5%","v":0},{"$f":"(E8+G8+H8)*18%","v":0},{"$f":"SUM(G8:K8)+E8","v":0},null,null,{"$f":"(M8+N8)*18%","v":0},{"$f":"O8+N8+M8","v":0},{"$f":"+R8-O8-K8","v":0},{"$f":"P8+L8","v":0}]
[{"$f":"+A8+1","v":2},{"$f":"'INVENT.Mat Transp importés - 10'!B8","v":0},{"$f":"'INVENT.Mat Transp importés - 10'!F8","v":0},{"$f":"'INVENT.Mat Transp importés - 10'!C8","v":0},{"$f":"'INVENT.Mat Transp importés - 10'!H8","v":0},null,{"$f":"F9*E9","v":0},{"$f":"E9*1%","v":0},{"$f":"E9*1%","v":0},{"$f":"E9*0.5%","v":0},{"$f":"(E9+G9+H9)*18%","v":0},0,null,null,{"$f":"(M9+N9)*18%","v":0},{"$f":"O9+N9+M9","v":0},{"$f":"+R9-O9-K9","v":0},{"$f":"P9+L9","v":0}]
[{"$f":"+A9+1","v":3},{"$f":"'INVENT.Mat Transp importés - 10'!B9","v":0},{"$f":"'INVENT.Mat Transp importés - 10'!F9","v":0},{"$f":"'INVENT.Mat Transp importés - 10'!C9","v":0},{"$f":"'INVENT.Mat Transp importés - 10'!H9","v":0},null,{"$f":"F10*E10","v":0},0,0,0,{"$f":"(E10+G10+H10)*18%","v":0},0,null,null,{"$f":"(M10+N10)*18%","v":0},{"$f":"O10+N10+M10","v":0},{"$f":"+R10-O10-K10","v":0},{"$f":"P10+L10","v":0}]
[4,{"$f":"'INVENT.Mat Transp importés - 10'!B10","v":0},{"$f":"'INVENT.Mat Transp importés - 10'!F10","v":0},{"$f":"'INVENT.Mat Transp importés - 10'!C10","v":0},{"$f":"'INVENT.Mat Transp importés - 10'!H10","v":0},null,0,0,0,0,0,0,null,null,{"$f":"(M11+N11)*18%","v":0},{"$f":"O11+N11+M11","v":0},{"$f":"+R11-O11-K11","v":0},{"$f":"P11+L11","v":0}]
[5,{"$f":"'INVENT.Mat Transp importés - 10'!B11","v":0},{"$f":"'INVENT.Mat Transp importés - 10'!F11","v":0},{"$f":"'INVENT.Mat Transp importés - 10'!C11","v":0},{"$f":"'INVENT.Mat Transp importés - 10'!H11","v":0},null,0,0,0,0,0,0,null,null,0,0,0,0]
[6,{"$f":"'INVENT.Mat Transp importés - 10'!B12","v":0},{"$f":"'INVENT.Mat Transp importés - 10'!F12","v":0},{"$f":"'INVENT.Mat Transp importés - 10'!C12","v":0},{"$f":"'INVENT.Mat Transp importés - 10'!H12","v":0},null,{"$f":"F13*E13","v":0},0,0,0,{"$f":"(E13+G13+H13)*18%","v":0},0,null,null,0,0,0,0]
[7,{"$f":"'INVENT.Mat Transp importés - 10'!B13","v":0},{"$f":"'INVENT.Mat Transp importés - 10'!F13","v":0},{"$f":"'INVENT.Mat Transp importés - 10'!C13","v":0},{"$f":"'INVENT.Mat Transp importés - 10'!H13","v":0},null,0,0,0,0,0,0,null,null,0,0,0,0]
[8,{"$f":"'INVENT.Mat Transp importés - 10'!B14","v":0},{"$f":"'INVENT.Mat Transp importés - 10'!F14","v":0},{"$f":"'INVENT.Mat Transp importés - 10'!C14","v":0},{"$f":"'INVENT.Mat Transp importés - 10'!H14","v":0},null,0,0,0,0,0,0,null,null,0,0,0,0]
[9,{"$f":"'INVENT.Mat Transp importés - 10'!B15","v":0},{"$f":"'INVENT.Mat Transp importés - 10'!F15","v":0},{"$f":"'INVENT.Mat Transp importés - 10'!C15","v":0},{"$f":"'INVENT.Mat Transp importés - 10'!H15","v":0},null,0,0,0,0,0,0,null,null,0,0,0,0]
[10,{"$f":"'INVENT.Mat Transp importés - 10'!B16","v":0},{"$f":"'INVENT.Mat Transp importés - 10'!F16","v":0},{"$f":"'INVENT.Mat Transp importés - 10'!C16","v":0},{"$f":"'INVENT.Mat Transp importés - 10'!H16","v":0},null,0,0,0,0,0,0,null,null,0,0,0,0]
[11,{"$f":"'INVENT.Mat Transp importés - 10'!B17","v":0},{"$f":"'INVENT.Mat Transp importés - 10'!F17","v":0},{"$f":"'INVENT.Mat Transp importés - 10'!C17","v":0},{"$f":"'INVENT.Mat Transp importés - 10'!H17","v":0},null,0,0,0,0,0,0,null,null,0,0,0,0]
[12,{"$f":"'INVENT.Mat Transp importés - 10'!B18","v":0},{"$f":"'INVENT.Mat Transp importés - 10'!F18","v":0},{"$f":"'INVENT.Mat Transp importés - 10'!C18","v":0},{"$f":"'INVENT.Mat Transp importés - 10'!H18","v":0},null,0,0,0,0,0,0,null,null,0,0,0,0]
[13,{"$f":"'INVENT.Mat Transp importés - 10'!B19","v":0},{"$f":"'INVENT.Mat Transp importés - 10'!F19","v":0},{"$f":"'INVENT.Mat Transp importés - 10'!C19","v":0},{"$f":"'INVENT.Mat Transp importés - 10'!H19","v":0},null,0,0,0,0,0,0,null,null,0,0,0,0]
[14,{"$f":"'INVENT.Mat Transp importés - 10'!B20","v":0},{"$f":"'INVENT.Mat Transp importés - 10'!F20","v":0},{"$f":"'INVENT.Mat Transp importés - 10'!C20","v":0},{"$f":"'INVENT.Mat Transp importés - 10'!H20","v":0},null,0,0,0,0,0,0,null,null,0,0,0,0]
[15,{"$f":"'INVENT.Mat Transp importés - 10'!B21","v":0},{"$f":"'INVENT.Mat Transp importés - 10'!F21","v":0},{"$f":"'INVENT.Mat Transp importés - 10'!C21","v":0},{"$f":"'INVENT.Mat Transp importés - 10'!H21","v":0},null,0,0,0,0,0,0,null,null,0,0,0,0]
[16,{"$f":"'INVENT.Mat Transp importés - 10'!B22","v":0},{"$f":"'INVENT.Mat Transp importés - 10'!F22","v":0},{"$f":"'INVENT.Mat Transp importés - 10'!C22","v":0},{"$f":"'INVENT.Mat Transp importés - 10'!H22","v":0},null,0,0,0,0,0,0,null,null,0,0,0,0]
[17,{"$f":"'INVENT.Mat Transp importés - 10'!B23","v":0},{"$f":"'INVENT.Mat Transp importés - 10'!F23","v":0},{"$f":"'INVENT.Mat Transp importés - 10'!C23","v":0},{"$f":"'INVENT.Mat Transp importés - 10'!H23","v":0},null,0,0,0,0,0,0,null,null,0,0,0,0]
[18,{"$f":"'INVENT.Mat Transp importés - 10'!B24","v":0},{"$f":"'INVENT.Mat Transp importés - 10'!F24","v":0},{"$f":"'INVENT.Mat Transp importés - 10'!C24","v":0},{"$f":"'INVENT.Mat Transp importés - 10'!H24","v":0},null,0,0,0,0,0,0,null,null,0,0,0,0]
[19,{"$f":"'INVENT.Mat Transp importés - 10'!B25","v":0},{"$f":"'INVENT.Mat Transp importés - 10'!F25","v":0},{"$f":"'INVENT.Mat Transp importés - 10'!C25","v":0},{"$f":"'INVENT.Mat Transp importés - 10'!H25","v":0},null,0,0,0,0,0,0,null,null,0,0,0,0]
[20,{"$f":"'INVENT.Mat Transp importés - 10'!B26","v":0},{"$f":"'INVENT.Mat Transp importés - 10'!F26","v":0},{"$f":"'INVENT.Mat Transp importés - 10'!C26","v":0},{"$f":"'INVENT.Mat Transp importés - 10'!H26","v":0},null,0,0,0,0,0,0,null,null,0,0,0,0]
[21,{"$f":"'INVENT.Mat Transp importés - 10'!B27","v":0},{"$f":"'INVENT.Mat Transp importés - 10'!F27","v":0},{"$f":"'INVENT.Mat Transp importés - 10'!C27","v":0},{"$f":"'INVENT.Mat Transp importés - 10'!H27","v":0},null,0,0,0,0,0,0,null,null,0,0,0,0]
[22,{"$f":"'INVENT.Mat Transp importés - 10'!B28","v":0},{"$f":"'INVENT.Mat Transp importés - 10'!F28","v":0},{"$f":"'INVENT.Mat Transp importés - 10'!C28","v":0},{"$f":"'INVENT.Mat Transp importés - 10'!H28","v":0},null,0,0,0,0,0,0,null,null,0,0,0,0]
[23,{"$f":"'INVENT.Mat Transp importés - 10'!B29","v":0},{"$f":"'INVENT.Mat Transp importés - 10'!F29","v":0},{"$f":"'INVENT.Mat Transp importés - 10'!C29","v":0},{"$f":"'INVENT.Mat Transp importés - 10'!H29","v":0},null,0,0,0,0,0,0,null,null,0,0,0,0]
[24,{"$f":"'INVENT.Mat Transp importés - 10'!B30","v":0},{"$f":"'INVENT.Mat Transp importés - 10'!F30","v":0},{"$f":"'INVENT.Mat Transp importés - 10'!C30","v":0},{"$f":"'INVENT.Mat Transp importés - 10'!H30","v":0},null,0,0,0,0,0,0,null,null,0,0,0,0]
[25,{"$f":"'INVENT.Mat Transp importés - 10'!B31","v":0},{"$f":"'INVENT.Mat Transp importés - 10'!F31","v":0},{"$f":"'INVENT.Mat Transp importés - 10'!C31","v":0},{"$f":"'INVENT.Mat Transp importés - 10'!H31","v":0},null,0,0,0,0,0,0,null,null,0,0,0,0]
[26,{"$f":"'INVENT.Mat Transp importés - 10'!B32","v":0},{"$f":"'INVENT.Mat Transp importés - 10'!F32","v":0},{"$f":"'INVENT.Mat Transp importés - 10'!C32","v":0},{"$f":"'INVENT.Mat Transp importés - 10'!H32","v":0},null,0,0,0,0,0,0,null,null,0,0,0,0]
[27,{"$f":"'INVENT.Mat Transp importés - 10'!B33","v":0},{"$f":"'INVENT.Mat Transp importés - 10'!F33","v":0},{"$f":"'INVENT.Mat Transp importés - 10'!C33","v":0},{"$f":"'INVENT.Mat Transp importés - 10'!H33","v":0},null,0,0,0,0,0,0,null,null,0,0,0,0]
[28,{"$f":"'INVENT.Mat Transp importés - 10'!B34","v":0},{"$f":"'INVENT.Mat Transp importés - 10'!F34","v":0},{"$f":"'INVENT.Mat Transp importés - 10'!C34","v":0},{"$f":"'INVENT.Mat Transp importés - 10'!H34","v":0},null,0,0,0,0,0,0,null,null,0,0,0,0]
[29,{"$f":"'INVENT.Mat Transp importés - 10'!B35","v":0},{"$f":"'INVENT.Mat Transp importés - 10'!F35","v":0},{"$f":"'INVENT.Mat Transp importés - 10'!C35","v":0},{"$f":"'INVENT.Mat Transp importés - 10'!H35","v":0},null,0,0,0,0,0,0,null,null,0,0,0,0]
[30,{"$f":"'INVENT.Mat Transp importés - 10'!B36","v":0},{"$f":"'INVENT.Mat Transp importés - 10'!F36","v":0},{"$f":"'INVENT.Mat Transp importés - 10'!C36","v":0},{"$f":"'INVENT.Mat Transp importés - 10'!H36","v":0},null,0,0,0,0,0,0,null,null,0,0,0,0]
[31,{"$f":"'INVENT.Mat Transp importés - 10'!B37","v":0},{"$f":"'INVENT.Mat Transp importés - 10'!F37","v":0},{"$f":"'INVENT.Mat Transp importés - 10'!C37","v":0},{"$f":"'INVENT.Mat Transp importés - 10'!H37","v":0},null,0,0,0,0,0,0,null,null,0,0,0,0]
[32,{"$f":"'INVENT.Mat Transp importés - 10'!B38","v":0},{"$f":"'INVENT.Mat Transp importés - 10'!F38","v":0},{"$f":"'INVENT.Mat Transp importés - 10'!C38","v":0},{"$f":"'INVENT.Mat Transp importés - 10'!H38","v":0},null,0,0,0,0,0,0,null,null,0,0,0,0]
[33,{"$f":"'INVENT.Mat Transp importés - 10'!B39","v":0},{"$f":"'INVENT.Mat Transp importés - 10'!F39","v":0},{"$f":"'INVENT.Mat Transp importés - 10'!C39","v":0},{"$f":"'INVENT.Mat Transp importés - 10'!H39","v":0},null,0,0,0,0,0,0,null,null,0,0,0,0]
[34,{"$f":"'INVENT.Mat Transp importés - 10'!B40","v":0},{"$f":"'INVENT.Mat Transp importés - 10'!F40","v":0},{"$f":"'INVENT.Mat Transp importés - 10'!C40","v":0},{"$f":"'INVENT.Mat Transp importés - 10'!H40","v":0},null,0,0,0,0,0,0,null,null,0,0,0,0]
[35,{"$f":"'INVENT.Mat Transp importés - 10'!B41","v":0},{"$f":"'INVENT.Mat Transp importés - 10'!F41","v":0},{"$f":"'INVENT.Mat Transp importés - 10'!C41","v":0},{"$f":"'INVENT.Mat Transp importés - 10'!H41","v":0},null,0,0,0,0,0,0,null,null,0,0,0,0]
[36,{"$f":"'INVENT.Mat Transp importés - 10'!B42","v":0},{"$f":"'INVENT.Mat Transp importés - 10'!F42","v":0},{"$f":"'INVENT.Mat Transp importés - 10'!C42","v":0},{"$f":"'INVENT.Mat Transp importés - 10'!H42","v":0},null,0,0,0,0,0,0,null,null,0,0,0,0]
[37,{"$f":"'INVENT.Mat Transp importés - 10'!B43","v":0},{"$f":"'INVENT.Mat Transp importés - 10'!F43","v":0},{"$f":"'INVENT.Mat Transp importés - 10'!C43","v":0},{"$f":"'INVENT.Mat Transp importés - 10'!H43","v":0},null,0,0,0,0,0,0,null,null,0,0,0,0]
[38,{"$f":"'INVENT.Mat Transp importés - 10'!B44","v":0},{"$f":"'INVENT.Mat Transp importés - 10'!F44","v":0},{"$f":"'INVENT.Mat Transp importés - 10'!C44","v":0},{"$f":"'INVENT.Mat Transp importés - 10'!H44","v":0},null,0,0,0,0,0,0,null,null,0,0,0,0]
[39,{"$f":"'INVENT.Mat Transp importés - 10'!B45","v":0},{"$f":"'INVENT.Mat Transp importés - 10'!F45","v":0},{"$f":"'INVENT.Mat Transp importés - 10'!C45","v":0},{"$f":"'INVENT.Mat Transp importés - 10'!H45","v":0},null,0,0,0,0,0,0,null,null,0,0,0,0]
[{"$f":"+A46+1","v":40},{"$f":"'INVENT.Mat Transp importés - 10'!B46","v":0},{"$f":"'INVENT.Mat Transp importés - 10'!F46","v":0},{"$f":"'INVENT.Mat Transp importés - 10'!C46","v":0},{"$f":"'INVENT.Mat Transp importés - 10'!H46","v":0},null,{"$f":"F47*E47","v":0},0,0,0,{"$f":"(E47+G47+H47)*18%","v":0},0,null,null,0,0,0,0]
[41,{"$f":"'INVENT.Mat Transp importés - 10'!B47","v":0},{"$f":"'INVENT.Mat Transp importés - 10'!F47","v":0},{"$f":"'INVENT.Mat Transp importés - 10'!C47","v":0},{"$f":"'INVENT.Mat Transp importés - 10'!H47","v":0},null,0,0,0,0,0,0,null,null,0,0,0,0]
[42,{"$f":"'INVENT.Mat Transp importés - 10'!B48","v":0},{"$f":"'INVENT.Mat Transp importés - 10'!F48","v":0},{"$f":"'INVENT.Mat Transp importés - 10'!C48","v":0},{"$f":"'INVENT.Mat Transp importés - 10'!H48","v":0},null,0,0,0,0,0,0,null,null,0,0,0,0]
[43,{"$f":"'INVENT.Mat Transp importés - 10'!B49","v":0},{"$f":"'INVENT.Mat Transp importés - 10'!F49","v":0},{"$f":"'INVENT.Mat Transp importés - 10'!C49","v":0},{"$f":"'INVENT.Mat Transp importés - 10'!H49","v":0},null,0,0,0,0,0,0,null,null,0,0,0,0]
[44,{"$f":"'INVENT.Mat Transp importés - 10'!B50","v":0},{"$f":"'INVENT.Mat Transp importés - 10'!F50","v":0},{"$f":"'INVENT.Mat Transp importés - 10'!C50","v":0},{"$f":"'INVENT.Mat Transp importés - 10'!H50","v":0},null,0,0,0,0,0,0,null,null,0,0,0,0]
[45,{"$f":"'INVENT.Mat Transp importés - 10'!B51","v":0},{"$f":"'INVENT.Mat Transp importés - 10'!F51","v":0},{"$f":"'INVENT.Mat Transp importés - 10'!C51","v":0},{"$f":"'INVENT.Mat Transp importés - 10'!H51","v":0},null,0,0,0,0,0,0,null,null,0,0,0,0]
[46,{"$f":"'INVENT.Mat Transp importés - 10'!B52","v":0},{"$f":"'INVENT.Mat Transp importés - 10'!F52","v":0},{"$f":"'INVENT.Mat Transp importés - 10'!C52","v":0},{"$f":"'INVENT.Mat Transp importés - 10'!H52","v":0},null,0,0,0,0,0,0,null,null,0,0,0,0]
[47,{"$f":"'INVENT.Mat Transp importés - 10'!B53","v":0},{"$f":"'INVENT.Mat Transp importés - 10'!F53","v":0},{"$f":"'INVENT.Mat Transp importés - 10'!C53","v":0},{"$f":"'INVENT.Mat Transp importés - 10'!H53","v":0},null,0,0,0,0,0,0,null,null,0,0,0,0]
[48,{"$f":"'INVENT.Mat Transp importés - 10'!B54","v":0},{"$f":"'INVENT.Mat Transp importés - 10'!F54","v":0},{"$f":"'INVENT.Mat Transp importés - 10'!C54","v":0},{"$f":"'INVENT.Mat Transp importés - 10'!H54","v":0},null,{"$f":"F55*E55","v":0},0,0,0,{"$f":"(E55+G55+H55)*18%","v":0},{"$f":"SUM(G55:K55)+E55","v":0},null,null,{"$f":"(M55+N55)*18%","v":0},{"$f":"O55+N55+M55","v":0},{"$f":"+R55-O55-K55","v":0},{"$f":"P55+L55","v":0}]
[49,{"$f":"'INVENT.Mat Transp importés - 10'!B55","v":0},{"$f":"'INVENT.Mat Transp importés - 10'!F55","v":0},{"$f":"'INVENT.Mat Transp importés - 10'!C55","v":0},{"$f":"'INVENT.Mat Transp importés - 10'!H55","v":0},null,{"$f":"F56*E56","v":0},0,0,0,{"$f":"(E56+G56+H56)*18%","v":0},{"$f":"SUM(G56:K56)+E56","v":0},null,null,{"$f":"(M56+N56)*18%","v":0},{"$f":"O56+N56+M56","v":0},{"$f":"+R56-O56-K56","v":0},{"$f":"P56+L56","v":0}]
[50,{"$f":"'INVENT.Mat Transp importés - 10'!B56","v":0},{"$f":"'INVENT.Mat Transp importés - 10'!F56","v":0},{"$f":"'INVENT.Mat Transp importés - 10'!C56","v":0},{"$f":"'INVENT.Mat Transp importés - 10'!H56","v":0},null,{"$f":"F57*E57","v":0},0,0,0,{"$f":"(E57+G57+H57)*18%","v":0},{"$f":"SUM(G57:K57)+E57","v":0},null,null,{"$f":"(M57+N57)*18%","v":0},{"$f":"O57+N57+M57","v":0},{"$f":"+R57-O57-K57","v":0},{"$f":"P57+L57","v":0}]
[51,{"$f":"'INVENT.Mat Transp importés - 10'!B57","v":0},{"$f":"'INVENT.Mat Transp importés - 10'!F57","v":0},{"$f":"'INVENT.Mat Transp importés - 10'!C57","v":0},{"$f":"'INVENT.Mat Transp importés - 10'!H57","v":0},null,{"$f":"F58*E58","v":0},{"$f":"E58*1%","v":0},{"$f":"E58*1%","v":0},{"$f":"E58*0.5%","v":0},{"$f":"(E58+G58+H58)*18%","v":0},{"$f":"SUM(G58:K58)+E58","v":0},null,null,{"$f":"(M58+N58)*18%","v":0},{"$f":"O58+N58+M58","v":0},{"$f":"+R58-O58-K58","v":0},{"$f":"P58+L58","v":0}]
[52,{"$f":"'INVENT.Mat Transp importés - 10'!B58","v":0},{"$f":"'INVENT.Mat Transp importés - 10'!F58","v":0},{"$f":"'INVENT.Mat Transp importés - 10'!C58","v":0},{"$f":"'INVENT.Mat Transp importés - 10'!H58","v":0},null,0,0,0,0,0,0,null,null,0,0,0,0]
[53,{"$f":"'INVENT.Mat Transp importés - 10'!B59","v":0},{"$f":"'INVENT.Mat Transp importés - 10'!F59","v":0},{"$f":"'INVENT.Mat Transp importés - 10'!C59","v":0},{"$f":"'INVENT.Mat Transp importés - 10'!H59","v":0},null,0,0,0,0,0,0,null,null,0,0,0,0]
[54,{"$f":"'INVENT.Mat Transp importés - 10'!B60","v":0},{"$f":"'INVENT.Mat Transp importés - 10'!F60","v":0},{"$f":"'INVENT.Mat Transp importés - 10'!C60","v":0},{"$f":"'INVENT.Mat Transp importés - 10'!H60","v":0},null,0,0,0,0,0,0,null,null,0,0,0,0]
[55,{"$f":"'INVENT.Mat Transp importés - 10'!B61","v":0},{"$f":"'INVENT.Mat Transp importés - 10'!F61","v":0},{"$f":"'INVENT.Mat Transp importés - 10'!C61","v":0},{"$f":"'INVENT.Mat Transp importés - 10'!H61","v":0},null,0,0,0,0,0,0,null,null,0,0,0,0]
[56,{"$f":"'INVENT.Mat Transp importés - 10'!B62","v":0},{"$f":"'INVENT.Mat Transp importés - 10'!F62","v":0},{"$f":"'INVENT.Mat Transp importés - 10'!C62","v":0},{"$f":"'INVENT.Mat Transp importés - 10'!H62","v":0},null,0,0,0,0,0,0,null,null,0,0,0,0]
[57,{"$f":"'INVENT.Mat Transp importés - 10'!B63","v":0},{"$f":"'INVENT.Mat Transp importés - 10'!F63","v":0},{"$f":"'INVENT.Mat Transp importés - 10'!C63","v":0},{"$f":"'INVENT.Mat Transp importés - 10'!H63","v":0},null,0,0,0,0,0,0,null,null,0,0,0,0]
[58,{"$f":"'INVENT.Mat Transp importés - 10'!B64","v":0},{"$f":"'INVENT.Mat Transp importés - 10'!F64","v":0},{"$f":"'INVENT.Mat Transp importés - 10'!C64","v":0},{"$f":"'INVENT.Mat Transp importés - 10'!H64","v":0},null,0,0,0,0,0,0,null,null,0,0,0,0]
[59,{"$f":"'INVENT.Mat Transp importés - 10'!B65","v":0},{"$f":"'INVENT.Mat Transp importés - 10'!F65","v":0},{"$f":"'INVENT.Mat Transp importés - 10'!C65","v":0},{"$f":"'INVENT.Mat Transp importés - 10'!H65","v":0},null,0,0,0,0,0,0,null,null,0,0,0,0]
[60,{"$f":"'INVENT.Mat Transp importés - 10'!B66","v":0},{"$f":"'INVENT.Mat Transp importés - 10'!F66","v":0},{"$f":"'INVENT.Mat Transp importés - 10'!C66","v":0},{"$f":"'INVENT.Mat Transp importés - 10'!H66","v":0},null,0,0,0,0,0,0,null,null,0,0,0,0]
[61,{"$f":"'INVENT.Mat Transp importés - 10'!B67","v":0},{"$f":"'INVENT.Mat Transp importés - 10'!F67","v":0},{"$f":"'INVENT.Mat Transp importés - 10'!C67","v":0},{"$f":"'INVENT.Mat Transp importés - 10'!H67","v":0},null,0,0,0,0,0,0,null,null,0,0,0,0]
[62,{"$f":"'INVENT.Mat Transp importés - 10'!B68","v":0},{"$f":"'INVENT.Mat Transp importés - 10'!F68","v":0},{"$f":"'INVENT.Mat Transp importés - 10'!C68","v":0},{"$f":"'INVENT.Mat Transp importés - 10'!H68","v":0},null,0,0,0,0,0,0,null,null,0,0,0,0]
[63,{"$f":"'INVENT.Mat Transp importés - 10'!B69","v":0},{"$f":"'INVENT.Mat Transp importés - 10'!F69","v":0},{"$f":"'INVENT.Mat Transp importés - 10'!C69","v":0},{"$f":"'INVENT.Mat Transp importés - 10'!H69","v":0},null,0,0,0,0,0,0,null,null,0,0,0,0]
[64,{"$f":"'INVENT.Mat Transp importés - 10'!B70","v":0},{"$f":"'INVENT.Mat Transp importés - 10'!F70","v":0},{"$f":"'INVENT.Mat Transp importés - 10'!C70","v":0},{"$f":"'INVENT.Mat Transp importés - 10'!H70","v":0},null,0,0,0,0,0,0,null,null,0,0,0,0]
[65,{"$f":"'INVENT.Mat Transp importés - 10'!B71","v":0},{"$f":"'INVENT.Mat Transp importés - 10'!F71","v":0},{"$f":"'INVENT.Mat Transp importés - 10'!C71","v":0},{"$f":"'INVENT.Mat Transp importés - 10'!H71","v":0},null,0,0,0,0,0,0,null,null,0,0,0,0]
[66,{"$f":"'INVENT.Mat Transp importés - 10'!B72","v":0},{"$f":"'INVENT.Mat Transp importés - 10'!F72","v":0},{"$f":"'INVENT.Mat Transp importés - 10'!C72","v":0},{"$f":"'INVENT.Mat Transp importés - 10'!H72","v":0},null,0,0,0,0,0,0,null,null,0,0,0,0]
[67,{"$f":"'INVENT.Mat Transp importés - 10'!B73","v":0},{"$f":"'INVENT.Mat Transp importés - 10'!F73","v":0},{"$f":"'INVENT.Mat Transp importés - 10'!C73","v":0},{"$f":"'INVENT.Mat Transp importés - 10'!H73","v":0},null,0,0,0,0,0,0,null,null,0,0,0,0]
[68,{"$f":"'INVENT.Mat Transp importés - 10'!B74","v":0},{"$f":"'INVENT.Mat Transp importés - 10'!F74","v":0},{"$f":"'INVENT.Mat Transp importés - 10'!C74","v":0},{"$f":"'INVENT.Mat Transp importés - 10'!H74","v":0},null,0,0,0,0,0,0,null,null,0,0,0,0]
[69,{"$f":"'INVENT.Mat Transp importés - 10'!B75","v":0},{"$f":"'INVENT.Mat Transp importés - 10'!F75","v":0},{"$f":"'INVENT.Mat Transp importés - 10'!C75","v":0},{"$f":"'INVENT.Mat Transp importés - 10'!H75","v":0},null,0,0,0,0,0,0,null,null,0,0,0,0]
[70,{"$f":"'INVENT.Mat Transp importés - 10'!B76","v":0},{"$f":"'INVENT.Mat Transp importés - 10'!F76","v":0},{"$f":"'INVENT.Mat Transp importés - 10'!C76","v":0},{"$f":"'INVENT.Mat Transp importés - 10'!H76","v":0},null,0,0,0,0,0,0,null,null,0,0,0,0]
[71,{"$f":"'INVENT.Mat Transp importés - 10'!B77","v":0},{"$f":"'INVENT.Mat Transp importés - 10'!F77","v":0},{"$f":"'INVENT.Mat Transp importés - 10'!C77","v":0},{"$f":"'INVENT.Mat Transp importés - 10'!H77","v":0},null,0,0,0,0,0,0,null,null,0,0,0,0]
[72,{"$f":"'INVENT.Mat Transp importés - 10'!B78","v":0},{"$f":"'INVENT.Mat Transp importés - 10'!F78","v":0},{"$f":"'INVENT.Mat Transp importés - 10'!C78","v":0},{"$f":"'INVENT.Mat Transp importés - 10'!H78","v":0},null,0,0,0,0,0,0,null,null,0,0,0,0]
[73,{"$f":"'INVENT.Mat Transp importés - 10'!B79","v":0},{"$f":"'INVENT.Mat Transp importés - 10'!F79","v":0},{"$f":"'INVENT.Mat Transp importés - 10'!C79","v":0},{"$f":"'INVENT.Mat Transp importés - 10'!H79","v":0},null,0,0,0,0,0,0,null,null,0,0,0,0]
[74,{"$f":"'INVENT.Mat Transp importés - 10'!B80","v":0},{"$f":"'INVENT.Mat Transp importés - 10'!F80","v":0},{"$f":"'INVENT.Mat Transp importés - 10'!C80","v":0},{"$f":"'INVENT.Mat Transp importés - 10'!H80","v":0},null,0,0,0,0,0,0,null,null,0,0,0,0]
[75,{"$f":"'INVENT.Mat Transp importés - 10'!B81","v":0},{"$f":"'INVENT.Mat Transp importés - 10'!F81","v":0},{"$f":"'INVENT.Mat Transp importés - 10'!C81","v":0},{"$f":"'INVENT.Mat Transp importés - 10'!H81","v":0},null,0,0,0,0,0,0,null,null,0,0,0,0]
[76,{"$f":"'INVENT.Mat Transp importés - 10'!B82","v":0},{"$f":"'INVENT.Mat Transp importés - 10'!F82","v":0},{"$f":"'INVENT.Mat Transp importés - 10'!C82","v":0},{"$f":"'INVENT.Mat Transp importés - 10'!H82","v":0},null,0,0,0,0,0,0,null,null,0,0,0,0]
[77,{"$f":"'INVENT.Mat Transp importés - 10'!B83","v":0},{"$f":"'INVENT.Mat Transp importés - 10'!F83","v":0},{"$f":"'INVENT.Mat Transp importés - 10'!C83","v":0},{"$f":"'INVENT.Mat Transp importés - 10'!H83","v":0},null,0,0,0,0,0,0,null,null,0,0,0,0]
[78,{"$f":"'INVENT.Mat Transp importés - 10'!B84","v":0},{"$f":"'INVENT.Mat Transp importés - 10'!F84","v":0},{"$f":"'INVENT.Mat Transp importés - 10'!C84","v":0},{"$f":"'INVENT.Mat Transp importés - 10'!H84","v":0},null,0,0,0,0,0,0,null,null,0,0,0,0]
[79,{"$f":"'INVENT.Mat Transp importés - 10'!B85","v":0},{"$f":"'INVENT.Mat Transp importés - 10'!F85","v":0},{"$f":"'INVENT.Mat Transp importés - 10'!C85","v":0},{"$f":"'INVENT.Mat Transp importés - 10'!H85","v":0},null,0,0,0,0,0,0,null,null,0,0,0,0]
[80,{"$f":"'INVENT.Mat Transp importés - 10'!B86","v":0},{"$f":"'INVENT.Mat Transp importés - 10'!F86","v":0},{"$f":"'INVENT.Mat Transp importés - 10'!C86","v":0},{"$f":"'INVENT.Mat Transp importés - 10'!H86","v":0},null,0,0,0,0,0,0,null,null,0,0,0,0]
[81,{"$f":"'INVENT.Mat Transp importés - 10'!B87","v":0},{"$f":"'INVENT.Mat Transp importés - 10'!F87","v":0},{"$f":"'INVENT.Mat Transp importés - 10'!C87","v":0},{"$f":"'INVENT.Mat Transp importés - 10'!H87","v":0},null,0,0,0,0,0,0,null,null,0,0,0,0]
[82,{"$f":"'INVENT.Mat Transp importés - 10'!B88","v":0},{"$f":"'INVENT.Mat Transp importés - 10'!F88","v":0},{"$f":"'INVENT.Mat Transp importés - 10'!C88","v":0},{"$f":"'INVENT.Mat Transp importés - 10'!H88","v":0},null,0,0,0,0,0,0,null,null,0,0,0,0]
[83,{"$f":"'INVENT.Mat Transp importés - 10'!B89","v":0},{"$f":"'INVENT.Mat Transp importés - 10'!F89","v":0},{"$f":"'INVENT.Mat Transp importés - 10'!C89","v":0},{"$f":"'INVENT.Mat Transp importés - 10'!H89","v":0},null,0,0,0,0,0,0,null,null,0,0,0,0]
[84,{"$f":"'INVENT.Mat Transp importés - 10'!B90","v":0},{"$f":"'INVENT.Mat Transp importés - 10'!F90","v":0},{"$f":"'INVENT.Mat Transp importés - 10'!C90","v":0},{"$f":"'INVENT.Mat Transp importés - 10'!H90","v":0},null,0,0,0,0,0,0,null,null,0,0,0,0]
[85,{"$f":"'INVENT.Mat Transp importés - 10'!B91","v":0},{"$f":"'INVENT.Mat Transp importés - 10'!F91","v":0},{"$f":"'INVENT.Mat Transp importés - 10'!C91","v":0},{"$f":"'INVENT.Mat Transp importés - 10'!H91","v":0},null,0,0,0,0,0,0,null,null,0,0,0,0]
[86,{"$f":"'INVENT.Mat Transp importés - 10'!B92","v":0},{"$f":"'INVENT.Mat Transp importés - 10'!F92","v":0},{"$f":"'INVENT.Mat Transp importés - 10'!C92","v":0},{"$f":"'INVENT.Mat Transp importés - 10'!H92","v":0},null,0,0,0,0,0,0,null,null,0,0,0,0]
[87,{"$f":"'INVENT.Mat Transp importés - 10'!B93","v":0},{"$f":"'INVENT.Mat Transp importés - 10'!F93","v":0},{"$f":"'INVENT.Mat Transp importés - 10'!C93","v":0},{"$f":"'INVENT.Mat Transp importés - 10'!H93","v":0},null,0,0,0,0,0,0,null,null,0,0,0,0]
[88,{"$f":"'INVENT.Mat Transp importés - 10'!B94","v":0},{"$f":"'INVENT.Mat Transp importés - 10'!F94","v":0},{"$f":"'INVENT.Mat Transp importés - 10'!C94","v":0},{"$f":"'INVENT.Mat Transp importés - 10'!H94","v":0},null,0,0,0,0,0,0,null,null,0,0,0,0]
[89,{"$f":"'INVENT.Mat Transp importés - 10'!B95","v":0},{"$f":"'INVENT.Mat Transp importés - 10'!F95","v":0},{"$f":"'INVENT.Mat Transp importés - 10'!C95","v":0},{"$f":"'INVENT.Mat Transp importés - 10'!H95","v":0},null,0,0,0,0,0,0,null,null,0,0,0,0]
[90,{"$f":"'INVENT.Mat Transp importés - 10'!B96","v":0},{"$f":"'INVENT.Mat Transp importés - 10'!F96","v":0},{"$f":"'INVENT.Mat Transp importés - 10'!C96","v":0},{"$f":"'INVENT.Mat Transp importés - 10'!H96","v":0},null,0,0,0,0,0,0,null,null,0,0,0,0]
[91,{"$f":"'INVENT.Mat Transp importés - 10'!B97","v":0},{"$f":"'INVENT.Mat Transp importés - 10'!F97","v":0},{"$f":"'INVENT.Mat Transp importés - 10'!C97","v":0},{"$f":"'INVENT.Mat Transp importés - 10'!H97","v":0},null,0,0,0,0,0,0,null,null,0,0,0,0]
[92,{"$f":"'INVENT.Mat Transp importés - 10'!B98","v":0},{"$f":"'INVENT.Mat Transp importés - 10'!F98","v":0},{"$f":"'INVENT.Mat Transp importés - 10'!C98","v":0},{"$f":"'INVENT.Mat Transp importés - 10'!H98","v":0},null,0,0,0,0,0,0,null,null,0,0,0,0]
[93,{"$f":"'INVENT.Mat Transp importés - 10'!B99","v":0},{"$f":"'INVENT.Mat Transp importés - 10'!F99","v":0},{"$f":"'INVENT.Mat Transp importés - 10'!C99","v":0},{"$f":"'INVENT.Mat Transp importés - 10'!H99","v":0},null,0,0,0,0,0,0,null,null,0,0,0,0]
[94,{"$f":"'INVENT.Mat Transp importés - 10'!B100","v":0},{"$f":"'INVENT.Mat Transp importés - 10'!F100","v":0},{"$f":"'INVENT.Mat Transp importés - 10'!C100","v":0},{"$f":"'INVENT.Mat Transp importés - 10'!H100","v":0},null,0,0,0,0,0,0,null,null,0,0,0,0]
[95,{"$f":"'INVENT.Mat Transp importés - 10'!B101","v":0},{"$f":"'INVENT.Mat Transp importés - 10'!F101","v":0},{"$f":"'INVENT.Mat Transp importés - 10'!C101","v":0},{"$f":"'INVENT.Mat Transp importés - 10'!H101","v":0},null,0,0,0,0,0,0,null,null,0,0,0,0]
[96,{"$f":"'INVENT.Mat Transp importés - 10'!B102","v":0},{"$f":"'INVENT.Mat Transp importés - 10'!F102","v":0},{"$f":"'INVENT.Mat Transp importés - 10'!C102","v":0},{"$f":"'INVENT.Mat Transp importés - 10'!H102","v":0},null,0,0,0,0,0,0,null,null,0,0,0,0]
[97,{"$f":"'INVENT.Mat Transp importés - 10'!B103","v":0},{"$f":"'INVENT.Mat Transp importés - 10'!F103","v":0},{"$f":"'INVENT.Mat Transp importés - 10'!C103","v":0},{"$f":"'INVENT.Mat Transp importés - 10'!H103","v":0},null,0,0,0,0,0,0,null,null,0,0,0,0]
[98,{"$f":"'INVENT.Mat Transp importés - 10'!B104","v":0},{"$f":"'INVENT.Mat Transp importés - 10'!F104","v":0},{"$f":"'INVENT.Mat Transp importés - 10'!C104","v":0},{"$f":"'INVENT.Mat Transp importés - 10'!H104","v":0},null,0,0,0,0,0,0,null,null,0,0,0,0]
[99,{"$f":"'INVENT.Mat Transp importés - 10'!B105","v":0},{"$f":"'INVENT.Mat Transp importés - 10'!F105","v":0},{"$f":"'INVENT.Mat Transp importés - 10'!C105","v":0},{"$f":"'INVENT.Mat Transp importés - 10'!H105","v":0},null,0,0,0,0,0,0,null,null,0,0,0,0]
[100,{"$f":"'INVENT.Mat Transp importés - 10'!B106","v":0},{"$f":"'INVENT.Mat Transp importés - 10'!F106","v":0},{"$f":"'INVENT.Mat Transp importés - 10'!C106","v":0},{"$f":"'INVENT.Mat Transp importés - 10'!H106","v":0},null,0,0,0,0,0,0,null,null,0,0,0,0]
[101,{"$f":"'INVENT.Mat Transp importés - 10'!B107","v":0},{"$f":"'INVENT.Mat Transp importés - 10'!F107","v":0},{"$f":"'INVENT.Mat Transp importés - 10'!C107","v":0},{"$f":"'INVENT.Mat Transp importés - 10'!H107","v":0},null,0,0,0,0,0,0,null,null,0,0,0,0]
[102,{"$f":"'INVENT.Mat Transp importés - 10'!B108","v":0},{"$f":"'INVENT.Mat Transp importés - 10'!F108","v":0},{"$f":"'INVENT.Mat Transp importés - 10'!C108","v":0},{"$f":"'INVENT.Mat Transp importés - 10'!H108","v":0},null,0,0,0,0,0,0,null,null,0,0,0,0]
[103,{"$f":"'INVENT.Mat Transp importés - 10'!B109","v":0},{"$f":"'INVENT.Mat Transp importés - 10'!F109","v":0},{"$f":"'INVENT.Mat Transp importés - 10'!C109","v":0},{"$f":"'INVENT.Mat Transp importés - 10'!H109","v":0},null,0,0,0,0,0,0,null,null,0,0,0,0]
[{"$f":"+A110+1","v":104},{"$f":"'INVENT.Mat Transp importés - 10'!B110","v":0},{"$f":"'INVENT.Mat Transp importés - 10'!F110","v":0},{"$f":"'INVENT.Mat Transp importés - 10'!C110","v":0},{"$f":"'INVENT.Mat Transp importés - 10'!H110","v":0},null,0,0,0,0,0,0,null,null,0,0,0,0]
[105,{"$f":"'INVENT.Mat Transp importés - 10'!B111","v":0},{"$f":"'INVENT.Mat Transp importés - 10'!F111","v":0},{"$f":"'INVENT.Mat Transp importés - 10'!C111","v":0},{"$f":"'INVENT.Mat Transp importés - 10'!H111","v":0},null,0,0,0,0,0,0,null,null,0,0,0,0]
[106,{"$f":"'INVENT.Mat Transp importés - 10'!B112","v":0},{"$f":"'INVENT.Mat Transp importés - 10'!F112","v":0},{"$f":"'INVENT.Mat Transp importés - 10'!C112","v":0},{"$f":"'INVENT.Mat Transp importés - 10'!H112","v":0},null,0,0,0,0,0,0,null,null,0,0,0,0]
[107,{"$f":"'INVENT.Mat Transp importés - 10'!B113","v":0},{"$f":"'INVENT.Mat Transp importés - 10'!F113","v":0},{"$f":"'INVENT.Mat Transp importés - 10'!C113","v":0},{"$f":"'INVENT.Mat Transp importés - 10'!H113","v":0},null,0,0,0,0,0,0,null,null,0,0,0,0]
[108,{"$f":"'INVENT.Mat Transp importés - 10'!B114","v":0},{"$f":"'INVENT.Mat Transp importés - 10'!F114","v":0},{"$f":"'INVENT.Mat Transp importés - 10'!C114","v":0},{"$f":"'INVENT.Mat Transp importés - 10'!H114","v":0},null,0,0,0,0,0,0,null,null,0,0,0,0]
[109,{"$f":"'INVENT.Mat Transp importés - 10'!B115","v":0},{"$f":"'INVENT.Mat Transp importés - 10'!F115","v":0},{"$f":"'INVENT.Mat Transp importés - 10'!C115","v":0},{"$f":"'INVENT.Mat Transp importés - 10'!H115","v":0},null,0,0,0,0,0,0,null,null,0,0,0,0]
[110,{"$f":"'INVENT.Mat Transp importés - 10'!B116","v":0},{"$f":"'INVENT.Mat Transp importés - 10'!F116","v":0},{"$f":"'INVENT.Mat Transp importés - 10'!C116","v":0},{"$f":"'INVENT.Mat Transp importés - 10'!H116","v":0},null,0,0,0,0,0,0,null,null,0,0,0,0]
[111,{"$f":"'INVENT.Mat Transp importés - 10'!B117","v":0},{"$f":"'INVENT.Mat Transp importés - 10'!F117","v":0},{"$f":"'INVENT.Mat Transp importés - 10'!C117","v":0},{"$f":"'INVENT.Mat Transp importés - 10'!H117","v":0},null,0,0,0,0,0,0,null,null,0,0,0,0]
[112,{"$f":"'INVENT.Mat Transp importés - 10'!B118","v":0},{"$f":"'INVENT.Mat Transp importés - 10'!F118","v":0},{"$f":"'INVENT.Mat Transp importés - 10'!C118","v":0},{"$f":"'INVENT.Mat Transp importés - 10'!H118","v":0},null,0,0,0,0,0,0,null,null,0,0,0,0]
[113,{"$f":"'INVENT.Mat Transp importés - 10'!B119","v":0},{"$f":"'INVENT.Mat Transp importés - 10'!F119","v":0},{"$f":"'INVENT.Mat Transp importés - 10'!C119","v":0},{"$f":"'INVENT.Mat Transp importés - 10'!H119","v":0},null,0,0,0,0,0,0,null,null,0,0,0,0]
[114,{"$f":"'INVENT.Mat Transp importés - 10'!B120","v":0},{"$f":"'INVENT.Mat Transp importés - 10'!F120","v":0},{"$f":"'INVENT.Mat Transp importés - 10'!C120","v":0},{"$f":"'INVENT.Mat Transp importés - 10'!H120","v":0},null,0,0,0,0,0,0,null,null,0,0,0,0]
[115,{"$f":"'INVENT.Mat Transp importés - 10'!B121","v":0},{"$f":"'INVENT.Mat Transp importés - 10'!F121","v":0},{"$f":"'INVENT.Mat Transp importés - 10'!C121","v":0},{"$f":"'INVENT.Mat Transp importés - 10'!H121","v":0},null,{"$f":"F122*E122","v":0},{"$f":"E122*1%","v":0},{"$f":"E122*1%","v":0},{"$f":"E122*0.5%","v":0},{"$f":"(E122+G122+H122)*18%","v":0},{"$f":"SUM(G122:K122)+E122","v":0},null,null,{"$f":"(M122+N122)*18%","v":0},{"$f":"O122+N122+M122","v":0},{"$f":"+R122-O122-K122","v":0},{"$f":"P122+L122","v":0}]
[116,{"$f":"'INVENT.Mat Transp importés - 10'!B122","v":0},{"$f":"'INVENT.Mat Transp importés - 10'!F122","v":0},{"$f":"'INVENT.Mat Transp importés - 10'!C122","v":0},{"$f":"'INVENT.Mat Transp importés - 10'!H122","v":0},null,0,0,0,0,0,0,null,null,0,0,0,0]
[117,{"$f":"'INVENT.Mat Transp importés - 10'!B123","v":0},{"$f":"'INVENT.Mat Transp importés - 10'!F123","v":0},{"$f":"'INVENT.Mat Transp importés - 10'!C123","v":0},{"$f":"'INVENT.Mat Transp importés - 10'!H123","v":0},null,0,0,0,0,0,0,null,null,0,0,0,0]
[118,{"$f":"'INVENT.Mat Transp importés - 10'!B124","v":0},{"$f":"'INVENT.Mat Transp importés - 10'!F124","v":0},{"$f":"'INVENT.Mat Transp importés - 10'!C124","v":0},{"$f":"'INVENT.Mat Transp importés - 10'!H124","v":0},null,0,0,0,0,0,0,null,null,0,0,0,0]
[119,{"$f":"'INVENT.Mat Transp importés - 10'!B125","v":0},{"$f":"'INVENT.Mat Transp importés - 10'!F125","v":0},{"$f":"'INVENT.Mat Transp importés - 10'!C125","v":0},{"$f":"'INVENT.Mat Transp importés - 10'!H125","v":0},null,0,0,0,0,0,0,null,null,0,0,0,0]
[120,{"$f":"'INVENT.Mat Transp importés - 10'!B126","v":0},{"$f":"'INVENT.Mat Transp importés - 10'!F126","v":0},{"$f":"'INVENT.Mat Transp importés - 10'!C126","v":0},{"$f":"'INVENT.Mat Transp importés - 10'!H126","v":0},null,0,0,0,0,0,0,null,null,0,0,0,0]
[121,{"$f":"'INVENT.Mat Transp importés - 10'!B127","v":0},{"$f":"'INVENT.Mat Transp importés - 10'!F127","v":0},{"$f":"'INVENT.Mat Transp importés - 10'!C127","v":0},{"$f":"'INVENT.Mat Transp importés - 10'!H127","v":0},null,0,0,0,0,0,0,null,null,0,0,0,0]
[122,{"$f":"'INVENT.Mat Transp importés - 10'!B128","v":0},{"$f":"'INVENT.Mat Transp importés - 10'!F128","v":0},{"$f":"'INVENT.Mat Transp importés - 10'!C128","v":0},{"$f":"'INVENT.Mat Transp importés - 10'!H128","v":0},null,0,0,0,0,0,0,null,null,0,0,0,0]
[123,{"$f":"'INVENT.Mat Transp importés - 10'!B129","v":0},{"$f":"'INVENT.Mat Transp importés - 10'!F129","v":0},{"$f":"'INVENT.Mat Transp importés - 10'!C129","v":0},{"$f":"'INVENT.Mat Transp importés - 10'!H129","v":0},null,0,0,0,0,0,0,null,null,0,0,0,0]
[124,{"$f":"'INVENT.Mat Transp importés - 10'!B130","v":0},{"$f":"'INVENT.Mat Transp importés - 10'!F130","v":0},{"$f":"'INVENT.Mat Transp importés - 10'!C130","v":0},{"$f":"'INVENT.Mat Transp importés - 10'!H130","v":0},null,0,0,0,0,0,0,null,null,0,0,0,0]
[125,{"$f":"'INVENT.Mat Transp importés - 10'!B131","v":0},{"$f":"'INVENT.Mat Transp importés - 10'!F131","v":0},{"$f":"'INVENT.Mat Transp importés - 10'!C131","v":0},{"$f":"'INVENT.Mat Transp importés - 10'!H131","v":0},null,0,0,0,0,0,0,null,null,0,0,0,0]
[126,{"$f":"'INVENT.Mat Transp importés - 10'!B132","v":0},{"$f":"'INVENT.Mat Transp importés - 10'!F132","v":0},{"$f":"'INVENT.Mat Transp importés - 10'!C132","v":0},{"$f":"'INVENT.Mat Transp importés - 10'!H132","v":0},null,0,0,0,0,0,0,null,null,0,0,0,0]
[127,{"$f":"'INVENT.Mat Transp importés - 10'!B133","v":0},{"$f":"'INVENT.Mat Transp importés - 10'!F133","v":0},{"$f":"'INVENT.Mat Transp importés - 10'!C133","v":0},{"$f":"'INVENT.Mat Transp importés - 10'!H133","v":0},null,0,0,0,0,0,0,null,null,0,0,0,0]
[128,{"$f":"'INVENT.Mat Transp importés - 10'!B134","v":0},{"$f":"'INVENT.Mat Transp importés - 10'!F134","v":0},{"$f":"'INVENT.Mat Transp importés - 10'!C134","v":0},{"$f":"'INVENT.Mat Transp importés - 10'!H134","v":0},null,0,0,0,0,0,0,null,null,0,0,0,0]
[129,{"$f":"'INVENT.Mat Transp importés - 10'!B135","v":0},{"$f":"'INVENT.Mat Transp importés - 10'!F135","v":0},{"$f":"'INVENT.Mat Transp importés - 10'!C135","v":0},{"$f":"'INVENT.Mat Transp importés - 10'!H135","v":0},null,0,0,0,0,0,0,null,null,0,0,0,0]
[130,{"$f":"'INVENT.Mat Transp importés - 10'!B136","v":0},{"$f":"'INVENT.Mat Transp importés - 10'!F136","v":0},{"$f":"'INVENT.Mat Transp importés - 10'!C136","v":0},{"$f":"'INVENT.Mat Transp importés - 10'!H136","v":0},null,0,0,0,0,0,0,null,null,0,0,0,0]
[131,{"$f":"'INVENT.Mat Transp importés - 10'!B137","v":0},{"$f":"'INVENT.Mat Transp importés - 10'!F137","v":0},{"$f":"'INVENT.Mat Transp importés - 10'!C137","v":0},{"$f":"'INVENT.Mat Transp importés - 10'!H137","v":0},null,0,0,0,0,0,0,null,null,0,0,0,0]
[132,{"$f":"'INVENT.Mat Transp importés - 10'!B138","v":0},{"$f":"'INVENT.Mat Transp importés - 10'!F138","v":0},{"$f":"'INVENT.Mat Transp importés - 10'!C138","v":0},{"$f":"'INVENT.Mat Transp importés - 10'!H138","v":0},null,0,0,0,0,0,0,null,null,0,0,0,0]
[133,{"$f":"'INVENT.Mat Transp importés - 10'!B139","v":0},{"$f":"'INVENT.Mat Transp importés - 10'!F139","v":0},{"$f":"'INVENT.Mat Transp importés - 10'!C139","v":0},{"$f":"'INVENT.Mat Transp importés - 10'!H139","v":0},null,0,0,0,0,0,0,null,null,0,0,0,0]
[134,{"$f":"'INVENT.Mat Transp importés - 10'!B140","v":0},{"$f":"'INVENT.Mat Transp importés - 10'!F140","v":0},{"$f":"'INVENT.Mat Transp importés - 10'!C140","v":0},{"$f":"'INVENT.Mat Transp importés - 10'!H140","v":0},null,0,0,0,0,0,0,null,null,0,0,0,0]
[135,{"$f":"'INVENT.Mat Transp importés - 10'!B141","v":0},{"$f":"'INVENT.Mat Transp importés - 10'!F141","v":0},{"$f":"'INVENT.Mat Transp importés - 10'!C141","v":0},{"$f":"'INVENT.Mat Transp importés - 10'!H141","v":0},null,0,0,0,0,0,0,null,null,0,0,0,0]
[136,{"$f":"'INVENT.Mat Transp importés - 10'!B142","v":0},{"$f":"'INVENT.Mat Transp importés - 10'!F142","v":0},{"$f":"'INVENT.Mat Transp importés - 10'!C142","v":0},{"$f":"'INVENT.Mat Transp importés - 10'!H142","v":0},null,0,0,0,0,0,0,null,null,0,0,0,0]
[137,{"$f":"'INVENT.Mat Transp importés - 10'!B143","v":0},{"$f":"'INVENT.Mat Transp importés - 10'!F143","v":0},{"$f":"'INVENT.Mat Transp importés - 10'!C143","v":0},{"$f":"'INVENT.Mat Transp importés - 10'!H143","v":0},null,0,0,0,0,0,0,null,null,0,0,0,0]
[138,{"$f":"'INVENT.Mat Transp importés - 10'!B144","v":0},{"$f":"'INVENT.Mat Transp importés - 10'!F144","v":0},{"$f":"'INVENT.Mat Transp importés - 10'!C144","v":0},{"$f":"'INVENT.Mat Transp importés - 10'!H144","v":0},null,0,0,0,0,0,0,null,null,0,0,0,0]
[139,{"$f":"'INVENT.Mat Transp importés - 10'!B145","v":0},{"$f":"'INVENT.Mat Transp importés - 10'!F145","v":0},{"$f":"'INVENT.Mat Transp importés - 10'!C145","v":0},{"$f":"'INVENT.Mat Transp importés - 10'!H145","v":0},null,0,0,0,0,0,0,null,null,0,0,0,0]
[140,{"$f":"'INVENT.Mat Transp importés - 10'!B146","v":0},{"$f":"'INVENT.Mat Transp importés - 10'!F146","v":0},{"$f":"'INVENT.Mat Transp importés - 10'!C146","v":0},{"$f":"'INVENT.Mat Transp importés - 10'!H146","v":0},null,0,0,0,0,0,0,null,null,0,0,0,0]
[141,{"$f":"'INVENT.Mat Transp importés - 10'!B147","v":0},{"$f":"'INVENT.Mat Transp importés - 10'!F147","v":0},{"$f":"'INVENT.Mat Transp importés - 10'!C147","v":0},{"$f":"'INVENT.Mat Transp importés - 10'!H147","v":0},null,0,0,0,0,0,0,null,null,0,0,0,0]
[142,{"$f":"'INVENT.Mat Transp importés - 10'!B148","v":0},{"$f":"'INVENT.Mat Transp importés - 10'!F148","v":0},{"$f":"'INVENT.Mat Transp importés - 10'!C148","v":0},{"$f":"'INVENT.Mat Transp importés - 10'!H148","v":0},null,0,0,0,0,0,0,null,null,0,0,0,0]
[143,{"$f":"'INVENT.Mat Transp importés - 10'!B149","v":0},{"$f":"'INVENT.Mat Transp importés - 10'!F149","v":0},{"$f":"'INVENT.Mat Transp importés - 10'!C149","v":0},{"$f":"'INVENT.Mat Transp importés - 10'!H149","v":0},null,0,0,0,0,0,0,null,null,0,0,0,0]
[144,{"$f":"'INVENT.Mat Transp importés - 10'!B150","v":0},{"$f":"'INVENT.Mat Transp importés - 10'!F150","v":0},{"$f":"'INVENT.Mat Transp importés - 10'!C150","v":0},{"$f":"'INVENT.Mat Transp importés - 10'!H150","v":0},null,0,0,0,0,0,0,null,null,0,0,0,0]
[145,{"$f":"'INVENT.Mat Transp importés - 10'!B151","v":0},{"$f":"'INVENT.Mat Transp importés - 10'!F151","v":0},{"$f":"'INVENT.Mat Transp importés - 10'!C151","v":0},{"$f":"'INVENT.Mat Transp importés - 10'!H151","v":0},null,0,0,0,0,0,0,null,null,0,0,0,0]
[146,{"$f":"'INVENT.Mat Transp importés - 10'!B152","v":0},{"$f":"'INVENT.Mat Transp importés - 10'!F152","v":0},{"$f":"'INVENT.Mat Transp importés - 10'!C152","v":0},{"$f":"'INVENT.Mat Transp importés - 10'!H152","v":0},null,0,0,0,0,0,0,null,null,0,0,0,0]
[147,{"$f":"'INVENT.Mat Transp importés - 10'!B153","v":0},{"$f":"'INVENT.Mat Transp importés - 10'!F153","v":0},{"$f":"'INVENT.Mat Transp importés - 10'!C153","v":0},{"$f":"'INVENT.Mat Transp importés - 10'!H153","v":0},null,0,0,0,0,0,0,null,null,0,0,0,0]
[148,{"$f":"'INVENT.Mat Transp importés - 10'!B154","v":0},{"$f":"'INVENT.Mat Transp importés - 10'!F154","v":0},{"$f":"'INVENT.Mat Transp importés - 10'!C154","v":0},{"$f":"'INVENT.Mat Transp importés - 10'!H154","v":0},null,0,0,0,0,0,0,null,null,0,0,0,0]
[149,{"$f":"'INVENT.Mat Transp importés - 10'!B155","v":0},{"$f":"'INVENT.Mat Transp importés - 10'!F155","v":0},{"$f":"'INVENT.Mat Transp importés - 10'!C155","v":0},{"$f":"'INVENT.Mat Transp importés - 10'!H155","v":0},null,0,0,0,0,0,0,null,null,0,0,0,0]
[150,{"$f":"'INVENT.Mat Transp importés - 10'!B156","v":0},{"$f":"'INVENT.Mat Transp importés - 10'!F156","v":0},{"$f":"'INVENT.Mat Transp importés - 10'!C156","v":0},{"$f":"'INVENT.Mat Transp importés - 10'!H156","v":0},null,0,0,0,0,0,0,null,null,0,0,0,0]
[151,{"$f":"'INVENT.Mat Transp importés - 10'!B157","v":0},{"$f":"'INVENT.Mat Transp importés - 10'!F157","v":0},{"$f":"'INVENT.Mat Transp importés - 10'!C157","v":0},{"$f":"'INVENT.Mat Transp importés - 10'!H157","v":0},null,0,0,0,0,0,0,null,null,0,0,0,0]
[152,{"$f":"'INVENT.Mat Transp importés - 10'!B158","v":0},{"$f":"'INVENT.Mat Transp importés - 10'!F158","v":0},{"$f":"'INVENT.Mat Transp importés - 10'!C158","v":0},{"$f":"'INVENT.Mat Transp importés - 10'!H158","v":0},null,0,0,0,0,0,0,null,null,0,0,0,0]
[153,{"$f":"'INVENT.Mat Transp importés - 10'!B159","v":0},{"$f":"'INVENT.Mat Transp importés - 10'!F159","v":0},{"$f":"'INVENT.Mat Transp importés - 10'!C159","v":0},{"$f":"'INVENT.Mat Transp importés - 10'!H159","v":0},null,0,0,0,0,0,0,null,null,0,0,0,0]
[154,{"$f":"'INVENT.Mat Transp importés - 10'!B160","v":0},{"$f":"'INVENT.Mat Transp importés - 10'!F160","v":0},{"$f":"'INVENT.Mat Transp importés - 10'!C160","v":0},{"$f":"'INVENT.Mat Transp importés - 10'!H160","v":0},null,0,0,0,0,0,0,null,null,0,0,0,0]
[155,{"$f":"'INVENT.Mat Transp importés - 10'!B161","v":0},{"$f":"'INVENT.Mat Transp importés - 10'!F161","v":0},{"$f":"'INVENT.Mat Transp importés - 10'!C161","v":0},{"$f":"'INVENT.Mat Transp importés - 10'!H161","v":0},null,0,0,0,0,0,0,null,null,0,0,0,0]
[156,{"$f":"'INVENT.Mat Transp importés - 10'!B162","v":0},{"$f":"'INVENT.Mat Transp importés - 10'!F162","v":0},{"$f":"'INVENT.Mat Transp importés - 10'!C162","v":0},{"$f":"'INVENT.Mat Transp importés - 10'!H162","v":0},null,0,0,0,0,0,0,null,null,0,0,0,0]
[157,{"$f":"'INVENT.Mat Transp importés - 10'!B163","v":0},{"$f":"'INVENT.Mat Transp importés - 10'!F163","v":0},{"$f":"'INVENT.Mat Transp importés - 10'!C163","v":0},{"$f":"'INVENT.Mat Transp importés - 10'!H163","v":0},null,0,0,0,0,0,0,null,null,0,0,0,0]
[158,{"$f":"'INVENT.Mat Transp importés - 10'!B164","v":0},{"$f":"'INVENT.Mat Transp importés - 10'!F164","v":0},{"$f":"'INVENT.Mat Transp importés - 10'!C164","v":0},{"$f":"'INVENT.Mat Transp importés - 10'!H164","v":0},null,0,0,0,0,0,0,null,null,0,0,0,0]
[159,{"$f":"'INVENT.Mat Transp importés - 10'!B165","v":0},{"$f":"'INVENT.Mat Transp importés - 10'!F165","v":0},{"$f":"'INVENT.Mat Transp importés - 10'!C165","v":0},{"$f":"'INVENT.Mat Transp importés - 10'!H165","v":0},null,0,0,0,0,0,0,null,null,0,0,0,0]
[160,{"$f":"'INVENT.Mat Transp importés - 10'!B166","v":0},{"$f":"'INVENT.Mat Transp importés - 10'!F166","v":0},{"$f":"'INVENT.Mat Transp importés - 10'!C166","v":0},{"$f":"'INVENT.Mat Transp importés - 10'!H166","v":0},null,0,0,0,0,0,0,null,null,0,0,0,0]
[161,{"$f":"'INVENT.Mat Transp importés - 10'!B167","v":0},{"$f":"'INVENT.Mat Transp importés - 10'!F167","v":0},{"$f":"'INVENT.Mat Transp importés - 10'!C167","v":0},{"$f":"'INVENT.Mat Transp importés - 10'!H167","v":0},null,0,0,0,0,0,0,null,null,0,0,0,0]
[162,{"$f":"'INVENT.Mat Transp importés - 10'!B168","v":0},{"$f":"'INVENT.Mat Transp importés - 10'!F168","v":0},{"$f":"'INVENT.Mat Transp importés - 10'!C168","v":0},{"$f":"'INVENT.Mat Transp importés - 10'!H168","v":0},null,0,0,0,0,0,0,null,null,0,0,0,0]
[163,{"$f":"'INVENT.Mat Transp importés - 10'!B169","v":0},{"$f":"'INVENT.Mat Transp importés - 10'!F169","v":0},{"$f":"'INVENT.Mat Transp importés - 10'!C169","v":0},{"$f":"'INVENT.Mat Transp importés - 10'!H169","v":0},null,0,0,0,0,0,0,null,null,0,0,0,0]
[164,{"$f":"'INVENT.Mat Transp importés - 10'!B170","v":0},{"$f":"'INVENT.Mat Transp importés - 10'!F170","v":0},{"$f":"'INVENT.Mat Transp importés - 10'!C170","v":0},{"$f":"'INVENT.Mat Transp importés - 10'!H170","v":0},null,0,0,0,0,0,0,null,null,0,0,0,0]
[165,{"$f":"'INVENT.Mat Transp importés - 10'!B171","v":0},{"$f":"'INVENT.Mat Transp importés - 10'!F171","v":0},{"$f":"'INVENT.Mat Transp importés - 10'!C171","v":0},{"$f":"'INVENT.Mat Transp importés - 10'!H171","v":0},null,0,0,0,0,0,0,null,null,0,0,0,0]
[166,{"$f":"'INVENT.Mat Transp importés - 10'!B172","v":0},{"$f":"'INVENT.Mat Transp importés - 10'!F172","v":0},{"$f":"'INVENT.Mat Transp importés - 10'!C172","v":0},{"$f":"'INVENT.Mat Transp importés - 10'!H172","v":0},null,0,0,0,0,0,0,null,null,0,0,0,0]
[167,{"$f":"'INVENT.Mat Transp importés - 10'!B173","v":0},{"$f":"'INVENT.Mat Transp importés - 10'!F173","v":0},{"$f":"'INVENT.Mat Transp importés - 10'!C173","v":0},{"$f":"'INVENT.Mat Transp importés - 10'!H173","v":0},null,0,0,0,0,0,0,null,null,0,0,0,0]
[{"$f":"+A174+1","v":168},{"$f":"'INVENT.Mat Transp importés - 10'!B174","v":0},{"$f":"'INVENT.Mat Transp importés - 10'!F174","v":0},{"$f":"'INVENT.Mat Transp importés - 10'!C174","v":0},{"$f":"'INVENT.Mat Transp importés - 10'!H174","v":0},null,0,0,0,0,0,0,null,null,0,0,0,0]
[169,{"$f":"'INVENT.Mat Transp importés - 10'!B175","v":0},{"$f":"'INVENT.Mat Transp importés - 10'!F175","v":0},{"$f":"'INVENT.Mat Transp importés - 10'!C175","v":0},{"$f":"'INVENT.Mat Transp importés - 10'!H175","v":0},null,0,0,0,0,0,0,null,null,0,0,0,0]
[170,{"$f":"'INVENT.Mat Transp importés - 10'!B176","v":0},{"$f":"'INVENT.Mat Transp importés - 10'!F176","v":0},{"$f":"'INVENT.Mat Transp importés - 10'!C176","v":0},{"$f":"'INVENT.Mat Transp importés - 10'!H176","v":0},null,0,0,0,0,0,0,null,null,0,0,0,0]
[171,{"$f":"'INVENT.Mat Transp importés - 10'!B177","v":0},{"$f":"'INVENT.Mat Transp importés - 10'!F177","v":0},{"$f":"'INVENT.Mat Transp importés - 10'!C177","v":0},{"$f":"'INVENT.Mat Transp importés - 10'!H177","v":0},null,0,0,0,0,0,0,null,null,0,0,0,0]
[172,{"$f":"'INVENT.Mat Transp importés - 10'!B178","v":0},{"$f":"'INVENT.Mat Transp importés - 10'!F178","v":0},{"$f":"'INVENT.Mat Transp importés - 10'!C178","v":0},{"$f":"'INVENT.Mat Transp importés - 10'!H178","v":0},null,0,0,0,0,0,0,null,null,0,0,0,0]
[173,{"$f":"'INVENT.Mat Transp importés - 10'!B179","v":0},{"$f":"'INVENT.Mat Transp importés - 10'!F179","v":0},{"$f":"'INVENT.Mat Transp importés - 10'!C179","v":0},{"$f":"'INVENT.Mat Transp importés - 10'!H179","v":0},null,0,0,0,0,0,0,null,null,0,0,0,0]
[174,{"$f":"'INVENT.Mat Transp importés - 10'!B180","v":0},{"$f":"'INVENT.Mat Transp importés - 10'!F180","v":0},{"$f":"'INVENT.Mat Transp importés - 10'!C180","v":0},{"$f":"'INVENT.Mat Transp importés - 10'!H180","v":0},null,0,0,0,0,0,0,null,null,0,0,0,0]
[175,{"$f":"'INVENT.Mat Transp importés - 10'!B181","v":0},{"$f":"'INVENT.Mat Transp importés - 10'!F181","v":0},{"$f":"'INVENT.Mat Transp importés - 10'!C181","v":0},{"$f":"'INVENT.Mat Transp importés - 10'!H181","v":0},null,0,0,0,0,0,0,null,null,0,0,0,0]
[176,{"$f":"'INVENT.Mat Transp importés - 10'!B182","v":0},{"$f":"'INVENT.Mat Transp importés - 10'!F182","v":0},{"$f":"'INVENT.Mat Transp importés - 10'!C182","v":0},{"$f":"'INVENT.Mat Transp importés - 10'!H182","v":0},null,0,0,0,0,0,0,null,null,0,0,0,0]
[177,{"$f":"'INVENT.Mat Transp importés - 10'!B183","v":0},{"$f":"'INVENT.Mat Transp importés - 10'!F183","v":0},{"$f":"'INVENT.Mat Transp importés - 10'!C183","v":0},{"$f":"'INVENT.Mat Transp importés - 10'!H183","v":0},null,0,0,0,0,0,0,null,null,0,0,0,0]
[178,{"$f":"'INVENT.Mat Transp importés - 10'!B184","v":0},{"$f":"'INVENT.Mat Transp importés - 10'!F184","v":0},{"$f":"'INVENT.Mat Transp importés - 10'!C184","v":0},{"$f":"'INVENT.Mat Transp importés - 10'!H184","v":0},null,0,0,0,0,0,0,null,null,0,0,0,0]
[179,{"$f":"'INVENT.Mat Transp importés - 10'!B185","v":0},{"$f":"'INVENT.Mat Transp importés - 10'!F185","v":0},{"$f":"'INVENT.Mat Transp importés - 10'!C185","v":0},{"$f":"'INVENT.Mat Transp importés - 10'!H185","v":0},null,{"$f":"F186*E186","v":0},{"$f":"E186*1%","v":0},{"$f":"E186*1%","v":0},{"$f":"E186*0.5%","v":0},{"$f":"(E186+G186+H186)*18%","v":0},{"$f":"SUM(G186:K186)+E186","v":0},null,null,{"$f":"(M186+N186)*18%","v":0},{"$f":"O186+N186+M186","v":0},{"$f":"+R186-O186-K186","v":0},{"$f":"P186+L186","v":0}]
[180,{"$f":"'INVENT.Mat Transp importés - 10'!B186","v":0},{"$f":"'INVENT.Mat Transp importés - 10'!F186","v":0},{"$f":"'INVENT.Mat Transp importés - 10'!C186","v":0},{"$f":"'INVENT.Mat Transp importés - 10'!H186","v":0},null,0,0,0,0,0,0,null,null,0,0,0,0]
[181,{"$f":"'INVENT.Mat Transp importés - 10'!B187","v":0},{"$f":"'INVENT.Mat Transp importés - 10'!F187","v":0},{"$f":"'INVENT.Mat Transp importés - 10'!C187","v":0},{"$f":"'INVENT.Mat Transp importés - 10'!H187","v":0},null,0,0,0,0,0,0,null,null,0,0,0,0]
[182,{"$f":"'INVENT.Mat Transp importés - 10'!B188","v":0},{"$f":"'INVENT.Mat Transp importés - 10'!F188","v":0},{"$f":"'INVENT.Mat Transp importés - 10'!C188","v":0},{"$f":"'INVENT.Mat Transp importés - 10'!H188","v":0},null,0,0,0,0,0,0,null,null,0,0,0,0]
[183,{"$f":"'INVENT.Mat Transp importés - 10'!B189","v":0},{"$f":"'INVENT.Mat Transp importés - 10'!F189","v":0},{"$f":"'INVENT.Mat Transp importés - 10'!C189","v":0},{"$f":"'INVENT.Mat Transp importés - 10'!H189","v":0},null,0,0,0,0,0,0,null,null,0,0,0,0]
[184,{"$f":"'INVENT.Mat Transp importés - 10'!B190","v":0},{"$f":"'INVENT.Mat Transp importés - 10'!F190","v":0},{"$f":"'INVENT.Mat Transp importés - 10'!C190","v":0},{"$f":"'INVENT.Mat Transp importés - 10'!H190","v":0},null,0,0,0,0,0,0,null,null,0,0,0,0]
[185,{"$f":"'INVENT.Mat Transp importés - 10'!B191","v":0},{"$f":"'INVENT.Mat Transp importés - 10'!F191","v":0},{"$f":"'INVENT.Mat Transp importés - 10'!C191","v":0},{"$f":"'INVENT.Mat Transp importés - 10'!H191","v":0},null,0,0,0,0,0,0,null,null,0,0,0,0]
[186,{"$f":"'INVENT.Mat Transp importés - 10'!B192","v":0},{"$f":"'INVENT.Mat Transp importés - 10'!F192","v":0},{"$f":"'INVENT.Mat Transp importés - 10'!C192","v":0},{"$f":"'INVENT.Mat Transp importés - 10'!H192","v":0},null,0,0,0,0,0,0,null,null,0,0,0,0]
[187,{"$f":"'INVENT.Mat Transp importés - 10'!B193","v":0},{"$f":"'INVENT.Mat Transp importés - 10'!F193","v":0},{"$f":"'INVENT.Mat Transp importés - 10'!C193","v":0},{"$f":"'INVENT.Mat Transp importés - 10'!H193","v":0},null,0,0,0,0,0,0,null,null,0,0,0,0]
[188,{"$f":"'INVENT.Mat Transp importés - 10'!B194","v":0},{"$f":"'INVENT.Mat Transp importés - 10'!F194","v":0},{"$f":"'INVENT.Mat Transp importés - 10'!C194","v":0},{"$f":"'INVENT.Mat Transp importés - 10'!H194","v":0},null,0,0,0,0,0,0,null,null,0,0,0,0]
[189,{"$f":"'INVENT.Mat Transp importés - 10'!B195","v":0},{"$f":"'INVENT.Mat Transp importés - 10'!F195","v":0},{"$f":"'INVENT.Mat Transp importés - 10'!C195","v":0},{"$f":"'INVENT.Mat Transp importés - 10'!H195","v":0},null,0,0,0,0,0,0,null,null,0,0,0,0]
[190,{"$f":"'INVENT.Mat Transp importés - 10'!B196","v":0},{"$f":"'INVENT.Mat Transp importés - 10'!F196","v":0},{"$f":"'INVENT.Mat Transp importés - 10'!C196","v":0},{"$f":"'INVENT.Mat Transp importés - 10'!H196","v":0},null,0,0,0,0,0,0,null,null,0,0,0,0]
[191,{"$f":"'INVENT.Mat Transp importés - 10'!B197","v":0},{"$f":"'INVENT.Mat Transp importés - 10'!F197","v":0},{"$f":"'INVENT.Mat Transp importés - 10'!C197","v":0},{"$f":"'INVENT.Mat Transp importés - 10'!H197","v":0},null,0,0,0,0,0,0,null,null,0,0,0,0]
[192,{"$f":"'INVENT.Mat Transp importés - 10'!B198","v":0},{"$f":"'INVENT.Mat Transp importés - 10'!F198","v":0},{"$f":"'INVENT.Mat Transp importés - 10'!C198","v":0},{"$f":"'INVENT.Mat Transp importés - 10'!H198","v":0},null,0,0,0,0,0,0,null,null,0,0,0,0]
[193,{"$f":"'INVENT.Mat Transp importés - 10'!B199","v":0},{"$f":"'INVENT.Mat Transp importés - 10'!F199","v":0},{"$f":"'INVENT.Mat Transp importés - 10'!C199","v":0},{"$f":"'INVENT.Mat Transp importés - 10'!H199","v":0},null,0,0,0,0,0,0,null,null,0,0,0,0]
[194,{"$f":"'INVENT.Mat Transp importés - 10'!B200","v":0},{"$f":"'INVENT.Mat Transp importés - 10'!F200","v":0},{"$f":"'INVENT.Mat Transp importés - 10'!C200","v":0},{"$f":"'INVENT.Mat Transp importés - 10'!H200","v":0},null,0,0,0,0,0,0,null,null,0,0,0,0]
[195,{"$f":"'INVENT.Mat Transp importés - 10'!B201","v":0},{"$f":"'INVENT.Mat Transp importés - 10'!F201","v":0},{"$f":"'INVENT.Mat Transp importés - 10'!C201","v":0},{"$f":"'INVENT.Mat Transp importés - 10'!H201","v":0},null,0,0,0,0,0,0,null,null,0,0,0,0]
[196,{"$f":"'INVENT.Mat Transp importés - 10'!B202","v":0},{"$f":"'INVENT.Mat Transp importés - 10'!F202","v":0},{"$f":"'INVENT.Mat Transp importés - 10'!C202","v":0},{"$f":"'INVENT.Mat Transp importés - 10'!H202","v":0},null,0,0,0,0,0,0,null,null,0,0,0,0]
[197,{"$f":"'INVENT.Mat Transp importés - 10'!B203","v":0},{"$f":"'INVENT.Mat Transp importés - 10'!F203","v":0},{"$f":"'INVENT.Mat Transp importés - 10'!C203","v":0},{"$f":"'INVENT.Mat Transp importés - 10'!H203","v":0},null,0,0,0,0,0,0,null,null,0,0,0,0]
[198,{"$f":"'INVENT.Mat Transp importés - 10'!B204","v":0},{"$f":"'INVENT.Mat Transp importés - 10'!F204","v":0},{"$f":"'INVENT.Mat Transp importés - 10'!C204","v":0},{"$f":"'INVENT.Mat Transp importés - 10'!H204","v":0},null,0,0,0,0,0,0,null,null,0,0,0,0]
[199,{"$f":"'INVENT.Mat Transp importés - 10'!B205","v":0},{"$f":"'INVENT.Mat Transp importés - 10'!F205","v":0},{"$f":"'INVENT.Mat Transp importés - 10'!C205","v":0},{"$f":"'INVENT.Mat Transp importés - 10'!H205","v":0},null,0,0,0,0,0,0,null,null,0,0,0,0]
[200,{"$f":"'INVENT.Mat Transp importés - 10'!B206","v":0},{"$f":"'INVENT.Mat Transp importés - 10'!F206","v":0},{"$f":"'INVENT.Mat Transp importés - 10'!C206","v":0},{"$f":"'INVENT.Mat Transp importés - 10'!H206","v":0},null,0,0,0,0,0,0,null,null,0,0,0,0]
[201,{"$f":"'INVENT.Mat Transp importés - 10'!B207","v":0},{"$f":"'INVENT.Mat Transp importés - 10'!F207","v":0},{"$f":"'INVENT.Mat Transp importés - 10'!C207","v":0},{"$f":"'INVENT.Mat Transp importés - 10'!H207","v":0},null,0,0,0,0,0,0,null,null,0,0,0,0]
[202,{"$f":"'INVENT.Mat Transp importés - 10'!B208","v":0},{"$f":"'INVENT.Mat Transp importés - 10'!F208","v":0},{"$f":"'INVENT.Mat Transp importés - 10'!C208","v":0},{"$f":"'INVENT.Mat Transp importés - 10'!H208","v":0},null,0,0,0,0,0,0,null,null,0,0,0,0]
[203,{"$f":"'INVENT.Mat Transp importés - 10'!B209","v":0},{"$f":"'INVENT.Mat Transp importés - 10'!F209","v":0},{"$f":"'INVENT.Mat Transp importés - 10'!C209","v":0},{"$f":"'INVENT.Mat Transp importés - 10'!H209","v":0},null,0,0,0,0,0,0,null,null,0,0,0,0]
[204,{"$f":"'INVENT.Mat Transp importés - 10'!B210","v":0},{"$f":"'INVENT.Mat Transp importés - 10'!F210","v":0},{"$f":"'INVENT.Mat Transp importés - 10'!C210","v":0},{"$f":"'INVENT.Mat Transp importés - 10'!H210","v":0},null,0,0,0,0,0,0,null,null,0,0,0,0]
[205,{"$f":"'INVENT.Mat Transp importés - 10'!B211","v":0},{"$f":"'INVENT.Mat Transp importés - 10'!F211","v":0},{"$f":"'INVENT.Mat Transp importés - 10'!C211","v":0},{"$f":"'INVENT.Mat Transp importés - 10'!H211","v":0},null,0,0,0,0,0,0,null,null,0,0,0,0]
[206,{"$f":"'INVENT.Mat Transp importés - 10'!B212","v":0},{"$f":"'INVENT.Mat Transp importés - 10'!F212","v":0},{"$f":"'INVENT.Mat Transp importés - 10'!C212","v":0},{"$f":"'INVENT.Mat Transp importés - 10'!H212","v":0},null,0,0,0,0,0,0,null,null,0,0,0,0]
[207,{"$f":"'INVENT.Mat Transp importés - 10'!B213","v":0},{"$f":"'INVENT.Mat Transp importés - 10'!F213","v":0},{"$f":"'INVENT.Mat Transp importés - 10'!C213","v":0},{"$f":"'INVENT.Mat Transp importés - 10'!H213","v":0},null,0,0,0,0,0,0,null,null,0,0,0,0]
[208,{"$f":"'INVENT.Mat Transp importés - 10'!B214","v":0},{"$f":"'INVENT.Mat Transp importés - 10'!F214","v":0},{"$f":"'INVENT.Mat Transp importés - 10'!C214","v":0},{"$f":"'INVENT.Mat Transp importés - 10'!H214","v":0},null,0,0,0,0,0,0,null,null,0,0,0,0]
[209,{"$f":"'INVENT.Mat Transp importés - 10'!B215","v":0},{"$f":"'INVENT.Mat Transp importés - 10'!F215","v":0},{"$f":"'INVENT.Mat Transp importés - 10'!C215","v":0},{"$f":"'INVENT.Mat Transp importés - 10'!H215","v":0},null,0,0,0,0,0,0,null,null,0,0,0,0]
[210,{"$f":"'INVENT.Mat Transp importés - 10'!B216","v":0},{"$f":"'INVENT.Mat Transp importés - 10'!F216","v":0},{"$f":"'INVENT.Mat Transp importés - 10'!C216","v":0},{"$f":"'INVENT.Mat Transp importés - 10'!H216","v":0},null,0,0,0,0,0,0,null,null,0,0,0,0]
[211,{"$f":"'INVENT.Mat Transp importés - 10'!B217","v":0},{"$f":"'INVENT.Mat Transp importés - 10'!F217","v":0},{"$f":"'INVENT.Mat Transp importés - 10'!C217","v":0},{"$f":"'INVENT.Mat Transp importés - 10'!H217","v":0},null,0,0,0,0,0,0,null,null,0,0,0,0]
[212,{"$f":"'INVENT.Mat Transp importés - 10'!B218","v":0},{"$f":"'INVENT.Mat Transp importés - 10'!F218","v":0},{"$f":"'INVENT.Mat Transp importés - 10'!C218","v":0},{"$f":"'INVENT.Mat Transp importés - 10'!H218","v":0},null,0,0,0,0,0,0,null,null,0,0,0,0]
[213,{"$f":"'INVENT.Mat Transp importés - 10'!B219","v":0},{"$f":"'INVENT.Mat Transp importés - 10'!F219","v":0},{"$f":"'INVENT.Mat Transp importés - 10'!C219","v":0},{"$f":"'INVENT.Mat Transp importés - 10'!H219","v":0},null,0,0,0,0,0,0,null,null,0,0,0,0]
[214,{"$f":"'INVENT.Mat Transp importés - 10'!B220","v":0},{"$f":"'INVENT.Mat Transp importés - 10'!F220","v":0},{"$f":"'INVENT.Mat Transp importés - 10'!C220","v":0},{"$f":"'INVENT.Mat Transp importés - 10'!H220","v":0},null,0,0,0,0,0,0,null,null,0,0,0,0]
[215,{"$f":"'INVENT.Mat Transp importés - 10'!B221","v":0},{"$f":"'INVENT.Mat Transp importés - 10'!F221","v":0},{"$f":"'INVENT.Mat Transp importés - 10'!C221","v":0},{"$f":"'INVENT.Mat Transp importés - 10'!H221","v":0},null,0,0,0,0,0,0,null,null,0,0,0,0]
[216,{"$f":"'INVENT.Mat Transp importés - 10'!B222","v":0},{"$f":"'INVENT.Mat Transp importés - 10'!F222","v":0},{"$f":"'INVENT.Mat Transp importés - 10'!C222","v":0},{"$f":"'INVENT.Mat Transp importés - 10'!H222","v":0},null,0,0,0,0,0,0,null,null,0,0,0,0]
[217,{"$f":"'INVENT.Mat Transp importés - 10'!B223","v":0},{"$f":"'INVENT.Mat Transp importés - 10'!F223","v":0},{"$f":"'INVENT.Mat Transp importés - 10'!C223","v":0},{"$f":"'INVENT.Mat Transp importés - 10'!H223","v":0},null,0,0,0,0,0,0,null,null,0,0,0,0]
[218,{"$f":"'INVENT.Mat Transp importés - 10'!B224","v":0},{"$f":"'INVENT.Mat Transp importés - 10'!F224","v":0},{"$f":"'INVENT.Mat Transp importés - 10'!C224","v":0},{"$f":"'INVENT.Mat Transp importés - 10'!H224","v":0},null,0,0,0,0,0,0,null,null,0,0,0,0]
[219,{"$f":"'INVENT.Mat Transp importés - 10'!B225","v":0},{"$f":"'INVENT.Mat Transp importés - 10'!F225","v":0},{"$f":"'INVENT.Mat Transp importés - 10'!C225","v":0},{"$f":"'INVENT.Mat Transp importés - 10'!H225","v":0},null,0,0,0,0,0,0,null,null,0,0,0,0]
[220,{"$f":"'INVENT.Mat Transp importés - 10'!B226","v":0},{"$f":"'INVENT.Mat Transp importés - 10'!F226","v":0},{"$f":"'INVENT.Mat Transp importés - 10'!C226","v":0},{"$f":"'INVENT.Mat Transp importés - 10'!H226","v":0},null,0,0,0,0,0,0,null,null,0,0,0,0]
[221,{"$f":"'INVENT.Mat Transp importés - 10'!B227","v":0},{"$f":"'INVENT.Mat Transp importés - 10'!F227","v":0},{"$f":"'INVENT.Mat Transp importés - 10'!C227","v":0},{"$f":"'INVENT.Mat Transp importés - 10'!H227","v":0},null,0,0,0,0,0,0,null,null,0,0,0,0]
[222,{"$f":"'INVENT.Mat Transp importés - 10'!B228","v":0},{"$f":"'INVENT.Mat Transp importés - 10'!F228","v":0},{"$f":"'INVENT.Mat Transp importés - 10'!C228","v":0},{"$f":"'INVENT.Mat Transp importés - 10'!H228","v":0},null,0,0,0,0,0,0,null,null,0,0,0,0]
[223,{"$f":"'INVENT.Mat Transp importés - 10'!B229","v":0},{"$f":"'INVENT.Mat Transp importés - 10'!F229","v":0},{"$f":"'INVENT.Mat Transp importés - 10'!C229","v":0},{"$f":"'INVENT.Mat Transp importés - 10'!H229","v":0},null,0,0,0,0,0,0,null,null,0,0,0,0]
[224,{"$f":"'INVENT.Mat Transp importés - 10'!B230","v":0},{"$f":"'INVENT.Mat Transp importés - 10'!F230","v":0},{"$f":"'INVENT.Mat Transp importés - 10'!C230","v":0},{"$f":"'INVENT.Mat Transp importés - 10'!H230","v":0},null,0,0,0,0,0,0,null,null,0,0,0,0]
[225,{"$f":"'INVENT.Mat Transp importés - 10'!B231","v":0},{"$f":"'INVENT.Mat Transp importés - 10'!F231","v":0},{"$f":"'INVENT.Mat Transp importés - 10'!C231","v":0},{"$f":"'INVENT.Mat Transp importés - 10'!H231","v":0},null,0,0,0,0,0,0,null,null,0,0,0,0]
[226,{"$f":"'INVENT.Mat Transp importés - 10'!B232","v":0},{"$f":"'INVENT.Mat Transp importés - 10'!F232","v":0},{"$f":"'INVENT.Mat Transp importés - 10'!C232","v":0},{"$f":"'INVENT.Mat Transp importés - 10'!H232","v":0},null,0,0,0,0,0,0,null,null,0,0,0,0]
[227,{"$f":"'INVENT.Mat Transp importés - 10'!B233","v":0},{"$f":"'INVENT.Mat Transp importés - 10'!F233","v":0},{"$f":"'INVENT.Mat Transp importés - 10'!C233","v":0},{"$f":"'INVENT.Mat Transp importés - 10'!H233","v":0},null,0,0,0,0,0,0,null,null,0,0,0,0]
[228,{"$f":"'INVENT.Mat Transp importés - 10'!B234","v":0},{"$f":"'INVENT.Mat Transp importés - 10'!F234","v":0},{"$f":"'INVENT.Mat Transp importés - 10'!C234","v":0},{"$f":"'INVENT.Mat Transp importés - 10'!H234","v":0},null,0,0,0,0,0,0,null,null,0,0,0,0]
[229,{"$f":"'INVENT.Mat Transp importés - 10'!B235","v":0},{"$f":"'INVENT.Mat Transp importés - 10'!F235","v":0},{"$f":"'INVENT.Mat Transp importés - 10'!C235","v":0},{"$f":"'INVENT.Mat Transp importés - 10'!H235","v":0},null,0,0,0,0,0,0,null,null,0,0,0,0]
[230,{"$f":"'INVENT.Mat Transp importés - 10'!B236","v":0},{"$f":"'INVENT.Mat Transp importés - 10'!F236","v":0},{"$f":"'INVENT.Mat Transp importés - 10'!C236","v":0},{"$f":"'INVENT.Mat Transp importés - 10'!H236","v":0},null,0,0,0,0,0,0,null,null,0,0,0,0]
[231,{"$f":"'INVENT.Mat Transp importés - 10'!B237","v":0},{"$f":"'INVENT.Mat Transp importés - 10'!F237","v":0},{"$f":"'INVENT.Mat Transp importés - 10'!C237","v":0},{"$f":"'INVENT.Mat Transp importés - 10'!H237","v":0},null,0,0,0,0,0,0,null,null,0,0,0,0]
[{"$f":"+A238+1","v":232},{"$f":"'INVENT.Mat Transp importés - 10'!B238","v":0},{"$f":"'INVENT.Mat Transp importés - 10'!F238","v":0},{"$f":"'INVENT.Mat Transp importés - 10'!C238","v":0},{"$f":"'INVENT.Mat Transp importés - 10'!H238","v":0},null,0,0,0,0,0,0,null,null,0,0,0,0]
[233,{"$f":"'INVENT.Mat Transp importés - 10'!B239","v":0},{"$f":"'INVENT.Mat Transp importés - 10'!F239","v":0},{"$f":"'INVENT.Mat Transp importés - 10'!C239","v":0},{"$f":"'INVENT.Mat Transp importés - 10'!H239","v":0},null,0,0,0,0,0,0,null,null,0,0,0,0]
[234,{"$f":"'INVENT.Mat Transp importés - 10'!B240","v":0},{"$f":"'INVENT.Mat Transp importés - 10'!F240","v":0},{"$f":"'INVENT.Mat Transp importés - 10'!C240","v":0},{"$f":"'INVENT.Mat Transp importés - 10'!H240","v":0},null,0,0,0,0,0,0,null,null,0,0,0,0]
[235,{"$f":"'INVENT.Mat Transp importés - 10'!B241","v":0},{"$f":"'INVENT.Mat Transp importés - 10'!F241","v":0},{"$f":"'INVENT.Mat Transp importés - 10'!C241","v":0},{"$f":"'INVENT.Mat Transp importés - 10'!H241","v":0},null,0,0,0,0,0,0,null,null,0,0,0,0]
[236,{"$f":"'INVENT.Mat Transp importés - 10'!B242","v":0},{"$f":"'INVENT.Mat Transp importés - 10'!F242","v":0},{"$f":"'INVENT.Mat Transp importés - 10'!C242","v":0},{"$f":"'INVENT.Mat Transp importés - 10'!H242","v":0},null,0,0,0,0,0,0,null,null,0,0,0,0]
[237,{"$f":"'INVENT.Mat Transp importés - 10'!B243","v":0},{"$f":"'INVENT.Mat Transp importés - 10'!F243","v":0},{"$f":"'INVENT.Mat Transp importés - 10'!C243","v":0},{"$f":"'INVENT.Mat Transp importés - 10'!H243","v":0},null,0,0,0,0,0,0,null,null,0,0,0,0]
[238,{"$f":"'INVENT.Mat Transp importés - 10'!B244","v":0},{"$f":"'INVENT.Mat Transp importés - 10'!F244","v":0},{"$f":"'INVENT.Mat Transp importés - 10'!C244","v":0},{"$f":"'INVENT.Mat Transp importés - 10'!H244","v":0},null,0,0,0,0,0,0,null,null,0,0,0,0]
[239,{"$f":"'INVENT.Mat Transp importés - 10'!B245","v":0},{"$f":"'INVENT.Mat Transp importés - 10'!F245","v":0},{"$f":"'INVENT.Mat Transp importés - 10'!C245","v":0},{"$f":"'INVENT.Mat Transp importés - 10'!H245","v":0},null,0,0,0,0,0,0,null,null,0,0,0,0]
[240,{"$f":"'INVENT.Mat Transp importés - 10'!B246","v":0},{"$f":"'INVENT.Mat Transp importés - 10'!F246","v":0},{"$f":"'INVENT.Mat Transp importés - 10'!C246","v":0},{"$f":"'INVENT.Mat Transp importés - 10'!H246","v":0},null,0,0,0,0,0,0,null,null,0,0,0,0]
[241,{"$f":"'INVENT.Mat Transp importés - 10'!B247","v":0},{"$f":"'INVENT.Mat Transp importés - 10'!F247","v":0},{"$f":"'INVENT.Mat Transp importés - 10'!C247","v":0},{"$f":"'INVENT.Mat Transp importés - 10'!H247","v":0},null,0,0,0,0,0,0,null,null,0,0,0,0]
[242,{"$f":"'INVENT.Mat Transp importés - 10'!B248","v":0},{"$f":"'INVENT.Mat Transp importés - 10'!F248","v":0},{"$f":"'INVENT.Mat Transp importés - 10'!C248","v":0},{"$f":"'INVENT.Mat Transp importés - 10'!H248","v":0},null,0,0,0,0,0,0,null,null,0,0,0,0]
[243,{"$f":"'INVENT.Mat Transp importés - 10'!B249","v":0},{"$f":"'INVENT.Mat Transp importés - 10'!F249","v":0},{"$f":"'INVENT.Mat Transp importés - 10'!C249","v":0},{"$f":"'INVENT.Mat Transp importés - 10'!H249","v":0},null,{"$f":"F250*E250","v":0},{"$f":"E250*1%","v":0},{"$f":"E250*1%","v":0},{"$f":"E250*0.5%","v":0},{"$f":"(E250+G250+H250)*18%","v":0},{"$f":"SUM(G250:K250)+E250","v":0},null,null,{"$f":"(M250+N250)*18%","v":0},{"$f":"O250+N250+M250","v":0},{"$f":"+R250-O250-K250","v":0},{"$f":"P250+L250","v":0}]
[244,{"$f":"'INVENT.Mat Transp importés - 10'!B250","v":0},{"$f":"'INVENT.Mat Transp importés - 10'!F250","v":0},{"$f":"'INVENT.Mat Transp importés - 10'!C250","v":0},{"$f":"'INVENT.Mat Transp importés - 10'!H250","v":0},null,0,0,0,0,0,0,null,null,0,0,0,0]
[245,{"$f":"'INVENT.Mat Transp importés - 10'!B251","v":0},{"$f":"'INVENT.Mat Transp importés - 10'!F251","v":0},{"$f":"'INVENT.Mat Transp importés - 10'!C251","v":0},{"$f":"'INVENT.Mat Transp importés - 10'!H251","v":0},null,0,0,0,0,0,0,null,null,0,0,0,0]
[246,{"$f":"'INVENT.Mat Transp importés - 10'!B252","v":0},{"$f":"'INVENT.Mat Transp importés - 10'!F252","v":0},{"$f":"'INVENT.Mat Transp importés - 10'!C252","v":0},{"$f":"'INVENT.Mat Transp importés - 10'!H252","v":0},null,0,0,0,0,0,0,null,null,0,0,0,0]
[247,{"$f":"'INVENT.Mat Transp importés - 10'!B253","v":0},{"$f":"'INVENT.Mat Transp importés - 10'!F253","v":0},{"$f":"'INVENT.Mat Transp importés - 10'!C253","v":0},{"$f":"'INVENT.Mat Transp importés - 10'!H253","v":0},null,0,0,0,0,0,0,null,null,0,0,0,0]
[248,{"$f":"'INVENT.Mat Transp importés - 10'!B254","v":0},{"$f":"'INVENT.Mat Transp importés - 10'!F254","v":0},{"$f":"'INVENT.Mat Transp importés - 10'!C254","v":0},{"$f":"'INVENT.Mat Transp importés - 10'!H254","v":0},null,0,0,0,0,0,0,null,null,0,0,0,0]
[249,{"$f":"'INVENT.Mat Transp importés - 10'!B255","v":0},{"$f":"'INVENT.Mat Transp importés - 10'!F255","v":0},{"$f":"'INVENT.Mat Transp importés - 10'!C255","v":0},{"$f":"'INVENT.Mat Transp importés - 10'!H255","v":0},null,0,0,0,0,0,0,null,null,0,0,0,0]
[250,{"$f":"'INVENT.Mat Transp importés - 10'!B256","v":0},{"$f":"'INVENT.Mat Transp importés - 10'!F256","v":0},{"$f":"'INVENT.Mat Transp importés - 10'!C256","v":0},{"$f":"'INVENT.Mat Transp importés - 10'!H256","v":0},null,0,0,0,0,0,0,null,null,0,0,0,0]
[251,{"$f":"'INVENT.Mat Transp importés - 10'!B257","v":0},{"$f":"'INVENT.Mat Transp importés - 10'!F257","v":0},{"$f":"'INVENT.Mat Transp importés - 10'!C257","v":0},{"$f":"'INVENT.Mat Transp importés - 10'!H257","v":0},null,0,0,0,0,0,0,null,null,0,0,0,0]
[252,{"$f":"'INVENT.Mat Transp importés - 10'!B258","v":0},{"$f":"'INVENT.Mat Transp importés - 10'!F258","v":0},{"$f":"'INVENT.Mat Transp importés - 10'!C258","v":0},{"$f":"'INVENT.Mat Transp importés - 10'!H258","v":0},null,0,0,0,0,0,0,null,null,0,0,0,0]
[253,{"$f":"'INVENT.Mat Transp importés - 10'!B259","v":0},{"$f":"'INVENT.Mat Transp importés - 10'!F259","v":0},{"$f":"'INVENT.Mat Transp importés - 10'!C259","v":0},{"$f":"'INVENT.Mat Transp importés - 10'!H259","v":0},null,0,0,0,0,0,0,null,null,0,0,0,0]
[254,{"$f":"'INVENT.Mat Transp importés - 10'!B260","v":0},{"$f":"'INVENT.Mat Transp importés - 10'!F260","v":0},{"$f":"'INVENT.Mat Transp importés - 10'!C260","v":0},{"$f":"'INVENT.Mat Transp importés - 10'!H260","v":0},null,0,0,0,0,0,0,null,null,0,0,0,0]
[255,{"$f":"'INVENT.Mat Transp importés - 10'!B261","v":0},{"$f":"'INVENT.Mat Transp importés - 10'!F261","v":0},{"$f":"'INVENT.Mat Transp importés - 10'!C261","v":0},{"$f":"'INVENT.Mat Transp importés - 10'!H261","v":0},null,0,0,0,0,0,0,null,null,0,0,0,0]
[256,{"$f":"'INVENT.Mat Transp importés - 10'!B262","v":0},{"$f":"'INVENT.Mat Transp importés - 10'!F262","v":0},{"$f":"'INVENT.Mat Transp importés - 10'!C262","v":0},{"$f":"'INVENT.Mat Transp importés - 10'!H262","v":0},null,0,0,0,0,0,0,null,null,0,0,0,0]
[257,{"$f":"'INVENT.Mat Transp importés - 10'!B263","v":0},{"$f":"'INVENT.Mat Transp importés - 10'!F263","v":0},{"$f":"'INVENT.Mat Transp importés - 10'!C263","v":0},{"$f":"'INVENT.Mat Transp importés - 10'!H263","v":0},null,0,0,0,0,0,0,null,null,0,0,0,0]
[258,{"$f":"'INVENT.Mat Transp importés - 10'!B264","v":0},{"$f":"'INVENT.Mat Transp importés - 10'!F264","v":0},{"$f":"'INVENT.Mat Transp importés - 10'!C264","v":0},{"$f":"'INVENT.Mat Transp importés - 10'!H264","v":0},null,0,0,0,0,0,0,null,null,0,0,0,0]
[259,{"$f":"'INVENT.Mat Transp importés - 10'!B265","v":0},{"$f":"'INVENT.Mat Transp importés - 10'!F265","v":0},{"$f":"'INVENT.Mat Transp importés - 10'!C265","v":0},{"$f":"'INVENT.Mat Transp importés - 10'!H265","v":0},null,0,0,0,0,0,0,null,null,0,0,0,0]
[260,{"$f":"'INVENT.Mat Transp importés - 10'!B266","v":0},{"$f":"'INVENT.Mat Transp importés - 10'!F266","v":0},{"$f":"'INVENT.Mat Transp importés - 10'!C266","v":0},{"$f":"'INVENT.Mat Transp importés - 10'!H266","v":0},null,0,0,0,0,0,0,null,null,0,0,0,0]
[261,{"$f":"'INVENT.Mat Transp importés - 10'!B267","v":0},{"$f":"'INVENT.Mat Transp importés - 10'!F267","v":0},{"$f":"'INVENT.Mat Transp importés - 10'!C267","v":0},{"$f":"'INVENT.Mat Transp importés - 10'!H267","v":0},null,0,0,0,0,0,0,null,null,0,0,0,0]
[262,{"$f":"'INVENT.Mat Transp importés - 10'!B268","v":0},{"$f":"'INVENT.Mat Transp importés - 10'!F268","v":0},{"$f":"'INVENT.Mat Transp importés - 10'!C268","v":0},{"$f":"'INVENT.Mat Transp importés - 10'!H268","v":0},null,0,0,0,0,0,0,null,null,0,0,0,0]
[263,{"$f":"'INVENT.Mat Transp importés - 10'!B269","v":0},{"$f":"'INVENT.Mat Transp importés - 10'!F269","v":0},{"$f":"'INVENT.Mat Transp importés - 10'!C269","v":0},{"$f":"'INVENT.Mat Transp importés - 10'!H269","v":0},null,0,0,0,0,0,0,null,null,0,0,0,0]
[264,{"$f":"'INVENT.Mat Transp importés - 10'!B270","v":0},{"$f":"'INVENT.Mat Transp importés - 10'!F270","v":0},{"$f":"'INVENT.Mat Transp importés - 10'!C270","v":0},{"$f":"'INVENT.Mat Transp importés - 10'!H270","v":0},null,0,0,0,0,0,0,null,null,0,0,0,0]
[265,{"$f":"'INVENT.Mat Transp importés - 10'!B271","v":0},{"$f":"'INVENT.Mat Transp importés - 10'!F271","v":0},{"$f":"'INVENT.Mat Transp importés - 10'!C271","v":0},{"$f":"'INVENT.Mat Transp importés - 10'!H271","v":0},null,0,0,0,0,0,0,null,null,0,0,0,0]
[266,{"$f":"'INVENT.Mat Transp importés - 10'!B272","v":0},{"$f":"'INVENT.Mat Transp importés - 10'!F272","v":0},{"$f":"'INVENT.Mat Transp importés - 10'!C272","v":0},{"$f":"'INVENT.Mat Transp importés - 10'!H272","v":0},null,0,0,0,0,0,0,null,null,0,0,0,0]
[267,{"$f":"'INVENT.Mat Transp importés - 10'!B273","v":0},{"$f":"'INVENT.Mat Transp importés - 10'!F273","v":0},{"$f":"'INVENT.Mat Transp importés - 10'!C273","v":0},{"$f":"'INVENT.Mat Transp importés - 10'!H273","v":0},null,0,0,0,0,0,0,null,null,0,0,0,0]
[268,{"$f":"'INVENT.Mat Transp importés - 10'!B274","v":0},{"$f":"'INVENT.Mat Transp importés - 10'!F274","v":0},{"$f":"'INVENT.Mat Transp importés - 10'!C274","v":0},{"$f":"'INVENT.Mat Transp importés - 10'!H274","v":0},null,0,0,0,0,0,0,null,null,0,0,0,0]
[269,{"$f":"'INVENT.Mat Transp importés - 10'!B275","v":0},{"$f":"'INVENT.Mat Transp importés - 10'!F275","v":0},{"$f":"'INVENT.Mat Transp importés - 10'!C275","v":0},{"$f":"'INVENT.Mat Transp importés - 10'!H275","v":0},null,0,0,0,0,0,0,null,null,0,0,0,0]
[270,{"$f":"'INVENT.Mat Transp importés - 10'!B276","v":0},{"$f":"'INVENT.Mat Transp importés - 10'!F276","v":0},{"$f":"'INVENT.Mat Transp importés - 10'!C276","v":0},{"$f":"'INVENT.Mat Transp importés - 10'!H276","v":0},null,0,0,0,0,0,0,null,null,0,0,0,0]
[271,{"$f":"'INVENT.Mat Transp importés - 10'!B277","v":0},{"$f":"'INVENT.Mat Transp importés - 10'!F277","v":0},{"$f":"'INVENT.Mat Transp importés - 10'!C277","v":0},{"$f":"'INVENT.Mat Transp importés - 10'!H277","v":0},null,0,0,0,0,0,0,null,null,0,0,0,0]
[272,{"$f":"'INVENT.Mat Transp importés - 10'!B278","v":0},{"$f":"'INVENT.Mat Transp importés - 10'!F278","v":0},{"$f":"'INVENT.Mat Transp importés - 10'!C278","v":0},{"$f":"'INVENT.Mat Transp importés - 10'!H278","v":0},null,0,0,0,0,0,0,null,null,0,0,0,0]
[273,{"$f":"'INVENT.Mat Transp importés - 10'!B279","v":0},{"$f":"'INVENT.Mat Transp importés - 10'!F279","v":0},{"$f":"'INVENT.Mat Transp importés - 10'!C279","v":0},{"$f":"'INVENT.Mat Transp importés - 10'!H279","v":0},null,0,0,0,0,0,0,null,null,0,0,0,0]
[274,{"$f":"'INVENT.Mat Transp importés - 10'!B280","v":0},{"$f":"'INVENT.Mat Transp importés - 10'!F280","v":0},{"$f":"'INVENT.Mat Transp importés - 10'!C280","v":0},{"$f":"'INVENT.Mat Transp importés - 10'!H280","v":0},null,0,0,0,0,0,0,null,null,0,0,0,0]
[275,{"$f":"'INVENT.Mat Transp importés - 10'!B281","v":0},{"$f":"'INVENT.Mat Transp importés - 10'!F281","v":0},{"$f":"'INVENT.Mat Transp importés - 10'!C281","v":0},{"$f":"'INVENT.Mat Transp importés - 10'!H281","v":0},null,0,0,0,0,0,0,null,null,0,0,0,0]
[276,{"$f":"'INVENT.Mat Transp importés - 10'!B282","v":0},{"$f":"'INVENT.Mat Transp importés - 10'!F282","v":0},{"$f":"'INVENT.Mat Transp importés - 10'!C282","v":0},{"$f":"'INVENT.Mat Transp importés - 10'!H282","v":0},null,0,0,0,0,0,0,null,null,0,0,0,0]
[277,{"$f":"'INVENT.Mat Transp importés - 10'!B283","v":0},{"$f":"'INVENT.Mat Transp importés - 10'!F283","v":0},{"$f":"'INVENT.Mat Transp importés - 10'!C283","v":0},{"$f":"'INVENT.Mat Transp importés - 10'!H283","v":0},null,0,0,0,0,0,0,null,null,0,0,0,0]
[278,{"$f":"'INVENT.Mat Transp importés - 10'!B284","v":0},{"$f":"'INVENT.Mat Transp importés - 10'!F284","v":0},{"$f":"'INVENT.Mat Transp importés - 10'!C284","v":0},{"$f":"'INVENT.Mat Transp importés - 10'!H284","v":0},null,0,0,0,0,0,0,null,null,0,0,0,0]
[279,{"$f":"'INVENT.Mat Transp importés - 10'!B285","v":0},{"$f":"'INVENT.Mat Transp importés - 10'!F285","v":0},{"$f":"'INVENT.Mat Transp importés - 10'!C285","v":0},{"$f":"'INVENT.Mat Transp importés - 10'!H285","v":0},null,0,0,0,0,0,0,null,null,0,0,0,0]
[280,{"$f":"'INVENT.Mat Transp importés - 10'!B286","v":0},{"$f":"'INVENT.Mat Transp importés - 10'!F286","v":0},{"$f":"'INVENT.Mat Transp importés - 10'!C286","v":0},{"$f":"'INVENT.Mat Transp importés - 10'!H286","v":0},null,0,0,0,0,0,0,null,null,0,0,0,0]
[281,{"$f":"'INVENT.Mat Transp importés - 10'!B287","v":0},{"$f":"'INVENT.Mat Transp importés - 10'!F287","v":0},{"$f":"'INVENT.Mat Transp importés - 10'!C287","v":0},{"$f":"'INVENT.Mat Transp importés - 10'!H287","v":0},null,0,0,0,0,0,0,null,null,0,0,0,0]
[282,{"$f":"'INVENT.Mat Transp importés - 10'!B288","v":0},{"$f":"'INVENT.Mat Transp importés - 10'!F288","v":0},{"$f":"'INVENT.Mat Transp importés - 10'!C288","v":0},{"$f":"'INVENT.Mat Transp importés - 10'!H288","v":0},null,0,0,0,0,0,0,null,null,0,0,0,0]
[283,{"$f":"'INVENT.Mat Transp importés - 10'!B289","v":0},{"$f":"'INVENT.Mat Transp importés - 10'!F289","v":0},{"$f":"'INVENT.Mat Transp importés - 10'!C289","v":0},{"$f":"'INVENT.Mat Transp importés - 10'!H289","v":0},null,0,0,0,0,0,0,null,null,0,0,0,0]
[284,{"$f":"'INVENT.Mat Transp importés - 10'!B290","v":0},{"$f":"'INVENT.Mat Transp importés - 10'!F290","v":0},{"$f":"'INVENT.Mat Transp importés - 10'!C290","v":0},{"$f":"'INVENT.Mat Transp importés - 10'!H290","v":0},null,0,0,0,0,0,0,null,null,0,0,0,0]
[285,{"$f":"'INVENT.Mat Transp importés - 10'!B291","v":0},{"$f":"'INVENT.Mat Transp importés - 10'!F291","v":0},{"$f":"'INVENT.Mat Transp importés - 10'!C291","v":0},{"$f":"'INVENT.Mat Transp importés - 10'!H291","v":0},null,0,0,0,0,0,0,null,null,0,0,0,0]
[286,{"$f":"'INVENT.Mat Transp importés - 10'!B292","v":0},{"$f":"'INVENT.Mat Transp importés - 10'!F292","v":0},{"$f":"'INVENT.Mat Transp importés - 10'!C292","v":0},{"$f":"'INVENT.Mat Transp importés - 10'!H292","v":0},null,0,0,0,0,0,0,null,null,0,0,0,0]
[287,{"$f":"'INVENT.Mat Transp importés - 10'!B293","v":0},{"$f":"'INVENT.Mat Transp importés - 10'!F293","v":0},{"$f":"'INVENT.Mat Transp importés - 10'!C293","v":0},{"$f":"'INVENT.Mat Transp importés - 10'!H293","v":0},null,0,0,0,0,0,0,null,null,0,0,0,0]
[288,{"$f":"'INVENT.Mat Transp importés - 10'!B294","v":0},{"$f":"'INVENT.Mat Transp importés - 10'!F294","v":0},{"$f":"'INVENT.Mat Transp importés - 10'!C294","v":0},{"$f":"'INVENT.Mat Transp importés - 10'!H294","v":0},null,0,0,0,0,0,0,null,null,0,0,0,0]
[289,{"$f":"'INVENT.Mat Transp importés - 10'!B295","v":0},{"$f":"'INVENT.Mat Transp importés - 10'!F295","v":0},{"$f":"'INVENT.Mat Transp importés - 10'!C295","v":0},{"$f":"'INVENT.Mat Transp importés - 10'!H295","v":0},null,0,0,0,0,0,0,null,null,0,0,0,0]
[290,{"$f":"'INVENT.Mat Transp importés - 10'!B296","v":0},{"$f":"'INVENT.Mat Transp importés - 10'!F296","v":0},{"$f":"'INVENT.Mat Transp importés - 10'!C296","v":0},{"$f":"'INVENT.Mat Transp importés - 10'!H296","v":0},null,0,0,0,0,0,0,null,null,0,0,0,0]
[291,{"$f":"'INVENT.Mat Transp importés - 10'!B297","v":0},{"$f":"'INVENT.Mat Transp importés - 10'!F297","v":0},{"$f":"'INVENT.Mat Transp importés - 10'!C297","v":0},{"$f":"'INVENT.Mat Transp importés - 10'!H297","v":0},null,0,0,0,0,0,0,null,null,0,0,0,0]
[292,{"$f":"'INVENT.Mat Transp importés - 10'!B298","v":0},{"$f":"'INVENT.Mat Transp importés - 10'!F298","v":0},{"$f":"'INVENT.Mat Transp importés - 10'!C298","v":0},{"$f":"'INVENT.Mat Transp importés - 10'!H298","v":0},null,0,0,0,0,0,0,null,null,0,0,0,0]
[293,{"$f":"'INVENT.Mat Transp importés - 10'!B299","v":0},{"$f":"'INVENT.Mat Transp importés - 10'!F299","v":0},{"$f":"'INVENT.Mat Transp importés - 10'!C299","v":0},{"$f":"'INVENT.Mat Transp importés - 10'!H299","v":0},null,0,0,0,0,0,0,null,null,0,0,0,0]
[294,{"$f":"'INVENT.Mat Transp importés - 10'!B300","v":0},{"$f":"'INVENT.Mat Transp importés - 10'!F300","v":0},{"$f":"'INVENT.Mat Transp importés - 10'!C300","v":0},{"$f":"'INVENT.Mat Transp importés - 10'!H300","v":0},null,0,0,0,0,0,0,null,null,0,0,0,0]
[295,{"$f":"'INVENT.Mat Transp importés - 10'!B301","v":0},{"$f":"'INVENT.Mat Transp importés - 10'!F301","v":0},{"$f":"'INVENT.Mat Transp importés - 10'!C301","v":0},{"$f":"'INVENT.Mat Transp importés - 10'!H301","v":0},null,0,0,0,0,0,0,null,null,0,0,0,0]
[{"$f":"+A302+1","v":296},{"$f":"'INVENT.Mat Transp importés - 10'!B302","v":0},{"$f":"'INVENT.Mat Transp importés - 10'!F302","v":0},{"$f":"'INVENT.Mat Transp importés - 10'!C302","v":0},{"$f":"'INVENT.Mat Transp importés - 10'!H302","v":0},null,0,0,0,0,0,0,null,null,0,0,0,0]
[297,{"$f":"'INVENT.Mat Transp importés - 10'!B303","v":0},{"$f":"'INVENT.Mat Transp importés - 10'!F303","v":0},{"$f":"'INVENT.Mat Transp importés - 10'!C303","v":0},{"$f":"'INVENT.Mat Transp importés - 10'!H303","v":0},null,0,0,0,0,0,0,null,null,0,0,0,0]
[298,{"$f":"'INVENT.Mat Transp importés - 10'!B304","v":0},{"$f":"'INVENT.Mat Transp importés - 10'!F304","v":0},{"$f":"'INVENT.Mat Transp importés - 10'!C304","v":0},{"$f":"'INVENT.Mat Transp importés - 10'!H304","v":0},null,0,0,0,0,0,0,null,null,0,0,0,0]
[299,{"$f":"'INVENT.Mat Transp importés - 10'!B305","v":0},{"$f":"'INVENT.Mat Transp importés - 10'!F305","v":0},{"$f":"'INVENT.Mat Transp importés - 10'!C305","v":0},{"$f":"'INVENT.Mat Transp importés - 10'!H305","v":0},null,0,0,0,0,0,0,null,null,0,0,0,0]
[300,{"$f":"'INVENT.Mat Transp importés - 10'!B306","v":0},{"$f":"'INVENT.Mat Transp importés - 10'!F306","v":0},{"$f":"'INVENT.Mat Transp importés - 10'!C306","v":0},{"$f":"'INVENT.Mat Transp importés - 10'!H306","v":0},null,0,0,0,0,0,0,null,null,0,0,0,0]
[301,{"$f":"'INVENT.Mat Transp importés - 10'!B307","v":0},{"$f":"'INVENT.Mat Transp importés - 10'!F307","v":0},{"$f":"'INVENT.Mat Transp importés - 10'!C307","v":0},{"$f":"'INVENT.Mat Transp importés - 10'!H307","v":0},null,0,0,0,0,0,0,null,null,0,0,0,0]
[302,{"$f":"'INVENT.Mat Transp importés - 10'!B308","v":0},{"$f":"'INVENT.Mat Transp importés - 10'!F308","v":0},{"$f":"'INVENT.Mat Transp importés - 10'!C308","v":0},{"$f":"'INVENT.Mat Transp importés - 10'!H308","v":0},null,0,0,0,0,0,0,null,null,0,0,0,0]
[303,{"$f":"'INVENT.Mat Transp importés - 10'!B309","v":0},{"$f":"'INVENT.Mat Transp importés - 10'!F309","v":0},{"$f":"'INVENT.Mat Transp importés - 10'!C309","v":0},{"$f":"'INVENT.Mat Transp importés - 10'!H309","v":0},null,0,0,0,0,0,0,null,null,0,0,0,0]
[304,{"$f":"'INVENT.Mat Transp importés - 10'!B310","v":0},{"$f":"'INVENT.Mat Transp importés - 10'!F310","v":0},{"$f":"'INVENT.Mat Transp importés - 10'!C310","v":0},{"$f":"'INVENT.Mat Transp importés - 10'!H310","v":0},null,0,0,0,0,0,0,null,null,0,0,0,0]
[305,{"$f":"'INVENT.Mat Transp importés - 10'!B311","v":0},{"$f":"'INVENT.Mat Transp importés - 10'!F311","v":0},{"$f":"'INVENT.Mat Transp importés - 10'!C311","v":0},{"$f":"'INVENT.Mat Transp importés - 10'!H311","v":0},null,0,0,0,0,0,0,null,null,0,0,0,0]
[306,{"$f":"'INVENT.Mat Transp importés - 10'!B312","v":0},{"$f":"'INVENT.Mat Transp importés - 10'!F312","v":0},{"$f":"'INVENT.Mat Transp importés - 10'!C312","v":0},{"$f":"'INVENT.Mat Transp importés - 10'!H312","v":0},null,0,0,0,0,0,0,null,null,0,0,0,0]
[307,{"$f":"'INVENT.Mat Transp importés - 10'!B313","v":0},{"$f":"'INVENT.Mat Transp importés - 10'!F313","v":0},{"$f":"'INVENT.Mat Transp importés - 10'!C313","v":0},{"$f":"'INVENT.Mat Transp importés - 10'!H313","v":0},null,{"$f":"F314*E314","v":0},{"$f":"E314*1%","v":0},{"$f":"E314*1%","v":0},{"$f":"E314*0.5%","v":0},{"$f":"(E314+G314+H314)*18%","v":0},{"$f":"SUM(G314:K314)+E314","v":0},null,null,{"$f":"(M314+N314)*18%","v":0},{"$f":"O314+N314+M314","v":0},{"$f":"+R314-O314-K314","v":0},{"$f":"P314+L314","v":0}]
[308,{"$f":"'INVENT.Mat Transp importés - 10'!B314","v":0},{"$f":"'INVENT.Mat Transp importés - 10'!F314","v":0},{"$f":"'INVENT.Mat Transp importés - 10'!C314","v":0},{"$f":"'INVENT.Mat Transp importés - 10'!H314","v":0},null,0,0,0,0,0,0,null,null,0,0,0,0]
[309,{"$f":"'INVENT.Mat Transp importés - 10'!B315","v":0},{"$f":"'INVENT.Mat Transp importés - 10'!F315","v":0},{"$f":"'INVENT.Mat Transp importés - 10'!C315","v":0},{"$f":"'INVENT.Mat Transp importés - 10'!H315","v":0},null,0,0,0,0,0,0,null,null,0,0,0,0]
[310,{"$f":"'INVENT.Mat Transp importés - 10'!B316","v":0},{"$f":"'INVENT.Mat Transp importés - 10'!F316","v":0},{"$f":"'INVENT.Mat Transp importés - 10'!C316","v":0},{"$f":"'INVENT.Mat Transp importés - 10'!H316","v":0},null,0,0,0,0,0,0,null,null,0,0,0,0]
[311,{"$f":"'INVENT.Mat Transp importés - 10'!B317","v":0},{"$f":"'INVENT.Mat Transp importés - 10'!F317","v":0},{"$f":"'INVENT.Mat Transp importés - 10'!C317","v":0},{"$f":"'INVENT.Mat Transp importés - 10'!H317","v":0},null,0,0,0,0,0,0,null,null,0,0,0,0]
[312,{"$f":"'INVENT.Mat Transp importés - 10'!B318","v":0},{"$f":"'INVENT.Mat Transp importés - 10'!F318","v":0},{"$f":"'INVENT.Mat Transp importés - 10'!C318","v":0},{"$f":"'INVENT.Mat Transp importés - 10'!H318","v":0},null,0,0,0,0,0,0,null,null,0,0,0,0]
[313,{"$f":"'INVENT.Mat Transp importés - 10'!B319","v":0},{"$f":"'INVENT.Mat Transp importés - 10'!F319","v":0},{"$f":"'INVENT.Mat Transp importés - 10'!C319","v":0},{"$f":"'INVENT.Mat Transp importés - 10'!H319","v":0},null,0,0,0,0,0,0,null,null,0,0,0,0]
[314,{"$f":"'INVENT.Mat Transp importés - 10'!B320","v":0},{"$f":"'INVENT.Mat Transp importés - 10'!F320","v":0},{"$f":"'INVENT.Mat Transp importés - 10'!C320","v":0},{"$f":"'INVENT.Mat Transp importés - 10'!H320","v":0},null,0,0,0,0,0,0,null,null,0,0,0,0]
[315,{"$f":"'INVENT.Mat Transp importés - 10'!B321","v":0},{"$f":"'INVENT.Mat Transp importés - 10'!F321","v":0},{"$f":"'INVENT.Mat Transp importés - 10'!C321","v":0},{"$f":"'INVENT.Mat Transp importés - 10'!H321","v":0},null,0,0,0,0,0,0,null,null,0,0,0,0]
[316,{"$f":"'INVENT.Mat Transp importés - 10'!B322","v":0},{"$f":"'INVENT.Mat Transp importés - 10'!F322","v":0},{"$f":"'INVENT.Mat Transp importés - 10'!C322","v":0},{"$f":"'INVENT.Mat Transp importés - 10'!H322","v":0},null,0,0,0,0,0,0,null,null,0,0,0,0]
[317,{"$f":"'INVENT.Mat Transp importés - 10'!B323","v":0},{"$f":"'INVENT.Mat Transp importés - 10'!F323","v":0},{"$f":"'INVENT.Mat Transp importés - 10'!C323","v":0},{"$f":"'INVENT.Mat Transp importés - 10'!H323","v":0},null,0,0,0,0,0,0,null,null,0,0,0,0]
[318,{"$f":"'INVENT.Mat Transp importés - 10'!B324","v":0},{"$f":"'INVENT.Mat Transp importés - 10'!F324","v":0},{"$f":"'INVENT.Mat Transp importés - 10'!C324","v":0},{"$f":"'INVENT.Mat Transp importés - 10'!H324","v":0},null,0,0,0,0,0,0,null,null,0,0,0,0]
[319,{"$f":"'INVENT.Mat Transp importés - 10'!B325","v":0},{"$f":"'INVENT.Mat Transp importés - 10'!F325","v":0},{"$f":"'INVENT.Mat Transp importés - 10'!C325","v":0},{"$f":"'INVENT.Mat Transp importés - 10'!H325","v":0},null,0,0,0,0,0,0,null,null,0,0,0,0]
[320,{"$f":"'INVENT.Mat Transp importés - 10'!B326","v":0},{"$f":"'INVENT.Mat Transp importés - 10'!F326","v":0},{"$f":"'INVENT.Mat Transp importés - 10'!C326","v":0},{"$f":"'INVENT.Mat Transp importés - 10'!H326","v":0},null,0,0,0,0,0,0,null,null,0,0,0,0]
[321,{"$f":"'INVENT.Mat Transp importés - 10'!B327","v":0},{"$f":"'INVENT.Mat Transp importés - 10'!F327","v":0},{"$f":"'INVENT.Mat Transp importés - 10'!C327","v":0},{"$f":"'INVENT.Mat Transp importés - 10'!H327","v":0},null,0,0,0,0,0,0,null,null,0,0,0,0]
[322,{"$f":"'INVENT.Mat Transp importés - 10'!B328","v":0},{"$f":"'INVENT.Mat Transp importés - 10'!F328","v":0},{"$f":"'INVENT.Mat Transp importés - 10'!C328","v":0},{"$f":"'INVENT.Mat Transp importés - 10'!H328","v":0},null,0,0,0,0,0,0,null,null,0,0,0,0]
[323,{"$f":"'INVENT.Mat Transp importés - 10'!B329","v":0},{"$f":"'INVENT.Mat Transp importés - 10'!F329","v":0},{"$f":"'INVENT.Mat Transp importés - 10'!C329","v":0},{"$f":"'INVENT.Mat Transp importés - 10'!H329","v":0},null,0,0,0,0,0,0,null,null,0,0,0,0]
[324,{"$f":"'INVENT.Mat Transp importés - 10'!B330","v":0},{"$f":"'INVENT.Mat Transp importés - 10'!F330","v":0},{"$f":"'INVENT.Mat Transp importés - 10'!C330","v":0},{"$f":"'INVENT.Mat Transp importés - 10'!H330","v":0},null,0,0,0,0,0,0,null,null,0,0,0,0]
[325,{"$f":"'INVENT.Mat Transp importés - 10'!B331","v":0},{"$f":"'INVENT.Mat Transp importés - 10'!F331","v":0},{"$f":"'INVENT.Mat Transp importés - 10'!C331","v":0},{"$f":"'INVENT.Mat Transp importés - 10'!H331","v":0},null,0,0,0,0,0,0,null,null,0,0,0,0]
[326,{"$f":"'INVENT.Mat Transp importés - 10'!B332","v":0},{"$f":"'INVENT.Mat Transp importés - 10'!F332","v":0},{"$f":"'INVENT.Mat Transp importés - 10'!C332","v":0},{"$f":"'INVENT.Mat Transp importés - 10'!H332","v":0},null,0,0,0,0,0,0,null,null,0,0,0,0]
[327,{"$f":"'INVENT.Mat Transp importés - 10'!B333","v":0},{"$f":"'INVENT.Mat Transp importés - 10'!F333","v":0},{"$f":"'INVENT.Mat Transp importés - 10'!C333","v":0},{"$f":"'INVENT.Mat Transp importés - 10'!H333","v":0},null,0,0,0,0,0,0,null,null,0,0,0,0]
[328,{"$f":"'INVENT.Mat Transp importés - 10'!B334","v":0},{"$f":"'INVENT.Mat Transp importés - 10'!F334","v":0},{"$f":"'INVENT.Mat Transp importés - 10'!C334","v":0},{"$f":"'INVENT.Mat Transp importés - 10'!H334","v":0},null,0,0,0,0,0,0,null,null,0,0,0,0]
[329,{"$f":"'INVENT.Mat Transp importés - 10'!B335","v":0},{"$f":"'INVENT.Mat Transp importés - 10'!F335","v":0},{"$f":"'INVENT.Mat Transp importés - 10'!C335","v":0},{"$f":"'INVENT.Mat Transp importés - 10'!H335","v":0},null,0,0,0,0,0,0,null,null,0,0,0,0]
[330,{"$f":"'INVENT.Mat Transp importés - 10'!B336","v":0},{"$f":"'INVENT.Mat Transp importés - 10'!F336","v":0},{"$f":"'INVENT.Mat Transp importés - 10'!C336","v":0},{"$f":"'INVENT.Mat Transp importés - 10'!H336","v":0},null,0,0,0,0,0,0,null,null,0,0,0,0]
[331,{"$f":"'INVENT.Mat Transp importés - 10'!B337","v":0},{"$f":"'INVENT.Mat Transp importés - 10'!F337","v":0},{"$f":"'INVENT.Mat Transp importés - 10'!C337","v":0},{"$f":"'INVENT.Mat Transp importés - 10'!H337","v":0},null,0,0,0,0,0,0,null,null,0,0,0,0]
[332,{"$f":"'INVENT.Mat Transp importés - 10'!B338","v":0},{"$f":"'INVENT.Mat Transp importés - 10'!F338","v":0},{"$f":"'INVENT.Mat Transp importés - 10'!C338","v":0},{"$f":"'INVENT.Mat Transp importés - 10'!H338","v":0},null,0,0,0,0,0,0,null,null,0,0,0,0]
[333,{"$f":"'INVENT.Mat Transp importés - 10'!B339","v":0},{"$f":"'INVENT.Mat Transp importés - 10'!F339","v":0},{"$f":"'INVENT.Mat Transp importés - 10'!C339","v":0},{"$f":"'INVENT.Mat Transp importés - 10'!H339","v":0},null,0,0,0,0,0,0,null,null,0,0,0,0]
[334,{"$f":"'INVENT.Mat Transp importés - 10'!B340","v":0},{"$f":"'INVENT.Mat Transp importés - 10'!F340","v":0},{"$f":"'INVENT.Mat Transp importés - 10'!C340","v":0},{"$f":"'INVENT.Mat Transp importés - 10'!H340","v":0},null,0,0,0,0,0,0,null,null,0,0,0,0]
[335,{"$f":"'INVENT.Mat Transp importés - 10'!B341","v":0},{"$f":"'INVENT.Mat Transp importés - 10'!F341","v":0},{"$f":"'INVENT.Mat Transp importés - 10'!C341","v":0},{"$f":"'INVENT.Mat Transp importés - 10'!H341","v":0},null,0,0,0,0,0,0,null,null,0,0,0,0]
[336,{"$f":"'INVENT.Mat Transp importés - 10'!B342","v":0},{"$f":"'INVENT.Mat Transp importés - 10'!F342","v":0},{"$f":"'INVENT.Mat Transp importés - 10'!C342","v":0},{"$f":"'INVENT.Mat Transp importés - 10'!H342","v":0},null,0,0,0,0,0,0,null,null,0,0,0,0]
[337,{"$f":"'INVENT.Mat Transp importés - 10'!B343","v":0},{"$f":"'INVENT.Mat Transp importés - 10'!F343","v":0},{"$f":"'INVENT.Mat Transp importés - 10'!C343","v":0},{"$f":"'INVENT.Mat Transp importés - 10'!H343","v":0},null,0,0,0,0,0,0,null,null,0,0,0,0]
[338,{"$f":"'INVENT.Mat Transp importés - 10'!B344","v":0},{"$f":"'INVENT.Mat Transp importés - 10'!F344","v":0},{"$f":"'INVENT.Mat Transp importés - 10'!C344","v":0},{"$f":"'INVENT.Mat Transp importés - 10'!H344","v":0},null,0,0,0,0,0,0,null,null,0,0,0,0]
[339,{"$f":"'INVENT.Mat Transp importés - 10'!B345","v":0},{"$f":"'INVENT.Mat Transp importés - 10'!F345","v":0},{"$f":"'INVENT.Mat Transp importés - 10'!C345","v":0},{"$f":"'INVENT.Mat Transp importés - 10'!H345","v":0},null,0,0,0,0,0,0,null,null,0,0,0,0]
[340,{"$f":"'INVENT.Mat Transp importés - 10'!B346","v":0},{"$f":"'INVENT.Mat Transp importés - 10'!F346","v":0},{"$f":"'INVENT.Mat Transp importés - 10'!C346","v":0},{"$f":"'INVENT.Mat Transp importés - 10'!H346","v":0},null,0,0,0,0,0,0,null,null,0,0,0,0]
[341,{"$f":"'INVENT.Mat Transp importés - 10'!B347","v":0},{"$f":"'INVENT.Mat Transp importés - 10'!F347","v":0},{"$f":"'INVENT.Mat Transp importés - 10'!C347","v":0},{"$f":"'INVENT.Mat Transp importés - 10'!H347","v":0},null,0,0,0,0,0,0,null,null,0,0,0,0]
[342,{"$f":"'INVENT.Mat Transp importés - 10'!B348","v":0},{"$f":"'INVENT.Mat Transp importés - 10'!F348","v":0},{"$f":"'INVENT.Mat Transp importés - 10'!C348","v":0},{"$f":"'INVENT.Mat Transp importés - 10'!H348","v":0},null,0,0,0,0,0,0,null,null,0,0,0,0]
[343,{"$f":"'INVENT.Mat Transp importés - 10'!B349","v":0},{"$f":"'INVENT.Mat Transp importés - 10'!F349","v":0},{"$f":"'INVENT.Mat Transp importés - 10'!C349","v":0},{"$f":"'INVENT.Mat Transp importés - 10'!H349","v":0},null,0,0,0,0,0,0,null,null,0,0,0,0]
[344,{"$f":"'INVENT.Mat Transp importés - 10'!B350","v":0},{"$f":"'INVENT.Mat Transp importés - 10'!F350","v":0},{"$f":"'INVENT.Mat Transp importés - 10'!C350","v":0},{"$f":"'INVENT.Mat Transp importés - 10'!H350","v":0},null,0,0,0,0,0,0,null,null,0,0,0,0]
[345,{"$f":"'INVENT.Mat Transp importés - 10'!B351","v":0},{"$f":"'INVENT.Mat Transp importés - 10'!F351","v":0},{"$f":"'INVENT.Mat Transp importés - 10'!C351","v":0},{"$f":"'INVENT.Mat Transp importés - 10'!H351","v":0},null,0,0,0,0,0,0,null,null,0,0,0,0]
[346,{"$f":"'INVENT.Mat Transp importés - 10'!B352","v":0},{"$f":"'INVENT.Mat Transp importés - 10'!F352","v":0},{"$f":"'INVENT.Mat Transp importés - 10'!C352","v":0},{"$f":"'INVENT.Mat Transp importés - 10'!H352","v":0},null,0,0,0,0,0,0,null,null,0,0,0,0]
[347,{"$f":"'INVENT.Mat Transp importés - 10'!B353","v":0},{"$f":"'INVENT.Mat Transp importés - 10'!F353","v":0},{"$f":"'INVENT.Mat Transp importés - 10'!C353","v":0},{"$f":"'INVENT.Mat Transp importés - 10'!H353","v":0},null,0,0,0,0,0,0,null,null,0,0,0,0]
[348,{"$f":"'INVENT.Mat Transp importés - 10'!B354","v":0},{"$f":"'INVENT.Mat Transp importés - 10'!F354","v":0},{"$f":"'INVENT.Mat Transp importés - 10'!C354","v":0},{"$f":"'INVENT.Mat Transp importés - 10'!H354","v":0},null,0,0,0,0,0,0,null,null,0,0,0,0]
[349,{"$f":"'INVENT.Mat Transp importés - 10'!B355","v":0},{"$f":"'INVENT.Mat Transp importés - 10'!F355","v":0},{"$f":"'INVENT.Mat Transp importés - 10'!C355","v":0},{"$f":"'INVENT.Mat Transp importés - 10'!H355","v":0},null,0,0,0,0,0,0,null,null,0,0,0,0]
[350,{"$f":"'INVENT.Mat Transp importés - 10'!B356","v":0},{"$f":"'INVENT.Mat Transp importés - 10'!F356","v":0},{"$f":"'INVENT.Mat Transp importés - 10'!C356","v":0},{"$f":"'INVENT.Mat Transp importés - 10'!H356","v":0},null,0,0,0,0,0,0,null,null,0,0,0,0]
[351,{"$f":"'INVENT.Mat Transp importés - 10'!B357","v":0},{"$f":"'INVENT.Mat Transp importés - 10'!F357","v":0},{"$f":"'INVENT.Mat Transp importés - 10'!C357","v":0},{"$f":"'INVENT.Mat Transp importés - 10'!H357","v":0},null,0,0,0,0,0,0,null,null,0,0,0,0]
[352,{"$f":"'INVENT.Mat Transp importés - 10'!B358","v":0},{"$f":"'INVENT.Mat Transp importés - 10'!F358","v":0},{"$f":"'INVENT.Mat Transp importés - 10'!C358","v":0},{"$f":"'INVENT.Mat Transp importés - 10'!H358","v":0},null,0,0,0,0,0,0,null,null,0,0,0,0]
[353,{"$f":"'INVENT.Mat Transp importés - 10'!B359","v":0},{"$f":"'INVENT.Mat Transp importés - 10'!F359","v":0},{"$f":"'INVENT.Mat Transp importés - 10'!C359","v":0},{"$f":"'INVENT.Mat Transp importés - 10'!H359","v":0},null,0,0,0,0,0,0,null,null,0,0,0,0]
[354,{"$f":"'INVENT.Mat Transp importés - 10'!B360","v":0},{"$f":"'INVENT.Mat Transp importés - 10'!F360","v":0},{"$f":"'INVENT.Mat Transp importés - 10'!C360","v":0},{"$f":"'INVENT.Mat Transp importés - 10'!H360","v":0},null,0,0,0,0,0,0,null,null,0,0,0,0]
[355,{"$f":"'INVENT.Mat Transp importés - 10'!B361","v":0},{"$f":"'INVENT.Mat Transp importés - 10'!F361","v":0},{"$f":"'INVENT.Mat Transp importés - 10'!C361","v":0},{"$f":"'INVENT.Mat Transp importés - 10'!H361","v":0},null,0,0,0,0,0,0,null,null,0,0,0,0]
[356,{"$f":"'INVENT.Mat Transp importés - 10'!B362","v":0},{"$f":"'INVENT.Mat Transp importés - 10'!F362","v":0},{"$f":"'INVENT.Mat Transp importés - 10'!C362","v":0},{"$f":"'INVENT.Mat Transp importés - 10'!H362","v":0},null,0,0,0,0,0,0,null,null,0,0,0,0]
[357,{"$f":"'INVENT.Mat Transp importés - 10'!B363","v":0},{"$f":"'INVENT.Mat Transp importés - 10'!F363","v":0},{"$f":"'INVENT.Mat Transp importés - 10'!C363","v":0},{"$f":"'INVENT.Mat Transp importés - 10'!H363","v":0},null,0,0,0,0,0,0,null,null,0,0,0,0]
[358,{"$f":"'INVENT.Mat Transp importés - 10'!B364","v":0},{"$f":"'INVENT.Mat Transp importés - 10'!F364","v":0},{"$f":"'INVENT.Mat Transp importés - 10'!C364","v":0},{"$f":"'INVENT.Mat Transp importés - 10'!H364","v":0},null,0,0,0,0,0,0,null,null,0,0,0,0]
[359,{"$f":"'INVENT.Mat Transp importés - 10'!B365","v":0},{"$f":"'INVENT.Mat Transp importés - 10'!F365","v":0},{"$f":"'INVENT.Mat Transp importés - 10'!C365","v":0},{"$f":"'INVENT.Mat Transp importés - 10'!H365","v":0},null,0,0,0,0,0,0,null,null,0,0,0,0]
[{"$f":"+A366+1","v":360},{"$f":"'INVENT.Mat Transp importés - 10'!B366","v":0},{"$f":"'INVENT.Mat Transp importés - 10'!F366","v":0},{"$f":"'INVENT.Mat Transp importés - 10'!C366","v":0},{"$f":"'INVENT.Mat Transp importés - 10'!H366","v":0},null,0,0,0,0,0,0,null,null,0,0,0,0]
[361,{"$f":"'INVENT.Mat Transp importés - 10'!B367","v":0},{"$f":"'INVENT.Mat Transp importés - 10'!F367","v":0},{"$f":"'INVENT.Mat Transp importés - 10'!C367","v":0},{"$f":"'INVENT.Mat Transp importés - 10'!H367","v":0},null,0,0,0,0,0,0,null,null,0,0,0,0]
[362,{"$f":"'INVENT.Mat Transp importés - 10'!B368","v":0},{"$f":"'INVENT.Mat Transp importés - 10'!F368","v":0},{"$f":"'INVENT.Mat Transp importés - 10'!C368","v":0},{"$f":"'INVENT.Mat Transp importés - 10'!H368","v":0},null,0,0,0,0,0,0,null,null,0,0,0,0]
[363,{"$f":"'INVENT.Mat Transp importés - 10'!B369","v":0},{"$f":"'INVENT.Mat Transp importés - 10'!F369","v":0},{"$f":"'INVENT.Mat Transp importés - 10'!C369","v":0},{"$f":"'INVENT.Mat Transp importés - 10'!H369","v":0},null,0,0,0,0,0,0,null,null,0,0,0,0]
[364,{"$f":"'INVENT.Mat Transp importés - 10'!B370","v":0},{"$f":"'INVENT.Mat Transp importés - 10'!F370","v":0},{"$f":"'INVENT.Mat Transp importés - 10'!C370","v":0},{"$f":"'INVENT.Mat Transp importés - 10'!H370","v":0},null,0,0,0,0,0,0,null,null,0,0,0,0]
[365,{"$f":"'INVENT.Mat Transp importés - 10'!B371","v":0},{"$f":"'INVENT.Mat Transp importés - 10'!F371","v":0},{"$f":"'INVENT.Mat Transp importés - 10'!C371","v":0},{"$f":"'INVENT.Mat Transp importés - 10'!H371","v":0},null,0,0,0,0,0,0,null,null,0,0,0,0]
[366,{"$f":"'INVENT.Mat Transp importés - 10'!B372","v":0},{"$f":"'INVENT.Mat Transp importés - 10'!F372","v":0},{"$f":"'INVENT.Mat Transp importés - 10'!C372","v":0},{"$f":"'INVENT.Mat Transp importés - 10'!H372","v":0},null,0,0,0,0,0,0,null,null,0,0,0,0]
[367,{"$f":"'INVENT.Mat Transp importés - 10'!B373","v":0},{"$f":"'INVENT.Mat Transp importés - 10'!F373","v":0},{"$f":"'INVENT.Mat Transp importés - 10'!C373","v":0},{"$f":"'INVENT.Mat Transp importés - 10'!H373","v":0},null,0,0,0,0,0,0,null,null,0,0,0,0]
[368,{"$f":"'INVENT.Mat Transp importés - 10'!B374","v":0},{"$f":"'INVENT.Mat Transp importés - 10'!F374","v":0},{"$f":"'INVENT.Mat Transp importés - 10'!C374","v":0},{"$f":"'INVENT.Mat Transp importés - 10'!H374","v":0},null,0,0,0,0,0,0,null,null,0,0,0,0]
[369,{"$f":"'INVENT.Mat Transp importés - 10'!B375","v":0},{"$f":"'INVENT.Mat Transp importés - 10'!F375","v":0},{"$f":"'INVENT.Mat Transp importés - 10'!C375","v":0},{"$f":"'INVENT.Mat Transp importés - 10'!H375","v":0},null,0,0,0,0,0,0,null,null,0,0,0,0]
[370,{"$f":"'INVENT.Mat Transp importés - 10'!B376","v":0},{"$f":"'INVENT.Mat Transp importés - 10'!F376","v":0},{"$f":"'INVENT.Mat Transp importés - 10'!C376","v":0},{"$f":"'INVENT.Mat Transp importés - 10'!H376","v":0},null,0,0,0,0,0,0,null,null,0,0,0,0]
[371,{"$f":"'INVENT.Mat Transp importés - 10'!B377","v":0},{"$f":"'INVENT.Mat Transp importés - 10'!F377","v":0},{"$f":"'INVENT.Mat Transp importés - 10'!C377","v":0},{"$f":"'INVENT.Mat Transp importés - 10'!H377","v":0},null,{"$f":"F378*E378","v":0},{"$f":"E378*1%","v":0},{"$f":"E378*1%","v":0},{"$f":"E378*0.5%","v":0},{"$f":"(E378+G378+H378)*18%","v":0},{"$f":"SUM(G378:K378)+E378","v":0},null,null,{"$f":"(M378+N378)*18%","v":0},{"$f":"O378+N378+M378","v":0},{"$f":"+R378-O378-K378","v":0},{"$f":"P378+L378","v":0}]
[372,{"$f":"'INVENT.Mat Transp importés - 10'!B378","v":0},{"$f":"'INVENT.Mat Transp importés - 10'!F378","v":0},{"$f":"'INVENT.Mat Transp importés - 10'!C378","v":0},{"$f":"'INVENT.Mat Transp importés - 10'!H378","v":0},null,0,0,0,0,0,0,null,null,0,0,0,0]
[373,{"$f":"'INVENT.Mat Transp importés - 10'!B379","v":0},{"$f":"'INVENT.Mat Transp importés - 10'!F379","v":0},{"$f":"'INVENT.Mat Transp importés - 10'!C379","v":0},{"$f":"'INVENT.Mat Transp importés - 10'!H379","v":0},null,0,0,0,0,0,0,null,null,0,0,0,0]
[374,{"$f":"'INVENT.Mat Transp importés - 10'!B380","v":0},{"$f":"'INVENT.Mat Transp importés - 10'!F380","v":0},{"$f":"'INVENT.Mat Transp importés - 10'!C380","v":0},{"$f":"'INVENT.Mat Transp importés - 10'!H380","v":0},null,0,0,0,0,0,0,null,null,0,0,0,0]
[375,{"$f":"'INVENT.Mat Transp importés - 10'!B381","v":0},{"$f":"'INVENT.Mat Transp importés - 10'!F381","v":0},{"$f":"'INVENT.Mat Transp importés - 10'!C381","v":0},{"$f":"'INVENT.Mat Transp importés - 10'!H381","v":0},null,0,0,0,0,0,0,null,null,0,0,0,0]
[376,{"$f":"'INVENT.Mat Transp importés - 10'!B382","v":0},{"$f":"'INVENT.Mat Transp importés - 10'!F382","v":0},{"$f":"'INVENT.Mat Transp importés - 10'!C382","v":0},{"$f":"'INVENT.Mat Transp importés - 10'!H382","v":0},null,0,0,0,0,0,0,null,null,0,0,0,0]
[377,{"$f":"'INVENT.Mat Transp importés - 10'!B383","v":0},{"$f":"'INVENT.Mat Transp importés - 10'!F383","v":0},{"$f":"'INVENT.Mat Transp importés - 10'!C383","v":0},{"$f":"'INVENT.Mat Transp importés - 10'!H383","v":0},null,0,0,0,0,0,0,null,null,0,0,0,0]
[378,{"$f":"'INVENT.Mat Transp importés - 10'!B384","v":0},{"$f":"'INVENT.Mat Transp importés - 10'!F384","v":0},{"$f":"'INVENT.Mat Transp importés - 10'!C384","v":0},{"$f":"'INVENT.Mat Transp importés - 10'!H384","v":0},null,0,0,0,0,0,0,null,null,0,0,0,0]
[379,{"$f":"'INVENT.Mat Transp importés - 10'!B385","v":0},{"$f":"'INVENT.Mat Transp importés - 10'!F385","v":0},{"$f":"'INVENT.Mat Transp importés - 10'!C385","v":0},{"$f":"'INVENT.Mat Transp importés - 10'!H385","v":0},null,0,0,0,0,0,0,null,null,0,0,0,0]
[380,{"$f":"'INVENT.Mat Transp importés - 10'!B386","v":0},{"$f":"'INVENT.Mat Transp importés - 10'!F386","v":0},{"$f":"'INVENT.Mat Transp importés - 10'!C386","v":0},{"$f":"'INVENT.Mat Transp importés - 10'!H386","v":0},null,0,0,0,0,0,0,null,null,0,0,0,0]
[381,{"$f":"'INVENT.Mat Transp importés - 10'!B387","v":0},{"$f":"'INVENT.Mat Transp importés - 10'!F387","v":0},{"$f":"'INVENT.Mat Transp importés - 10'!C387","v":0},{"$f":"'INVENT.Mat Transp importés - 10'!H387","v":0},null,0,0,0,0,0,0,null,null,0,0,0,0]
[382,{"$f":"'INVENT.Mat Transp importés - 10'!B388","v":0},{"$f":"'INVENT.Mat Transp importés - 10'!F388","v":0},{"$f":"'INVENT.Mat Transp importés - 10'!C388","v":0},{"$f":"'INVENT.Mat Transp importés - 10'!H388","v":0},null,0,0,0,0,0,0,null,null,0,0,0,0]
[383,{"$f":"'INVENT.Mat Transp importés - 10'!B389","v":0},{"$f":"'INVENT.Mat Transp importés - 10'!F389","v":0},{"$f":"'INVENT.Mat Transp importés - 10'!C389","v":0},{"$f":"'INVENT.Mat Transp importés - 10'!H389","v":0},null,0,0,0,0,0,0,null,null,0,0,0,0]
[384,{"$f":"'INVENT.Mat Transp importés - 10'!B390","v":0},{"$f":"'INVENT.Mat Transp importés - 10'!F390","v":0},{"$f":"'INVENT.Mat Transp importés - 10'!C390","v":0},{"$f":"'INVENT.Mat Transp importés - 10'!H390","v":0},null,0,0,0,0,0,0,null,null,0,0,0,0]
[385,{"$f":"'INVENT.Mat Transp importés - 10'!B391","v":0},{"$f":"'INVENT.Mat Transp importés - 10'!F391","v":0},{"$f":"'INVENT.Mat Transp importés - 10'!C391","v":0},{"$f":"'INVENT.Mat Transp importés - 10'!H391","v":0},null,0,0,0,0,0,0,null,null,0,0,0,0]
[386,{"$f":"'INVENT.Mat Transp importés - 10'!B392","v":0},{"$f":"'INVENT.Mat Transp importés - 10'!F392","v":0},{"$f":"'INVENT.Mat Transp importés - 10'!C392","v":0},{"$f":"'INVENT.Mat Transp importés - 10'!H392","v":0},null,0,0,0,0,0,0,null,null,0,0,0,0]
[387,{"$f":"'INVENT.Mat Transp importés - 10'!B393","v":0},{"$f":"'INVENT.Mat Transp importés - 10'!F393","v":0},{"$f":"'INVENT.Mat Transp importés - 10'!C393","v":0},{"$f":"'INVENT.Mat Transp importés - 10'!H393","v":0},null,0,0,0,0,0,0,null,null,0,0,0,0]
[388,{"$f":"'INVENT.Mat Transp importés - 10'!B394","v":0},{"$f":"'INVENT.Mat Transp importés - 10'!F394","v":0},{"$f":"'INVENT.Mat Transp importés - 10'!C394","v":0},{"$f":"'INVENT.Mat Transp importés - 10'!H394","v":0},null,0,0,0,0,0,0,null,null,0,0,0,0]
[389,{"$f":"'INVENT.Mat Transp importés - 10'!B395","v":0},{"$f":"'INVENT.Mat Transp importés - 10'!F395","v":0},{"$f":"'INVENT.Mat Transp importés - 10'!C395","v":0},{"$f":"'INVENT.Mat Transp importés - 10'!H395","v":0},null,0,0,0,0,0,0,null,null,0,0,0,0]
[390,{"$f":"'INVENT.Mat Transp importés - 10'!B396","v":0},{"$f":"'INVENT.Mat Transp importés - 10'!F396","v":0},{"$f":"'INVENT.Mat Transp importés - 10'!C396","v":0},{"$f":"'INVENT.Mat Transp importés - 10'!H396","v":0},null,0,0,0,0,0,0,null,null,0,0,0,0]
[391,{"$f":"'INVENT.Mat Transp importés - 10'!B397","v":0},{"$f":"'INVENT.Mat Transp importés - 10'!F397","v":0},{"$f":"'INVENT.Mat Transp importés - 10'!C397","v":0},{"$f":"'INVENT.Mat Transp importés - 10'!H397","v":0},null,0,0,0,0,0,0,null,null,0,0,0,0]
[392,{"$f":"'INVENT.Mat Transp importés - 10'!B398","v":0},{"$f":"'INVENT.Mat Transp importés - 10'!F398","v":0},{"$f":"'INVENT.Mat Transp importés - 10'!C398","v":0},{"$f":"'INVENT.Mat Transp importés - 10'!H398","v":0},null,0,0,0,0,0,0,null,null,0,0,0,0]
[393,{"$f":"'INVENT.Mat Transp importés - 10'!B399","v":0},{"$f":"'INVENT.Mat Transp importés - 10'!F399","v":0},{"$f":"'INVENT.Mat Transp importés - 10'!C399","v":0},{"$f":"'INVENT.Mat Transp importés - 10'!H399","v":0},null,0,0,0,0,0,0,null,null,0,0,0,0]
[394,{"$f":"'INVENT.Mat Transp importés - 10'!B400","v":0},{"$f":"'INVENT.Mat Transp importés - 10'!F400","v":0},{"$f":"'INVENT.Mat Transp importés - 10'!C400","v":0},{"$f":"'INVENT.Mat Transp importés - 10'!H400","v":0},null,0,0,0,0,0,0,null,null,0,0,0,0]
[395,{"$f":"'INVENT.Mat Transp importés - 10'!B401","v":0},{"$f":"'INVENT.Mat Transp importés - 10'!F401","v":0},{"$f":"'INVENT.Mat Transp importés - 10'!C401","v":0},{"$f":"'INVENT.Mat Transp importés - 10'!H401","v":0},null,0,0,0,0,0,0,null,null,0,0,0,0]
[396,{"$f":"'INVENT.Mat Transp importés - 10'!B402","v":0},{"$f":"'INVENT.Mat Transp importés - 10'!F402","v":0},{"$f":"'INVENT.Mat Transp importés - 10'!C402","v":0},{"$f":"'INVENT.Mat Transp importés - 10'!H402","v":0},null,0,0,0,0,0,0,null,null,0,0,0,0]
[397,{"$f":"'INVENT.Mat Transp importés - 10'!B403","v":0},{"$f":"'INVENT.Mat Transp importés - 10'!F403","v":0},{"$f":"'INVENT.Mat Transp importés - 10'!C403","v":0},{"$f":"'INVENT.Mat Transp importés - 10'!H403","v":0},null,0,0,0,0,0,0,null,null,0,0,0,0]
[398,{"$f":"'INVENT.Mat Transp importés - 10'!B404","v":0},{"$f":"'INVENT.Mat Transp importés - 10'!F404","v":0},{"$f":"'INVENT.Mat Transp importés - 10'!C404","v":0},{"$f":"'INVENT.Mat Transp importés - 10'!H404","v":0},null,0,0,0,0,0,0,null,null,0,0,0,0]
[399,{"$f":"'INVENT.Mat Transp importés - 10'!B405","v":0},{"$f":"'INVENT.Mat Transp importés - 10'!F405","v":0},{"$f":"'INVENT.Mat Transp importés - 10'!C405","v":0},{"$f":"'INVENT.Mat Transp importés - 10'!H405","v":0},null,0,0,0,0,0,0,null,null,0,0,0,0]
[400,{"$f":"'INVENT.Mat Transp importés - 10'!B406","v":0},{"$f":"'INVENT.Mat Transp importés - 10'!F406","v":0},{"$f":"'INVENT.Mat Transp importés - 10'!C406","v":0},{"$f":"'INVENT.Mat Transp importés - 10'!H406","v":0},null,0,0,0,0,0,0,null,null,0,0,0,0]
[401,{"$f":"'INVENT.Mat Transp importés - 10'!B407","v":0},{"$f":"'INVENT.Mat Transp importés - 10'!F407","v":0},{"$f":"'INVENT.Mat Transp importés - 10'!C407","v":0},{"$f":"'INVENT.Mat Transp importés - 10'!H407","v":0},null,0,0,0,0,0,0,null,null,0,0,0,0]
[402,{"$f":"'INVENT.Mat Transp importés - 10'!B408","v":0},{"$f":"'INVENT.Mat Transp importés - 10'!F408","v":0},{"$f":"'INVENT.Mat Transp importés - 10'!C408","v":0},{"$f":"'INVENT.Mat Transp importés - 10'!H408","v":0},null,0,0,0,0,0,0,null,null,0,0,0,0]
[403,{"$f":"'INVENT.Mat Transp importés - 10'!B409","v":0},{"$f":"'INVENT.Mat Transp importés - 10'!F409","v":0},{"$f":"'INVENT.Mat Transp importés - 10'!C409","v":0},{"$f":"'INVENT.Mat Transp importés - 10'!H409","v":0},null,0,0,0,0,0,0,null,null,0,0,0,0]
[404,{"$f":"'INVENT.Mat Transp importés - 10'!B410","v":0},{"$f":"'INVENT.Mat Transp importés - 10'!F410","v":0},{"$f":"'INVENT.Mat Transp importés - 10'!C410","v":0},{"$f":"'INVENT.Mat Transp importés - 10'!H410","v":0},null,0,0,0,0,0,0,null,null,0,0,0,0]
[405,{"$f":"'INVENT.Mat Transp importés - 10'!B411","v":0},{"$f":"'INVENT.Mat Transp importés - 10'!F411","v":0},{"$f":"'INVENT.Mat Transp importés - 10'!C411","v":0},{"$f":"'INVENT.Mat Transp importés - 10'!H411","v":0},null,0,0,0,0,0,0,null,null,0,0,0,0]
[406,{"$f":"'INVENT.Mat Transp importés - 10'!B412","v":0},{"$f":"'INVENT.Mat Transp importés - 10'!F412","v":0},{"$f":"'INVENT.Mat Transp importés - 10'!C412","v":0},{"$f":"'INVENT.Mat Transp importés - 10'!H412","v":0},null,0,0,0,0,0,0,null,null,0,0,0,0]
[407,{"$f":"'INVENT.Mat Transp importés - 10'!B413","v":0},{"$f":"'INVENT.Mat Transp importés - 10'!F413","v":0},{"$f":"'INVENT.Mat Transp importés - 10'!C413","v":0},{"$f":"'INVENT.Mat Transp importés - 10'!H413","v":0},null,0,0,0,0,0,0,null,null,0,0,0,0]
[408,{"$f":"'INVENT.Mat Transp importés - 10'!B414","v":0},{"$f":"'INVENT.Mat Transp importés - 10'!F414","v":0},{"$f":"'INVENT.Mat Transp importés - 10'!C414","v":0},{"$f":"'INVENT.Mat Transp importés - 10'!H414","v":0},null,0,0,0,0,0,0,null,null,0,0,0,0]
[409,{"$f":"'INVENT.Mat Transp importés - 10'!B415","v":0},{"$f":"'INVENT.Mat Transp importés - 10'!F415","v":0},{"$f":"'INVENT.Mat Transp importés - 10'!C415","v":0},{"$f":"'INVENT.Mat Transp importés - 10'!H415","v":0},null,0,0,0,0,0,0,null,null,0,0,0,0]
[410,{"$f":"'INVENT.Mat Transp importés - 10'!B416","v":0},{"$f":"'INVENT.Mat Transp importés - 10'!F416","v":0},{"$f":"'INVENT.Mat Transp importés - 10'!C416","v":0},{"$f":"'INVENT.Mat Transp importés - 10'!H416","v":0},null,0,0,0,0,0,0,null,null,0,0,0,0]
[411,{"$f":"'INVENT.Mat Transp importés - 10'!B417","v":0},{"$f":"'INVENT.Mat Transp importés - 10'!F417","v":0},{"$f":"'INVENT.Mat Transp importés - 10'!C417","v":0},{"$f":"'INVENT.Mat Transp importés - 10'!H417","v":0},null,0,0,0,0,0,0,null,null,0,0,0,0]
[412,{"$f":"'INVENT.Mat Transp importés - 10'!B418","v":0},{"$f":"'INVENT.Mat Transp importés - 10'!F418","v":0},{"$f":"'INVENT.Mat Transp importés - 10'!C418","v":0},{"$f":"'INVENT.Mat Transp importés - 10'!H418","v":0},null,0,0,0,0,0,0,null,null,0,0,0,0]
[413,{"$f":"'INVENT.Mat Transp importés - 10'!B419","v":0},{"$f":"'INVENT.Mat Transp importés - 10'!F419","v":0},{"$f":"'INVENT.Mat Transp importés - 10'!C419","v":0},{"$f":"'INVENT.Mat Transp importés - 10'!H419","v":0},null,0,0,0,0,0,0,null,null,0,0,0,0]
[414,{"$f":"'INVENT.Mat Transp importés - 10'!B420","v":0},{"$f":"'INVENT.Mat Transp importés - 10'!F420","v":0},{"$f":"'INVENT.Mat Transp importés - 10'!C420","v":0},{"$f":"'INVENT.Mat Transp importés - 10'!H420","v":0},null,0,0,0,0,0,0,null,null,0,0,0,0]
[415,{"$f":"'INVENT.Mat Transp importés - 10'!B421","v":0},{"$f":"'INVENT.Mat Transp importés - 10'!F421","v":0},{"$f":"'INVENT.Mat Transp importés - 10'!C421","v":0},{"$f":"'INVENT.Mat Transp importés - 10'!H421","v":0},null,0,0,0,0,0,0,null,null,0,0,0,0]
[416,{"$f":"'INVENT.Mat Transp importés - 10'!B422","v":0},{"$f":"'INVENT.Mat Transp importés - 10'!F422","v":0},{"$f":"'INVENT.Mat Transp importés - 10'!C422","v":0},{"$f":"'INVENT.Mat Transp importés - 10'!H422","v":0},null,0,0,0,0,0,0,null,null,0,0,0,0]
[417,{"$f":"'INVENT.Mat Transp importés - 10'!B423","v":0},{"$f":"'INVENT.Mat Transp importés - 10'!F423","v":0},{"$f":"'INVENT.Mat Transp importés - 10'!C423","v":0},{"$f":"'INVENT.Mat Transp importés - 10'!H423","v":0},null,0,0,0,0,0,0,null,null,0,0,0,0]
[418,{"$f":"'INVENT.Mat Transp importés - 10'!B424","v":0},{"$f":"'INVENT.Mat Transp importés - 10'!F424","v":0},{"$f":"'INVENT.Mat Transp importés - 10'!C424","v":0},{"$f":"'INVENT.Mat Transp importés - 10'!H424","v":0},null,0,0,0,0,0,0,null,null,0,0,0,0]
[419,{"$f":"'INVENT.Mat Transp importés - 10'!B425","v":0},{"$f":"'INVENT.Mat Transp importés - 10'!F425","v":0},{"$f":"'INVENT.Mat Transp importés - 10'!C425","v":0},{"$f":"'INVENT.Mat Transp importés - 10'!H425","v":0},null,0,0,0,0,0,0,null,null,0,0,0,0]
[420,{"$f":"'INVENT.Mat Transp importés - 10'!B426","v":0},{"$f":"'INVENT.Mat Transp importés - 10'!F426","v":0},{"$f":"'INVENT.Mat Transp importés - 10'!C426","v":0},{"$f":"'INVENT.Mat Transp importés - 10'!H426","v":0},null,0,0,0,0,0,0,null,null,0,0,0,0]
[421,{"$f":"'INVENT.Mat Transp importés - 10'!B427","v":0},{"$f":"'INVENT.Mat Transp importés - 10'!F427","v":0},{"$f":"'INVENT.Mat Transp importés - 10'!C427","v":0},{"$f":"'INVENT.Mat Transp importés - 10'!H427","v":0},null,0,0,0,0,0,0,null,null,0,0,0,0]
[422,{"$f":"'INVENT.Mat Transp importés - 10'!B428","v":0},{"$f":"'INVENT.Mat Transp importés - 10'!F428","v":0},{"$f":"'INVENT.Mat Transp importés - 10'!C428","v":0},{"$f":"'INVENT.Mat Transp importés - 10'!H428","v":0},null,0,0,0,0,0,0,null,null,0,0,0,0]
[423,{"$f":"'INVENT.Mat Transp importés - 10'!B429","v":0},{"$f":"'INVENT.Mat Transp importés - 10'!F429","v":0},{"$f":"'INVENT.Mat Transp importés - 10'!C429","v":0},{"$f":"'INVENT.Mat Transp importés - 10'!H429","v":0},null,0,0,0,0,0,0,null,null,0,0,0,0]
[{"$f":"+A430+1","v":424},{"$f":"'INVENT.Mat Transp importés - 10'!B430","v":0},{"$f":"'INVENT.Mat Transp importés - 10'!F430","v":0},{"$f":"'INVENT.Mat Transp importés - 10'!C430","v":0},{"$f":"'INVENT.Mat Transp importés - 10'!H430","v":0},null,0,0,0,0,0,0,null,null,0,0,0,0]
[425,{"$f":"'INVENT.Mat Transp importés - 10'!B431","v":0},{"$f":"'INVENT.Mat Transp importés - 10'!F431","v":0},{"$f":"'INVENT.Mat Transp importés - 10'!C431","v":0},{"$f":"'INVENT.Mat Transp importés - 10'!H431","v":0},null,0,0,0,0,0,0,null,null,0,0,0,0]
[426,{"$f":"'INVENT.Mat Transp importés - 10'!B432","v":0},{"$f":"'INVENT.Mat Transp importés - 10'!F432","v":0},{"$f":"'INVENT.Mat Transp importés - 10'!C432","v":0},{"$f":"'INVENT.Mat Transp importés - 10'!H432","v":0},null,0,0,0,0,0,0,null,null,0,0,0,0]
[427,{"$f":"'INVENT.Mat Transp importés - 10'!B433","v":0},{"$f":"'INVENT.Mat Transp importés - 10'!F433","v":0},{"$f":"'INVENT.Mat Transp importés - 10'!C433","v":0},{"$f":"'INVENT.Mat Transp importés - 10'!H433","v":0},null,0,0,0,0,0,0,null,null,0,0,0,0]
[428,{"$f":"'INVENT.Mat Transp importés - 10'!B434","v":0},{"$f":"'INVENT.Mat Transp importés - 10'!F434","v":0},{"$f":"'INVENT.Mat Transp importés - 10'!C434","v":0},{"$f":"'INVENT.Mat Transp importés - 10'!H434","v":0},null,0,0,0,0,0,0,null,null,0,0,0,0]
[429,{"$f":"'INVENT.Mat Transp importés - 10'!B435","v":0},{"$f":"'INVENT.Mat Transp importés - 10'!F435","v":0},{"$f":"'INVENT.Mat Transp importés - 10'!C435","v":0},{"$f":"'INVENT.Mat Transp importés - 10'!H435","v":0},null,0,0,0,0,0,0,null,null,0,0,0,0]
[430,{"$f":"'INVENT.Mat Transp importés - 10'!B436","v":0},{"$f":"'INVENT.Mat Transp importés - 10'!F436","v":0},{"$f":"'INVENT.Mat Transp importés - 10'!C436","v":0},{"$f":"'INVENT.Mat Transp importés - 10'!H436","v":0},null,0,0,0,0,0,0,null,null,0,0,0,0]
[431,{"$f":"'INVENT.Mat Transp importés - 10'!B437","v":0},{"$f":"'INVENT.Mat Transp importés - 10'!F437","v":0},{"$f":"'INVENT.Mat Transp importés - 10'!C437","v":0},{"$f":"'INVENT.Mat Transp importés - 10'!H437","v":0},null,0,0,0,0,0,0,null,null,0,0,0,0]
[432,{"$f":"'INVENT.Mat Transp importés - 10'!B438","v":0},{"$f":"'INVENT.Mat Transp importés - 10'!F438","v":0},{"$f":"'INVENT.Mat Transp importés - 10'!C438","v":0},{"$f":"'INVENT.Mat Transp importés - 10'!H438","v":0},null,0,0,0,0,0,0,null,null,0,0,0,0]
[433,{"$f":"'INVENT.Mat Transp importés - 10'!B439","v":0},{"$f":"'INVENT.Mat Transp importés - 10'!F439","v":0},{"$f":"'INVENT.Mat Transp importés - 10'!C439","v":0},{"$f":"'INVENT.Mat Transp importés - 10'!H439","v":0},null,0,0,0,0,0,0,null,null,0,0,0,0]
[434,{"$f":"'INVENT.Mat Transp importés - 10'!B440","v":0},{"$f":"'INVENT.Mat Transp importés - 10'!F440","v":0},{"$f":"'INVENT.Mat Transp importés - 10'!C440","v":0},{"$f":"'INVENT.Mat Transp importés - 10'!H440","v":0},null,0,0,0,0,0,0,null,null,0,0,0,0]
[435,{"$f":"'INVENT.Mat Transp importés - 10'!B441","v":0},{"$f":"'INVENT.Mat Transp importés - 10'!F441","v":0},{"$f":"'INVENT.Mat Transp importés - 10'!C441","v":0},{"$f":"'INVENT.Mat Transp importés - 10'!H441","v":0},null,{"$f":"F442*E442","v":0},{"$f":"E442*1%","v":0},{"$f":"E442*1%","v":0},{"$f":"E442*0.5%","v":0},{"$f":"(E442+G442+H442)*18%","v":0},{"$f":"SUM(G442:K442)+E442","v":0},null,null,{"$f":"(M442+N442)*18%","v":0},{"$f":"O442+N442+M442","v":0},{"$f":"+R442-O442-K442","v":0},{"$f":"P442+L442","v":0}]
[436,{"$f":"'INVENT.Mat Transp importés - 10'!B442","v":0},{"$f":"'INVENT.Mat Transp importés - 10'!F442","v":0},{"$f":"'INVENT.Mat Transp importés - 10'!C442","v":0},{"$f":"'INVENT.Mat Transp importés - 10'!H442","v":0},null,0,0,0,0,0,0,null,null,0,0,0,0]
[437,{"$f":"'INVENT.Mat Transp importés - 10'!B443","v":0},{"$f":"'INVENT.Mat Transp importés - 10'!F443","v":0},{"$f":"'INVENT.Mat Transp importés - 10'!C443","v":0},{"$f":"'INVENT.Mat Transp importés - 10'!H443","v":0},null,0,0,0,0,0,0,null,null,0,0,0,0]
[438,{"$f":"'INVENT.Mat Transp importés - 10'!B444","v":0},{"$f":"'INVENT.Mat Transp importés - 10'!F444","v":0},{"$f":"'INVENT.Mat Transp importés - 10'!C444","v":0},{"$f":"'INVENT.Mat Transp importés - 10'!H444","v":0},null,0,0,0,0,0,0,null,null,0,0,0,0]
[439,{"$f":"'INVENT.Mat Transp importés - 10'!B445","v":0},{"$f":"'INVENT.Mat Transp importés - 10'!F445","v":0},{"$f":"'INVENT.Mat Transp importés - 10'!C445","v":0},{"$f":"'INVENT.Mat Transp importés - 10'!H445","v":0},null,0,0,0,0,0,0,null,null,0,0,0,0]
[440,{"$f":"'INVENT.Mat Transp importés - 10'!B446","v":0},{"$f":"'INVENT.Mat Transp importés - 10'!F446","v":0},{"$f":"'INVENT.Mat Transp importés - 10'!C446","v":0},{"$f":"'INVENT.Mat Transp importés - 10'!H446","v":0},null,0,0,0,0,0,0,null,null,0,0,0,0]
[441,{"$f":"'INVENT.Mat Transp importés - 10'!B447","v":0},{"$f":"'INVENT.Mat Transp importés - 10'!F447","v":0},{"$f":"'INVENT.Mat Transp importés - 10'!C447","v":0},{"$f":"'INVENT.Mat Transp importés - 10'!H447","v":0},null,0,0,0,0,0,0,null,null,0,0,0,0]
[442,{"$f":"'INVENT.Mat Transp importés - 10'!B448","v":0},{"$f":"'INVENT.Mat Transp importés - 10'!F448","v":0},{"$f":"'INVENT.Mat Transp importés - 10'!C448","v":0},{"$f":"'INVENT.Mat Transp importés - 10'!H448","v":0},null,0,0,0,0,0,0,null,null,0,0,0,0]
[443,{"$f":"'INVENT.Mat Transp importés - 10'!B449","v":0},{"$f":"'INVENT.Mat Transp importés - 10'!F449","v":0},{"$f":"'INVENT.Mat Transp importés - 10'!C449","v":0},{"$f":"'INVENT.Mat Transp importés - 10'!H449","v":0},null,0,0,0,0,0,0,null,null,0,0,0,0]
[444,{"$f":"'INVENT.Mat Transp importés - 10'!B450","v":0},{"$f":"'INVENT.Mat Transp importés - 10'!F450","v":0},{"$f":"'INVENT.Mat Transp importés - 10'!C450","v":0},{"$f":"'INVENT.Mat Transp importés - 10'!H450","v":0},null,0,0,0,0,0,0,null,null,0,0,0,0]
[445,{"$f":"'INVENT.Mat Transp importés - 10'!B451","v":0},{"$f":"'INVENT.Mat Transp importés - 10'!F451","v":0},{"$f":"'INVENT.Mat Transp importés - 10'!C451","v":0},{"$f":"'INVENT.Mat Transp importés - 10'!H451","v":0},null,0,0,0,0,0,0,null,null,0,0,0,0]
[446,{"$f":"'INVENT.Mat Transp importés - 10'!B452","v":0},{"$f":"'INVENT.Mat Transp importés - 10'!F452","v":0},{"$f":"'INVENT.Mat Transp importés - 10'!C452","v":0},{"$f":"'INVENT.Mat Transp importés - 10'!H452","v":0},null,0,0,0,0,0,0,null,null,0,0,0,0]
[447,{"$f":"'INVENT.Mat Transp importés - 10'!B453","v":0},{"$f":"'INVENT.Mat Transp importés - 10'!F453","v":0},{"$f":"'INVENT.Mat Transp importés - 10'!C453","v":0},{"$f":"'INVENT.Mat Transp importés - 10'!H453","v":0},null,0,0,0,0,0,0,null,null,0,0,0,0]
[448,{"$f":"'INVENT.Mat Transp importés - 10'!B454","v":0},{"$f":"'INVENT.Mat Transp importés - 10'!F454","v":0},{"$f":"'INVENT.Mat Transp importés - 10'!C454","v":0},{"$f":"'INVENT.Mat Transp importés - 10'!H454","v":0},null,0,0,0,0,0,0,null,null,0,0,0,0]
[449,{"$f":"'INVENT.Mat Transp importés - 10'!B455","v":0},{"$f":"'INVENT.Mat Transp importés - 10'!F455","v":0},{"$f":"'INVENT.Mat Transp importés - 10'!C455","v":0},{"$f":"'INVENT.Mat Transp importés - 10'!H455","v":0},null,0,0,0,0,0,0,null,null,0,0,0,0]
[450,{"$f":"'INVENT.Mat Transp importés - 10'!B456","v":0},{"$f":"'INVENT.Mat Transp importés - 10'!F456","v":0},{"$f":"'INVENT.Mat Transp importés - 10'!C456","v":0},{"$f":"'INVENT.Mat Transp importés - 10'!H456","v":0},null,0,0,0,0,0,0,null,null,0,0,0,0]
[451,{"$f":"'INVENT.Mat Transp importés - 10'!B457","v":0},{"$f":"'INVENT.Mat Transp importés - 10'!F457","v":0},{"$f":"'INVENT.Mat Transp importés - 10'!C457","v":0},{"$f":"'INVENT.Mat Transp importés - 10'!H457","v":0},null,0,0,0,0,0,0,null,null,0,0,0,0]
[452,{"$f":"'INVENT.Mat Transp importés - 10'!B458","v":0},{"$f":"'INVENT.Mat Transp importés - 10'!F458","v":0},{"$f":"'INVENT.Mat Transp importés - 10'!C458","v":0},{"$f":"'INVENT.Mat Transp importés - 10'!H458","v":0},null,0,0,0,0,0,0,null,null,0,0,0,0]
[453,{"$f":"'INVENT.Mat Transp importés - 10'!B459","v":0},{"$f":"'INVENT.Mat Transp importés - 10'!F459","v":0},{"$f":"'INVENT.Mat Transp importés - 10'!C459","v":0},{"$f":"'INVENT.Mat Transp importés - 10'!H459","v":0},null,0,0,0,0,0,0,null,null,0,0,0,0]
[454,{"$f":"'INVENT.Mat Transp importés - 10'!B460","v":0},{"$f":"'INVENT.Mat Transp importés - 10'!F460","v":0},{"$f":"'INVENT.Mat Transp importés - 10'!C460","v":0},{"$f":"'INVENT.Mat Transp importés - 10'!H460","v":0},null,0,0,0,0,0,0,null,null,0,0,0,0]
[455,{"$f":"'INVENT.Mat Transp importés - 10'!B461","v":0},{"$f":"'INVENT.Mat Transp importés - 10'!F461","v":0},{"$f":"'INVENT.Mat Transp importés - 10'!C461","v":0},{"$f":"'INVENT.Mat Transp importés - 10'!H461","v":0},null,0,0,0,0,0,0,null,null,0,0,0,0]
[456,{"$f":"'INVENT.Mat Transp importés - 10'!B462","v":0},{"$f":"'INVENT.Mat Transp importés - 10'!F462","v":0},{"$f":"'INVENT.Mat Transp importés - 10'!C462","v":0},{"$f":"'INVENT.Mat Transp importés - 10'!H462","v":0},null,0,0,0,0,0,0,null,null,0,0,0,0]
[457,{"$f":"'INVENT.Mat Transp importés - 10'!B463","v":0},{"$f":"'INVENT.Mat Transp importés - 10'!F463","v":0},{"$f":"'INVENT.Mat Transp importés - 10'!C463","v":0},{"$f":"'INVENT.Mat Transp importés - 10'!H463","v":0},null,0,0,0,0,0,0,null,null,0,0,0,0]
[458,{"$f":"'INVENT.Mat Transp importés - 10'!B464","v":0},{"$f":"'INVENT.Mat Transp importés - 10'!F464","v":0},{"$f":"'INVENT.Mat Transp importés - 10'!C464","v":0},{"$f":"'INVENT.Mat Transp importés - 10'!H464","v":0},null,0,0,0,0,0,0,null,null,0,0,0,0]
[459,{"$f":"'INVENT.Mat Transp importés - 10'!B465","v":0},{"$f":"'INVENT.Mat Transp importés - 10'!F465","v":0},{"$f":"'INVENT.Mat Transp importés - 10'!C465","v":0},{"$f":"'INVENT.Mat Transp importés - 10'!H465","v":0},null,0,0,0,0,0,0,null,null,0,0,0,0]
[460,{"$f":"'INVENT.Mat Transp importés - 10'!B466","v":0},{"$f":"'INVENT.Mat Transp importés - 10'!F466","v":0},{"$f":"'INVENT.Mat Transp importés - 10'!C466","v":0},{"$f":"'INVENT.Mat Transp importés - 10'!H466","v":0},null,0,0,0,0,0,0,null,null,0,0,0,0]
[461,{"$f":"'INVENT.Mat Transp importés - 10'!B467","v":0},{"$f":"'INVENT.Mat Transp importés - 10'!F467","v":0},{"$f":"'INVENT.Mat Transp importés - 10'!C467","v":0},{"$f":"'INVENT.Mat Transp importés - 10'!H467","v":0},null,0,0,0,0,0,0,null,null,0,0,0,0]
[462,{"$f":"'INVENT.Mat Transp importés - 10'!B468","v":0},{"$f":"'INVENT.Mat Transp importés - 10'!F468","v":0},{"$f":"'INVENT.Mat Transp importés - 10'!C468","v":0},{"$f":"'INVENT.Mat Transp importés - 10'!H468","v":0},null,0,0,0,0,0,0,null,null,0,0,0,0]
[463,{"$f":"'INVENT.Mat Transp importés - 10'!B469","v":0},{"$f":"'INVENT.Mat Transp importés - 10'!F469","v":0},{"$f":"'INVENT.Mat Transp importés - 10'!C469","v":0},{"$f":"'INVENT.Mat Transp importés - 10'!H469","v":0},null,0,0,0,0,0,0,null,null,0,0,0,0]
[464,{"$f":"'INVENT.Mat Transp importés - 10'!B470","v":0},{"$f":"'INVENT.Mat Transp importés - 10'!F470","v":0},{"$f":"'INVENT.Mat Transp importés - 10'!C470","v":0},{"$f":"'INVENT.Mat Transp importés - 10'!H470","v":0},null,0,0,0,0,0,0,null,null,0,0,0,0]
[465,{"$f":"'INVENT.Mat Transp importés - 10'!B471","v":0},{"$f":"'INVENT.Mat Transp importés - 10'!F471","v":0},{"$f":"'INVENT.Mat Transp importés - 10'!C471","v":0},{"$f":"'INVENT.Mat Transp importés - 10'!H471","v":0},null,0,0,0,0,0,0,null,null,0,0,0,0]
[466,{"$f":"'INVENT.Mat Transp importés - 10'!B472","v":0},{"$f":"'INVENT.Mat Transp importés - 10'!F472","v":0},{"$f":"'INVENT.Mat Transp importés - 10'!C472","v":0},{"$f":"'INVENT.Mat Transp importés - 10'!H472","v":0},null,0,0,0,0,0,0,null,null,0,0,0,0]
[467,{"$f":"'INVENT.Mat Transp importés - 10'!B473","v":0},{"$f":"'INVENT.Mat Transp importés - 10'!F473","v":0},{"$f":"'INVENT.Mat Transp importés - 10'!C473","v":0},{"$f":"'INVENT.Mat Transp importés - 10'!H473","v":0},null,0,0,0,0,0,0,null,null,0,0,0,0]
[468,{"$f":"'INVENT.Mat Transp importés - 10'!B474","v":0},{"$f":"'INVENT.Mat Transp importés - 10'!F474","v":0},{"$f":"'INVENT.Mat Transp importés - 10'!C474","v":0},{"$f":"'INVENT.Mat Transp importés - 10'!H474","v":0},null,0,0,0,0,0,0,null,null,0,0,0,0]
[469,{"$f":"'INVENT.Mat Transp importés - 10'!B475","v":0},{"$f":"'INVENT.Mat Transp importés - 10'!F475","v":0},{"$f":"'INVENT.Mat Transp importés - 10'!C475","v":0},{"$f":"'INVENT.Mat Transp importés - 10'!H475","v":0},null,0,0,0,0,0,0,null,null,0,0,0,0]
[470,{"$f":"'INVENT.Mat Transp importés - 10'!B476","v":0},{"$f":"'INVENT.Mat Transp importés - 10'!F476","v":0},{"$f":"'INVENT.Mat Transp importés - 10'!C476","v":0},{"$f":"'INVENT.Mat Transp importés - 10'!H476","v":0},null,0,0,0,0,0,0,null,null,0,0,0,0]
[471,{"$f":"'INVENT.Mat Transp importés - 10'!B477","v":0},{"$f":"'INVENT.Mat Transp importés - 10'!F477","v":0},{"$f":"'INVENT.Mat Transp importés - 10'!C477","v":0},{"$f":"'INVENT.Mat Transp importés - 10'!H477","v":0},null,0,0,0,0,0,0,null,null,0,0,0,0]
[472,{"$f":"'INVENT.Mat Transp importés - 10'!B478","v":0},{"$f":"'INVENT.Mat Transp importés - 10'!F478","v":0},{"$f":"'INVENT.Mat Transp importés - 10'!C478","v":0},{"$f":"'INVENT.Mat Transp importés - 10'!H478","v":0},null,0,0,0,0,0,0,null,null,0,0,0,0]
[473,{"$f":"'INVENT.Mat Transp importés - 10'!B479","v":0},{"$f":"'INVENT.Mat Transp importés - 10'!F479","v":0},{"$f":"'INVENT.Mat Transp importés - 10'!C479","v":0},{"$f":"'INVENT.Mat Transp importés - 10'!H479","v":0},null,0,0,0,0,0,0,null,null,0,0,0,0]
[474,{"$f":"'INVENT.Mat Transp importés - 10'!B480","v":0},{"$f":"'INVENT.Mat Transp importés - 10'!F480","v":0},{"$f":"'INVENT.Mat Transp importés - 10'!C480","v":0},{"$f":"'INVENT.Mat Transp importés - 10'!H480","v":0},null,0,0,0,0,0,0,null,null,0,0,0,0]
[475,{"$f":"'INVENT.Mat Transp importés - 10'!B481","v":0},{"$f":"'INVENT.Mat Transp importés - 10'!F481","v":0},{"$f":"'INVENT.Mat Transp importés - 10'!C481","v":0},{"$f":"'INVENT.Mat Transp importés - 10'!H481","v":0},null,0,0,0,0,0,0,null,null,0,0,0,0]
[476,{"$f":"'INVENT.Mat Transp importés - 10'!B482","v":0},{"$f":"'INVENT.Mat Transp importés - 10'!F482","v":0},{"$f":"'INVENT.Mat Transp importés - 10'!C482","v":0},{"$f":"'INVENT.Mat Transp importés - 10'!H482","v":0},null,0,0,0,0,0,0,null,null,0,0,0,0]
[477,{"$f":"'INVENT.Mat Transp importés - 10'!B483","v":0},{"$f":"'INVENT.Mat Transp importés - 10'!F483","v":0},{"$f":"'INVENT.Mat Transp importés - 10'!C483","v":0},{"$f":"'INVENT.Mat Transp importés - 10'!H483","v":0},null,0,0,0,0,0,0,null,null,0,0,0,0]
[478,{"$f":"'INVENT.Mat Transp importés - 10'!B484","v":0},{"$f":"'INVENT.Mat Transp importés - 10'!F484","v":0},{"$f":"'INVENT.Mat Transp importés - 10'!C484","v":0},{"$f":"'INVENT.Mat Transp importés - 10'!H484","v":0},null,0,0,0,0,0,0,null,null,0,0,0,0]
[479,{"$f":"'INVENT.Mat Transp importés - 10'!B485","v":0},{"$f":"'INVENT.Mat Transp importés - 10'!F485","v":0},{"$f":"'INVENT.Mat Transp importés - 10'!C485","v":0},{"$f":"'INVENT.Mat Transp importés - 10'!H485","v":0},null,0,0,0,0,0,0,null,null,0,0,0,0]
[480,{"$f":"'INVENT.Mat Transp importés - 10'!B486","v":0},{"$f":"'INVENT.Mat Transp importés - 10'!F486","v":0},{"$f":"'INVENT.Mat Transp importés - 10'!C486","v":0},{"$f":"'INVENT.Mat Transp importés - 10'!H486","v":0},null,0,0,0,0,0,0,null,null,0,0,0,0]
[481,{"$f":"'INVENT.Mat Transp importés - 10'!B487","v":0},{"$f":"'INVENT.Mat Transp importés - 10'!F487","v":0},{"$f":"'INVENT.Mat Transp importés - 10'!C487","v":0},{"$f":"'INVENT.Mat Transp importés - 10'!H487","v":0},null,0,0,0,0,0,0,null,null,0,0,0,0]
[482,{"$f":"'INVENT.Mat Transp importés - 10'!B488","v":0},{"$f":"'INVENT.Mat Transp importés - 10'!F488","v":0},{"$f":"'INVENT.Mat Transp importés - 10'!C488","v":0},{"$f":"'INVENT.Mat Transp importés - 10'!H488","v":0},null,0,0,0,0,0,0,null,null,0,0,0,0]
[483,{"$f":"'INVENT.Mat Transp importés - 10'!B489","v":0},{"$f":"'INVENT.Mat Transp importés - 10'!F489","v":0},{"$f":"'INVENT.Mat Transp importés - 10'!C489","v":0},{"$f":"'INVENT.Mat Transp importés - 10'!H489","v":0},null,0,0,0,0,0,0,null,null,0,0,0,0]
[484,{"$f":"'INVENT.Mat Transp importés - 10'!B490","v":0},{"$f":"'INVENT.Mat Transp importés - 10'!F490","v":0},{"$f":"'INVENT.Mat Transp importés - 10'!C490","v":0},{"$f":"'INVENT.Mat Transp importés - 10'!H490","v":0},null,0,0,0,0,0,0,null,null,0,0,0,0]
[485,{"$f":"'INVENT.Mat Transp importés - 10'!B491","v":0},{"$f":"'INVENT.Mat Transp importés - 10'!F491","v":0},{"$f":"'INVENT.Mat Transp importés - 10'!C491","v":0},{"$f":"'INVENT.Mat Transp importés - 10'!H491","v":0},null,0,0,0,0,0,0,null,null,0,0,0,0]
[486,{"$f":"'INVENT.Mat Transp importés - 10'!B492","v":0},{"$f":"'INVENT.Mat Transp importés - 10'!F492","v":0},{"$f":"'INVENT.Mat Transp importés - 10'!C492","v":0},{"$f":"'INVENT.Mat Transp importés - 10'!H492","v":0},null,0,0,0,0,0,0,null,null,0,0,0,0]
[487,{"$f":"'INVENT.Mat Transp importés - 10'!B493","v":0},{"$f":"'INVENT.Mat Transp importés - 10'!F493","v":0},{"$f":"'INVENT.Mat Transp importés - 10'!C493","v":0},{"$f":"'INVENT.Mat Transp importés - 10'!H493","v":0},null,0,0,0,0,0,0,null,null,0,0,0,0]
[{"$f":"+A494+1","v":488},{"$f":"'INVENT.Mat Transp importés - 10'!B494","v":0},{"$f":"'INVENT.Mat Transp importés - 10'!F494","v":0},{"$f":"'INVENT.Mat Transp importés - 10'!C494","v":0},{"$f":"'INVENT.Mat Transp importés - 10'!H494","v":0},null,0,0,0,0,0,0,null,null,0,0,0,0]
[489,{"$f":"'INVENT.Mat Transp importés - 10'!B495","v":0},{"$f":"'INVENT.Mat Transp importés - 10'!F495","v":0},{"$f":"'INVENT.Mat Transp importés - 10'!C495","v":0},{"$f":"'INVENT.Mat Transp importés - 10'!H495","v":0},null,0,0,0,0,0,0,null,null,0,0,0,0]
[490,{"$f":"'INVENT.Mat Transp importés - 10'!B496","v":0},{"$f":"'INVENT.Mat Transp importés - 10'!F496","v":0},{"$f":"'INVENT.Mat Transp importés - 10'!C496","v":0},{"$f":"'INVENT.Mat Transp importés - 10'!H496","v":0},null,0,0,0,0,0,0,null,null,0,0,0,0]
[491,{"$f":"'INVENT.Mat Transp importés - 10'!B497","v":0},{"$f":"'INVENT.Mat Transp importés - 10'!F497","v":0},{"$f":"'INVENT.Mat Transp importés - 10'!C497","v":0},{"$f":"'INVENT.Mat Transp importés - 10'!H497","v":0},null,0,0,0,0,0,0,null,null,0,0,0,0]
[492,{"$f":"'INVENT.Mat Transp importés - 10'!B498","v":0},{"$f":"'INVENT.Mat Transp importés - 10'!F498","v":0},{"$f":"'INVENT.Mat Transp importés - 10'!C498","v":0},{"$f":"'INVENT.Mat Transp importés - 10'!H498","v":0},null,0,0,0,0,0,0,null,null,0,0,0,0]
[493,{"$f":"'INVENT.Mat Transp importés - 10'!B499","v":0},{"$f":"'INVENT.Mat Transp importés - 10'!F499","v":0},{"$f":"'INVENT.Mat Transp importés - 10'!C499","v":0},{"$f":"'INVENT.Mat Transp importés - 10'!H499","v":0},null,0,0,0,0,0,0,null,null,0,0,0,0]
[494,{"$f":"'INVENT.Mat Transp importés - 10'!B500","v":0},{"$f":"'INVENT.Mat Transp importés - 10'!F500","v":0},{"$f":"'INVENT.Mat Transp importés - 10'!C500","v":0},{"$f":"'INVENT.Mat Transp importés - 10'!H500","v":0},null,0,0,0,0,0,0,null,null,0,0,0,0]
[495,{"$f":"'INVENT.Mat Transp importés - 10'!B501","v":0},{"$f":"'INVENT.Mat Transp importés - 10'!F501","v":0},{"$f":"'INVENT.Mat Transp importés - 10'!C501","v":0},{"$f":"'INVENT.Mat Transp importés - 10'!H501","v":0},null,0,0,0,0,0,0,null,null,0,0,0,0]
[496,{"$f":"'INVENT.Mat Transp importés - 10'!B502","v":0},{"$f":"'INVENT.Mat Transp importés - 10'!F502","v":0},{"$f":"'INVENT.Mat Transp importés - 10'!C502","v":0},{"$f":"'INVENT.Mat Transp importés - 10'!H502","v":0},null,0,0,0,0,0,0,null,null,0,0,0,0]
[497,{"$f":"'INVENT.Mat Transp importés - 10'!B503","v":0},{"$f":"'INVENT.Mat Transp importés - 10'!F503","v":0},{"$f":"'INVENT.Mat Transp importés - 10'!C503","v":0},{"$f":"'INVENT.Mat Transp importés - 10'!H503","v":0},null,0,0,0,0,0,0,null,null,0,0,0,0]
[498,{"$f":"'INVENT.Mat Transp importés - 10'!B504","v":0},{"$f":"'INVENT.Mat Transp importés - 10'!F504","v":0},{"$f":"'INVENT.Mat Transp importés - 10'!C504","v":0},{"$f":"'INVENT.Mat Transp importés - 10'!H504","v":0},null,0,0,0,0,0,0,null,null,0,0,0,0]
[499,{"$f":"'INVENT.Mat Transp importés - 10'!B505","v":0},{"$f":"'INVENT.Mat Transp importés - 10'!F505","v":0},{"$f":"'INVENT.Mat Transp importés - 10'!C505","v":0},{"$f":"'INVENT.Mat Transp importés - 10'!H505","v":0},null,{"$f":"F506*E506","v":0},{"$f":"E506*1%","v":0},{"$f":"E506*1%","v":0},{"$f":"E506*0.5%","v":0},{"$f":"(E506+G506+H506)*18%","v":0},{"$f":"SUM(G506:K506)+E506","v":0},null,null,{"$f":"(M506+N506)*18%","v":0},{"$f":"O506+N506+M506","v":0},{"$f":"+R506-O506-K506","v":0},{"$f":"P506+L506","v":0}]
[500,{"$f":"'INVENT.Mat Transp importés - 10'!B506","v":0},{"$f":"'INVENT.Mat Transp importés - 10'!F506","v":0},{"$f":"'INVENT.Mat Transp importés - 10'!C506","v":0},{"$f":"'INVENT.Mat Transp importés - 10'!H506","v":0},null,0,0,0,0,0,0,null,null,0,0,0,0]
[501,{"$f":"'INVENT.Mat Transp importés - 10'!B507","v":0},{"$f":"'INVENT.Mat Transp importés - 10'!F507","v":0},{"$f":"'INVENT.Mat Transp importés - 10'!C507","v":0},{"$f":"'INVENT.Mat Transp importés - 10'!H507","v":0},null,0,0,0,0,0,0,null,null,0,0,0,0]
[502,{"$f":"'INVENT.Mat Transp importés - 10'!B508","v":0},{"$f":"'INVENT.Mat Transp importés - 10'!F508","v":0},{"$f":"'INVENT.Mat Transp importés - 10'!C508","v":0},{"$f":"'INVENT.Mat Transp importés - 10'!H508","v":0},null,0,0,0,0,0,0,null,null,0,0,0,0]
[503,{"$f":"'INVENT.Mat Transp importés - 10'!B509","v":0},{"$f":"'INVENT.Mat Transp importés - 10'!F509","v":0},{"$f":"'INVENT.Mat Transp importés - 10'!C509","v":0},{"$f":"'INVENT.Mat Transp importés - 10'!H509","v":0},null,0,0,0,0,0,0,null,null,0,0,0,0]
[504,{"$f":"'INVENT.Mat Transp importés - 10'!B510","v":0},{"$f":"'INVENT.Mat Transp importés - 10'!F510","v":0},{"$f":"'INVENT.Mat Transp importés - 10'!C510","v":0},{"$f":"'INVENT.Mat Transp importés - 10'!H510","v":0},null,0,0,0,0,0,0,null,null,0,0,0,0]
[505,{"$f":"'INVENT.Mat Transp importés - 10'!B511","v":0},{"$f":"'INVENT.Mat Transp importés - 10'!F511","v":0},{"$f":"'INVENT.Mat Transp importés - 10'!C511","v":0},{"$f":"'INVENT.Mat Transp importés - 10'!H511","v":0},null,0,0,0,0,0,0,null,null,0,0,0,0]
[506,{"$f":"'INVENT.Mat Transp importés - 10'!B512","v":0},{"$f":"'INVENT.Mat Transp importés - 10'!F512","v":0},{"$f":"'INVENT.Mat Transp importés - 10'!C512","v":0},{"$f":"'INVENT.Mat Transp importés - 10'!H512","v":0},null,0,0,0,0,0,0,null,null,0,0,0,0]
[507,{"$f":"'INVENT.Mat Transp importés - 10'!B513","v":0},{"$f":"'INVENT.Mat Transp importés - 10'!F513","v":0},{"$f":"'INVENT.Mat Transp importés - 10'!C513","v":0},{"$f":"'INVENT.Mat Transp importés - 10'!H513","v":0},null,0,0,0,0,0,0,null,null,0,0,0,0]
[508,{"$f":"'INVENT.Mat Transp importés - 10'!B514","v":0},{"$f":"'INVENT.Mat Transp importés - 10'!F514","v":0},{"$f":"'INVENT.Mat Transp importés - 10'!C514","v":0},{"$f":"'INVENT.Mat Transp importés - 10'!H514","v":0},null,0,0,0,0,0,0,null,null,0,0,0,0]
[509,{"$f":"'INVENT.Mat Transp importés - 10'!B515","v":0},{"$f":"'INVENT.Mat Transp importés - 10'!F515","v":0},{"$f":"'INVENT.Mat Transp importés - 10'!C515","v":0},{"$f":"'INVENT.Mat Transp importés - 10'!H515","v":0},null,0,0,0,0,0,0,null,null,0,0,0,0]
[510,{"$f":"'INVENT.Mat Transp importés - 10'!B516","v":0},{"$f":"'INVENT.Mat Transp importés - 10'!F516","v":0},{"$f":"'INVENT.Mat Transp importés - 10'!C516","v":0},{"$f":"'INVENT.Mat Transp importés - 10'!H516","v":0},null,0,0,0,0,0,0,null,null,0,0,0,0]
[511,{"$f":"'INVENT.Mat Transp importés - 10'!B517","v":0},{"$f":"'INVENT.Mat Transp importés - 10'!F517","v":0},{"$f":"'INVENT.Mat Transp importés - 10'!C517","v":0},{"$f":"'INVENT.Mat Transp importés - 10'!H517","v":0},null,0,0,0,0,0,0,null,null,0,0,0,0]
[512,{"$f":"'INVENT.Mat Transp importés - 10'!B518","v":0},{"$f":"'INVENT.Mat Transp importés - 10'!F518","v":0},{"$f":"'INVENT.Mat Transp importés - 10'!C518","v":0},{"$f":"'INVENT.Mat Transp importés - 10'!H518","v":0},null,0,0,0,0,0,0,null,null,0,0,0,0]
[513,{"$f":"'INVENT.Mat Transp importés - 10'!B519","v":0},{"$f":"'INVENT.Mat Transp importés - 10'!F519","v":0},{"$f":"'INVENT.Mat Transp importés - 10'!C519","v":0},{"$f":"'INVENT.Mat Transp importés - 10'!H519","v":0},null,0,0,0,0,0,0,null,null,0,0,0,0]
[514,{"$f":"'INVENT.Mat Transp importés - 10'!B520","v":0},{"$f":"'INVENT.Mat Transp importés - 10'!F520","v":0},{"$f":"'INVENT.Mat Transp importés - 10'!C520","v":0},{"$f":"'INVENT.Mat Transp importés - 10'!H520","v":0},null,0,0,0,0,0,0,null,null,0,0,0,0]
[515,{"$f":"'INVENT.Mat Transp importés - 10'!B521","v":0},{"$f":"'INVENT.Mat Transp importés - 10'!F521","v":0},{"$f":"'INVENT.Mat Transp importés - 10'!C521","v":0},{"$f":"'INVENT.Mat Transp importés - 10'!H521","v":0},null,0,0,0,0,0,0,null,null,0,0,0,0]
[516,{"$f":"'INVENT.Mat Transp importés - 10'!B522","v":0},{"$f":"'INVENT.Mat Transp importés - 10'!F522","v":0},{"$f":"'INVENT.Mat Transp importés - 10'!C522","v":0},{"$f":"'INVENT.Mat Transp importés - 10'!H522","v":0},null,0,0,0,0,0,0,null,null,0,0,0,0]
[517,{"$f":"'INVENT.Mat Transp importés - 10'!B523","v":0},{"$f":"'INVENT.Mat Transp importés - 10'!F523","v":0},{"$f":"'INVENT.Mat Transp importés - 10'!C523","v":0},{"$f":"'INVENT.Mat Transp importés - 10'!H523","v":0},null,0,0,0,0,0,0,null,null,0,0,0,0]
[518,{"$f":"'INVENT.Mat Transp importés - 10'!B524","v":0},{"$f":"'INVENT.Mat Transp importés - 10'!F524","v":0},{"$f":"'INVENT.Mat Transp importés - 10'!C524","v":0},{"$f":"'INVENT.Mat Transp importés - 10'!H524","v":0},null,0,0,0,0,0,0,null,null,0,0,0,0]
[519,{"$f":"'INVENT.Mat Transp importés - 10'!B525","v":0},{"$f":"'INVENT.Mat Transp importés - 10'!F525","v":0},{"$f":"'INVENT.Mat Transp importés - 10'!C525","v":0},{"$f":"'INVENT.Mat Transp importés - 10'!H525","v":0},null,0,0,0,0,0,0,null,null,0,0,0,0]
[520,{"$f":"'INVENT.Mat Transp importés - 10'!B526","v":0},{"$f":"'INVENT.Mat Transp importés - 10'!F526","v":0},{"$f":"'INVENT.Mat Transp importés - 10'!C526","v":0},{"$f":"'INVENT.Mat Transp importés - 10'!H526","v":0},null,0,0,0,0,0,0,null,null,0,0,0,0]
[521,{"$f":"'INVENT.Mat Transp importés - 10'!B527","v":0},{"$f":"'INVENT.Mat Transp importés - 10'!F527","v":0},{"$f":"'INVENT.Mat Transp importés - 10'!C527","v":0},{"$f":"'INVENT.Mat Transp importés - 10'!H527","v":0},null,0,0,0,0,0,0,null,null,0,0,0,0]
[522,{"$f":"'INVENT.Mat Transp importés - 10'!B528","v":0},{"$f":"'INVENT.Mat Transp importés - 10'!F528","v":0},{"$f":"'INVENT.Mat Transp importés - 10'!C528","v":0},{"$f":"'INVENT.Mat Transp importés - 10'!H528","v":0},null,0,0,0,0,0,0,null,null,0,0,0,0]
[523,{"$f":"'INVENT.Mat Transp importés - 10'!B529","v":0},{"$f":"'INVENT.Mat Transp importés - 10'!F529","v":0},{"$f":"'INVENT.Mat Transp importés - 10'!C529","v":0},{"$f":"'INVENT.Mat Transp importés - 10'!H529","v":0},null,0,0,0,0,0,0,null,null,0,0,0,0]
[524,{"$f":"'INVENT.Mat Transp importés - 10'!B530","v":0},{"$f":"'INVENT.Mat Transp importés - 10'!F530","v":0},{"$f":"'INVENT.Mat Transp importés - 10'!C530","v":0},{"$f":"'INVENT.Mat Transp importés - 10'!H530","v":0},null,0,0,0,0,0,0,null,null,0,0,0,0]
[525,{"$f":"'INVENT.Mat Transp importés - 10'!B531","v":0},{"$f":"'INVENT.Mat Transp importés - 10'!F531","v":0},{"$f":"'INVENT.Mat Transp importés - 10'!C531","v":0},{"$f":"'INVENT.Mat Transp importés - 10'!H531","v":0},null,0,0,0,0,0,0,null,null,0,0,0,0]
[526,{"$f":"'INVENT.Mat Transp importés - 10'!B532","v":0},{"$f":"'INVENT.Mat Transp importés - 10'!F532","v":0},{"$f":"'INVENT.Mat Transp importés - 10'!C532","v":0},{"$f":"'INVENT.Mat Transp importés - 10'!H532","v":0},null,0,0,0,0,0,0,null,null,0,0,0,0]
[527,{"$f":"'INVENT.Mat Transp importés - 10'!B533","v":0},{"$f":"'INVENT.Mat Transp importés - 10'!F533","v":0},{"$f":"'INVENT.Mat Transp importés - 10'!C533","v":0},{"$f":"'INVENT.Mat Transp importés - 10'!H533","v":0},null,0,0,0,0,0,0,null,null,0,0,0,0]
[528,{"$f":"'INVENT.Mat Transp importés - 10'!B534","v":0},{"$f":"'INVENT.Mat Transp importés - 10'!F534","v":0},{"$f":"'INVENT.Mat Transp importés - 10'!C534","v":0},{"$f":"'INVENT.Mat Transp importés - 10'!H534","v":0},null,0,0,0,0,0,0,null,null,0,0,0,0]
[529,{"$f":"'INVENT.Mat Transp importés - 10'!B535","v":0},{"$f":"'INVENT.Mat Transp importés - 10'!F535","v":0},{"$f":"'INVENT.Mat Transp importés - 10'!C535","v":0},{"$f":"'INVENT.Mat Transp importés - 10'!H535","v":0},null,0,0,0,0,0,0,null,null,0,0,0,0]
[530,{"$f":"'INVENT.Mat Transp importés - 10'!B536","v":0},{"$f":"'INVENT.Mat Transp importés - 10'!F536","v":0},{"$f":"'INVENT.Mat Transp importés - 10'!C536","v":0},{"$f":"'INVENT.Mat Transp importés - 10'!H536","v":0},null,0,0,0,0,0,0,null,null,0,0,0,0]
[531,{"$f":"'INVENT.Mat Transp importés - 10'!B537","v":0},{"$f":"'INVENT.Mat Transp importés - 10'!F537","v":0},{"$f":"'INVENT.Mat Transp importés - 10'!C537","v":0},{"$f":"'INVENT.Mat Transp importés - 10'!H537","v":0},null,0,0,0,0,0,0,null,null,0,0,0,0]
[532,{"$f":"'INVENT.Mat Transp importés - 10'!B538","v":0},{"$f":"'INVENT.Mat Transp importés - 10'!F538","v":0},{"$f":"'INVENT.Mat Transp importés - 10'!C538","v":0},{"$f":"'INVENT.Mat Transp importés - 10'!H538","v":0},null,0,0,0,0,0,0,null,null,0,0,0,0]
[533,{"$f":"'INVENT.Mat Transp importés - 10'!B539","v":0},{"$f":"'INVENT.Mat Transp importés - 10'!F539","v":0},{"$f":"'INVENT.Mat Transp importés - 10'!C539","v":0},{"$f":"'INVENT.Mat Transp importés - 10'!H539","v":0},null,0,0,0,0,0,0,null,null,0,0,0,0]
[534,{"$f":"'INVENT.Mat Transp importés - 10'!B540","v":0},{"$f":"'INVENT.Mat Transp importés - 10'!F540","v":0},{"$f":"'INVENT.Mat Transp importés - 10'!C540","v":0},{"$f":"'INVENT.Mat Transp importés - 10'!H540","v":0},null,0,0,0,0,0,0,null,null,0,0,0,0]
[535,{"$f":"'INVENT.Mat Transp importés - 10'!B541","v":0},{"$f":"'INVENT.Mat Transp importés - 10'!F541","v":0},{"$f":"'INVENT.Mat Transp importés - 10'!C541","v":0},{"$f":"'INVENT.Mat Transp importés - 10'!H541","v":0},null,0,0,0,0,0,0,null,null,0,0,0,0]
[536,{"$f":"'INVENT.Mat Transp importés - 10'!B542","v":0},{"$f":"'INVENT.Mat Transp importés - 10'!F542","v":0},{"$f":"'INVENT.Mat Transp importés - 10'!C542","v":0},{"$f":"'INVENT.Mat Transp importés - 10'!H542","v":0},null,0,0,0,0,0,0,null,null,0,0,0,0]
[537,{"$f":"'INVENT.Mat Transp importés - 10'!B543","v":0},{"$f":"'INVENT.Mat Transp importés - 10'!F543","v":0},{"$f":"'INVENT.Mat Transp importés - 10'!C543","v":0},{"$f":"'INVENT.Mat Transp importés - 10'!H543","v":0},null,0,0,0,0,0,0,null,null,0,0,0,0]
[538,{"$f":"'INVENT.Mat Transp importés - 10'!B544","v":0},{"$f":"'INVENT.Mat Transp importés - 10'!F544","v":0},{"$f":"'INVENT.Mat Transp importés - 10'!C544","v":0},{"$f":"'INVENT.Mat Transp importés - 10'!H544","v":0},null,0,0,0,0,0,0,null,null,0,0,0,0]
[539,{"$f":"'INVENT.Mat Transp importés - 10'!B545","v":0},{"$f":"'INVENT.Mat Transp importés - 10'!F545","v":0},{"$f":"'INVENT.Mat Transp importés - 10'!C545","v":0},{"$f":"'INVENT.Mat Transp importés - 10'!H545","v":0},null,0,0,0,0,0,0,null,null,0,0,0,0]
[540,{"$f":"'INVENT.Mat Transp importés - 10'!B546","v":0},{"$f":"'INVENT.Mat Transp importés - 10'!F546","v":0},{"$f":"'INVENT.Mat Transp importés - 10'!C546","v":0},{"$f":"'INVENT.Mat Transp importés - 10'!H546","v":0},null,0,0,0,0,0,0,null,null,0,0,0,0]
[541,{"$f":"'INVENT.Mat Transp importés - 10'!B547","v":0},{"$f":"'INVENT.Mat Transp importés - 10'!F547","v":0},{"$f":"'INVENT.Mat Transp importés - 10'!C547","v":0},{"$f":"'INVENT.Mat Transp importés - 10'!H547","v":0},null,0,0,0,0,0,0,null,null,0,0,0,0]
[542,{"$f":"'INVENT.Mat Transp importés - 10'!B548","v":0},{"$f":"'INVENT.Mat Transp importés - 10'!F548","v":0},{"$f":"'INVENT.Mat Transp importés - 10'!C548","v":0},{"$f":"'INVENT.Mat Transp importés - 10'!H548","v":0},null,0,0,0,0,0,0,null,null,0,0,0,0]
[543,{"$f":"'INVENT.Mat Transp importés - 10'!B549","v":0},{"$f":"'INVENT.Mat Transp importés - 10'!F549","v":0},{"$f":"'INVENT.Mat Transp importés - 10'!C549","v":0},{"$f":"'INVENT.Mat Transp importés - 10'!H549","v":0},null,0,0,0,0,0,0,null,null,0,0,0,0]
[544,{"$f":"'INVENT.Mat Transp importés - 10'!B550","v":0},{"$f":"'INVENT.Mat Transp importés - 10'!F550","v":0},{"$f":"'INVENT.Mat Transp importés - 10'!C550","v":0},{"$f":"'INVENT.Mat Transp importés - 10'!H550","v":0},null,0,0,0,0,0,0,null,null,0,0,0,0]
[545,{"$f":"'INVENT.Mat Transp importés - 10'!B551","v":0},{"$f":"'INVENT.Mat Transp importés - 10'!F551","v":0},{"$f":"'INVENT.Mat Transp importés - 10'!C551","v":0},{"$f":"'INVENT.Mat Transp importés - 10'!H551","v":0},null,0,0,0,0,0,0,null,null,0,0,0,0]
[546,{"$f":"'INVENT.Mat Transp importés - 10'!B552","v":0},{"$f":"'INVENT.Mat Transp importés - 10'!F552","v":0},{"$f":"'INVENT.Mat Transp importés - 10'!C552","v":0},{"$f":"'INVENT.Mat Transp importés - 10'!H552","v":0},null,0,0,0,0,0,0,null,null,0,0,0,0]
[547,{"$f":"'INVENT.Mat Transp importés - 10'!B553","v":0},{"$f":"'INVENT.Mat Transp importés - 10'!F553","v":0},{"$f":"'INVENT.Mat Transp importés - 10'!C553","v":0},{"$f":"'INVENT.Mat Transp importés - 10'!H553","v":0},null,0,0,0,0,0,0,null,null,0,0,0,0]
[548,{"$f":"'INVENT.Mat Transp importés - 10'!B554","v":0},{"$f":"'INVENT.Mat Transp importés - 10'!F554","v":0},{"$f":"'INVENT.Mat Transp importés - 10'!C554","v":0},{"$f":"'INVENT.Mat Transp importés - 10'!H554","v":0},null,0,0,0,0,0,0,null,null,0,0,0,0]
[549,{"$f":"'INVENT.Mat Transp importés - 10'!B555","v":0},{"$f":"'INVENT.Mat Transp importés - 10'!F555","v":0},{"$f":"'INVENT.Mat Transp importés - 10'!C555","v":0},{"$f":"'INVENT.Mat Transp importés - 10'!H555","v":0},null,0,0,0,0,0,0,null,null,0,0,0,0]
[550,{"$f":"'INVENT.Mat Transp importés - 10'!B556","v":0},{"$f":"'INVENT.Mat Transp importés - 10'!F556","v":0},{"$f":"'INVENT.Mat Transp importés - 10'!C556","v":0},{"$f":"'INVENT.Mat Transp importés - 10'!H556","v":0},null,0,0,0,0,0,0,null,null,0,0,0,0]
[551,{"$f":"'INVENT.Mat Transp importés - 10'!B557","v":0},{"$f":"'INVENT.Mat Transp importés - 10'!F557","v":0},{"$f":"'INVENT.Mat Transp importés - 10'!C557","v":0},{"$f":"'INVENT.Mat Transp importés - 10'!H557","v":0},null,0,0,0,0,0,0,null,null,0,0,0,0]
[{"$f":"+A558+1","v":552},{"$f":"'INVENT.Mat Transp importés - 10'!B558","v":0},{"$f":"'INVENT.Mat Transp importés - 10'!F558","v":0},{"$f":"'INVENT.Mat Transp importés - 10'!C558","v":0},{"$f":"'INVENT.Mat Transp importés - 10'!H558","v":0},null,0,0,0,0,0,0,null,null,0,0,0,0]
[553,{"$f":"'INVENT.Mat Transp importés - 10'!B559","v":0},{"$f":"'INVENT.Mat Transp importés - 10'!F559","v":0},{"$f":"'INVENT.Mat Transp importés - 10'!C559","v":0},{"$f":"'INVENT.Mat Transp importés - 10'!H559","v":0},null,0,0,0,0,0,0,null,null,0,0,0,0]
[554,{"$f":"'INVENT.Mat Transp importés - 10'!B560","v":0},{"$f":"'INVENT.Mat Transp importés - 10'!F560","v":0},{"$f":"'INVENT.Mat Transp importés - 10'!C560","v":0},{"$f":"'INVENT.Mat Transp importés - 10'!H560","v":0},null,0,0,0,0,0,0,null,null,0,0,0,0]
[555,{"$f":"'INVENT.Mat Transp importés - 10'!B561","v":0},{"$f":"'INVENT.Mat Transp importés - 10'!F561","v":0},{"$f":"'INVENT.Mat Transp importés - 10'!C561","v":0},{"$f":"'INVENT.Mat Transp importés - 10'!H561","v":0},null,0,0,0,0,0,0,null,null,0,0,0,0]
[556,{"$f":"'INVENT.Mat Transp importés - 10'!B562","v":0},{"$f":"'INVENT.Mat Transp importés - 10'!F562","v":0},{"$f":"'INVENT.Mat Transp importés - 10'!C562","v":0},{"$f":"'INVENT.Mat Transp importés - 10'!H562","v":0},null,0,0,0,0,0,0,null,null,0,0,0,0]
[557,{"$f":"'INVENT.Mat Transp importés - 10'!B563","v":0},{"$f":"'INVENT.Mat Transp importés - 10'!F563","v":0},{"$f":"'INVENT.Mat Transp importés - 10'!C563","v":0},{"$f":"'INVENT.Mat Transp importés - 10'!H563","v":0},null,0,0,0,0,0,0,null,null,0,0,0,0]
[558,{"$f":"'INVENT.Mat Transp importés - 10'!B564","v":0},{"$f":"'INVENT.Mat Transp importés - 10'!F564","v":0},{"$f":"'INVENT.Mat Transp importés - 10'!C564","v":0},{"$f":"'INVENT.Mat Transp importés - 10'!H564","v":0},null,0,0,0,0,0,0,null,null,0,0,0,0]
[559,{"$f":"'INVENT.Mat Transp importés - 10'!B565","v":0},{"$f":"'INVENT.Mat Transp importés - 10'!F565","v":0},{"$f":"'INVENT.Mat Transp importés - 10'!C565","v":0},{"$f":"'INVENT.Mat Transp importés - 10'!H565","v":0},null,0,0,0,0,0,0,null,null,0,0,0,0]
[560,{"$f":"'INVENT.Mat Transp importés - 10'!B566","v":0},{"$f":"'INVENT.Mat Transp importés - 10'!F566","v":0},{"$f":"'INVENT.Mat Transp importés - 10'!C566","v":0},{"$f":"'INVENT.Mat Transp importés - 10'!H566","v":0},null,0,0,0,0,0,0,null,null,0,0,0,0]
[561,{"$f":"'INVENT.Mat Transp importés - 10'!B567","v":0},{"$f":"'INVENT.Mat Transp importés - 10'!F567","v":0},{"$f":"'INVENT.Mat Transp importés - 10'!C567","v":0},{"$f":"'INVENT.Mat Transp importés - 10'!H567","v":0},null,0,0,0,0,0,0,null,null,0,0,0,0]
[562,{"$f":"'INVENT.Mat Transp importés - 10'!B568","v":0},{"$f":"'INVENT.Mat Transp importés - 10'!F568","v":0},{"$f":"'INVENT.Mat Transp importés - 10'!C568","v":0},{"$f":"'INVENT.Mat Transp importés - 10'!H568","v":0},null,0,0,0,0,0,0,null,null,0,0,0,0]
[563,{"$f":"'INVENT.Mat Transp importés - 10'!B569","v":0},{"$f":"'INVENT.Mat Transp importés - 10'!F569","v":0},{"$f":"'INVENT.Mat Transp importés - 10'!C569","v":0},{"$f":"'INVENT.Mat Transp importés - 10'!H569","v":0},null,{"$f":"F570*E570","v":0},{"$f":"E570*1%","v":0},{"$f":"E570*1%","v":0},{"$f":"E570*0.5%","v":0},{"$f":"(E570+G570+H570)*18%","v":0},{"$f":"SUM(G570:K570)+E570","v":0},null,null,{"$f":"(M570+N570)*18%","v":0},{"$f":"O570+N570+M570","v":0},{"$f":"+R570-O570-K570","v":0},{"$f":"P570+L570","v":0}]
[564,{"$f":"'INVENT.Mat Transp importés - 10'!B570","v":0},{"$f":"'INVENT.Mat Transp importés - 10'!F570","v":0},{"$f":"'INVENT.Mat Transp importés - 10'!C570","v":0},{"$f":"'INVENT.Mat Transp importés - 10'!H570","v":0},null,0,0,0,0,0,0,null,null,0,0,0,0]
[565,{"$f":"'INVENT.Mat Transp importés - 10'!B571","v":0},{"$f":"'INVENT.Mat Transp importés - 10'!F571","v":0},{"$f":"'INVENT.Mat Transp importés - 10'!C571","v":0},{"$f":"'INVENT.Mat Transp importés - 10'!H571","v":0},null,0,0,0,0,0,0,null,null,0,0,0,0]
[566,{"$f":"'INVENT.Mat Transp importés - 10'!B572","v":0},{"$f":"'INVENT.Mat Transp importés - 10'!F572","v":0},{"$f":"'INVENT.Mat Transp importés - 10'!C572","v":0},{"$f":"'INVENT.Mat Transp importés - 10'!H572","v":0},null,0,0,0,0,0,0,null,null,0,0,0,0]
[567,{"$f":"'INVENT.Mat Transp importés - 10'!B573","v":0},{"$f":"'INVENT.Mat Transp importés - 10'!F573","v":0},{"$f":"'INVENT.Mat Transp importés - 10'!C573","v":0},{"$f":"'INVENT.Mat Transp importés - 10'!H573","v":0},null,0,0,0,0,0,0,null,null,0,0,0,0]
[568,{"$f":"'INVENT.Mat Transp importés - 10'!B574","v":0},{"$f":"'INVENT.Mat Transp importés - 10'!F574","v":0},{"$f":"'INVENT.Mat Transp importés - 10'!C574","v":0},{"$f":"'INVENT.Mat Transp importés - 10'!H574","v":0},null,0,0,0,0,0,0,null,null,0,0,0,0]
[569,{"$f":"'INVENT.Mat Transp importés - 10'!B575","v":0},{"$f":"'INVENT.Mat Transp importés - 10'!F575","v":0},{"$f":"'INVENT.Mat Transp importés - 10'!C575","v":0},{"$f":"'INVENT.Mat Transp importés - 10'!H575","v":0},null,0,0,0,0,0,0,null,null,0,0,0,0]
[570,{"$f":"'INVENT.Mat Transp importés - 10'!B576","v":0},{"$f":"'INVENT.Mat Transp importés - 10'!F576","v":0},{"$f":"'INVENT.Mat Transp importés - 10'!C576","v":0},{"$f":"'INVENT.Mat Transp importés - 10'!H576","v":0},null,0,0,0,0,0,0,null,null,0,0,0,0]
[571,{"$f":"'INVENT.Mat Transp importés - 10'!B577","v":0},{"$f":"'INVENT.Mat Transp importés - 10'!F577","v":0},{"$f":"'INVENT.Mat Transp importés - 10'!C577","v":0},{"$f":"'INVENT.Mat Transp importés - 10'!H577","v":0},null,0,0,0,0,0,0,null,null,0,0,0,0]
[572,{"$f":"'INVENT.Mat Transp importés - 10'!B578","v":0},{"$f":"'INVENT.Mat Transp importés - 10'!F578","v":0},{"$f":"'INVENT.Mat Transp importés - 10'!C578","v":0},{"$f":"'INVENT.Mat Transp importés - 10'!H578","v":0},null,0,0,0,0,0,0,null,null,0,0,0,0]
[573,{"$f":"'INVENT.Mat Transp importés - 10'!B579","v":0},{"$f":"'INVENT.Mat Transp importés - 10'!F579","v":0},{"$f":"'INVENT.Mat Transp importés - 10'!C579","v":0},{"$f":"'INVENT.Mat Transp importés - 10'!H579","v":0},null,0,0,0,0,0,0,null,null,0,0,0,0]
[574,{"$f":"'INVENT.Mat Transp importés - 10'!B580","v":0},{"$f":"'INVENT.Mat Transp importés - 10'!F580","v":0},{"$f":"'INVENT.Mat Transp importés - 10'!C580","v":0},{"$f":"'INVENT.Mat Transp importés - 10'!H580","v":0},null,0,0,0,0,0,0,null,null,0,0,0,0]
[575,{"$f":"'INVENT.Mat Transp importés - 10'!B581","v":0},{"$f":"'INVENT.Mat Transp importés - 10'!F581","v":0},{"$f":"'INVENT.Mat Transp importés - 10'!C581","v":0},{"$f":"'INVENT.Mat Transp importés - 10'!H581","v":0},null,0,0,0,0,0,0,null,null,0,0,0,0]
[576,{"$f":"'INVENT.Mat Transp importés - 10'!B582","v":0},{"$f":"'INVENT.Mat Transp importés - 10'!F582","v":0},{"$f":"'INVENT.Mat Transp importés - 10'!C582","v":0},{"$f":"'INVENT.Mat Transp importés - 10'!H582","v":0},null,0,0,0,0,0,0,null,null,0,0,0,0]
[577,{"$f":"'INVENT.Mat Transp importés - 10'!B583","v":0},{"$f":"'INVENT.Mat Transp importés - 10'!F583","v":0},{"$f":"'INVENT.Mat Transp importés - 10'!C583","v":0},{"$f":"'INVENT.Mat Transp importés - 10'!H583","v":0},null,0,0,0,0,0,0,null,null,0,0,0,0]
[578,{"$f":"'INVENT.Mat Transp importés - 10'!B584","v":0},{"$f":"'INVENT.Mat Transp importés - 10'!F584","v":0},{"$f":"'INVENT.Mat Transp importés - 10'!C584","v":0},{"$f":"'INVENT.Mat Transp importés - 10'!H584","v":0},null,0,0,0,0,0,0,null,null,0,0,0,0]
[579,{"$f":"'INVENT.Mat Transp importés - 10'!B585","v":0},{"$f":"'INVENT.Mat Transp importés - 10'!F585","v":0},{"$f":"'INVENT.Mat Transp importés - 10'!C585","v":0},{"$f":"'INVENT.Mat Transp importés - 10'!H585","v":0},null,0,0,0,0,0,0,null,null,0,0,0,0]
[580,{"$f":"'INVENT.Mat Transp importés - 10'!B586","v":0},{"$f":"'INVENT.Mat Transp importés - 10'!F586","v":0},{"$f":"'INVENT.Mat Transp importés - 10'!C586","v":0},{"$f":"'INVENT.Mat Transp importés - 10'!H586","v":0},null,0,0,0,0,0,0,null,null,0,0,0,0]
[581,{"$f":"'INVENT.Mat Transp importés - 10'!B587","v":0},{"$f":"'INVENT.Mat Transp importés - 10'!F587","v":0},{"$f":"'INVENT.Mat Transp importés - 10'!C587","v":0},{"$f":"'INVENT.Mat Transp importés - 10'!H587","v":0},null,0,0,0,0,0,0,null,null,0,0,0,0]
[582,{"$f":"'INVENT.Mat Transp importés - 10'!B588","v":0},{"$f":"'INVENT.Mat Transp importés - 10'!F588","v":0},{"$f":"'INVENT.Mat Transp importés - 10'!C588","v":0},{"$f":"'INVENT.Mat Transp importés - 10'!H588","v":0},null,0,0,0,0,0,0,null,null,0,0,0,0]
[583,{"$f":"'INVENT.Mat Transp importés - 10'!B589","v":0},{"$f":"'INVENT.Mat Transp importés - 10'!F589","v":0},{"$f":"'INVENT.Mat Transp importés - 10'!C589","v":0},{"$f":"'INVENT.Mat Transp importés - 10'!H589","v":0},null,0,0,0,0,0,0,null,null,0,0,0,0]
[584,{"$f":"'INVENT.Mat Transp importés - 10'!B590","v":0},{"$f":"'INVENT.Mat Transp importés - 10'!F590","v":0},{"$f":"'INVENT.Mat Transp importés - 10'!C590","v":0},{"$f":"'INVENT.Mat Transp importés - 10'!H590","v":0},null,0,0,0,0,0,0,null,null,0,0,0,0]
[585,{"$f":"'INVENT.Mat Transp importés - 10'!B591","v":0},{"$f":"'INVENT.Mat Transp importés - 10'!F591","v":0},{"$f":"'INVENT.Mat Transp importés - 10'!C591","v":0},{"$f":"'INVENT.Mat Transp importés - 10'!H591","v":0},null,0,0,0,0,0,0,null,null,0,0,0,0]
[586,{"$f":"'INVENT.Mat Transp importés - 10'!B592","v":0},{"$f":"'INVENT.Mat Transp importés - 10'!F592","v":0},{"$f":"'INVENT.Mat Transp importés - 10'!C592","v":0},{"$f":"'INVENT.Mat Transp importés - 10'!H592","v":0},null,0,0,0,0,0,0,null,null,0,0,0,0]
[587,{"$f":"'INVENT.Mat Transp importés - 10'!B593","v":0},{"$f":"'INVENT.Mat Transp importés - 10'!F593","v":0},{"$f":"'INVENT.Mat Transp importés - 10'!C593","v":0},{"$f":"'INVENT.Mat Transp importés - 10'!H593","v":0},null,0,0,0,0,0,0,null,null,0,0,0,0]
[588,{"$f":"'INVENT.Mat Transp importés - 10'!B594","v":0},{"$f":"'INVENT.Mat Transp importés - 10'!F594","v":0},{"$f":"'INVENT.Mat Transp importés - 10'!C594","v":0},{"$f":"'INVENT.Mat Transp importés - 10'!H594","v":0},null,0,0,0,0,0,0,null,null,0,0,0,0]
[589,{"$f":"'INVENT.Mat Transp importés - 10'!B595","v":0},{"$f":"'INVENT.Mat Transp importés - 10'!F595","v":0},{"$f":"'INVENT.Mat Transp importés - 10'!C595","v":0},{"$f":"'INVENT.Mat Transp importés - 10'!H595","v":0},null,0,0,0,0,0,0,null,null,0,0,0,0]
[590,{"$f":"'INVENT.Mat Transp importés - 10'!B596","v":0},{"$f":"'INVENT.Mat Transp importés - 10'!F596","v":0},{"$f":"'INVENT.Mat Transp importés - 10'!C596","v":0},{"$f":"'INVENT.Mat Transp importés - 10'!H596","v":0},null,0,0,0,0,0,0,null,null,0,0,0,0]
[591,{"$f":"'INVENT.Mat Transp importés - 10'!B597","v":0},{"$f":"'INVENT.Mat Transp importés - 10'!F597","v":0},{"$f":"'INVENT.Mat Transp importés - 10'!C597","v":0},{"$f":"'INVENT.Mat Transp importés - 10'!H597","v":0},null,0,0,0,0,0,0,null,null,0,0,0,0]
[592,{"$f":"'INVENT.Mat Transp importés - 10'!B598","v":0},{"$f":"'INVENT.Mat Transp importés - 10'!F598","v":0},{"$f":"'INVENT.Mat Transp importés - 10'!C598","v":0},{"$f":"'INVENT.Mat Transp importés - 10'!H598","v":0},null,0,0,0,0,0,0,null,null,0,0,0,0]
[593,{"$f":"'INVENT.Mat Transp importés - 10'!B599","v":0},{"$f":"'INVENT.Mat Transp importés - 10'!F599","v":0},{"$f":"'INVENT.Mat Transp importés - 10'!C599","v":0},{"$f":"'INVENT.Mat Transp importés - 10'!H599","v":0},null,0,0,0,0,0,0,null,null,0,0,0,0]
[594,{"$f":"'INVENT.Mat Transp importés - 10'!B600","v":0},{"$f":"'INVENT.Mat Transp importés - 10'!F600","v":0},{"$f":"'INVENT.Mat Transp importés - 10'!C600","v":0},{"$f":"'INVENT.Mat Transp importés - 10'!H600","v":0},null,0,0,0,0,0,0,null,null,0,0,0,0]
[595,{"$f":"'INVENT.Mat Transp importés - 10'!B601","v":0},{"$f":"'INVENT.Mat Transp importés - 10'!F601","v":0},{"$f":"'INVENT.Mat Transp importés - 10'!C601","v":0},{"$f":"'INVENT.Mat Transp importés - 10'!H601","v":0},null,0,0,0,0,0,0,null,null,0,0,0,0]
[596,{"$f":"'INVENT.Mat Transp importés - 10'!B602","v":0},{"$f":"'INVENT.Mat Transp importés - 10'!F602","v":0},{"$f":"'INVENT.Mat Transp importés - 10'!C602","v":0},{"$f":"'INVENT.Mat Transp importés - 10'!H602","v":0},null,0,0,0,0,0,0,null,null,0,0,0,0]
[597,{"$f":"'INVENT.Mat Transp importés - 10'!B603","v":0},{"$f":"'INVENT.Mat Transp importés - 10'!F603","v":0},{"$f":"'INVENT.Mat Transp importés - 10'!C603","v":0},{"$f":"'INVENT.Mat Transp importés - 10'!H603","v":0},null,0,0,0,0,0,0,null,null,0,0,0,0]
[598,{"$f":"'INVENT.Mat Transp importés - 10'!B604","v":0},{"$f":"'INVENT.Mat Transp importés - 10'!F604","v":0},{"$f":"'INVENT.Mat Transp importés - 10'!C604","v":0},{"$f":"'INVENT.Mat Transp importés - 10'!H604","v":0},null,0,0,0,0,0,0,null,null,0,0,0,0]
[599,{"$f":"'INVENT.Mat Transp importés - 10'!B605","v":0},{"$f":"'INVENT.Mat Transp importés - 10'!F605","v":0},{"$f":"'INVENT.Mat Transp importés - 10'!C605","v":0},{"$f":"'INVENT.Mat Transp importés - 10'!H605","v":0},null,0,0,0,0,0,0,null,null,0,0,0,0]
[600,{"$f":"'INVENT.Mat Transp importés - 10'!B606","v":0},{"$f":"'INVENT.Mat Transp importés - 10'!F606","v":0},{"$f":"'INVENT.Mat Transp importés - 10'!C606","v":0},{"$f":"'INVENT.Mat Transp importés - 10'!H606","v":0},null,0,0,0,0,0,0,null,null,0,0,0,0]
[601,{"$f":"'INVENT.Mat Transp importés - 10'!B607","v":0},{"$f":"'INVENT.Mat Transp importés - 10'!F607","v":0},{"$f":"'INVENT.Mat Transp importés - 10'!C607","v":0},{"$f":"'INVENT.Mat Transp importés - 10'!H607","v":0},null,0,0,0,0,0,0,null,null,0,0,0,0]
[602,{"$f":"'INVENT.Mat Transp importés - 10'!B608","v":0},{"$f":"'INVENT.Mat Transp importés - 10'!F608","v":0},{"$f":"'INVENT.Mat Transp importés - 10'!C608","v":0},{"$f":"'INVENT.Mat Transp importés - 10'!H608","v":0},null,0,0,0,0,0,0,null,null,0,0,0,0]
[603,{"$f":"'INVENT.Mat Transp importés - 10'!B609","v":0},{"$f":"'INVENT.Mat Transp importés - 10'!F609","v":0},{"$f":"'INVENT.Mat Transp importés - 10'!C609","v":0},{"$f":"'INVENT.Mat Transp importés - 10'!H609","v":0},null,0,0,0,0,0,0,null,null,0,0,0,0]
[604,{"$f":"'INVENT.Mat Transp importés - 10'!B610","v":0},{"$f":"'INVENT.Mat Transp importés - 10'!F610","v":0},{"$f":"'INVENT.Mat Transp importés - 10'!C610","v":0},{"$f":"'INVENT.Mat Transp importés - 10'!H610","v":0},null,0,0,0,0,0,0,null,null,0,0,0,0]
[605,{"$f":"'INVENT.Mat Transp importés - 10'!B611","v":0},{"$f":"'INVENT.Mat Transp importés - 10'!F611","v":0},{"$f":"'INVENT.Mat Transp importés - 10'!C611","v":0},{"$f":"'INVENT.Mat Transp importés - 10'!H611","v":0},null,0,0,0,0,0,0,null,null,0,0,0,0]
[606,{"$f":"'INVENT.Mat Transp importés - 10'!B612","v":0},{"$f":"'INVENT.Mat Transp importés - 10'!F612","v":0},{"$f":"'INVENT.Mat Transp importés - 10'!C612","v":0},{"$f":"'INVENT.Mat Transp importés - 10'!H612","v":0},null,0,0,0,0,0,0,null,null,0,0,0,0]
[607,{"$f":"'INVENT.Mat Transp importés - 10'!B613","v":0},{"$f":"'INVENT.Mat Transp importés - 10'!F613","v":0},{"$f":"'INVENT.Mat Transp importés - 10'!C613","v":0},{"$f":"'INVENT.Mat Transp importés - 10'!H613","v":0},null,0,0,0,0,0,0,null,null,0,0,0,0]
[608,{"$f":"'INVENT.Mat Transp importés - 10'!B614","v":0},{"$f":"'INVENT.Mat Transp importés - 10'!F614","v":0},{"$f":"'INVENT.Mat Transp importés - 10'!C614","v":0},{"$f":"'INVENT.Mat Transp importés - 10'!H614","v":0},null,0,0,0,0,0,0,null,null,0,0,0,0]
[609,{"$f":"'INVENT.Mat Transp importés - 10'!B615","v":0},{"$f":"'INVENT.Mat Transp importés - 10'!F615","v":0},{"$f":"'INVENT.Mat Transp importés - 10'!C615","v":0},{"$f":"'INVENT.Mat Transp importés - 10'!H615","v":0},null,0,0,0,0,0,0,null,null,0,0,0,0]
[610,{"$f":"'INVENT.Mat Transp importés - 10'!B616","v":0},{"$f":"'INVENT.Mat Transp importés - 10'!F616","v":0},{"$f":"'INVENT.Mat Transp importés - 10'!C616","v":0},{"$f":"'INVENT.Mat Transp importés - 10'!H616","v":0},null,0,0,0,0,0,0,null,null,0,0,0,0]
[611,{"$f":"'INVENT.Mat Transp importés - 10'!B617","v":0},{"$f":"'INVENT.Mat Transp importés - 10'!F617","v":0},{"$f":"'INVENT.Mat Transp importés - 10'!C617","v":0},{"$f":"'INVENT.Mat Transp importés - 10'!H617","v":0},null,0,0,0,0,0,0,null,null,0,0,0,0]
[612,{"$f":"'INVENT.Mat Transp importés - 10'!B618","v":0},{"$f":"'INVENT.Mat Transp importés - 10'!F618","v":0},{"$f":"'INVENT.Mat Transp importés - 10'!C618","v":0},{"$f":"'INVENT.Mat Transp importés - 10'!H618","v":0},null,0,0,0,0,0,0,null,null,0,0,0,0]
[613,{"$f":"'INVENT.Mat Transp importés - 10'!B619","v":0},{"$f":"'INVENT.Mat Transp importés - 10'!F619","v":0},{"$f":"'INVENT.Mat Transp importés - 10'!C619","v":0},{"$f":"'INVENT.Mat Transp importés - 10'!H619","v":0},null,0,0,0,0,0,0,null,null,0,0,0,0]
[614,{"$f":"'INVENT.Mat Transp importés - 10'!B620","v":0},{"$f":"'INVENT.Mat Transp importés - 10'!F620","v":0},{"$f":"'INVENT.Mat Transp importés - 10'!C620","v":0},{"$f":"'INVENT.Mat Transp importés - 10'!H620","v":0},null,0,0,0,0,0,0,null,null,0,0,0,0]
[615,{"$f":"'INVENT.Mat Transp importés - 10'!B621","v":0},{"$f":"'INVENT.Mat Transp importés - 10'!F621","v":0},{"$f":"'INVENT.Mat Transp importés - 10'!C621","v":0},{"$f":"'INVENT.Mat Transp importés - 10'!H621","v":0},null,0,0,0,0,0,0,null,null,0,0,0,0]
[{"$f":"+A622+1","v":616},{"$f":"'INVENT.Mat Transp importés - 10'!B622","v":0},{"$f":"'INVENT.Mat Transp importés - 10'!F622","v":0},{"$f":"'INVENT.Mat Transp importés - 10'!C622","v":0},{"$f":"'INVENT.Mat Transp importés - 10'!H622","v":0},null,0,0,0,0,0,0,null,null,0,0,0,0]
[617,{"$f":"'INVENT.Mat Transp importés - 10'!B623","v":0},{"$f":"'INVENT.Mat Transp importés - 10'!F623","v":0},{"$f":"'INVENT.Mat Transp importés - 10'!C623","v":0},{"$f":"'INVENT.Mat Transp importés - 10'!H623","v":0},null,0,0,0,0,0,0,null,null,0,0,0,0]
[618,{"$f":"'INVENT.Mat Transp importés - 10'!B624","v":0},{"$f":"'INVENT.Mat Transp importés - 10'!F624","v":0},{"$f":"'INVENT.Mat Transp importés - 10'!C624","v":0},{"$f":"'INVENT.Mat Transp importés - 10'!H624","v":0},null,0,0,0,0,0,0,null,null,0,0,0,0]
[619,{"$f":"'INVENT.Mat Transp importés - 10'!B625","v":0},{"$f":"'INVENT.Mat Transp importés - 10'!F625","v":0},{"$f":"'INVENT.Mat Transp importés - 10'!C625","v":0},{"$f":"'INVENT.Mat Transp importés - 10'!H625","v":0},null,0,0,0,0,0,0,null,null,0,0,0,0]
[620,{"$f":"'INVENT.Mat Transp importés - 10'!B626","v":0},{"$f":"'INVENT.Mat Transp importés - 10'!F626","v":0},{"$f":"'INVENT.Mat Transp importés - 10'!C626","v":0},{"$f":"'INVENT.Mat Transp importés - 10'!H626","v":0},null,0,0,0,0,0,0,null,null,0,0,0,0]
[621,{"$f":"'INVENT.Mat Transp importés - 10'!B627","v":0},{"$f":"'INVENT.Mat Transp importés - 10'!F627","v":0},{"$f":"'INVENT.Mat Transp importés - 10'!C627","v":0},{"$f":"'INVENT.Mat Transp importés - 10'!H627","v":0},null,0,0,0,0,0,0,null,null,0,0,0,0]
[622,{"$f":"'INVENT.Mat Transp importés - 10'!B628","v":0},{"$f":"'INVENT.Mat Transp importés - 10'!F628","v":0},{"$f":"'INVENT.Mat Transp importés - 10'!C628","v":0},{"$f":"'INVENT.Mat Transp importés - 10'!H628","v":0},null,0,0,0,0,0,0,null,null,0,0,0,0]
[623,{"$f":"'INVENT.Mat Transp importés - 10'!B629","v":0},{"$f":"'INVENT.Mat Transp importés - 10'!F629","v":0},{"$f":"'INVENT.Mat Transp importés - 10'!C629","v":0},{"$f":"'INVENT.Mat Transp importés - 10'!H629","v":0},null,0,0,0,0,0,0,null,null,0,0,0,0]
[624,{"$f":"'INVENT.Mat Transp importés - 10'!B630","v":0},{"$f":"'INVENT.Mat Transp importés - 10'!F630","v":0},{"$f":"'INVENT.Mat Transp importés - 10'!C630","v":0},{"$f":"'INVENT.Mat Transp importés - 10'!H630","v":0},null,0,0,0,0,0,0,null,null,0,0,0,0]
[625,{"$f":"'INVENT.Mat Transp importés - 10'!B631","v":0},{"$f":"'INVENT.Mat Transp importés - 10'!F631","v":0},{"$f":"'INVENT.Mat Transp importés - 10'!C631","v":0},{"$f":"'INVENT.Mat Transp importés - 10'!H631","v":0},null,0,0,0,0,0,0,null,null,0,0,0,0]
[626,{"$f":"'INVENT.Mat Transp importés - 10'!B632","v":0},{"$f":"'INVENT.Mat Transp importés - 10'!F632","v":0},{"$f":"'INVENT.Mat Transp importés - 10'!C632","v":0},{"$f":"'INVENT.Mat Transp importés - 10'!H632","v":0},null,0,0,0,0,0,0,null,null,0,0,0,0]
[627,{"$f":"'INVENT.Mat Transp importés - 10'!B633","v":0},{"$f":"'INVENT.Mat Transp importés - 10'!F633","v":0},{"$f":"'INVENT.Mat Transp importés - 10'!C633","v":0},{"$f":"'INVENT.Mat Transp importés - 10'!H633","v":0},null,{"$f":"F634*E634","v":0},{"$f":"E634*1%","v":0},{"$f":"E634*1%","v":0},{"$f":"E634*0.5%","v":0},{"$f":"(E634+G634+H634)*18%","v":0},{"$f":"SUM(G634:K634)+E634","v":0},null,null,{"$f":"(M634+N634)*18%","v":0},{"$f":"O634+N634+M634","v":0},{"$f":"+R634-O634-K634","v":0},{"$f":"P634+L634","v":0}]
[628,{"$f":"'INVENT.Mat Transp importés - 10'!B634","v":0},{"$f":"'INVENT.Mat Transp importés - 10'!F634","v":0},{"$f":"'INVENT.Mat Transp importés - 10'!C634","v":0},{"$f":"'INVENT.Mat Transp importés - 10'!H634","v":0},null,0,0,0,0,0,0,null,null,0,0,0,0]
[629,{"$f":"'INVENT.Mat Transp importés - 10'!B635","v":0},{"$f":"'INVENT.Mat Transp importés - 10'!F635","v":0},{"$f":"'INVENT.Mat Transp importés - 10'!C635","v":0},{"$f":"'INVENT.Mat Transp importés - 10'!H635","v":0},null,0,0,0,0,0,0,null,null,0,0,0,0]
[630,{"$f":"'INVENT.Mat Transp importés - 10'!B636","v":0},{"$f":"'INVENT.Mat Transp importés - 10'!F636","v":0},{"$f":"'INVENT.Mat Transp importés - 10'!C636","v":0},{"$f":"'INVENT.Mat Transp importés - 10'!H636","v":0},null,0,0,0,0,0,0,null,null,0,0,0,0]
[631,{"$f":"'INVENT.Mat Transp importés - 10'!B637","v":0},{"$f":"'INVENT.Mat Transp importés - 10'!F637","v":0},{"$f":"'INVENT.Mat Transp importés - 10'!C637","v":0},{"$f":"'INVENT.Mat Transp importés - 10'!H637","v":0},null,0,0,0,0,0,0,null,null,0,0,0,0]
[632,{"$f":"'INVENT.Mat Transp importés - 10'!B638","v":0},{"$f":"'INVENT.Mat Transp importés - 10'!F638","v":0},{"$f":"'INVENT.Mat Transp importés - 10'!C638","v":0},{"$f":"'INVENT.Mat Transp importés - 10'!H638","v":0},null,0,0,0,0,0,0,null,null,0,0,0,0]
[633,{"$f":"'INVENT.Mat Transp importés - 10'!B639","v":0},{"$f":"'INVENT.Mat Transp importés - 10'!F639","v":0},{"$f":"'INVENT.Mat Transp importés - 10'!C639","v":0},{"$f":"'INVENT.Mat Transp importés - 10'!H639","v":0},null,0,0,0,0,0,0,null,null,0,0,0,0]
[634,{"$f":"'INVENT.Mat Transp importés - 10'!B640","v":0},{"$f":"'INVENT.Mat Transp importés - 10'!F640","v":0},{"$f":"'INVENT.Mat Transp importés - 10'!C640","v":0},{"$f":"'INVENT.Mat Transp importés - 10'!H640","v":0},null,0,0,0,0,0,0,null,null,0,0,0,0]
[635,{"$f":"'INVENT.Mat Transp importés - 10'!B641","v":0},{"$f":"'INVENT.Mat Transp importés - 10'!F641","v":0},{"$f":"'INVENT.Mat Transp importés - 10'!C641","v":0},{"$f":"'INVENT.Mat Transp importés - 10'!H641","v":0},null,0,0,0,0,0,0,null,null,0,0,0,0]
[636,{"$f":"'INVENT.Mat Transp importés - 10'!B642","v":0},{"$f":"'INVENT.Mat Transp importés - 10'!F642","v":0},{"$f":"'INVENT.Mat Transp importés - 10'!C642","v":0},{"$f":"'INVENT.Mat Transp importés - 10'!H642","v":0},null,0,0,0,0,0,0,null,null,0,0,0,0]
[637,{"$f":"'INVENT.Mat Transp importés - 10'!B643","v":0},{"$f":"'INVENT.Mat Transp importés - 10'!F643","v":0},{"$f":"'INVENT.Mat Transp importés - 10'!C643","v":0},{"$f":"'INVENT.Mat Transp importés - 10'!H643","v":0},null,0,0,0,0,0,0,null,null,0,0,0,0]
[638,{"$f":"'INVENT.Mat Transp importés - 10'!B644","v":0},{"$f":"'INVENT.Mat Transp importés - 10'!F644","v":0},{"$f":"'INVENT.Mat Transp importés - 10'!C644","v":0},{"$f":"'INVENT.Mat Transp importés - 10'!H644","v":0},null,0,0,0,0,0,0,null,null,0,0,0,0]
[639,{"$f":"'INVENT.Mat Transp importés - 10'!B645","v":0},{"$f":"'INVENT.Mat Transp importés - 10'!F645","v":0},{"$f":"'INVENT.Mat Transp importés - 10'!C645","v":0},{"$f":"'INVENT.Mat Transp importés - 10'!H645","v":0},null,0,0,0,0,0,0,null,null,0,0,0,0]
[640,{"$f":"'INVENT.Mat Transp importés - 10'!B646","v":0},{"$f":"'INVENT.Mat Transp importés - 10'!F646","v":0},{"$f":"'INVENT.Mat Transp importés - 10'!C646","v":0},{"$f":"'INVENT.Mat Transp importés - 10'!H646","v":0},null,0,0,0,0,0,0,null,null,0,0,0,0]
[641,{"$f":"'INVENT.Mat Transp importés - 10'!B647","v":0},{"$f":"'INVENT.Mat Transp importés - 10'!F647","v":0},{"$f":"'INVENT.Mat Transp importés - 10'!C647","v":0},{"$f":"'INVENT.Mat Transp importés - 10'!H647","v":0},null,0,0,0,0,0,0,null,null,0,0,0,0]
[642,{"$f":"'INVENT.Mat Transp importés - 10'!B648","v":0},{"$f":"'INVENT.Mat Transp importés - 10'!F648","v":0},{"$f":"'INVENT.Mat Transp importés - 10'!C648","v":0},{"$f":"'INVENT.Mat Transp importés - 10'!H648","v":0},null,0,0,0,0,0,0,null,null,0,0,0,0]
[643,{"$f":"'INVENT.Mat Transp importés - 10'!B649","v":0},{"$f":"'INVENT.Mat Transp importés - 10'!F649","v":0},{"$f":"'INVENT.Mat Transp importés - 10'!C649","v":0},{"$f":"'INVENT.Mat Transp importés - 10'!H649","v":0},null,0,0,0,0,0,0,null,null,0,0,0,0]
[644,{"$f":"'INVENT.Mat Transp importés - 10'!B650","v":0},{"$f":"'INVENT.Mat Transp importés - 10'!F650","v":0},{"$f":"'INVENT.Mat Transp importés - 10'!C650","v":0},{"$f":"'INVENT.Mat Transp importés - 10'!H650","v":0},null,0,0,0,0,0,0,null,null,0,0,0,0]
[645,{"$f":"'INVENT.Mat Transp importés - 10'!B651","v":0},{"$f":"'INVENT.Mat Transp importés - 10'!F651","v":0},{"$f":"'INVENT.Mat Transp importés - 10'!C651","v":0},{"$f":"'INVENT.Mat Transp importés - 10'!H651","v":0},null,0,0,0,0,0,0,null,null,0,0,0,0]
[646,{"$f":"'INVENT.Mat Transp importés - 10'!B652","v":0},{"$f":"'INVENT.Mat Transp importés - 10'!F652","v":0},{"$f":"'INVENT.Mat Transp importés - 10'!C652","v":0},{"$f":"'INVENT.Mat Transp importés - 10'!H652","v":0},null,0,0,0,0,0,0,null,null,0,0,0,0]
[647,{"$f":"'INVENT.Mat Transp importés - 10'!B653","v":0},{"$f":"'INVENT.Mat Transp importés - 10'!F653","v":0},{"$f":"'INVENT.Mat Transp importés - 10'!C653","v":0},{"$f":"'INVENT.Mat Transp importés - 10'!H653","v":0},null,0,0,0,0,0,0,null,null,0,0,0,0]
[648,{"$f":"'INVENT.Mat Transp importés - 10'!B654","v":0},{"$f":"'INVENT.Mat Transp importés - 10'!F654","v":0},{"$f":"'INVENT.Mat Transp importés - 10'!C654","v":0},{"$f":"'INVENT.Mat Transp importés - 10'!H654","v":0},null,0,0,0,0,0,0,null,null,0,0,0,0]
[649,{"$f":"'INVENT.Mat Transp importés - 10'!B655","v":0},{"$f":"'INVENT.Mat Transp importés - 10'!F655","v":0},{"$f":"'INVENT.Mat Transp importés - 10'!C655","v":0},{"$f":"'INVENT.Mat Transp importés - 10'!H655","v":0},null,0,0,0,0,0,0,null,null,0,0,0,0]
[650,{"$f":"'INVENT.Mat Transp importés - 10'!B656","v":0},{"$f":"'INVENT.Mat Transp importés - 10'!F656","v":0},{"$f":"'INVENT.Mat Transp importés - 10'!C656","v":0},{"$f":"'INVENT.Mat Transp importés - 10'!H656","v":0},null,0,0,0,0,0,0,null,null,0,0,0,0]
[651,{"$f":"'INVENT.Mat Transp importés - 10'!B657","v":0},{"$f":"'INVENT.Mat Transp importés - 10'!F657","v":0},{"$f":"'INVENT.Mat Transp importés - 10'!C657","v":0},{"$f":"'INVENT.Mat Transp importés - 10'!H657","v":0},null,0,0,0,0,0,0,null,null,0,0,0,0]
[652,{"$f":"'INVENT.Mat Transp importés - 10'!B658","v":0},{"$f":"'INVENT.Mat Transp importés - 10'!F658","v":0},{"$f":"'INVENT.Mat Transp importés - 10'!C658","v":0},{"$f":"'INVENT.Mat Transp importés - 10'!H658","v":0},null,0,0,0,0,0,0,null,null,0,0,0,0]
[653,{"$f":"'INVENT.Mat Transp importés - 10'!B659","v":0},{"$f":"'INVENT.Mat Transp importés - 10'!F659","v":0},{"$f":"'INVENT.Mat Transp importés - 10'!C659","v":0},{"$f":"'INVENT.Mat Transp importés - 10'!H659","v":0},null,0,0,0,0,0,0,null,null,0,0,0,0]
[654,{"$f":"'INVENT.Mat Transp importés - 10'!B660","v":0},{"$f":"'INVENT.Mat Transp importés - 10'!F660","v":0},{"$f":"'INVENT.Mat Transp importés - 10'!C660","v":0},{"$f":"'INVENT.Mat Transp importés - 10'!H660","v":0},null,0,0,0,0,0,0,null,null,0,0,0,0]
[655,{"$f":"'INVENT.Mat Transp importés - 10'!B661","v":0},{"$f":"'INVENT.Mat Transp importés - 10'!F661","v":0},{"$f":"'INVENT.Mat Transp importés - 10'!C661","v":0},{"$f":"'INVENT.Mat Transp importés - 10'!H661","v":0},null,0,0,0,0,0,0,null,null,0,0,0,0]
[656,{"$f":"'INVENT.Mat Transp importés - 10'!B662","v":0},{"$f":"'INVENT.Mat Transp importés - 10'!F662","v":0},{"$f":"'INVENT.Mat Transp importés - 10'!C662","v":0},{"$f":"'INVENT.Mat Transp importés - 10'!H662","v":0},null,0,0,0,0,0,0,null,null,0,0,0,0]
[657,{"$f":"'INVENT.Mat Transp importés - 10'!B663","v":0},{"$f":"'INVENT.Mat Transp importés - 10'!F663","v":0},{"$f":"'INVENT.Mat Transp importés - 10'!C663","v":0},{"$f":"'INVENT.Mat Transp importés - 10'!H663","v":0},null,0,0,0,0,0,0,null,null,0,0,0,0]
[658,{"$f":"'INVENT.Mat Transp importés - 10'!B664","v":0},{"$f":"'INVENT.Mat Transp importés - 10'!F664","v":0},{"$f":"'INVENT.Mat Transp importés - 10'!C664","v":0},{"$f":"'INVENT.Mat Transp importés - 10'!H664","v":0},null,0,0,0,0,0,0,null,null,0,0,0,0]
[659,{"$f":"'INVENT.Mat Transp importés - 10'!B665","v":0},{"$f":"'INVENT.Mat Transp importés - 10'!F665","v":0},{"$f":"'INVENT.Mat Transp importés - 10'!C665","v":0},{"$f":"'INVENT.Mat Transp importés - 10'!H665","v":0},null,0,0,0,0,0,0,null,null,0,0,0,0]
[660,{"$f":"'INVENT.Mat Transp importés - 10'!B666","v":0},{"$f":"'INVENT.Mat Transp importés - 10'!F666","v":0},{"$f":"'INVENT.Mat Transp importés - 10'!C666","v":0},{"$f":"'INVENT.Mat Transp importés - 10'!H666","v":0},null,0,0,0,0,0,0,null,null,0,0,0,0]
[661,{"$f":"'INVENT.Mat Transp importés - 10'!B667","v":0},{"$f":"'INVENT.Mat Transp importés - 10'!F667","v":0},{"$f":"'INVENT.Mat Transp importés - 10'!C667","v":0},{"$f":"'INVENT.Mat Transp importés - 10'!H667","v":0},null,0,0,0,0,0,0,null,null,0,0,0,0]
[662,{"$f":"'INVENT.Mat Transp importés - 10'!B668","v":0},{"$f":"'INVENT.Mat Transp importés - 10'!F668","v":0},{"$f":"'INVENT.Mat Transp importés - 10'!C668","v":0},{"$f":"'INVENT.Mat Transp importés - 10'!H668","v":0},null,0,0,0,0,0,0,null,null,0,0,0,0]
[663,{"$f":"'INVENT.Mat Transp importés - 10'!B669","v":0},{"$f":"'INVENT.Mat Transp importés - 10'!F669","v":0},{"$f":"'INVENT.Mat Transp importés - 10'!C669","v":0},{"$f":"'INVENT.Mat Transp importés - 10'!H669","v":0},null,0,0,0,0,0,0,null,null,0,0,0,0]
[664,{"$f":"'INVENT.Mat Transp importés - 10'!B670","v":0},{"$f":"'INVENT.Mat Transp importés - 10'!F670","v":0},{"$f":"'INVENT.Mat Transp importés - 10'!C670","v":0},{"$f":"'INVENT.Mat Transp importés - 10'!H670","v":0},null,0,0,0,0,0,0,null,null,0,0,0,0]
[665,{"$f":"'INVENT.Mat Transp importés - 10'!B671","v":0},{"$f":"'INVENT.Mat Transp importés - 10'!F671","v":0},{"$f":"'INVENT.Mat Transp importés - 10'!C671","v":0},{"$f":"'INVENT.Mat Transp importés - 10'!H671","v":0},null,0,0,0,0,0,0,null,null,0,0,0,0]
[666,{"$f":"'INVENT.Mat Transp importés - 10'!B672","v":0},{"$f":"'INVENT.Mat Transp importés - 10'!F672","v":0},{"$f":"'INVENT.Mat Transp importés - 10'!C672","v":0},{"$f":"'INVENT.Mat Transp importés - 10'!H672","v":0},null,0,0,0,0,0,0,null,null,0,0,0,0]
[667,{"$f":"'INVENT.Mat Transp importés - 10'!B673","v":0},{"$f":"'INVENT.Mat Transp importés - 10'!F673","v":0},{"$f":"'INVENT.Mat Transp importés - 10'!C673","v":0},{"$f":"'INVENT.Mat Transp importés - 10'!H673","v":0},null,0,0,0,0,0,0,null,null,0,0,0,0]
[668,{"$f":"'INVENT.Mat Transp importés - 10'!B674","v":0},{"$f":"'INVENT.Mat Transp importés - 10'!F674","v":0},{"$f":"'INVENT.Mat Transp importés - 10'!C674","v":0},{"$f":"'INVENT.Mat Transp importés - 10'!H674","v":0},null,0,0,0,0,0,0,null,null,0,0,0,0]
[669,{"$f":"'INVENT.Mat Transp importés - 10'!B675","v":0},{"$f":"'INVENT.Mat Transp importés - 10'!F675","v":0},{"$f":"'INVENT.Mat Transp importés - 10'!C675","v":0},{"$f":"'INVENT.Mat Transp importés - 10'!H675","v":0},null,0,0,0,0,0,0,null,null,0,0,0,0]
[670,{"$f":"'INVENT.Mat Transp importés - 10'!B676","v":0},{"$f":"'INVENT.Mat Transp importés - 10'!F676","v":0},{"$f":"'INVENT.Mat Transp importés - 10'!C676","v":0},{"$f":"'INVENT.Mat Transp importés - 10'!H676","v":0},null,0,0,0,0,0,0,null,null,0,0,0,0]
[671,{"$f":"'INVENT.Mat Transp importés - 10'!B677","v":0},{"$f":"'INVENT.Mat Transp importés - 10'!F677","v":0},{"$f":"'INVENT.Mat Transp importés - 10'!C677","v":0},{"$f":"'INVENT.Mat Transp importés - 10'!H677","v":0},null,0,0,0,0,0,0,null,null,0,0,0,0]
[672,{"$f":"'INVENT.Mat Transp importés - 10'!B678","v":0},{"$f":"'INVENT.Mat Transp importés - 10'!F678","v":0},{"$f":"'INVENT.Mat Transp importés - 10'!C678","v":0},{"$f":"'INVENT.Mat Transp importés - 10'!H678","v":0},null,0,0,0,0,0,0,null,null,0,0,0,0]
[673,{"$f":"'INVENT.Mat Transp importés - 10'!B679","v":0},{"$f":"'INVENT.Mat Transp importés - 10'!F679","v":0},{"$f":"'INVENT.Mat Transp importés - 10'!C679","v":0},{"$f":"'INVENT.Mat Transp importés - 10'!H679","v":0},null,0,0,0,0,0,0,null,null,0,0,0,0]
[674,{"$f":"'INVENT.Mat Transp importés - 10'!B680","v":0},{"$f":"'INVENT.Mat Transp importés - 10'!F680","v":0},{"$f":"'INVENT.Mat Transp importés - 10'!C680","v":0},{"$f":"'INVENT.Mat Transp importés - 10'!H680","v":0},null,0,0,0,0,0,0,null,null,0,0,0,0]
[675,{"$f":"'INVENT.Mat Transp importés - 10'!B681","v":0},{"$f":"'INVENT.Mat Transp importés - 10'!F681","v":0},{"$f":"'INVENT.Mat Transp importés - 10'!C681","v":0},{"$f":"'INVENT.Mat Transp importés - 10'!H681","v":0},null,0,0,0,0,0,0,null,null,0,0,0,0]
[676,{"$f":"'INVENT.Mat Transp importés - 10'!B682","v":0},{"$f":"'INVENT.Mat Transp importés - 10'!F682","v":0},{"$f":"'INVENT.Mat Transp importés - 10'!C682","v":0},{"$f":"'INVENT.Mat Transp importés - 10'!H682","v":0},null,0,0,0,0,0,0,null,null,0,0,0,0]
[677,{"$f":"'INVENT.Mat Transp importés - 10'!B683","v":0},{"$f":"'INVENT.Mat Transp importés - 10'!F683","v":0},{"$f":"'INVENT.Mat Transp importés - 10'!C683","v":0},{"$f":"'INVENT.Mat Transp importés - 10'!H683","v":0},null,0,0,0,0,0,0,null,null,0,0,0,0]
[678,{"$f":"'INVENT.Mat Transp importés - 10'!B684","v":0},{"$f":"'INVENT.Mat Transp importés - 10'!F684","v":0},{"$f":"'INVENT.Mat Transp importés - 10'!C684","v":0},{"$f":"'INVENT.Mat Transp importés - 10'!H684","v":0},null,0,0,0,0,0,0,null,null,0,0,0,0]
[679,{"$f":"'INVENT.Mat Transp importés - 10'!B685","v":0},{"$f":"'INVENT.Mat Transp importés - 10'!F685","v":0},{"$f":"'INVENT.Mat Transp importés - 10'!C685","v":0},{"$f":"'INVENT.Mat Transp importés - 10'!H685","v":0},null,0,0,0,0,0,0,null,null,0,0,0,0]
[{"$f":"+A686+1","v":680},{"$f":"'INVENT.Mat Transp importés - 10'!B686","v":0},{"$f":"'INVENT.Mat Transp importés - 10'!F686","v":0},{"$f":"'INVENT.Mat Transp importés - 10'!C686","v":0},{"$f":"'INVENT.Mat Transp importés - 10'!H686","v":0},null,0,0,0,0,0,0,null,null,0,0,0,0]
[681,{"$f":"'INVENT.Mat Transp importés - 10'!B687","v":0},{"$f":"'INVENT.Mat Transp importés - 10'!F687","v":0},{"$f":"'INVENT.Mat Transp importés - 10'!C687","v":0},{"$f":"'INVENT.Mat Transp importés - 10'!H687","v":0},null,0,0,0,0,0,0,null,null,0,0,0,0]
[682,{"$f":"'INVENT.Mat Transp importés - 10'!B688","v":0},{"$f":"'INVENT.Mat Transp importés - 10'!F688","v":0},{"$f":"'INVENT.Mat Transp importés - 10'!C688","v":0},{"$f":"'INVENT.Mat Transp importés - 10'!H688","v":0},null,0,0,0,0,0,0,null,null,0,0,0,0]
[683,{"$f":"'INVENT.Mat Transp importés - 10'!B689","v":0},{"$f":"'INVENT.Mat Transp importés - 10'!F689","v":0},{"$f":"'INVENT.Mat Transp importés - 10'!C689","v":0},{"$f":"'INVENT.Mat Transp importés - 10'!H689","v":0},null,0,0,0,0,0,0,null,null,0,0,0,0]
[684,{"$f":"'INVENT.Mat Transp importés - 10'!B690","v":0},{"$f":"'INVENT.Mat Transp importés - 10'!F690","v":0},{"$f":"'INVENT.Mat Transp importés - 10'!C690","v":0},{"$f":"'INVENT.Mat Transp importés - 10'!H690","v":0},null,0,0,0,0,0,0,null,null,0,0,0,0]
[685,{"$f":"'INVENT.Mat Transp importés - 10'!B691","v":0},{"$f":"'INVENT.Mat Transp importés - 10'!F691","v":0},{"$f":"'INVENT.Mat Transp importés - 10'!C691","v":0},{"$f":"'INVENT.Mat Transp importés - 10'!H691","v":0},null,0,0,0,0,0,0,null,null,0,0,0,0]
[686,{"$f":"'INVENT.Mat Transp importés - 10'!B692","v":0},{"$f":"'INVENT.Mat Transp importés - 10'!F692","v":0},{"$f":"'INVENT.Mat Transp importés - 10'!C692","v":0},{"$f":"'INVENT.Mat Transp importés - 10'!H692","v":0},null,0,0,0,0,0,0,null,null,0,0,0,0]
[687,{"$f":"'INVENT.Mat Transp importés - 10'!B693","v":0},{"$f":"'INVENT.Mat Transp importés - 10'!F693","v":0},{"$f":"'INVENT.Mat Transp importés - 10'!C693","v":0},{"$f":"'INVENT.Mat Transp importés - 10'!H693","v":0},null,0,0,0,0,0,0,null,null,0,0,0,0]
[688,{"$f":"'INVENT.Mat Transp importés - 10'!B694","v":0},{"$f":"'INVENT.Mat Transp importés - 10'!F694","v":0},{"$f":"'INVENT.Mat Transp importés - 10'!C694","v":0},{"$f":"'INVENT.Mat Transp importés - 10'!H694","v":0},null,0,0,0,0,0,0,null,null,0,0,0,0]
[689,{"$f":"'INVENT.Mat Transp importés - 10'!B695","v":0},{"$f":"'INVENT.Mat Transp importés - 10'!F695","v":0},{"$f":"'INVENT.Mat Transp importés - 10'!C695","v":0},{"$f":"'INVENT.Mat Transp importés - 10'!H695","v":0},null,0,0,0,0,0,0,null,null,0,0,0,0]
[690,{"$f":"'INVENT.Mat Transp importés - 10'!B696","v":0},{"$f":"'INVENT.Mat Transp importés - 10'!F696","v":0},{"$f":"'INVENT.Mat Transp importés - 10'!C696","v":0},{"$f":"'INVENT.Mat Transp importés - 10'!H696","v":0},null,0,0,0,0,0,0,null,null,0,0,0,0]
[691,{"$f":"'INVENT.Mat Transp importés - 10'!B697","v":0},{"$f":"'INVENT.Mat Transp importés - 10'!F697","v":0},{"$f":"'INVENT.Mat Transp importés - 10'!C697","v":0},{"$f":"'INVENT.Mat Transp importés - 10'!H697","v":0},null,{"$f":"F698*E698","v":0},{"$f":"E698*1%","v":0},{"$f":"E698*1%","v":0},{"$f":"E698*0.5%","v":0},{"$f":"(E698+G698+H698)*18%","v":0},{"$f":"SUM(G698:K698)+E698","v":0},null,null,{"$f":"(M698+N698)*18%","v":0},{"$f":"O698+N698+M698","v":0},{"$f":"+R698-O698-K698","v":0},{"$f":"P698+L698","v":0}]
[692,{"$f":"'INVENT.Mat Transp importés - 10'!B698","v":0},{"$f":"'INVENT.Mat Transp importés - 10'!F698","v":0},{"$f":"'INVENT.Mat Transp importés - 10'!C698","v":0},{"$f":"'INVENT.Mat Transp importés - 10'!H698","v":0},null,0,0,0,0,0,0,null,null,0,0,0,0]
[693,{"$f":"'INVENT.Mat Transp importés - 10'!B699","v":0},{"$f":"'INVENT.Mat Transp importés - 10'!F699","v":0},{"$f":"'INVENT.Mat Transp importés - 10'!C699","v":0},{"$f":"'INVENT.Mat Transp importés - 10'!H699","v":0},null,0,0,0,0,0,0,null,null,0,0,0,0]
[694,{"$f":"'INVENT.Mat Transp importés - 10'!B700","v":0},{"$f":"'INVENT.Mat Transp importés - 10'!F700","v":0},{"$f":"'INVENT.Mat Transp importés - 10'!C700","v":0},{"$f":"'INVENT.Mat Transp importés - 10'!H700","v":0},null,0,0,0,0,0,0,null,null,0,0,0,0]
[695,{"$f":"'INVENT.Mat Transp importés - 10'!B701","v":0},{"$f":"'INVENT.Mat Transp importés - 10'!F701","v":0},{"$f":"'INVENT.Mat Transp importés - 10'!C701","v":0},{"$f":"'INVENT.Mat Transp importés - 10'!H701","v":0},null,0,0,0,0,0,0,null,null,0,0,0,0]
[696,{"$f":"'INVENT.Mat Transp importés - 10'!B702","v":0},{"$f":"'INVENT.Mat Transp importés - 10'!F702","v":0},{"$f":"'INVENT.Mat Transp importés - 10'!C702","v":0},{"$f":"'INVENT.Mat Transp importés - 10'!H702","v":0},null,0,0,0,0,0,0,null,null,0,0,0,0]
[697,{"$f":"'INVENT.Mat Transp importés - 10'!B703","v":0},{"$f":"'INVENT.Mat Transp importés - 10'!F703","v":0},{"$f":"'INVENT.Mat Transp importés - 10'!C703","v":0},{"$f":"'INVENT.Mat Transp importés - 10'!H703","v":0},null,0,0,0,0,0,0,null,null,0,0,0,0]
[698,{"$f":"'INVENT.Mat Transp importés - 10'!B704","v":0},{"$f":"'INVENT.Mat Transp importés - 10'!F704","v":0},{"$f":"'INVENT.Mat Transp importés - 10'!C704","v":0},{"$f":"'INVENT.Mat Transp importés - 10'!H704","v":0},null,0,0,0,0,0,0,null,null,0,0,0,0]
[699,{"$f":"'INVENT.Mat Transp importés - 10'!B705","v":0},{"$f":"'INVENT.Mat Transp importés - 10'!F705","v":0},{"$f":"'INVENT.Mat Transp importés - 10'!C705","v":0},{"$f":"'INVENT.Mat Transp importés - 10'!H705","v":0},null,0,0,0,0,0,0,null,null,0,0,0,0]
[700,{"$f":"'INVENT.Mat Transp importés - 10'!B706","v":0},{"$f":"'INVENT.Mat Transp importés - 10'!F706","v":0},{"$f":"'INVENT.Mat Transp importés - 10'!C706","v":0},{"$f":"'INVENT.Mat Transp importés - 10'!H706","v":0},null,0,0,0,0,0,0,null,null,0,0,0,0]
[701,{"$f":"'INVENT.Mat Transp importés - 10'!B707","v":0},{"$f":"'INVENT.Mat Transp importés - 10'!F707","v":0},{"$f":"'INVENT.Mat Transp importés - 10'!C707","v":0},{"$f":"'INVENT.Mat Transp importés - 10'!H707","v":0},null,0,0,0,0,0,0,null,null,0,0,0,0]
[702,{"$f":"'INVENT.Mat Transp importés - 10'!B708","v":0},{"$f":"'INVENT.Mat Transp importés - 10'!F708","v":0},{"$f":"'INVENT.Mat Transp importés - 10'!C708","v":0},{"$f":"'INVENT.Mat Transp importés - 10'!H708","v":0},null,0,0,0,0,0,0,null,null,0,0,0,0]
[703,{"$f":"'INVENT.Mat Transp importés - 10'!B709","v":0},{"$f":"'INVENT.Mat Transp importés - 10'!F709","v":0},{"$f":"'INVENT.Mat Transp importés - 10'!C709","v":0},{"$f":"'INVENT.Mat Transp importés - 10'!H709","v":0},null,0,0,0,0,0,0,null,null,0,0,0,0]
[704,{"$f":"'INVENT.Mat Transp importés - 10'!B710","v":0},{"$f":"'INVENT.Mat Transp importés - 10'!F710","v":0},{"$f":"'INVENT.Mat Transp importés - 10'!C710","v":0},{"$f":"'INVENT.Mat Transp importés - 10'!H710","v":0},null,0,0,0,0,0,0,null,null,0,0,0,0]
[705,{"$f":"'INVENT.Mat Transp importés - 10'!B711","v":0},{"$f":"'INVENT.Mat Transp importés - 10'!F711","v":0},{"$f":"'INVENT.Mat Transp importés - 10'!C711","v":0},{"$f":"'INVENT.Mat Transp importés - 10'!H711","v":0},null,0,0,0,0,0,0,null,null,0,0,0,0]
[706,{"$f":"'INVENT.Mat Transp importés - 10'!B712","v":0},{"$f":"'INVENT.Mat Transp importés - 10'!F712","v":0},{"$f":"'INVENT.Mat Transp importés - 10'!C712","v":0},{"$f":"'INVENT.Mat Transp importés - 10'!H712","v":0},null,0,0,0,0,0,0,null,null,0,0,0,0]
[707,{"$f":"'INVENT.Mat Transp importés - 10'!B713","v":0},{"$f":"'INVENT.Mat Transp importés - 10'!F713","v":0},{"$f":"'INVENT.Mat Transp importés - 10'!C713","v":0},{"$f":"'INVENT.Mat Transp importés - 10'!H713","v":0},null,0,0,0,0,0,0,null,null,0,0,0,0]
[708,{"$f":"'INVENT.Mat Transp importés - 10'!B714","v":0},{"$f":"'INVENT.Mat Transp importés - 10'!F714","v":0},{"$f":"'INVENT.Mat Transp importés - 10'!C714","v":0},{"$f":"'INVENT.Mat Transp importés - 10'!H714","v":0},null,0,0,0,0,0,0,null,null,0,0,0,0]
[709,{"$f":"'INVENT.Mat Transp importés - 10'!B715","v":0},{"$f":"'INVENT.Mat Transp importés - 10'!F715","v":0},{"$f":"'INVENT.Mat Transp importés - 10'!C715","v":0},{"$f":"'INVENT.Mat Transp importés - 10'!H715","v":0},null,0,0,0,0,0,0,null,null,0,0,0,0]
[710,{"$f":"'INVENT.Mat Transp importés - 10'!B716","v":0},{"$f":"'INVENT.Mat Transp importés - 10'!F716","v":0},{"$f":"'INVENT.Mat Transp importés - 10'!C716","v":0},{"$f":"'INVENT.Mat Transp importés - 10'!H716","v":0},null,0,0,0,0,0,0,null,null,0,0,0,0]
[711,{"$f":"'INVENT.Mat Transp importés - 10'!B717","v":0},{"$f":"'INVENT.Mat Transp importés - 10'!F717","v":0},{"$f":"'INVENT.Mat Transp importés - 10'!C717","v":0},{"$f":"'INVENT.Mat Transp importés - 10'!H717","v":0},null,0,0,0,0,0,0,null,null,0,0,0,0]
[712,{"$f":"'INVENT.Mat Transp importés - 10'!B718","v":0},{"$f":"'INVENT.Mat Transp importés - 10'!F718","v":0},{"$f":"'INVENT.Mat Transp importés - 10'!C718","v":0},{"$f":"'INVENT.Mat Transp importés - 10'!H718","v":0},null,0,0,0,0,0,0,null,null,0,0,0,0]
[713,{"$f":"'INVENT.Mat Transp importés - 10'!B719","v":0},{"$f":"'INVENT.Mat Transp importés - 10'!F719","v":0},{"$f":"'INVENT.Mat Transp importés - 10'!C719","v":0},{"$f":"'INVENT.Mat Transp importés - 10'!H719","v":0},null,0,0,0,0,0,0,null,null,0,0,0,0]
[714,{"$f":"'INVENT.Mat Transp importés - 10'!B720","v":0},{"$f":"'INVENT.Mat Transp importés - 10'!F720","v":0},{"$f":"'INVENT.Mat Transp importés - 10'!C720","v":0},{"$f":"'INVENT.Mat Transp importés - 10'!H720","v":0},null,0,0,0,0,0,0,null,null,0,0,0,0]
[715,{"$f":"'INVENT.Mat Transp importés - 10'!B721","v":0},{"$f":"'INVENT.Mat Transp importés - 10'!F721","v":0},{"$f":"'INVENT.Mat Transp importés - 10'!C721","v":0},{"$f":"'INVENT.Mat Transp importés - 10'!H721","v":0},null,0,0,0,0,0,0,null,null,0,0,0,0]
[716,{"$f":"'INVENT.Mat Transp importés - 10'!B722","v":0},{"$f":"'INVENT.Mat Transp importés - 10'!F722","v":0},{"$f":"'INVENT.Mat Transp importés - 10'!C722","v":0},{"$f":"'INVENT.Mat Transp importés - 10'!H722","v":0},null,0,0,0,0,0,0,null,null,0,0,0,0]
[717,{"$f":"'INVENT.Mat Transp importés - 10'!B723","v":0},{"$f":"'INVENT.Mat Transp importés - 10'!F723","v":0},{"$f":"'INVENT.Mat Transp importés - 10'!C723","v":0},{"$f":"'INVENT.Mat Transp importés - 10'!H723","v":0},null,0,0,0,0,0,0,null,null,0,0,0,0]
[718,{"$f":"'INVENT.Mat Transp importés - 10'!B724","v":0},{"$f":"'INVENT.Mat Transp importés - 10'!F724","v":0},{"$f":"'INVENT.Mat Transp importés - 10'!C724","v":0},{"$f":"'INVENT.Mat Transp importés - 10'!H724","v":0},null,0,0,0,0,0,0,null,null,0,0,0,0]
[719,{"$f":"'INVENT.Mat Transp importés - 10'!B725","v":0},{"$f":"'INVENT.Mat Transp importés - 10'!F725","v":0},{"$f":"'INVENT.Mat Transp importés - 10'!C725","v":0},{"$f":"'INVENT.Mat Transp importés - 10'!H725","v":0},null,0,0,0,0,0,0,null,null,0,0,0,0]
[720,{"$f":"'INVENT.Mat Transp importés - 10'!B726","v":0},{"$f":"'INVENT.Mat Transp importés - 10'!F726","v":0},{"$f":"'INVENT.Mat Transp importés - 10'!C726","v":0},{"$f":"'INVENT.Mat Transp importés - 10'!H726","v":0},null,0,0,0,0,0,0,null,null,0,0,0,0]
[721,{"$f":"'INVENT.Mat Transp importés - 10'!B727","v":0},{"$f":"'INVENT.Mat Transp importés - 10'!F727","v":0},{"$f":"'INVENT.Mat Transp importés - 10'!C727","v":0},{"$f":"'INVENT.Mat Transp importés - 10'!H727","v":0},null,0,0,0,0,0,0,null,null,0,0,0,0]
[722,{"$f":"'INVENT.Mat Transp importés - 10'!B728","v":0},{"$f":"'INVENT.Mat Transp importés - 10'!F728","v":0},{"$f":"'INVENT.Mat Transp importés - 10'!C728","v":0},{"$f":"'INVENT.Mat Transp importés - 10'!H728","v":0},null,0,0,0,0,0,0,null,null,0,0,0,0]
[723,{"$f":"'INVENT.Mat Transp importés - 10'!B729","v":0},{"$f":"'INVENT.Mat Transp importés - 10'!F729","v":0},{"$f":"'INVENT.Mat Transp importés - 10'!C729","v":0},{"$f":"'INVENT.Mat Transp importés - 10'!H729","v":0},null,0,0,0,0,0,0,null,null,0,0,0,0]
[724,{"$f":"'INVENT.Mat Transp importés - 10'!B730","v":0},{"$f":"'INVENT.Mat Transp importés - 10'!F730","v":0},{"$f":"'INVENT.Mat Transp importés - 10'!C730","v":0},{"$f":"'INVENT.Mat Transp importés - 10'!H730","v":0},null,0,0,0,0,0,0,null,null,0,0,0,0]
[725,{"$f":"'INVENT.Mat Transp importés - 10'!B731","v":0},{"$f":"'INVENT.Mat Transp importés - 10'!F731","v":0},{"$f":"'INVENT.Mat Transp importés - 10'!C731","v":0},{"$f":"'INVENT.Mat Transp importés - 10'!H731","v":0},null,0,0,0,0,0,0,null,null,0,0,0,0]
[726,{"$f":"'INVENT.Mat Transp importés - 10'!B732","v":0},{"$f":"'INVENT.Mat Transp importés - 10'!F732","v":0},{"$f":"'INVENT.Mat Transp importés - 10'!C732","v":0},{"$f":"'INVENT.Mat Transp importés - 10'!H732","v":0},null,0,0,0,0,0,0,null,null,0,0,0,0]
[727,{"$f":"'INVENT.Mat Transp importés - 10'!B733","v":0},{"$f":"'INVENT.Mat Transp importés - 10'!F733","v":0},{"$f":"'INVENT.Mat Transp importés - 10'!C733","v":0},{"$f":"'INVENT.Mat Transp importés - 10'!H733","v":0},null,0,0,0,0,0,0,null,null,0,0,0,0]
[728,{"$f":"'INVENT.Mat Transp importés - 10'!B734","v":0},{"$f":"'INVENT.Mat Transp importés - 10'!F734","v":0},{"$f":"'INVENT.Mat Transp importés - 10'!C734","v":0},{"$f":"'INVENT.Mat Transp importés - 10'!H734","v":0},null,0,0,0,0,0,0,null,null,0,0,0,0]
[729,{"$f":"'INVENT.Mat Transp importés - 10'!B735","v":0},{"$f":"'INVENT.Mat Transp importés - 10'!F735","v":0},{"$f":"'INVENT.Mat Transp importés - 10'!C735","v":0},{"$f":"'INVENT.Mat Transp importés - 10'!H735","v":0},null,0,0,0,0,0,0,null,null,0,0,0,0]
[730,{"$f":"'INVENT.Mat Transp importés - 10'!B736","v":0},{"$f":"'INVENT.Mat Transp importés - 10'!F736","v":0},{"$f":"'INVENT.Mat Transp importés - 10'!C736","v":0},{"$f":"'INVENT.Mat Transp importés - 10'!H736","v":0},null,0,0,0,0,0,0,null,null,0,0,0,0]
[731,{"$f":"'INVENT.Mat Transp importés - 10'!B737","v":0},{"$f":"'INVENT.Mat Transp importés - 10'!F737","v":0},{"$f":"'INVENT.Mat Transp importés - 10'!C737","v":0},{"$f":"'INVENT.Mat Transp importés - 10'!H737","v":0},null,0,0,0,0,0,0,null,null,0,0,0,0]
[732,{"$f":"'INVENT.Mat Transp importés - 10'!B738","v":0},{"$f":"'INVENT.Mat Transp importés - 10'!F738","v":0},{"$f":"'INVENT.Mat Transp importés - 10'!C738","v":0},{"$f":"'INVENT.Mat Transp importés - 10'!H738","v":0},null,0,0,0,0,0,0,null,null,0,0,0,0]
[733,{"$f":"'INVENT.Mat Transp importés - 10'!B739","v":0},{"$f":"'INVENT.Mat Transp importés - 10'!F739","v":0},{"$f":"'INVENT.Mat Transp importés - 10'!C739","v":0},{"$f":"'INVENT.Mat Transp importés - 10'!H739","v":0},null,0,0,0,0,0,0,null,null,0,0,0,0]
[734,{"$f":"'INVENT.Mat Transp importés - 10'!B740","v":0},{"$f":"'INVENT.Mat Transp importés - 10'!F740","v":0},{"$f":"'INVENT.Mat Transp importés - 10'!C740","v":0},{"$f":"'INVENT.Mat Transp importés - 10'!H740","v":0},null,0,0,0,0,0,0,null,null,0,0,0,0]
[735,{"$f":"'INVENT.Mat Transp importés - 10'!B741","v":0},{"$f":"'INVENT.Mat Transp importés - 10'!F741","v":0},{"$f":"'INVENT.Mat Transp importés - 10'!C741","v":0},{"$f":"'INVENT.Mat Transp importés - 10'!H741","v":0},null,0,0,0,0,0,0,null,null,0,0,0,0]
[736,{"$f":"'INVENT.Mat Transp importés - 10'!B742","v":0},{"$f":"'INVENT.Mat Transp importés - 10'!F742","v":0},{"$f":"'INVENT.Mat Transp importés - 10'!C742","v":0},{"$f":"'INVENT.Mat Transp importés - 10'!H742","v":0},null,0,0,0,0,0,0,null,null,0,0,0,0]
[737,{"$f":"'INVENT.Mat Transp importés - 10'!B743","v":0},{"$f":"'INVENT.Mat Transp importés - 10'!F743","v":0},{"$f":"'INVENT.Mat Transp importés - 10'!C743","v":0},{"$f":"'INVENT.Mat Transp importés - 10'!H743","v":0},null,0,0,0,0,0,0,null,null,0,0,0,0]
[738,{"$f":"'INVENT.Mat Transp importés - 10'!B744","v":0},{"$f":"'INVENT.Mat Transp importés - 10'!F744","v":0},{"$f":"'INVENT.Mat Transp importés - 10'!C744","v":0},{"$f":"'INVENT.Mat Transp importés - 10'!H744","v":0},null,0,0,0,0,0,0,null,null,0,0,0,0]
[739,{"$f":"'INVENT.Mat Transp importés - 10'!B745","v":0},{"$f":"'INVENT.Mat Transp importés - 10'!F745","v":0},{"$f":"'INVENT.Mat Transp importés - 10'!C745","v":0},{"$f":"'INVENT.Mat Transp importés - 10'!H745","v":0},null,0,0,0,0,0,0,null,null,0,0,0,0]
[740,{"$f":"'INVENT.Mat Transp importés - 10'!B746","v":0},{"$f":"'INVENT.Mat Transp importés - 10'!F746","v":0},{"$f":"'INVENT.Mat Transp importés - 10'!C746","v":0},{"$f":"'INVENT.Mat Transp importés - 10'!H746","v":0},null,0,0,0,0,0,0,null,null,0,0,0,0]
[741,{"$f":"'INVENT.Mat Transp importés - 10'!B747","v":0},{"$f":"'INVENT.Mat Transp importés - 10'!F747","v":0},{"$f":"'INVENT.Mat Transp importés - 10'!C747","v":0},{"$f":"'INVENT.Mat Transp importés - 10'!H747","v":0},null,0,0,0,0,0,0,null,null,0,0,0,0]
[742,{"$f":"'INVENT.Mat Transp importés - 10'!B748","v":0},{"$f":"'INVENT.Mat Transp importés - 10'!F748","v":0},{"$f":"'INVENT.Mat Transp importés - 10'!C748","v":0},{"$f":"'INVENT.Mat Transp importés - 10'!H748","v":0},null,0,0,0,0,0,0,null,null,0,0,0,0]
[743,{"$f":"'INVENT.Mat Transp importés - 10'!B749","v":0},{"$f":"'INVENT.Mat Transp importés - 10'!F749","v":0},{"$f":"'INVENT.Mat Transp importés - 10'!C749","v":0},{"$f":"'INVENT.Mat Transp importés - 10'!H749","v":0},null,0,0,0,0,0,0,null,null,0,0,0,0]
[{"$f":"+A750+1","v":744},{"$f":"'INVENT.Mat Transp importés - 10'!B750","v":0},{"$f":"'INVENT.Mat Transp importés - 10'!F750","v":0},{"$f":"'INVENT.Mat Transp importés - 10'!C750","v":0},{"$f":"'INVENT.Mat Transp importés - 10'!H750","v":0},null,0,0,0,0,0,0,null,null,0,0,0,0]
[745,{"$f":"'INVENT.Mat Transp importés - 10'!B751","v":0},{"$f":"'INVENT.Mat Transp importés - 10'!F751","v":0},{"$f":"'INVENT.Mat Transp importés - 10'!C751","v":0},{"$f":"'INVENT.Mat Transp importés - 10'!H751","v":0},null,0,0,0,0,0,0,null,null,0,0,0,0]
[746,{"$f":"'INVENT.Mat Transp importés - 10'!B752","v":0},{"$f":"'INVENT.Mat Transp importés - 10'!F752","v":0},{"$f":"'INVENT.Mat Transp importés - 10'!C752","v":0},{"$f":"'INVENT.Mat Transp importés - 10'!H752","v":0},null,0,0,0,0,0,0,null,null,0,0,0,0]
[747,{"$f":"'INVENT.Mat Transp importés - 10'!B753","v":0},{"$f":"'INVENT.Mat Transp importés - 10'!F753","v":0},{"$f":"'INVENT.Mat Transp importés - 10'!C753","v":0},{"$f":"'INVENT.Mat Transp importés - 10'!H753","v":0},null,0,0,0,0,0,0,null,null,0,0,0,0]
[748,{"$f":"'INVENT.Mat Transp importés - 10'!B754","v":0},{"$f":"'INVENT.Mat Transp importés - 10'!F754","v":0},{"$f":"'INVENT.Mat Transp importés - 10'!C754","v":0},{"$f":"'INVENT.Mat Transp importés - 10'!H754","v":0},null,0,0,0,0,0,0,null,null,0,0,0,0]
[749,{"$f":"'INVENT.Mat Transp importés - 10'!B755","v":0},{"$f":"'INVENT.Mat Transp importés - 10'!F755","v":0},{"$f":"'INVENT.Mat Transp importés - 10'!C755","v":0},{"$f":"'INVENT.Mat Transp importés - 10'!H755","v":0},null,0,0,0,0,0,0,null,null,0,0,0,0]
[750,{"$f":"'INVENT.Mat Transp importés - 10'!B756","v":0},{"$f":"'INVENT.Mat Transp importés - 10'!F756","v":0},{"$f":"'INVENT.Mat Transp importés - 10'!C756","v":0},{"$f":"'INVENT.Mat Transp importés - 10'!H756","v":0},null,0,0,0,0,0,0,null,null,0,0,0,0]
[751,{"$f":"'INVENT.Mat Transp importés - 10'!B757","v":0},{"$f":"'INVENT.Mat Transp importés - 10'!F757","v":0},{"$f":"'INVENT.Mat Transp importés - 10'!C757","v":0},{"$f":"'INVENT.Mat Transp importés - 10'!H757","v":0},null,0,0,0,0,0,0,null,null,0,0,0,0]
[752,{"$f":"'INVENT.Mat Transp importés - 10'!B758","v":0},{"$f":"'INVENT.Mat Transp importés - 10'!F758","v":0},{"$f":"'INVENT.Mat Transp importés - 10'!C758","v":0},{"$f":"'INVENT.Mat Transp importés - 10'!H758","v":0},null,0,0,0,0,0,0,null,null,0,0,0,0]
[753,{"$f":"'INVENT.Mat Transp importés - 10'!B759","v":0},{"$f":"'INVENT.Mat Transp importés - 10'!F759","v":0},{"$f":"'INVENT.Mat Transp importés - 10'!C759","v":0},{"$f":"'INVENT.Mat Transp importés - 10'!H759","v":0},null,0,0,0,0,0,0,null,null,0,0,0,0]
[754,{"$f":"'INVENT.Mat Transp importés - 10'!B760","v":0},{"$f":"'INVENT.Mat Transp importés - 10'!F760","v":0},{"$f":"'INVENT.Mat Transp importés - 10'!C760","v":0},{"$f":"'INVENT.Mat Transp importés - 10'!H760","v":0},null,0,0,0,0,0,0,null,null,0,0,0,0]
[755,{"$f":"'INVENT.Mat Transp importés - 10'!B761","v":0},{"$f":"'INVENT.Mat Transp importés - 10'!F761","v":0},{"$f":"'INVENT.Mat Transp importés - 10'!C761","v":0},{"$f":"'INVENT.Mat Transp importés - 10'!H761","v":0},null,{"$f":"F762*E762","v":0},{"$f":"E762*1%","v":0},{"$f":"E762*1%","v":0},{"$f":"E762*0.5%","v":0},{"$f":"(E762+G762+H762)*18%","v":0},{"$f":"SUM(G762:K762)+E762","v":0},null,null,{"$f":"(M762+N762)*18%","v":0},{"$f":"O762+N762+M762","v":0},{"$f":"+R762-O762-K762","v":0},{"$f":"P762+L762","v":0}]
[756,{"$f":"'INVENT.Mat Transp importés - 10'!B762","v":0},{"$f":"'INVENT.Mat Transp importés - 10'!F762","v":0},{"$f":"'INVENT.Mat Transp importés - 10'!C762","v":0},{"$f":"'INVENT.Mat Transp importés - 10'!H762","v":0},null,0,0,0,0,0,0,null,null,0,0,0,0]
[757,{"$f":"'INVENT.Mat Transp importés - 10'!B763","v":0},{"$f":"'INVENT.Mat Transp importés - 10'!F763","v":0},{"$f":"'INVENT.Mat Transp importés - 10'!C763","v":0},{"$f":"'INVENT.Mat Transp importés - 10'!H763","v":0},null,0,0,0,0,0,0,null,null,0,0,0,0]
[758,{"$f":"'INVENT.Mat Transp importés - 10'!B764","v":0},{"$f":"'INVENT.Mat Transp importés - 10'!F764","v":0},{"$f":"'INVENT.Mat Transp importés - 10'!C764","v":0},{"$f":"'INVENT.Mat Transp importés - 10'!H764","v":0},null,0,0,0,0,0,0,null,null,0,0,0,0]
[759,{"$f":"'INVENT.Mat Transp importés - 10'!B765","v":0},{"$f":"'INVENT.Mat Transp importés - 10'!F765","v":0},{"$f":"'INVENT.Mat Transp importés - 10'!C765","v":0},{"$f":"'INVENT.Mat Transp importés - 10'!H765","v":0},null,0,0,0,0,0,0,null,null,0,0,0,0]
[760,{"$f":"'INVENT.Mat Transp importés - 10'!B766","v":0},{"$f":"'INVENT.Mat Transp importés - 10'!F766","v":0},{"$f":"'INVENT.Mat Transp importés - 10'!C766","v":0},{"$f":"'INVENT.Mat Transp importés - 10'!H766","v":0},null,0,0,0,0,0,0,null,null,0,0,0,0]
[761,{"$f":"'INVENT.Mat Transp importés - 10'!B767","v":0},{"$f":"'INVENT.Mat Transp importés - 10'!F767","v":0},{"$f":"'INVENT.Mat Transp importés - 10'!C767","v":0},{"$f":"'INVENT.Mat Transp importés - 10'!H767","v":0},null,0,0,0,0,0,0,null,null,0,0,0,0]
[762,{"$f":"'INVENT.Mat Transp importés - 10'!B768","v":0},{"$f":"'INVENT.Mat Transp importés - 10'!F768","v":0},{"$f":"'INVENT.Mat Transp importés - 10'!C768","v":0},{"$f":"'INVENT.Mat Transp importés - 10'!H768","v":0},null,0,0,0,0,0,0,null,null,0,0,0,0]
[763,{"$f":"'INVENT.Mat Transp importés - 10'!B769","v":0},{"$f":"'INVENT.Mat Transp importés - 10'!F769","v":0},{"$f":"'INVENT.Mat Transp importés - 10'!C769","v":0},{"$f":"'INVENT.Mat Transp importés - 10'!H769","v":0},null,0,0,0,0,0,0,null,null,0,0,0,0]
[764,{"$f":"'INVENT.Mat Transp importés - 10'!B770","v":0},{"$f":"'INVENT.Mat Transp importés - 10'!F770","v":0},{"$f":"'INVENT.Mat Transp importés - 10'!C770","v":0},{"$f":"'INVENT.Mat Transp importés - 10'!H770","v":0},null,0,0,0,0,0,0,null,null,0,0,0,0]
[765,{"$f":"'INVENT.Mat Transp importés - 10'!B771","v":0},{"$f":"'INVENT.Mat Transp importés - 10'!F771","v":0},{"$f":"'INVENT.Mat Transp importés - 10'!C771","v":0},{"$f":"'INVENT.Mat Transp importés - 10'!H771","v":0},null,0,0,0,0,0,0,null,null,0,0,0,0]
[766,{"$f":"'INVENT.Mat Transp importés - 10'!B772","v":0},{"$f":"'INVENT.Mat Transp importés - 10'!F772","v":0},{"$f":"'INVENT.Mat Transp importés - 10'!C772","v":0},{"$f":"'INVENT.Mat Transp importés - 10'!H772","v":0},null,0,0,0,0,0,0,null,null,0,0,0,0]
[767,{"$f":"'INVENT.Mat Transp importés - 10'!B773","v":0},{"$f":"'INVENT.Mat Transp importés - 10'!F773","v":0},{"$f":"'INVENT.Mat Transp importés - 10'!C773","v":0},{"$f":"'INVENT.Mat Transp importés - 10'!H773","v":0},null,0,0,0,0,0,0,null,null,0,0,0,0]
[768,{"$f":"'INVENT.Mat Transp importés - 10'!B774","v":0},{"$f":"'INVENT.Mat Transp importés - 10'!F774","v":0},{"$f":"'INVENT.Mat Transp importés - 10'!C774","v":0},{"$f":"'INVENT.Mat Transp importés - 10'!H774","v":0},null,0,0,0,0,0,0,null,null,0,0,0,0]
[769,{"$f":"'INVENT.Mat Transp importés - 10'!B775","v":0},{"$f":"'INVENT.Mat Transp importés - 10'!F775","v":0},{"$f":"'INVENT.Mat Transp importés - 10'!C775","v":0},{"$f":"'INVENT.Mat Transp importés - 10'!H775","v":0},null,0,0,0,0,0,0,null,null,0,0,0,0]
[770,{"$f":"'INVENT.Mat Transp importés - 10'!B776","v":0},{"$f":"'INVENT.Mat Transp importés - 10'!F776","v":0},{"$f":"'INVENT.Mat Transp importés - 10'!C776","v":0},{"$f":"'INVENT.Mat Transp importés - 10'!H776","v":0},null,0,0,0,0,0,0,null,null,0,0,0,0]
[771,{"$f":"'INVENT.Mat Transp importés - 10'!B777","v":0},{"$f":"'INVENT.Mat Transp importés - 10'!F777","v":0},{"$f":"'INVENT.Mat Transp importés - 10'!C777","v":0},{"$f":"'INVENT.Mat Transp importés - 10'!H777","v":0},null,0,0,0,0,0,0,null,null,0,0,0,0]
[772,{"$f":"'INVENT.Mat Transp importés - 10'!B778","v":0},{"$f":"'INVENT.Mat Transp importés - 10'!F778","v":0},{"$f":"'INVENT.Mat Transp importés - 10'!C778","v":0},{"$f":"'INVENT.Mat Transp importés - 10'!H778","v":0},null,0,0,0,0,0,0,null,null,0,0,0,0]
[773,{"$f":"'INVENT.Mat Transp importés - 10'!B779","v":0},{"$f":"'INVENT.Mat Transp importés - 10'!F779","v":0},{"$f":"'INVENT.Mat Transp importés - 10'!C779","v":0},{"$f":"'INVENT.Mat Transp importés - 10'!H779","v":0},null,0,0,0,0,0,0,null,null,0,0,0,0]
[774,{"$f":"'INVENT.Mat Transp importés - 10'!B780","v":0},{"$f":"'INVENT.Mat Transp importés - 10'!F780","v":0},{"$f":"'INVENT.Mat Transp importés - 10'!C780","v":0},{"$f":"'INVENT.Mat Transp importés - 10'!H780","v":0},null,0,0,0,0,0,0,null,null,0,0,0,0]
[775,{"$f":"'INVENT.Mat Transp importés - 10'!B781","v":0},{"$f":"'INVENT.Mat Transp importés - 10'!F781","v":0},{"$f":"'INVENT.Mat Transp importés - 10'!C781","v":0},{"$f":"'INVENT.Mat Transp importés - 10'!H781","v":0},null,0,0,0,0,0,0,null,null,0,0,0,0]
[776,{"$f":"'INVENT.Mat Transp importés - 10'!B782","v":0},{"$f":"'INVENT.Mat Transp importés - 10'!F782","v":0},{"$f":"'INVENT.Mat Transp importés - 10'!C782","v":0},{"$f":"'INVENT.Mat Transp importés - 10'!H782","v":0},null,0,0,0,0,0,0,null,null,0,0,0,0]
[777,{"$f":"'INVENT.Mat Transp importés - 10'!B783","v":0},{"$f":"'INVENT.Mat Transp importés - 10'!F783","v":0},{"$f":"'INVENT.Mat Transp importés - 10'!C783","v":0},{"$f":"'INVENT.Mat Transp importés - 10'!H783","v":0},null,0,0,0,0,0,0,null,null,0,0,0,0]
[778,{"$f":"'INVENT.Mat Transp importés - 10'!B784","v":0},{"$f":"'INVENT.Mat Transp importés - 10'!F784","v":0},{"$f":"'INVENT.Mat Transp importés - 10'!C784","v":0},{"$f":"'INVENT.Mat Transp importés - 10'!H784","v":0},null,0,0,0,0,0,0,null,null,0,0,0,0]
[779,{"$f":"'INVENT.Mat Transp importés - 10'!B785","v":0},{"$f":"'INVENT.Mat Transp importés - 10'!F785","v":0},{"$f":"'INVENT.Mat Transp importés - 10'!C785","v":0},{"$f":"'INVENT.Mat Transp importés - 10'!H785","v":0},null,0,0,0,0,0,0,null,null,0,0,0,0]
[780,{"$f":"'INVENT.Mat Transp importés - 10'!B786","v":0},{"$f":"'INVENT.Mat Transp importés - 10'!F786","v":0},{"$f":"'INVENT.Mat Transp importés - 10'!C786","v":0},{"$f":"'INVENT.Mat Transp importés - 10'!H786","v":0},null,0,0,0,0,0,0,null,null,0,0,0,0]
[781,{"$f":"'INVENT.Mat Transp importés - 10'!B787","v":0},{"$f":"'INVENT.Mat Transp importés - 10'!F787","v":0},{"$f":"'INVENT.Mat Transp importés - 10'!C787","v":0},{"$f":"'INVENT.Mat Transp importés - 10'!H787","v":0},null,0,0,0,0,0,0,null,null,0,0,0,0]
[782,{"$f":"'INVENT.Mat Transp importés - 10'!B788","v":0},{"$f":"'INVENT.Mat Transp importés - 10'!F788","v":0},{"$f":"'INVENT.Mat Transp importés - 10'!C788","v":0},{"$f":"'INVENT.Mat Transp importés - 10'!H788","v":0},null,0,0,0,0,0,0,null,null,0,0,0,0]
[783,{"$f":"'INVENT.Mat Transp importés - 10'!B789","v":0},{"$f":"'INVENT.Mat Transp importés - 10'!F789","v":0},{"$f":"'INVENT.Mat Transp importés - 10'!C789","v":0},{"$f":"'INVENT.Mat Transp importés - 10'!H789","v":0},null,0,0,0,0,0,0,null,null,0,0,0,0]
[784,{"$f":"'INVENT.Mat Transp importés - 10'!B790","v":0},{"$f":"'INVENT.Mat Transp importés - 10'!F790","v":0},{"$f":"'INVENT.Mat Transp importés - 10'!C790","v":0},{"$f":"'INVENT.Mat Transp importés - 10'!H790","v":0},null,0,0,0,0,0,0,null,null,0,0,0,0]
[785,{"$f":"'INVENT.Mat Transp importés - 10'!B791","v":0},{"$f":"'INVENT.Mat Transp importés - 10'!F791","v":0},{"$f":"'INVENT.Mat Transp importés - 10'!C791","v":0},{"$f":"'INVENT.Mat Transp importés - 10'!H791","v":0},null,0,0,0,0,0,0,null,null,0,0,0,0]
[786,{"$f":"'INVENT.Mat Transp importés - 10'!B792","v":0},{"$f":"'INVENT.Mat Transp importés - 10'!F792","v":0},{"$f":"'INVENT.Mat Transp importés - 10'!C792","v":0},{"$f":"'INVENT.Mat Transp importés - 10'!H792","v":0},null,0,0,0,0,0,0,null,null,0,0,0,0]
[787,{"$f":"'INVENT.Mat Transp importés - 10'!B793","v":0},{"$f":"'INVENT.Mat Transp importés - 10'!F793","v":0},{"$f":"'INVENT.Mat Transp importés - 10'!C793","v":0},{"$f":"'INVENT.Mat Transp importés - 10'!H793","v":0},null,0,0,0,0,0,0,null,null,0,0,0,0]
[788,{"$f":"'INVENT.Mat Transp importés - 10'!B794","v":0},{"$f":"'INVENT.Mat Transp importés - 10'!F794","v":0},{"$f":"'INVENT.Mat Transp importés - 10'!C794","v":0},{"$f":"'INVENT.Mat Transp importés - 10'!H794","v":0},null,0,0,0,0,0,0,null,null,0,0,0,0]
[789,{"$f":"'INVENT.Mat Transp importés - 10'!B795","v":0},{"$f":"'INVENT.Mat Transp importés - 10'!F795","v":0},{"$f":"'INVENT.Mat Transp importés - 10'!C795","v":0},{"$f":"'INVENT.Mat Transp importés - 10'!H795","v":0},null,0,0,0,0,0,0,null,null,0,0,0,0]
[790,{"$f":"'INVENT.Mat Transp importés - 10'!B796","v":0},{"$f":"'INVENT.Mat Transp importés - 10'!F796","v":0},{"$f":"'INVENT.Mat Transp importés - 10'!C796","v":0},{"$f":"'INVENT.Mat Transp importés - 10'!H796","v":0},null,0,0,0,0,0,0,null,null,0,0,0,0]
[791,{"$f":"'INVENT.Mat Transp importés - 10'!B797","v":0},{"$f":"'INVENT.Mat Transp importés - 10'!F797","v":0},{"$f":"'INVENT.Mat Transp importés - 10'!C797","v":0},{"$f":"'INVENT.Mat Transp importés - 10'!H797","v":0},null,0,0,0,0,0,0,null,null,0,0,0,0]
[792,{"$f":"'INVENT.Mat Transp importés - 10'!B798","v":0},{"$f":"'INVENT.Mat Transp importés - 10'!F798","v":0},{"$f":"'INVENT.Mat Transp importés - 10'!C798","v":0},{"$f":"'INVENT.Mat Transp importés - 10'!H798","v":0},null,0,0,0,0,0,0,null,null,0,0,0,0]
[793,{"$f":"'INVENT.Mat Transp importés - 10'!B799","v":0},{"$f":"'INVENT.Mat Transp importés - 10'!F799","v":0},{"$f":"'INVENT.Mat Transp importés - 10'!C799","v":0},{"$f":"'INVENT.Mat Transp importés - 10'!H799","v":0},null,0,0,0,0,0,0,null,null,0,0,0,0]
[794,{"$f":"'INVENT.Mat Transp importés - 10'!B800","v":0},{"$f":"'INVENT.Mat Transp importés - 10'!F800","v":0},{"$f":"'INVENT.Mat Transp importés - 10'!C800","v":0},{"$f":"'INVENT.Mat Transp importés - 10'!H800","v":0},null,0,0,0,0,0,0,null,null,0,0,0,0]
[795,{"$f":"'INVENT.Mat Transp importés - 10'!B801","v":0},{"$f":"'INVENT.Mat Transp importés - 10'!F801","v":0},{"$f":"'INVENT.Mat Transp importés - 10'!C801","v":0},{"$f":"'INVENT.Mat Transp importés - 10'!H801","v":0},null,0,0,0,0,0,0,null,null,0,0,0,0]
[796,{"$f":"'INVENT.Mat Transp importés - 10'!B802","v":0},{"$f":"'INVENT.Mat Transp importés - 10'!F802","v":0},{"$f":"'INVENT.Mat Transp importés - 10'!C802","v":0},{"$f":"'INVENT.Mat Transp importés - 10'!H802","v":0},null,0,0,0,0,0,0,null,null,0,0,0,0]
[797,{"$f":"'INVENT.Mat Transp importés - 10'!B803","v":0},{"$f":"'INVENT.Mat Transp importés - 10'!F803","v":0},{"$f":"'INVENT.Mat Transp importés - 10'!C803","v":0},{"$f":"'INVENT.Mat Transp importés - 10'!H803","v":0},null,0,0,0,0,0,0,null,null,0,0,0,0]
[798,{"$f":"'INVENT.Mat Transp importés - 10'!B804","v":0},{"$f":"'INVENT.Mat Transp importés - 10'!F804","v":0},{"$f":"'INVENT.Mat Transp importés - 10'!C804","v":0},{"$f":"'INVENT.Mat Transp importés - 10'!H804","v":0},null,0,0,0,0,0,0,null,null,0,0,0,0]
[799,{"$f":"'INVENT.Mat Transp importés - 10'!B805","v":0},{"$f":"'INVENT.Mat Transp importés - 10'!F805","v":0},{"$f":"'INVENT.Mat Transp importés - 10'!C805","v":0},{"$f":"'INVENT.Mat Transp importés - 10'!H805","v":0},null,0,0,0,0,0,0,null,null,0,0,0,0]
[800,{"$f":"'INVENT.Mat Transp importés - 10'!B806","v":0},{"$f":"'INVENT.Mat Transp importés - 10'!F806","v":0},{"$f":"'INVENT.Mat Transp importés - 10'!C806","v":0},{"$f":"'INVENT.Mat Transp importés - 10'!H806","v":0},null,0,0,0,0,0,0,null,null,0,0,0,0]
[801,{"$f":"'INVENT.Mat Transp importés - 10'!B807","v":0},{"$f":"'INVENT.Mat Transp importés - 10'!F807","v":0},{"$f":"'INVENT.Mat Transp importés - 10'!C807","v":0},{"$f":"'INVENT.Mat Transp importés - 10'!H807","v":0},null,0,0,0,0,0,0,null,null,0,0,0,0]
[802,{"$f":"'INVENT.Mat Transp importés - 10'!B808","v":0},{"$f":"'INVENT.Mat Transp importés - 10'!F808","v":0},{"$f":"'INVENT.Mat Transp importés - 10'!C808","v":0},{"$f":"'INVENT.Mat Transp importés - 10'!H808","v":0},null,0,0,0,0,0,0,null,null,0,0,0,0]
[803,{"$f":"'INVENT.Mat Transp importés - 10'!B809","v":0},{"$f":"'INVENT.Mat Transp importés - 10'!F809","v":0},{"$f":"'INVENT.Mat Transp importés - 10'!C809","v":0},{"$f":"'INVENT.Mat Transp importés - 10'!H809","v":0},null,0,0,0,0,0,0,null,null,0,0,0,0]
[804,{"$f":"'INVENT.Mat Transp importés - 10'!B810","v":0},{"$f":"'INVENT.Mat Transp importés - 10'!F810","v":0},{"$f":"'INVENT.Mat Transp importés - 10'!C810","v":0},{"$f":"'INVENT.Mat Transp importés - 10'!H810","v":0},null,0,0,0,0,0,0,null,null,0,0,0,0]
[805,{"$f":"'INVENT.Mat Transp importés - 10'!B811","v":0},{"$f":"'INVENT.Mat Transp importés - 10'!F811","v":0},{"$f":"'INVENT.Mat Transp importés - 10'!C811","v":0},{"$f":"'INVENT.Mat Transp importés - 10'!H811","v":0},null,0,0,0,0,0,0,null,null,0,0,0,0]
[806,{"$f":"'INVENT.Mat Transp importés - 10'!B812","v":0},{"$f":"'INVENT.Mat Transp importés - 10'!F812","v":0},{"$f":"'INVENT.Mat Transp importés - 10'!C812","v":0},{"$f":"'INVENT.Mat Transp importés - 10'!H812","v":0},null,0,0,0,0,0,0,null,null,0,0,0,0]
[807,{"$f":"'INVENT.Mat Transp importés - 10'!B813","v":0},{"$f":"'INVENT.Mat Transp importés - 10'!F813","v":0},{"$f":"'INVENT.Mat Transp importés - 10'!C813","v":0},{"$f":"'INVENT.Mat Transp importés - 10'!H813","v":0},null,0,0,0,0,0,0,null,null,0,0,0,0]
[{"$f":"+A814+1","v":808},{"$f":"'INVENT.Mat Transp importés - 10'!B814","v":0},{"$f":"'INVENT.Mat Transp importés - 10'!F814","v":0},{"$f":"'INVENT.Mat Transp importés - 10'!C814","v":0},{"$f":"'INVENT.Mat Transp importés - 10'!H814","v":0},null,0,0,0,0,0,0,null,null,0,0,0,0]
[809,{"$f":"'INVENT.Mat Transp importés - 10'!B815","v":0},{"$f":"'INVENT.Mat Transp importés - 10'!F815","v":0},{"$f":"'INVENT.Mat Transp importés - 10'!C815","v":0},{"$f":"'INVENT.Mat Transp importés - 10'!H815","v":0},null,0,0,0,0,0,0,null,null,0,0,0,0]
[810,{"$f":"'INVENT.Mat Transp importés - 10'!B816","v":0},{"$f":"'INVENT.Mat Transp importés - 10'!F816","v":0},{"$f":"'INVENT.Mat Transp importés - 10'!C816","v":0},{"$f":"'INVENT.Mat Transp importés - 10'!H816","v":0},null,0,0,0,0,0,0,null,null,0,0,0,0]
[811,{"$f":"'INVENT.Mat Transp importés - 10'!B817","v":0},{"$f":"'INVENT.Mat Transp importés - 10'!F817","v":0},{"$f":"'INVENT.Mat Transp importés - 10'!C817","v":0},{"$f":"'INVENT.Mat Transp importés - 10'!H817","v":0},null,0,0,0,0,0,0,null,null,0,0,0,0]
[812,{"$f":"'INVENT.Mat Transp importés - 10'!B818","v":0},{"$f":"'INVENT.Mat Transp importés - 10'!F818","v":0},{"$f":"'INVENT.Mat Transp importés - 10'!C818","v":0},{"$f":"'INVENT.Mat Transp importés - 10'!H818","v":0},null,0,0,0,0,0,0,null,null,0,0,0,0]
[813,{"$f":"'INVENT.Mat Transp importés - 10'!B819","v":0},{"$f":"'INVENT.Mat Transp importés - 10'!F819","v":0},{"$f":"'INVENT.Mat Transp importés - 10'!C819","v":0},{"$f":"'INVENT.Mat Transp importés - 10'!H819","v":0},null,0,0,0,0,0,0,null,null,0,0,0,0]
[814,{"$f":"'INVENT.Mat Transp importés - 10'!B820","v":0},{"$f":"'INVENT.Mat Transp importés - 10'!F820","v":0},{"$f":"'INVENT.Mat Transp importés - 10'!C820","v":0},{"$f":"'INVENT.Mat Transp importés - 10'!H820","v":0},null,0,0,0,0,0,0,null,null,0,0,0,0]
[815,{"$f":"'INVENT.Mat Transp importés - 10'!B821","v":0},{"$f":"'INVENT.Mat Transp importés - 10'!F821","v":0},{"$f":"'INVENT.Mat Transp importés - 10'!C821","v":0},{"$f":"'INVENT.Mat Transp importés - 10'!H821","v":0},null,0,0,0,0,0,0,null,null,0,0,0,0]
[816,{"$f":"'INVENT.Mat Transp importés - 10'!B822","v":0},{"$f":"'INVENT.Mat Transp importés - 10'!F822","v":0},{"$f":"'INVENT.Mat Transp importés - 10'!C822","v":0},{"$f":"'INVENT.Mat Transp importés - 10'!H822","v":0},null,0,0,0,0,0,0,null,null,0,0,0,0]
[817,{"$f":"'INVENT.Mat Transp importés - 10'!B823","v":0},{"$f":"'INVENT.Mat Transp importés - 10'!F823","v":0},{"$f":"'INVENT.Mat Transp importés - 10'!C823","v":0},{"$f":"'INVENT.Mat Transp importés - 10'!H823","v":0},null,0,0,0,0,0,0,null,null,0,0,0,0]
[818,{"$f":"'INVENT.Mat Transp importés - 10'!B824","v":0},{"$f":"'INVENT.Mat Transp importés - 10'!F824","v":0},{"$f":"'INVENT.Mat Transp importés - 10'!C824","v":0},{"$f":"'INVENT.Mat Transp importés - 10'!H824","v":0},null,0,0,0,0,0,0,null,null,0,0,0,0]
[819,{"$f":"'INVENT.Mat Transp importés - 10'!B825","v":0},{"$f":"'INVENT.Mat Transp importés - 10'!F825","v":0},{"$f":"'INVENT.Mat Transp importés - 10'!C825","v":0},{"$f":"'INVENT.Mat Transp importés - 10'!H825","v":0},null,{"$f":"F826*E826","v":0},{"$f":"E826*1%","v":0},{"$f":"E826*1%","v":0},{"$f":"E826*0.5%","v":0},{"$f":"(E826+G826+H826)*18%","v":0},{"$f":"SUM(G826:K826)+E826","v":0},null,null,{"$f":"(M826+N826)*18%","v":0},{"$f":"O826+N826+M826","v":0},{"$f":"+R826-O826-K826","v":0},{"$f":"P826+L826","v":0}]
[820,{"$f":"'INVENT.Mat Transp importés - 10'!B826","v":0},{"$f":"'INVENT.Mat Transp importés - 10'!F826","v":0},{"$f":"'INVENT.Mat Transp importés - 10'!C826","v":0},{"$f":"'INVENT.Mat Transp importés - 10'!H826","v":0},null,0,0,0,0,0,0,null,null,0,0,0,0]
[821,{"$f":"'INVENT.Mat Transp importés - 10'!B827","v":0},{"$f":"'INVENT.Mat Transp importés - 10'!F827","v":0},{"$f":"'INVENT.Mat Transp importés - 10'!C827","v":0},{"$f":"'INVENT.Mat Transp importés - 10'!H827","v":0},null,0,0,0,0,0,0,null,null,0,0,0,0]
[822,{"$f":"'INVENT.Mat Transp importés - 10'!B828","v":0},{"$f":"'INVENT.Mat Transp importés - 10'!F828","v":0},{"$f":"'INVENT.Mat Transp importés - 10'!C828","v":0},{"$f":"'INVENT.Mat Transp importés - 10'!H828","v":0},null,0,0,0,0,0,0,null,null,0,0,0,0]
[823,{"$f":"'INVENT.Mat Transp importés - 10'!B829","v":0},{"$f":"'INVENT.Mat Transp importés - 10'!F829","v":0},{"$f":"'INVENT.Mat Transp importés - 10'!C829","v":0},{"$f":"'INVENT.Mat Transp importés - 10'!H829","v":0},null,0,0,0,0,0,0,null,null,0,0,0,0]
[824,{"$f":"'INVENT.Mat Transp importés - 10'!B830","v":0},{"$f":"'INVENT.Mat Transp importés - 10'!F830","v":0},{"$f":"'INVENT.Mat Transp importés - 10'!C830","v":0},{"$f":"'INVENT.Mat Transp importés - 10'!H830","v":0},null,0,0,0,0,0,0,null,null,0,0,0,0]
[825,{"$f":"'INVENT.Mat Transp importés - 10'!B831","v":0},{"$f":"'INVENT.Mat Transp importés - 10'!F831","v":0},{"$f":"'INVENT.Mat Transp importés - 10'!C831","v":0},{"$f":"'INVENT.Mat Transp importés - 10'!H831","v":0},null,0,0,0,0,0,0,null,null,0,0,0,0]
[826,{"$f":"'INVENT.Mat Transp importés - 10'!B832","v":0},{"$f":"'INVENT.Mat Transp importés - 10'!F832","v":0},{"$f":"'INVENT.Mat Transp importés - 10'!C832","v":0},{"$f":"'INVENT.Mat Transp importés - 10'!H832","v":0},null,0,0,0,0,0,0,null,null,0,0,0,0]
[827,{"$f":"'INVENT.Mat Transp importés - 10'!B833","v":0},{"$f":"'INVENT.Mat Transp importés - 10'!F833","v":0},{"$f":"'INVENT.Mat Transp importés - 10'!C833","v":0},{"$f":"'INVENT.Mat Transp importés - 10'!H833","v":0},null,0,0,0,0,0,0,null,null,0,0,0,0]
[828,{"$f":"'INVENT.Mat Transp importés - 10'!B834","v":0},{"$f":"'INVENT.Mat Transp importés - 10'!F834","v":0},{"$f":"'INVENT.Mat Transp importés - 10'!C834","v":0},{"$f":"'INVENT.Mat Transp importés - 10'!H834","v":0},null,0,0,0,0,0,0,null,null,0,0,0,0]
[829,{"$f":"'INVENT.Mat Transp importés - 10'!B835","v":0},{"$f":"'INVENT.Mat Transp importés - 10'!F835","v":0},{"$f":"'INVENT.Mat Transp importés - 10'!C835","v":0},{"$f":"'INVENT.Mat Transp importés - 10'!H835","v":0},null,0,0,0,0,0,0,null,null,0,0,0,0]
[830,{"$f":"'INVENT.Mat Transp importés - 10'!B836","v":0},{"$f":"'INVENT.Mat Transp importés - 10'!F836","v":0},{"$f":"'INVENT.Mat Transp importés - 10'!C836","v":0},{"$f":"'INVENT.Mat Transp importés - 10'!H836","v":0},null,0,0,0,0,0,0,null,null,0,0,0,0]
[831,{"$f":"'INVENT.Mat Transp importés - 10'!B837","v":0},{"$f":"'INVENT.Mat Transp importés - 10'!F837","v":0},{"$f":"'INVENT.Mat Transp importés - 10'!C837","v":0},{"$f":"'INVENT.Mat Transp importés - 10'!H837","v":0},null,0,0,0,0,0,0,null,null,0,0,0,0]
[832,{"$f":"'INVENT.Mat Transp importés - 10'!B838","v":0},{"$f":"'INVENT.Mat Transp importés - 10'!F838","v":0},{"$f":"'INVENT.Mat Transp importés - 10'!C838","v":0},{"$f":"'INVENT.Mat Transp importés - 10'!H838","v":0},null,0,0,0,0,0,0,null,null,0,0,0,0]
[833,{"$f":"'INVENT.Mat Transp importés - 10'!B839","v":0},{"$f":"'INVENT.Mat Transp importés - 10'!F839","v":0},{"$f":"'INVENT.Mat Transp importés - 10'!C839","v":0},{"$f":"'INVENT.Mat Transp importés - 10'!H839","v":0},null,0,0,0,0,0,0,null,null,0,0,0,0]
[834,{"$f":"'INVENT.Mat Transp importés - 10'!B840","v":0},{"$f":"'INVENT.Mat Transp importés - 10'!F840","v":0},{"$f":"'INVENT.Mat Transp importés - 10'!C840","v":0},{"$f":"'INVENT.Mat Transp importés - 10'!H840","v":0},null,0,0,0,0,0,0,null,null,0,0,0,0]
[835,{"$f":"'INVENT.Mat Transp importés - 10'!B841","v":0},{"$f":"'INVENT.Mat Transp importés - 10'!F841","v":0},{"$f":"'INVENT.Mat Transp importés - 10'!C841","v":0},{"$f":"'INVENT.Mat Transp importés - 10'!H841","v":0},null,0,0,0,0,0,0,null,null,0,0,0,0]
[836,{"$f":"'INVENT.Mat Transp importés - 10'!B842","v":0},{"$f":"'INVENT.Mat Transp importés - 10'!F842","v":0},{"$f":"'INVENT.Mat Transp importés - 10'!C842","v":0},{"$f":"'INVENT.Mat Transp importés - 10'!H842","v":0},null,0,0,0,0,0,0,null,null,0,0,0,0]
[837,{"$f":"'INVENT.Mat Transp importés - 10'!B843","v":0},{"$f":"'INVENT.Mat Transp importés - 10'!F843","v":0},{"$f":"'INVENT.Mat Transp importés - 10'!C843","v":0},{"$f":"'INVENT.Mat Transp importés - 10'!H843","v":0},null,0,0,0,0,0,0,null,null,0,0,0,0]
[838,{"$f":"'INVENT.Mat Transp importés - 10'!B844","v":0},{"$f":"'INVENT.Mat Transp importés - 10'!F844","v":0},{"$f":"'INVENT.Mat Transp importés - 10'!C844","v":0},{"$f":"'INVENT.Mat Transp importés - 10'!H844","v":0},null,0,0,0,0,0,0,null,null,0,0,0,0]
[839,{"$f":"'INVENT.Mat Transp importés - 10'!B845","v":0},{"$f":"'INVENT.Mat Transp importés - 10'!F845","v":0},{"$f":"'INVENT.Mat Transp importés - 10'!C845","v":0},{"$f":"'INVENT.Mat Transp importés - 10'!H845","v":0},null,0,0,0,0,0,0,null,null,0,0,0,0]
[840,{"$f":"'INVENT.Mat Transp importés - 10'!B846","v":0},{"$f":"'INVENT.Mat Transp importés - 10'!F846","v":0},{"$f":"'INVENT.Mat Transp importés - 10'!C846","v":0},{"$f":"'INVENT.Mat Transp importés - 10'!H846","v":0},null,0,0,0,0,0,0,null,null,0,0,0,0]
[841,{"$f":"'INVENT.Mat Transp importés - 10'!B847","v":0},{"$f":"'INVENT.Mat Transp importés - 10'!F847","v":0},{"$f":"'INVENT.Mat Transp importés - 10'!C847","v":0},{"$f":"'INVENT.Mat Transp importés - 10'!H847","v":0},null,0,0,0,0,0,0,null,null,0,0,0,0]
[842,{"$f":"'INVENT.Mat Transp importés - 10'!B848","v":0},{"$f":"'INVENT.Mat Transp importés - 10'!F848","v":0},{"$f":"'INVENT.Mat Transp importés - 10'!C848","v":0},{"$f":"'INVENT.Mat Transp importés - 10'!H848","v":0},null,0,0,0,0,0,0,null,null,0,0,0,0]
[843,{"$f":"'INVENT.Mat Transp importés - 10'!B849","v":0},{"$f":"'INVENT.Mat Transp importés - 10'!F849","v":0},{"$f":"'INVENT.Mat Transp importés - 10'!C849","v":0},{"$f":"'INVENT.Mat Transp importés - 10'!H849","v":0},null,0,0,0,0,0,0,null,null,0,0,0,0]
[844,{"$f":"'INVENT.Mat Transp importés - 10'!B850","v":0},{"$f":"'INVENT.Mat Transp importés - 10'!F850","v":0},{"$f":"'INVENT.Mat Transp importés - 10'!C850","v":0},{"$f":"'INVENT.Mat Transp importés - 10'!H850","v":0},null,0,0,0,0,0,0,null,null,0,0,0,0]
[845,{"$f":"'INVENT.Mat Transp importés - 10'!B851","v":0},{"$f":"'INVENT.Mat Transp importés - 10'!F851","v":0},{"$f":"'INVENT.Mat Transp importés - 10'!C851","v":0},{"$f":"'INVENT.Mat Transp importés - 10'!H851","v":0},null,0,0,0,0,0,0,null,null,0,0,0,0]
[846,{"$f":"'INVENT.Mat Transp importés - 10'!B852","v":0},{"$f":"'INVENT.Mat Transp importés - 10'!F852","v":0},{"$f":"'INVENT.Mat Transp importés - 10'!C852","v":0},{"$f":"'INVENT.Mat Transp importés - 10'!H852","v":0},null,0,0,0,0,0,0,null,null,0,0,0,0]
[847,{"$f":"'INVENT.Mat Transp importés - 10'!B853","v":0},{"$f":"'INVENT.Mat Transp importés - 10'!F853","v":0},{"$f":"'INVENT.Mat Transp importés - 10'!C853","v":0},{"$f":"'INVENT.Mat Transp importés - 10'!H853","v":0},null,0,0,0,0,0,0,null,null,0,0,0,0]
[848,{"$f":"'INVENT.Mat Transp importés - 10'!B854","v":0},{"$f":"'INVENT.Mat Transp importés - 10'!F854","v":0},{"$f":"'INVENT.Mat Transp importés - 10'!C854","v":0},{"$f":"'INVENT.Mat Transp importés - 10'!H854","v":0},null,0,0,0,0,0,0,null,null,0,0,0,0]
[849,{"$f":"'INVENT.Mat Transp importés - 10'!B855","v":0},{"$f":"'INVENT.Mat Transp importés - 10'!F855","v":0},{"$f":"'INVENT.Mat Transp importés - 10'!C855","v":0},{"$f":"'INVENT.Mat Transp importés - 10'!H855","v":0},null,0,0,0,0,0,0,null,null,0,0,0,0]
[850,{"$f":"'INVENT.Mat Transp importés - 10'!B856","v":0},{"$f":"'INVENT.Mat Transp importés - 10'!F856","v":0},{"$f":"'INVENT.Mat Transp importés - 10'!C856","v":0},{"$f":"'INVENT.Mat Transp importés - 10'!H856","v":0},null,0,0,0,0,0,0,null,null,0,0,0,0]
[851,{"$f":"'INVENT.Mat Transp importés - 10'!B857","v":0},{"$f":"'INVENT.Mat Transp importés - 10'!F857","v":0},{"$f":"'INVENT.Mat Transp importés - 10'!C857","v":0},{"$f":"'INVENT.Mat Transp importés - 10'!H857","v":0},null,0,0,0,0,0,0,null,null,0,0,0,0]
[852,{"$f":"'INVENT.Mat Transp importés - 10'!B858","v":0},{"$f":"'INVENT.Mat Transp importés - 10'!F858","v":0},{"$f":"'INVENT.Mat Transp importés - 10'!C858","v":0},{"$f":"'INVENT.Mat Transp importés - 10'!H858","v":0},null,0,0,0,0,0,0,null,null,0,0,0,0]
[853,{"$f":"'INVENT.Mat Transp importés - 10'!B859","v":0},{"$f":"'INVENT.Mat Transp importés - 10'!F859","v":0},{"$f":"'INVENT.Mat Transp importés - 10'!C859","v":0},{"$f":"'INVENT.Mat Transp importés - 10'!H859","v":0},null,0,0,0,0,0,0,null,null,0,0,0,0]
[854,{"$f":"'INVENT.Mat Transp importés - 10'!B860","v":0},{"$f":"'INVENT.Mat Transp importés - 10'!F860","v":0},{"$f":"'INVENT.Mat Transp importés - 10'!C860","v":0},{"$f":"'INVENT.Mat Transp importés - 10'!H860","v":0},null,0,0,0,0,0,0,null,null,0,0,0,0]
[855,{"$f":"'INVENT.Mat Transp importés - 10'!B861","v":0},{"$f":"'INVENT.Mat Transp importés - 10'!F861","v":0},{"$f":"'INVENT.Mat Transp importés - 10'!C861","v":0},{"$f":"'INVENT.Mat Transp importés - 10'!H861","v":0},null,0,0,0,0,0,0,null,null,0,0,0,0]
[856,{"$f":"'INVENT.Mat Transp importés - 10'!B862","v":0},{"$f":"'INVENT.Mat Transp importés - 10'!F862","v":0},{"$f":"'INVENT.Mat Transp importés - 10'!C862","v":0},{"$f":"'INVENT.Mat Transp importés - 10'!H862","v":0},null,0,0,0,0,0,0,null,null,0,0,0,0]
[857,{"$f":"'INVENT.Mat Transp importés - 10'!B863","v":0},{"$f":"'INVENT.Mat Transp importés - 10'!F863","v":0},{"$f":"'INVENT.Mat Transp importés - 10'!C863","v":0},{"$f":"'INVENT.Mat Transp importés - 10'!H863","v":0},null,0,0,0,0,0,0,null,null,0,0,0,0]
[858,{"$f":"'INVENT.Mat Transp importés - 10'!B864","v":0},{"$f":"'INVENT.Mat Transp importés - 10'!F864","v":0},{"$f":"'INVENT.Mat Transp importés - 10'!C864","v":0},{"$f":"'INVENT.Mat Transp importés - 10'!H864","v":0},null,0,0,0,0,0,0,null,null,0,0,0,0]
[859,{"$f":"'INVENT.Mat Transp importés - 10'!B865","v":0},{"$f":"'INVENT.Mat Transp importés - 10'!F865","v":0},{"$f":"'INVENT.Mat Transp importés - 10'!C865","v":0},{"$f":"'INVENT.Mat Transp importés - 10'!H865","v":0},null,0,0,0,0,0,0,null,null,0,0,0,0]
[860,{"$f":"'INVENT.Mat Transp importés - 10'!B866","v":0},{"$f":"'INVENT.Mat Transp importés - 10'!F866","v":0},{"$f":"'INVENT.Mat Transp importés - 10'!C866","v":0},{"$f":"'INVENT.Mat Transp importés - 10'!H866","v":0},null,0,0,0,0,0,0,null,null,0,0,0,0]
[861,{"$f":"'INVENT.Mat Transp importés - 10'!B867","v":0},{"$f":"'INVENT.Mat Transp importés - 10'!F867","v":0},{"$f":"'INVENT.Mat Transp importés - 10'!C867","v":0},{"$f":"'INVENT.Mat Transp importés - 10'!H867","v":0},null,0,0,0,0,0,0,null,null,0,0,0,0]
[862,{"$f":"'INVENT.Mat Transp importés - 10'!B868","v":0},{"$f":"'INVENT.Mat Transp importés - 10'!F868","v":0},{"$f":"'INVENT.Mat Transp importés - 10'!C868","v":0},{"$f":"'INVENT.Mat Transp importés - 10'!H868","v":0},null,0,0,0,0,0,0,null,null,0,0,0,0]
[863,{"$f":"'INVENT.Mat Transp importés - 10'!B869","v":0},{"$f":"'INVENT.Mat Transp importés - 10'!F869","v":0},{"$f":"'INVENT.Mat Transp importés - 10'!C869","v":0},{"$f":"'INVENT.Mat Transp importés - 10'!H869","v":0},null,0,0,0,0,0,0,null,null,0,0,0,0]
[864,{"$f":"'INVENT.Mat Transp importés - 10'!B870","v":0},{"$f":"'INVENT.Mat Transp importés - 10'!F870","v":0},{"$f":"'INVENT.Mat Transp importés - 10'!C870","v":0},{"$f":"'INVENT.Mat Transp importés - 10'!H870","v":0},null,0,0,0,0,0,0,null,null,0,0,0,0]
[865,{"$f":"'INVENT.Mat Transp importés - 10'!B871","v":0},{"$f":"'INVENT.Mat Transp importés - 10'!F871","v":0},{"$f":"'INVENT.Mat Transp importés - 10'!C871","v":0},{"$f":"'INVENT.Mat Transp importés - 10'!H871","v":0},null,0,0,0,0,0,0,null,null,0,0,0,0]
[866,{"$f":"'INVENT.Mat Transp importés - 10'!B872","v":0},{"$f":"'INVENT.Mat Transp importés - 10'!F872","v":0},{"$f":"'INVENT.Mat Transp importés - 10'!C872","v":0},{"$f":"'INVENT.Mat Transp importés - 10'!H872","v":0},null,0,0,0,0,0,0,null,null,0,0,0,0]
[867,{"$f":"'INVENT.Mat Transp importés - 10'!B873","v":0},{"$f":"'INVENT.Mat Transp importés - 10'!F873","v":0},{"$f":"'INVENT.Mat Transp importés - 10'!C873","v":0},{"$f":"'INVENT.Mat Transp importés - 10'!H873","v":0},null,0,0,0,0,0,0,null,null,0,0,0,0]
[868,{"$f":"'INVENT.Mat Transp importés - 10'!B874","v":0},{"$f":"'INVENT.Mat Transp importés - 10'!F874","v":0},{"$f":"'INVENT.Mat Transp importés - 10'!C874","v":0},{"$f":"'INVENT.Mat Transp importés - 10'!H874","v":0},null,0,0,0,0,0,0,null,null,0,0,0,0]
[869,{"$f":"'INVENT.Mat Transp importés - 10'!B875","v":0},{"$f":"'INVENT.Mat Transp importés - 10'!F875","v":0},{"$f":"'INVENT.Mat Transp importés - 10'!C875","v":0},{"$f":"'INVENT.Mat Transp importés - 10'!H875","v":0},null,0,0,0,0,0,0,null,null,0,0,0,0]
[870,{"$f":"'INVENT.Mat Transp importés - 10'!B876","v":0},{"$f":"'INVENT.Mat Transp importés - 10'!F876","v":0},{"$f":"'INVENT.Mat Transp importés - 10'!C876","v":0},{"$f":"'INVENT.Mat Transp importés - 10'!H876","v":0},null,0,0,0,0,0,0,null,null,0,0,0,0]
[871,{"$f":"'INVENT.Mat Transp importés - 10'!B877","v":0},{"$f":"'INVENT.Mat Transp importés - 10'!F877","v":0},{"$f":"'INVENT.Mat Transp importés - 10'!C877","v":0},{"$f":"'INVENT.Mat Transp importés - 10'!H877","v":0},null,0,0,0,0,0,0,null,null,0,0,0,0]
[{"$f":"+A878+1","v":872},{"$f":"'INVENT.Mat Transp importés - 10'!B878","v":0},{"$f":"'INVENT.Mat Transp importés - 10'!F878","v":0},{"$f":"'INVENT.Mat Transp importés - 10'!C878","v":0},{"$f":"'INVENT.Mat Transp importés - 10'!H878","v":0},null,0,0,0,0,0,0,null,null,0,0,0,0]
[873,{"$f":"'INVENT.Mat Transp importés - 10'!B879","v":0},{"$f":"'INVENT.Mat Transp importés - 10'!F879","v":0},{"$f":"'INVENT.Mat Transp importés - 10'!C879","v":0},{"$f":"'INVENT.Mat Transp importés - 10'!H879","v":0},null,0,0,0,0,0,0,null,null,0,0,0,0]
[874,{"$f":"'INVENT.Mat Transp importés - 10'!B880","v":0},{"$f":"'INVENT.Mat Transp importés - 10'!F880","v":0},{"$f":"'INVENT.Mat Transp importés - 10'!C880","v":0},{"$f":"'INVENT.Mat Transp importés - 10'!H880","v":0},null,0,0,0,0,0,0,null,null,0,0,0,0]
[875,{"$f":"'INVENT.Mat Transp importés - 10'!B881","v":0},{"$f":"'INVENT.Mat Transp importés - 10'!F881","v":0},{"$f":"'INVENT.Mat Transp importés - 10'!C881","v":0},{"$f":"'INVENT.Mat Transp importés - 10'!H881","v":0},null,0,0,0,0,0,0,null,null,0,0,0,0]
[876,{"$f":"'INVENT.Mat Transp importés - 10'!B882","v":0},{"$f":"'INVENT.Mat Transp importés - 10'!F882","v":0},{"$f":"'INVENT.Mat Transp importés - 10'!C882","v":0},{"$f":"'INVENT.Mat Transp importés - 10'!H882","v":0},null,0,0,0,0,0,0,null,null,0,0,0,0]
[877,{"$f":"'INVENT.Mat Transp importés - 10'!B883","v":0},{"$f":"'INVENT.Mat Transp importés - 10'!F883","v":0},{"$f":"'INVENT.Mat Transp importés - 10'!C883","v":0},{"$f":"'INVENT.Mat Transp importés - 10'!H883","v":0},null,0,0,0,0,0,0,null,null,0,0,0,0]
[878,{"$f":"'INVENT.Mat Transp importés - 10'!B884","v":0},{"$f":"'INVENT.Mat Transp importés - 10'!F884","v":0},{"$f":"'INVENT.Mat Transp importés - 10'!C884","v":0},{"$f":"'INVENT.Mat Transp importés - 10'!H884","v":0},null,0,0,0,0,0,0,null,null,0,0,0,0]
[879,{"$f":"'INVENT.Mat Transp importés - 10'!B885","v":0},{"$f":"'INVENT.Mat Transp importés - 10'!F885","v":0},{"$f":"'INVENT.Mat Transp importés - 10'!C885","v":0},{"$f":"'INVENT.Mat Transp importés - 10'!H885","v":0},null,0,0,0,0,0,0,null,null,0,0,0,0]
[880,{"$f":"'INVENT.Mat Transp importés - 10'!B886","v":0},{"$f":"'INVENT.Mat Transp importés - 10'!F886","v":0},{"$f":"'INVENT.Mat Transp importés - 10'!C886","v":0},{"$f":"'INVENT.Mat Transp importés - 10'!H886","v":0},null,0,0,0,0,0,0,null,null,0,0,0,0]
[881,{"$f":"'INVENT.Mat Transp importés - 10'!B887","v":0},{"$f":"'INVENT.Mat Transp importés - 10'!F887","v":0},{"$f":"'INVENT.Mat Transp importés - 10'!C887","v":0},{"$f":"'INVENT.Mat Transp importés - 10'!H887","v":0},null,0,0,0,0,0,0,null,null,0,0,0,0]
[882,{"$f":"'INVENT.Mat Transp importés - 10'!B888","v":0},{"$f":"'INVENT.Mat Transp importés - 10'!F888","v":0},{"$f":"'INVENT.Mat Transp importés - 10'!C888","v":0},{"$f":"'INVENT.Mat Transp importés - 10'!H888","v":0},null,0,0,0,0,0,0,null,null,0,0,0,0]
[883,{"$f":"'INVENT.Mat Transp importés - 10'!B889","v":0},{"$f":"'INVENT.Mat Transp importés - 10'!F889","v":0},{"$f":"'INVENT.Mat Transp importés - 10'!C889","v":0},{"$f":"'INVENT.Mat Transp importés - 10'!H889","v":0},null,{"$f":"F890*E890","v":0},{"$f":"E890*1%","v":0},{"$f":"E890*1%","v":0},{"$f":"E890*0.5%","v":0},{"$f":"(E890+G890+H890)*18%","v":0},{"$f":"SUM(G890:K890)+E890","v":0},null,null,{"$f":"(M890+N890)*18%","v":0},{"$f":"O890+N890+M890","v":0},{"$f":"+R890-O890-K890","v":0},{"$f":"P890+L890","v":0}]
[884,{"$f":"'INVENT.Mat Transp importés - 10'!B890","v":0},{"$f":"'INVENT.Mat Transp importés - 10'!F890","v":0},{"$f":"'INVENT.Mat Transp importés - 10'!C890","v":0},{"$f":"'INVENT.Mat Transp importés - 10'!H890","v":0},null,0,0,0,0,0,0,null,null,0,0,0,0]
[885,{"$f":"'INVENT.Mat Transp importés - 10'!B891","v":0},{"$f":"'INVENT.Mat Transp importés - 10'!F891","v":0},{"$f":"'INVENT.Mat Transp importés - 10'!C891","v":0},{"$f":"'INVENT.Mat Transp importés - 10'!H891","v":0},null,0,0,0,0,0,0,null,null,0,0,0,0]
[886,{"$f":"'INVENT.Mat Transp importés - 10'!B892","v":0},{"$f":"'INVENT.Mat Transp importés - 10'!F892","v":0},{"$f":"'INVENT.Mat Transp importés - 10'!C892","v":0},{"$f":"'INVENT.Mat Transp importés - 10'!H892","v":0},null,0,0,0,0,0,0,null,null,0,0,0,0]
[887,{"$f":"'INVENT.Mat Transp importés - 10'!B893","v":0},{"$f":"'INVENT.Mat Transp importés - 10'!F893","v":0},{"$f":"'INVENT.Mat Transp importés - 10'!C893","v":0},{"$f":"'INVENT.Mat Transp importés - 10'!H893","v":0},null,0,0,0,0,0,0,null,null,0,0,0,0]
[888,{"$f":"'INVENT.Mat Transp importés - 10'!B894","v":0},{"$f":"'INVENT.Mat Transp importés - 10'!F894","v":0},{"$f":"'INVENT.Mat Transp importés - 10'!C894","v":0},{"$f":"'INVENT.Mat Transp importés - 10'!H894","v":0},null,0,0,0,0,0,0,null,null,0,0,0,0]
[889,{"$f":"'INVENT.Mat Transp importés - 10'!B895","v":0},{"$f":"'INVENT.Mat Transp importés - 10'!F895","v":0},{"$f":"'INVENT.Mat Transp importés - 10'!C895","v":0},{"$f":"'INVENT.Mat Transp importés - 10'!H895","v":0},null,0,0,0,0,0,0,null,null,0,0,0,0]
[890,{"$f":"'INVENT.Mat Transp importés - 10'!B896","v":0},{"$f":"'INVENT.Mat Transp importés - 10'!F896","v":0},{"$f":"'INVENT.Mat Transp importés - 10'!C896","v":0},{"$f":"'INVENT.Mat Transp importés - 10'!H896","v":0},null,0,0,0,0,0,0,null,null,0,0,0,0]
[891,{"$f":"'INVENT.Mat Transp importés - 10'!B897","v":0},{"$f":"'INVENT.Mat Transp importés - 10'!F897","v":0},{"$f":"'INVENT.Mat Transp importés - 10'!C897","v":0},{"$f":"'INVENT.Mat Transp importés - 10'!H897","v":0},null,0,0,0,0,0,0,null,null,0,0,0,0]
[892,{"$f":"'INVENT.Mat Transp importés - 10'!B898","v":0},{"$f":"'INVENT.Mat Transp importés - 10'!F898","v":0},{"$f":"'INVENT.Mat Transp importés - 10'!C898","v":0},{"$f":"'INVENT.Mat Transp importés - 10'!H898","v":0},null,0,0,0,0,0,0,null,null,0,0,0,0]
[893,{"$f":"'INVENT.Mat Transp importés - 10'!B899","v":0},{"$f":"'INVENT.Mat Transp importés - 10'!F899","v":0},{"$f":"'INVENT.Mat Transp importés - 10'!C899","v":0},{"$f":"'INVENT.Mat Transp importés - 10'!H899","v":0},null,0,0,0,0,0,0,null,null,0,0,0,0]
[894,{"$f":"'INVENT.Mat Transp importés - 10'!B900","v":0},{"$f":"'INVENT.Mat Transp importés - 10'!F900","v":0},{"$f":"'INVENT.Mat Transp importés - 10'!C900","v":0},{"$f":"'INVENT.Mat Transp importés - 10'!H900","v":0},null,0,0,0,0,0,0,null,null,0,0,0,0]
[895,{"$f":"'INVENT.Mat Transp importés - 10'!B901","v":0},{"$f":"'INVENT.Mat Transp importés - 10'!F901","v":0},{"$f":"'INVENT.Mat Transp importés - 10'!C901","v":0},{"$f":"'INVENT.Mat Transp importés - 10'!H901","v":0},null,0,0,0,0,0,0,null,null,0,0,0,0]
[896,{"$f":"'INVENT.Mat Transp importés - 10'!B902","v":0},{"$f":"'INVENT.Mat Transp importés - 10'!F902","v":0},{"$f":"'INVENT.Mat Transp importés - 10'!C902","v":0},{"$f":"'INVENT.Mat Transp importés - 10'!H902","v":0},null,0,0,0,0,0,0,null,null,0,0,0,0]
[897,{"$f":"'INVENT.Mat Transp importés - 10'!B903","v":0},{"$f":"'INVENT.Mat Transp importés - 10'!F903","v":0},{"$f":"'INVENT.Mat Transp importés - 10'!C903","v":0},{"$f":"'INVENT.Mat Transp importés - 10'!H903","v":0},null,0,0,0,0,0,0,null,null,0,0,0,0]
[898,{"$f":"'INVENT.Mat Transp importés - 10'!B904","v":0},{"$f":"'INVENT.Mat Transp importés - 10'!F904","v":0},{"$f":"'INVENT.Mat Transp importés - 10'!C904","v":0},{"$f":"'INVENT.Mat Transp importés - 10'!H904","v":0},null,0,0,0,0,0,0,null,null,0,0,0,0]
[899,{"$f":"'INVENT.Mat Transp importés - 10'!B905","v":0},{"$f":"'INVENT.Mat Transp importés - 10'!F905","v":0},{"$f":"'INVENT.Mat Transp importés - 10'!C905","v":0},{"$f":"'INVENT.Mat Transp importés - 10'!H905","v":0},null,0,0,0,0,0,0,null,null,0,0,0,0]
[900,{"$f":"'INVENT.Mat Transp importés - 10'!B906","v":0},{"$f":"'INVENT.Mat Transp importés - 10'!F906","v":0},{"$f":"'INVENT.Mat Transp importés - 10'!C906","v":0},{"$f":"'INVENT.Mat Transp importés - 10'!H906","v":0},null,0,0,0,0,0,0,null,null,0,0,0,0]
[901,{"$f":"'INVENT.Mat Transp importés - 10'!B907","v":0},{"$f":"'INVENT.Mat Transp importés - 10'!F907","v":0},{"$f":"'INVENT.Mat Transp importés - 10'!C907","v":0},{"$f":"'INVENT.Mat Transp importés - 10'!H907","v":0},null,0,0,0,0,0,0,null,null,0,0,0,0]
[902,{"$f":"'INVENT.Mat Transp importés - 10'!B908","v":0},{"$f":"'INVENT.Mat Transp importés - 10'!F908","v":0},{"$f":"'INVENT.Mat Transp importés - 10'!C908","v":0},{"$f":"'INVENT.Mat Transp importés - 10'!H908","v":0},null,0,0,0,0,0,0,null,null,0,0,0,0]
[903,{"$f":"'INVENT.Mat Transp importés - 10'!B909","v":0},{"$f":"'INVENT.Mat Transp importés - 10'!F909","v":0},{"$f":"'INVENT.Mat Transp importés - 10'!C909","v":0},{"$f":"'INVENT.Mat Transp importés - 10'!H909","v":0},null,0,0,0,0,0,0,null,null,0,0,0,0]
[904,{"$f":"'INVENT.Mat Transp importés - 10'!B910","v":0},{"$f":"'INVENT.Mat Transp importés - 10'!F910","v":0},{"$f":"'INVENT.Mat Transp importés - 10'!C910","v":0},{"$f":"'INVENT.Mat Transp importés - 10'!H910","v":0},null,0,0,0,0,0,0,null,null,0,0,0,0]
[905,{"$f":"'INVENT.Mat Transp importés - 10'!B911","v":0},{"$f":"'INVENT.Mat Transp importés - 10'!F911","v":0},{"$f":"'INVENT.Mat Transp importés - 10'!C911","v":0},{"$f":"'INVENT.Mat Transp importés - 10'!H911","v":0},null,0,0,0,0,0,0,null,null,0,0,0,0]
[906,{"$f":"'INVENT.Mat Transp importés - 10'!B912","v":0},{"$f":"'INVENT.Mat Transp importés - 10'!F912","v":0},{"$f":"'INVENT.Mat Transp importés - 10'!C912","v":0},{"$f":"'INVENT.Mat Transp importés - 10'!H912","v":0},null,0,0,0,0,0,0,null,null,0,0,0,0]
[907,{"$f":"'INVENT.Mat Transp importés - 10'!B913","v":0},{"$f":"'INVENT.Mat Transp importés - 10'!F913","v":0},{"$f":"'INVENT.Mat Transp importés - 10'!C913","v":0},{"$f":"'INVENT.Mat Transp importés - 10'!H913","v":0},null,0,0,0,0,0,0,null,null,0,0,0,0]
[908,{"$f":"'INVENT.Mat Transp importés - 10'!B914","v":0},{"$f":"'INVENT.Mat Transp importés - 10'!F914","v":0},{"$f":"'INVENT.Mat Transp importés - 10'!C914","v":0},{"$f":"'INVENT.Mat Transp importés - 10'!H914","v":0},null,0,0,0,0,0,0,null,null,0,0,0,0]
[909,{"$f":"'INVENT.Mat Transp importés - 10'!B915","v":0},{"$f":"'INVENT.Mat Transp importés - 10'!F915","v":0},{"$f":"'INVENT.Mat Transp importés - 10'!C915","v":0},{"$f":"'INVENT.Mat Transp importés - 10'!H915","v":0},null,0,0,0,0,0,0,null,null,0,0,0,0]
[910,{"$f":"'INVENT.Mat Transp importés - 10'!B916","v":0},{"$f":"'INVENT.Mat Transp importés - 10'!F916","v":0},{"$f":"'INVENT.Mat Transp importés - 10'!C916","v":0},{"$f":"'INVENT.Mat Transp importés - 10'!H916","v":0},null,0,0,0,0,0,0,null,null,0,0,0,0]
[911,{"$f":"'INVENT.Mat Transp importés - 10'!B917","v":0},{"$f":"'INVENT.Mat Transp importés - 10'!F917","v":0},{"$f":"'INVENT.Mat Transp importés - 10'!C917","v":0},{"$f":"'INVENT.Mat Transp importés - 10'!H917","v":0},null,0,0,0,0,0,0,null,null,0,0,0,0]
[912,{"$f":"'INVENT.Mat Transp importés - 10'!B918","v":0},{"$f":"'INVENT.Mat Transp importés - 10'!F918","v":0},{"$f":"'INVENT.Mat Transp importés - 10'!C918","v":0},{"$f":"'INVENT.Mat Transp importés - 10'!H918","v":0},null,0,0,0,0,0,0,null,null,0,0,0,0]
[913,{"$f":"'INVENT.Mat Transp importés - 10'!B919","v":0},{"$f":"'INVENT.Mat Transp importés - 10'!F919","v":0},{"$f":"'INVENT.Mat Transp importés - 10'!C919","v":0},{"$f":"'INVENT.Mat Transp importés - 10'!H919","v":0},null,0,0,0,0,0,0,null,null,0,0,0,0]
[914,{"$f":"'INVENT.Mat Transp importés - 10'!B920","v":0},{"$f":"'INVENT.Mat Transp importés - 10'!F920","v":0},{"$f":"'INVENT.Mat Transp importés - 10'!C920","v":0},{"$f":"'INVENT.Mat Transp importés - 10'!H920","v":0},null,0,0,0,0,0,0,null,null,0,0,0,0]
[915,{"$f":"'INVENT.Mat Transp importés - 10'!B921","v":0},{"$f":"'INVENT.Mat Transp importés - 10'!F921","v":0},{"$f":"'INVENT.Mat Transp importés - 10'!C921","v":0},{"$f":"'INVENT.Mat Transp importés - 10'!H921","v":0},null,0,0,0,0,0,0,null,null,0,0,0,0]
[916,{"$f":"'INVENT.Mat Transp importés - 10'!B922","v":0},{"$f":"'INVENT.Mat Transp importés - 10'!F922","v":0},{"$f":"'INVENT.Mat Transp importés - 10'!C922","v":0},{"$f":"'INVENT.Mat Transp importés - 10'!H922","v":0},null,0,0,0,0,0,0,null,null,0,0,0,0]
[917,{"$f":"'INVENT.Mat Transp importés - 10'!B923","v":0},{"$f":"'INVENT.Mat Transp importés - 10'!F923","v":0},{"$f":"'INVENT.Mat Transp importés - 10'!C923","v":0},{"$f":"'INVENT.Mat Transp importés - 10'!H923","v":0},null,0,0,0,0,0,0,null,null,0,0,0,0]
[918,{"$f":"'INVENT.Mat Transp importés - 10'!B924","v":0},{"$f":"'INVENT.Mat Transp importés - 10'!F924","v":0},{"$f":"'INVENT.Mat Transp importés - 10'!C924","v":0},{"$f":"'INVENT.Mat Transp importés - 10'!H924","v":0},null,0,0,0,0,0,0,null,null,0,0,0,0]
[919,{"$f":"'INVENT.Mat Transp importés - 10'!B925","v":0},{"$f":"'INVENT.Mat Transp importés - 10'!F925","v":0},{"$f":"'INVENT.Mat Transp importés - 10'!C925","v":0},{"$f":"'INVENT.Mat Transp importés - 10'!H925","v":0},null,0,0,0,0,0,0,null,null,0,0,0,0]
[920,{"$f":"'INVENT.Mat Transp importés - 10'!B926","v":0},{"$f":"'INVENT.Mat Transp importés - 10'!F926","v":0},{"$f":"'INVENT.Mat Transp importés - 10'!C926","v":0},{"$f":"'INVENT.Mat Transp importés - 10'!H926","v":0},null,0,0,0,0,0,0,null,null,0,0,0,0]
[921,{"$f":"'INVENT.Mat Transp importés - 10'!B927","v":0},{"$f":"'INVENT.Mat Transp importés - 10'!F927","v":0},{"$f":"'INVENT.Mat Transp importés - 10'!C927","v":0},{"$f":"'INVENT.Mat Transp importés - 10'!H927","v":0},null,0,0,0,0,0,0,null,null,0,0,0,0]
[922,{"$f":"'INVENT.Mat Transp importés - 10'!B928","v":0},{"$f":"'INVENT.Mat Transp importés - 10'!F928","v":0},{"$f":"'INVENT.Mat Transp importés - 10'!C928","v":0},{"$f":"'INVENT.Mat Transp importés - 10'!H928","v":0},null,0,0,0,0,0,0,null,null,0,0,0,0]
[923,{"$f":"'INVENT.Mat Transp importés - 10'!B929","v":0},{"$f":"'INVENT.Mat Transp importés - 10'!F929","v":0},{"$f":"'INVENT.Mat Transp importés - 10'!C929","v":0},{"$f":"'INVENT.Mat Transp importés - 10'!H929","v":0},null,0,0,0,0,0,0,null,null,0,0,0,0]
[924,{"$f":"'INVENT.Mat Transp importés - 10'!B930","v":0},{"$f":"'INVENT.Mat Transp importés - 10'!F930","v":0},{"$f":"'INVENT.Mat Transp importés - 10'!C930","v":0},{"$f":"'INVENT.Mat Transp importés - 10'!H930","v":0},null,0,0,0,0,0,0,null,null,0,0,0,0]
[925,{"$f":"'INVENT.Mat Transp importés - 10'!B931","v":0},{"$f":"'INVENT.Mat Transp importés - 10'!F931","v":0},{"$f":"'INVENT.Mat Transp importés - 10'!C931","v":0},{"$f":"'INVENT.Mat Transp importés - 10'!H931","v":0},null,0,0,0,0,0,0,null,null,0,0,0,0]
[926,{"$f":"'INVENT.Mat Transp importés - 10'!B932","v":0},{"$f":"'INVENT.Mat Transp importés - 10'!F932","v":0},{"$f":"'INVENT.Mat Transp importés - 10'!C932","v":0},{"$f":"'INVENT.Mat Transp importés - 10'!H932","v":0},null,0,0,0,0,0,0,null,null,0,0,0,0]
[927,{"$f":"'INVENT.Mat Transp importés - 10'!B933","v":0},{"$f":"'INVENT.Mat Transp importés - 10'!F933","v":0},{"$f":"'INVENT.Mat Transp importés - 10'!C933","v":0},{"$f":"'INVENT.Mat Transp importés - 10'!H933","v":0},null,0,0,0,0,0,0,null,null,0,0,0,0]
[928,{"$f":"'INVENT.Mat Transp importés - 10'!B934","v":0},{"$f":"'INVENT.Mat Transp importés - 10'!F934","v":0},{"$f":"'INVENT.Mat Transp importés - 10'!C934","v":0},{"$f":"'INVENT.Mat Transp importés - 10'!H934","v":0},null,0,0,0,0,0,0,null,null,0,0,0,0]
[929,{"$f":"'INVENT.Mat Transp importés - 10'!B935","v":0},{"$f":"'INVENT.Mat Transp importés - 10'!F935","v":0},{"$f":"'INVENT.Mat Transp importés - 10'!C935","v":0},{"$f":"'INVENT.Mat Transp importés - 10'!H935","v":0},null,0,0,0,0,0,0,null,null,0,0,0,0]
[930,{"$f":"'INVENT.Mat Transp importés - 10'!B936","v":0},{"$f":"'INVENT.Mat Transp importés - 10'!F936","v":0},{"$f":"'INVENT.Mat Transp importés - 10'!C936","v":0},{"$f":"'INVENT.Mat Transp importés - 10'!H936","v":0},null,0,0,0,0,0,0,null,null,0,0,0,0]
[931,{"$f":"'INVENT.Mat Transp importés - 10'!B937","v":0},{"$f":"'INVENT.Mat Transp importés - 10'!F937","v":0},{"$f":"'INVENT.Mat Transp importés - 10'!C937","v":0},{"$f":"'INVENT.Mat Transp importés - 10'!H937","v":0},null,0,0,0,0,0,0,null,null,0,0,0,0]
[932,{"$f":"'INVENT.Mat Transp importés - 10'!B938","v":0},{"$f":"'INVENT.Mat Transp importés - 10'!F938","v":0},{"$f":"'INVENT.Mat Transp importés - 10'!C938","v":0},{"$f":"'INVENT.Mat Transp importés - 10'!H938","v":0},null,0,0,0,0,0,0,null,null,0,0,0,0]
[933,{"$f":"'INVENT.Mat Transp importés - 10'!B939","v":0},{"$f":"'INVENT.Mat Transp importés - 10'!F939","v":0},{"$f":"'INVENT.Mat Transp importés - 10'!C939","v":0},{"$f":"'INVENT.Mat Transp importés - 10'!H939","v":0},null,0,0,0,0,0,0,null,null,0,0,0,0]
[934,{"$f":"'INVENT.Mat Transp importés - 10'!B940","v":0},{"$f":"'INVENT.Mat Transp importés - 10'!F940","v":0},{"$f":"'INVENT.Mat Transp importés - 10'!C940","v":0},{"$f":"'INVENT.Mat Transp importés - 10'!H940","v":0},null,0,0,0,0,0,0,null,null,0,0,0,0]
[935,{"$f":"'INVENT.Mat Transp importés - 10'!B941","v":0},{"$f":"'INVENT.Mat Transp importés - 10'!F941","v":0},{"$f":"'INVENT.Mat Transp importés - 10'!C941","v":0},{"$f":"'INVENT.Mat Transp importés - 10'!H941","v":0},null,0,0,0,0,0,0,null,null,0,0,0,0]
[{"$f":"+A942+1","v":936},{"$f":"'INVENT.Mat Transp importés - 10'!B942","v":0},{"$f":"'INVENT.Mat Transp importés - 10'!F942","v":0},{"$f":"'INVENT.Mat Transp importés - 10'!C942","v":0},{"$f":"'INVENT.Mat Transp importés - 10'!H942","v":0},null,0,0,0,0,0,0,null,null,0,0,0,0]
[937,{"$f":"'INVENT.Mat Transp importés - 10'!B943","v":0},{"$f":"'INVENT.Mat Transp importés - 10'!F943","v":0},{"$f":"'INVENT.Mat Transp importés - 10'!C943","v":0},{"$f":"'INVENT.Mat Transp importés - 10'!H943","v":0},null,0,0,0,0,0,0,null,null,0,0,0,0]
[938,{"$f":"'INVENT.Mat Transp importés - 10'!B944","v":0},{"$f":"'INVENT.Mat Transp importés - 10'!F944","v":0},{"$f":"'INVENT.Mat Transp importés - 10'!C944","v":0},{"$f":"'INVENT.Mat Transp importés - 10'!H944","v":0},null,0,0,0,0,0,0,null,null,0,0,0,0]
[939,{"$f":"'INVENT.Mat Transp importés - 10'!B945","v":0},{"$f":"'INVENT.Mat Transp importés - 10'!F945","v":0},{"$f":"'INVENT.Mat Transp importés - 10'!C945","v":0},{"$f":"'INVENT.Mat Transp importés - 10'!H945","v":0},null,0,0,0,0,0,0,null,null,0,0,0,0]
[940,{"$f":"'INVENT.Mat Transp importés - 10'!B946","v":0},{"$f":"'INVENT.Mat Transp importés - 10'!F946","v":0},{"$f":"'INVENT.Mat Transp importés - 10'!C946","v":0},{"$f":"'INVENT.Mat Transp importés - 10'!H946","v":0},null,0,0,0,0,0,0,null,null,0,0,0,0]
[941,{"$f":"'INVENT.Mat Transp importés - 10'!B947","v":0},{"$f":"'INVENT.Mat Transp importés - 10'!F947","v":0},{"$f":"'INVENT.Mat Transp importés - 10'!C947","v":0},{"$f":"'INVENT.Mat Transp importés - 10'!H947","v":0},null,0,0,0,0,0,0,null,null,0,0,0,0]
[942,{"$f":"'INVENT.Mat Transp importés - 10'!B948","v":0},{"$f":"'INVENT.Mat Transp importés - 10'!F948","v":0},{"$f":"'INVENT.Mat Transp importés - 10'!C948","v":0},{"$f":"'INVENT.Mat Transp importés - 10'!H948","v":0},null,0,0,0,0,0,0,null,null,0,0,0,0]
[943,{"$f":"'INVENT.Mat Transp importés - 10'!B949","v":0},{"$f":"'INVENT.Mat Transp importés - 10'!F949","v":0},{"$f":"'INVENT.Mat Transp importés - 10'!C949","v":0},{"$f":"'INVENT.Mat Transp importés - 10'!H949","v":0},null,0,0,0,0,0,0,null,null,0,0,0,0]
[944,{"$f":"'INVENT.Mat Transp importés - 10'!B950","v":0},{"$f":"'INVENT.Mat Transp importés - 10'!F950","v":0},{"$f":"'INVENT.Mat Transp importés - 10'!C950","v":0},{"$f":"'INVENT.Mat Transp importés - 10'!H950","v":0},null,0,0,0,0,0,0,null,null,0,0,0,0]
[945,{"$f":"'INVENT.Mat Transp importés - 10'!B951","v":0},{"$f":"'INVENT.Mat Transp importés - 10'!F951","v":0},{"$f":"'INVENT.Mat Transp importés - 10'!C951","v":0},{"$f":"'INVENT.Mat Transp importés - 10'!H951","v":0},null,0,0,0,0,0,0,null,null,0,0,0,0]
[946,{"$f":"'INVENT.Mat Transp importés - 10'!B952","v":0},{"$f":"'INVENT.Mat Transp importés - 10'!F952","v":0},{"$f":"'INVENT.Mat Transp importés - 10'!C952","v":0},{"$f":"'INVENT.Mat Transp importés - 10'!H952","v":0},null,0,0,0,0,0,0,null,null,0,0,0,0]
[947,{"$f":"'INVENT.Mat Transp importés - 10'!B953","v":0},{"$f":"'INVENT.Mat Transp importés - 10'!F953","v":0},{"$f":"'INVENT.Mat Transp importés - 10'!C953","v":0},{"$f":"'INVENT.Mat Transp importés - 10'!H953","v":0},null,{"$f":"F954*E954","v":0},{"$f":"E954*1%","v":0},{"$f":"E954*1%","v":0},{"$f":"E954*0.5%","v":0},{"$f":"(E954+G954+H954)*18%","v":0},{"$f":"SUM(G954:K954)+E954","v":0},null,null,{"$f":"(M954+N954)*18%","v":0},{"$f":"O954+N954+M954","v":0},{"$f":"+R954-O954-K954","v":0},{"$f":"P954+L954","v":0}]
[948,{"$f":"'INVENT.Mat Transp importés - 10'!B954","v":0},{"$f":"'INVENT.Mat Transp importés - 10'!F954","v":0},{"$f":"'INVENT.Mat Transp importés - 10'!C954","v":0},{"$f":"'INVENT.Mat Transp importés - 10'!H954","v":0},null,0,0,0,0,0,0,null,null,0,0,0,0]
[949,{"$f":"'INVENT.Mat Transp importés - 10'!B955","v":0},{"$f":"'INVENT.Mat Transp importés - 10'!F955","v":0},{"$f":"'INVENT.Mat Transp importés - 10'!C955","v":0},{"$f":"'INVENT.Mat Transp importés - 10'!H955","v":0},null,0,0,0,0,0,0,null,null,0,0,0,0]
[950,{"$f":"'INVENT.Mat Transp importés - 10'!B956","v":0},{"$f":"'INVENT.Mat Transp importés - 10'!F956","v":0},{"$f":"'INVENT.Mat Transp importés - 10'!C956","v":0},{"$f":"'INVENT.Mat Transp importés - 10'!H956","v":0},null,0,0,0,0,0,0,null,null,0,0,0,0]
[951,{"$f":"'INVENT.Mat Transp importés - 10'!B957","v":0},{"$f":"'INVENT.Mat Transp importés - 10'!F957","v":0},{"$f":"'INVENT.Mat Transp importés - 10'!C957","v":0},{"$f":"'INVENT.Mat Transp importés - 10'!H957","v":0},null,0,0,0,0,0,0,null,null,0,0,0,0]
[952,{"$f":"'INVENT.Mat Transp importés - 10'!B958","v":0},{"$f":"'INVENT.Mat Transp importés - 10'!F958","v":0},{"$f":"'INVENT.Mat Transp importés - 10'!C958","v":0},{"$f":"'INVENT.Mat Transp importés - 10'!H958","v":0},null,0,0,0,0,0,0,null,null,0,0,0,0]
[953,{"$f":"'INVENT.Mat Transp importés - 10'!B959","v":0},{"$f":"'INVENT.Mat Transp importés - 10'!F959","v":0},{"$f":"'INVENT.Mat Transp importés - 10'!C959","v":0},{"$f":"'INVENT.Mat Transp importés - 10'!H959","v":0},null,0,0,0,0,0,0,null,null,0,0,0,0]
[954,{"$f":"'INVENT.Mat Transp importés - 10'!B960","v":0},{"$f":"'INVENT.Mat Transp importés - 10'!F960","v":0},{"$f":"'INVENT.Mat Transp importés - 10'!C960","v":0},{"$f":"'INVENT.Mat Transp importés - 10'!H960","v":0},null,0,0,0,0,0,0,null,null,0,0,0,0]
[955,{"$f":"'INVENT.Mat Transp importés - 10'!B961","v":0},{"$f":"'INVENT.Mat Transp importés - 10'!F961","v":0},{"$f":"'INVENT.Mat Transp importés - 10'!C961","v":0},{"$f":"'INVENT.Mat Transp importés - 10'!H961","v":0},null,0,0,0,0,0,0,null,null,0,0,0,0]
[956,{"$f":"'INVENT.Mat Transp importés - 10'!B962","v":0},{"$f":"'INVENT.Mat Transp importés - 10'!F962","v":0},{"$f":"'INVENT.Mat Transp importés - 10'!C962","v":0},{"$f":"'INVENT.Mat Transp importés - 10'!H962","v":0},null,0,0,0,0,0,0,null,null,0,0,0,0]
[957,{"$f":"'INVENT.Mat Transp importés - 10'!B963","v":0},{"$f":"'INVENT.Mat Transp importés - 10'!F963","v":0},{"$f":"'INVENT.Mat Transp importés - 10'!C963","v":0},{"$f":"'INVENT.Mat Transp importés - 10'!H963","v":0},null,0,0,0,0,0,0,null,null,0,0,0,0]
[958,{"$f":"'INVENT.Mat Transp importés - 10'!B964","v":0},{"$f":"'INVENT.Mat Transp importés - 10'!F964","v":0},{"$f":"'INVENT.Mat Transp importés - 10'!C964","v":0},{"$f":"'INVENT.Mat Transp importés - 10'!H964","v":0},null,0,0,0,0,0,0,null,null,0,0,0,0]
[959,{"$f":"'INVENT.Mat Transp importés - 10'!B965","v":0},{"$f":"'INVENT.Mat Transp importés - 10'!F965","v":0},{"$f":"'INVENT.Mat Transp importés - 10'!C965","v":0},{"$f":"'INVENT.Mat Transp importés - 10'!H965","v":0},null,0,0,0,0,0,0,null,null,0,0,0,0]
[960,{"$f":"'INVENT.Mat Transp importés - 10'!B966","v":0},{"$f":"'INVENT.Mat Transp importés - 10'!F966","v":0},{"$f":"'INVENT.Mat Transp importés - 10'!C966","v":0},{"$f":"'INVENT.Mat Transp importés - 10'!H966","v":0},null,0,0,0,0,0,0,null,null,0,0,0,0]
[961,{"$f":"'INVENT.Mat Transp importés - 10'!B967","v":0},{"$f":"'INVENT.Mat Transp importés - 10'!F967","v":0},{"$f":"'INVENT.Mat Transp importés - 10'!C967","v":0},{"$f":"'INVENT.Mat Transp importés - 10'!H967","v":0},null,0,0,0,0,0,0,null,null,0,0,0,0]
[962,{"$f":"'INVENT.Mat Transp importés - 10'!B968","v":0},{"$f":"'INVENT.Mat Transp importés - 10'!F968","v":0},{"$f":"'INVENT.Mat Transp importés - 10'!C968","v":0},{"$f":"'INVENT.Mat Transp importés - 10'!H968","v":0},null,0,0,0,0,0,0,null,null,0,0,0,0]
[963,{"$f":"'INVENT.Mat Transp importés - 10'!B969","v":0},{"$f":"'INVENT.Mat Transp importés - 10'!F969","v":0},{"$f":"'INVENT.Mat Transp importés - 10'!C969","v":0},{"$f":"'INVENT.Mat Transp importés - 10'!H969","v":0},null,0,0,0,0,0,0,null,null,0,0,0,0]
[964,{"$f":"'INVENT.Mat Transp importés - 10'!B970","v":0},{"$f":"'INVENT.Mat Transp importés - 10'!F970","v":0},{"$f":"'INVENT.Mat Transp importés - 10'!C970","v":0},{"$f":"'INVENT.Mat Transp importés - 10'!H970","v":0},null,0,0,0,0,0,0,null,null,0,0,0,0]
[965,{"$f":"'INVENT.Mat Transp importés - 10'!B971","v":0},{"$f":"'INVENT.Mat Transp importés - 10'!F971","v":0},{"$f":"'INVENT.Mat Transp importés - 10'!C971","v":0},{"$f":"'INVENT.Mat Transp importés - 10'!H971","v":0},null,0,0,0,0,0,0,null,null,0,0,0,0]
[966,{"$f":"'INVENT.Mat Transp importés - 10'!B972","v":0},{"$f":"'INVENT.Mat Transp importés - 10'!F972","v":0},{"$f":"'INVENT.Mat Transp importés - 10'!C972","v":0},{"$f":"'INVENT.Mat Transp importés - 10'!H972","v":0},null,0,0,0,0,0,0,null,null,0,0,0,0]
[967,{"$f":"'INVENT.Mat Transp importés - 10'!B973","v":0},{"$f":"'INVENT.Mat Transp importés - 10'!F973","v":0},{"$f":"'INVENT.Mat Transp importés - 10'!C973","v":0},{"$f":"'INVENT.Mat Transp importés - 10'!H973","v":0},null,0,0,0,0,0,0,null,null,0,0,0,0]
[968,{"$f":"'INVENT.Mat Transp importés - 10'!B974","v":0},{"$f":"'INVENT.Mat Transp importés - 10'!F974","v":0},{"$f":"'INVENT.Mat Transp importés - 10'!C974","v":0},{"$f":"'INVENT.Mat Transp importés - 10'!H974","v":0},null,0,0,0,0,0,0,null,null,0,0,0,0]
[969,{"$f":"'INVENT.Mat Transp importés - 10'!B975","v":0},{"$f":"'INVENT.Mat Transp importés - 10'!F975","v":0},{"$f":"'INVENT.Mat Transp importés - 10'!C975","v":0},{"$f":"'INVENT.Mat Transp importés - 10'!H975","v":0},null,0,0,0,0,0,0,null,null,0,0,0,0]
[970,{"$f":"'INVENT.Mat Transp importés - 10'!B976","v":0},{"$f":"'INVENT.Mat Transp importés - 10'!F976","v":0},{"$f":"'INVENT.Mat Transp importés - 10'!C976","v":0},{"$f":"'INVENT.Mat Transp importés - 10'!H976","v":0},null,0,0,0,0,0,0,null,null,0,0,0,0]
[971,{"$f":"'INVENT.Mat Transp importés - 10'!B977","v":0},{"$f":"'INVENT.Mat Transp importés - 10'!F977","v":0},{"$f":"'INVENT.Mat Transp importés - 10'!C977","v":0},{"$f":"'INVENT.Mat Transp importés - 10'!H977","v":0},null,0,0,0,0,0,0,null,null,0,0,0,0]
[972,{"$f":"'INVENT.Mat Transp importés - 10'!B978","v":0},{"$f":"'INVENT.Mat Transp importés - 10'!F978","v":0},{"$f":"'INVENT.Mat Transp importés - 10'!C978","v":0},{"$f":"'INVENT.Mat Transp importés - 10'!H978","v":0},null,0,0,0,0,0,0,null,null,0,0,0,0]
[973,{"$f":"'INVENT.Mat Transp importés - 10'!B979","v":0},{"$f":"'INVENT.Mat Transp importés - 10'!F979","v":0},{"$f":"'INVENT.Mat Transp importés - 10'!C979","v":0},{"$f":"'INVENT.Mat Transp importés - 10'!H979","v":0},null,0,0,0,0,0,0,null,null,0,0,0,0]
[974,{"$f":"'INVENT.Mat Transp importés - 10'!B980","v":0},{"$f":"'INVENT.Mat Transp importés - 10'!F980","v":0},{"$f":"'INVENT.Mat Transp importés - 10'!C980","v":0},{"$f":"'INVENT.Mat Transp importés - 10'!H980","v":0},null,0,0,0,0,0,0,null,null,0,0,0,0]
[975,{"$f":"'INVENT.Mat Transp importés - 10'!B981","v":0},{"$f":"'INVENT.Mat Transp importés - 10'!F981","v":0},{"$f":"'INVENT.Mat Transp importés - 10'!C981","v":0},{"$f":"'INVENT.Mat Transp importés - 10'!H981","v":0},null,0,0,0,0,0,0,null,null,0,0,0,0]
[976,{"$f":"'INVENT.Mat Transp importés - 10'!B982","v":0},{"$f":"'INVENT.Mat Transp importés - 10'!F982","v":0},{"$f":"'INVENT.Mat Transp importés - 10'!C982","v":0},{"$f":"'INVENT.Mat Transp importés - 10'!H982","v":0},null,0,0,0,0,0,0,null,null,0,0,0,0]
[977,{"$f":"'INVENT.Mat Transp importés - 10'!B983","v":0},{"$f":"'INVENT.Mat Transp importés - 10'!F983","v":0},{"$f":"'INVENT.Mat Transp importés - 10'!C983","v":0},{"$f":"'INVENT.Mat Transp importés - 10'!H983","v":0},null,0,0,0,0,0,0,null,null,0,0,0,0]
[978,{"$f":"'INVENT.Mat Transp importés - 10'!B984","v":0},{"$f":"'INVENT.Mat Transp importés - 10'!F984","v":0},{"$f":"'INVENT.Mat Transp importés - 10'!C984","v":0},{"$f":"'INVENT.Mat Transp importés - 10'!H984","v":0},null,0,0,0,0,0,0,null,null,0,0,0,0]
[979,{"$f":"'INVENT.Mat Transp importés - 10'!B985","v":0},{"$f":"'INVENT.Mat Transp importés - 10'!F985","v":0},{"$f":"'INVENT.Mat Transp importés - 10'!C985","v":0},{"$f":"'INVENT.Mat Transp importés - 10'!H985","v":0},null,0,0,0,0,0,0,null,null,0,0,0,0]
[980,{"$f":"'INVENT.Mat Transp importés - 10'!B986","v":0},{"$f":"'INVENT.Mat Transp importés - 10'!F986","v":0},{"$f":"'INVENT.Mat Transp importés - 10'!C986","v":0},{"$f":"'INVENT.Mat Transp importés - 10'!H986","v":0},null,0,0,0,0,0,0,null,null,0,0,0,0]
[981,{"$f":"'INVENT.Mat Transp importés - 10'!B987","v":0},{"$f":"'INVENT.Mat Transp importés - 10'!F987","v":0},{"$f":"'INVENT.Mat Transp importés - 10'!C987","v":0},{"$f":"'INVENT.Mat Transp importés - 10'!H987","v":0},null,0,0,0,0,0,0,null,null,0,0,0,0]
[982,{"$f":"'INVENT.Mat Transp importés - 10'!B988","v":0},{"$f":"'INVENT.Mat Transp importés - 10'!F988","v":0},{"$f":"'INVENT.Mat Transp importés - 10'!C988","v":0},{"$f":"'INVENT.Mat Transp importés - 10'!H988","v":0},null,0,0,0,0,0,0,null,null,0,0,0,0]
[983,{"$f":"'INVENT.Mat Transp importés - 10'!B989","v":0},{"$f":"'INVENT.Mat Transp importés - 10'!F989","v":0},{"$f":"'INVENT.Mat Transp importés - 10'!C989","v":0},{"$f":"'INVENT.Mat Transp importés - 10'!H989","v":0},null,0,0,0,0,0,0,null,null,0,0,0,0]
[984,{"$f":"'INVENT.Mat Transp importés - 10'!B990","v":0},{"$f":"'INVENT.Mat Transp importés - 10'!F990","v":0},{"$f":"'INVENT.Mat Transp importés - 10'!C990","v":0},{"$f":"'INVENT.Mat Transp importés - 10'!H990","v":0},null,0,0,0,0,0,0,null,null,0,0,0,0]
[985,{"$f":"'INVENT.Mat Transp importés - 10'!B991","v":0},{"$f":"'INVENT.Mat Transp importés - 10'!F991","v":0},{"$f":"'INVENT.Mat Transp importés - 10'!C991","v":0},{"$f":"'INVENT.Mat Transp importés - 10'!H991","v":0},null,0,0,0,0,0,0,null,null,0,0,0,0]
[986,{"$f":"'INVENT.Mat Transp importés - 10'!B992","v":0},{"$f":"'INVENT.Mat Transp importés - 10'!F992","v":0},{"$f":"'INVENT.Mat Transp importés - 10'!C992","v":0},{"$f":"'INVENT.Mat Transp importés - 10'!H992","v":0},null,0,0,0,0,0,0,null,null,0,0,0,0]
[987,{"$f":"'INVENT.Mat Transp importés - 10'!B993","v":0},{"$f":"'INVENT.Mat Transp importés - 10'!F993","v":0},{"$f":"'INVENT.Mat Transp importés - 10'!C993","v":0},{"$f":"'INVENT.Mat Transp importés - 10'!H993","v":0},null,0,0,0,0,0,0,null,null,0,0,0,0]
[988,{"$f":"'INVENT.Mat Transp importés - 10'!B994","v":0},{"$f":"'INVENT.Mat Transp importés - 10'!F994","v":0},{"$f":"'INVENT.Mat Transp importés - 10'!C994","v":0},{"$f":"'INVENT.Mat Transp importés - 10'!H994","v":0},null,0,0,0,0,0,0,null,null,0,0,0,0]
[989,{"$f":"'INVENT.Mat Transp importés - 10'!B995","v":0},{"$f":"'INVENT.Mat Transp importés - 10'!F995","v":0},{"$f":"'INVENT.Mat Transp importés - 10'!C995","v":0},{"$f":"'INVENT.Mat Transp importés - 10'!H995","v":0},null,0,0,0,0,0,0,null,null,0,0,0,0]
[990,{"$f":"'INVENT.Mat Transp importés - 10'!B996","v":0},{"$f":"'INVENT.Mat Transp importés - 10'!F996","v":0},{"$f":"'INVENT.Mat Transp importés - 10'!C996","v":0},{"$f":"'INVENT.Mat Transp importés - 10'!H996","v":0},null,0,0,0,0,0,0,null,null,0,0,0,0]
[991,{"$f":"'INVENT.Mat Transp importés - 10'!B997","v":0},{"$f":"'INVENT.Mat Transp importés - 10'!F997","v":0},{"$f":"'INVENT.Mat Transp importés - 10'!C997","v":0},{"$f":"'INVENT.Mat Transp importés - 10'!H997","v":0},null,0,0,0,0,0,0,null,null,0,0,0,0]
[992,{"$f":"'INVENT.Mat Transp importés - 10'!B998","v":0},{"$f":"'INVENT.Mat Transp importés - 10'!F998","v":0},{"$f":"'INVENT.Mat Transp importés - 10'!C998","v":0},{"$f":"'INVENT.Mat Transp importés - 10'!H998","v":0},null,0,0,0,0,0,0,null,null,0,0,0,0]
[993,{"$f":"'INVENT.Mat Transp importés - 10'!B999","v":0},{"$f":"'INVENT.Mat Transp importés - 10'!F999","v":0},{"$f":"'INVENT.Mat Transp importés - 10'!C999","v":0},{"$f":"'INVENT.Mat Transp importés - 10'!H999","v":0},null,0,0,0,0,0,0,null,null,0,0,0,0]
[994,{"$f":"'INVENT.Mat Transp importés - 10'!B1000","v":0},{"$f":"'INVENT.Mat Transp importés - 10'!F1000","v":0},{"$f":"'INVENT.Mat Transp importés - 10'!C1000","v":0},{"$f":"'INVENT.Mat Transp importés - 10'!H1000","v":0},null,0,0,0,0,0,0,null,null,0,0,0,0]
[995,{"$f":"'INVENT.Mat Transp importés - 10'!B1001","v":0},{"$f":"'INVENT.Mat Transp importés - 10'!F1001","v":0},{"$f":"'INVENT.Mat Transp importés - 10'!C1001","v":0},{"$f":"'INVENT.Mat Transp importés - 10'!H1001","v":0},null,0,0,0,0,0,0,null,null,0,0,0,0]
[996,{"$f":"'INVENT.Mat Transp importés - 10'!B1002","v":0},{"$f":"'INVENT.Mat Transp importés - 10'!F1002","v":0},{"$f":"'INVENT.Mat Transp importés - 10'!C1002","v":0},{"$f":"'INVENT.Mat Transp importés - 10'!H1002","v":0},null,0,0,0,0,0,0,null,null,0,0,0,0]
[997,{"$f":"'INVENT.Mat Transp importés - 10'!B1003","v":0},{"$f":"'INVENT.Mat Transp importés - 10'!F1003","v":0},{"$f":"'INVENT.Mat Transp importés - 10'!C1003","v":0},{"$f":"'INVENT.Mat Transp importés - 10'!H1003","v":0},null,0,0,0,0,0,0,null,null,0,0,0,0]
[998,{"$f":"'INVENT.Mat Transp importés - 10'!B1004","v":0},{"$f":"'INVENT.Mat Transp importés - 10'!F1004","v":0},{"$f":"'INVENT.Mat Transp importés - 10'!C1004","v":0},{"$f":"'INVENT.Mat Transp importés - 10'!H1004","v":0},null,0,0,0,0,0,0,null,null,0,0,0,0]
[999,{"$f":"'INVENT.Mat Transp importés - 10'!B1005","v":0},{"$f":"'INVENT.Mat Transp importés - 10'!F1005","v":0},{"$f":"'INVENT.Mat Transp importés - 10'!C1005","v":0},{"$f":"'INVENT.Mat Transp importés - 10'!H1005","v":0},null,0,0,0,0,0,0,null,null,0,0,0,0]
[{"$f":"+A1006+1","v":1000},{"$f":"'INVENT.Mat Transp importés - 10'!B1006","v":0},{"$f":"'INVENT.Mat Transp importés - 10'!F1006","v":0},{"$f":"'INVENT.Mat Transp importés - 10'!C1006","v":0},{"$f":"'INVENT.Mat Transp importés - 10'!H1006","v":0},null,{"$f":"F1007*E1007","v":0},0,0,0,{"$f":"(E1007+G1007+H1007)*18%","v":0},{"$f":"SUM(G1007:K1007)+E1007","v":0},null,null,{"$f":"(M1007+N1007)*18%","v":0},{"$f":"O1007+N1007+M1007","v":0},{"$f":"+R1007-O1007-K1007","v":0},{"$f":"P1007+L1007","v":0}]

{"sheet":"INVEST Mat & Mob Bureau - 10","index":35,"n_rows":1007,"n_cols":18,"rows_kept":1007,"cut":false,"hidden":false,"merged":[[3,16,4,16],[2,2,4,2],[2,0,4,0],[3,17,4,17],[2,1,4,1],[2,16,2,17],[3,3,4,3],[3,4,4,4],[3,5,3,6],[3,7,4,7],[3,9,4,9],[3,10,4,10],[3,11,4,11],[3,12,4,12],[3,13,4,13],[3,14,4,14],[3,15,4,15],[3,8,4,8]]}
[null,null,null,{"$f":"'REFERENCES - 10'!D7","v":0},null,{"$f":"'REFERENCES - 10'!D9","v":0}]
[null,"INVESTISSEMENTS PREVUS SUR LA PERIODE DE REALISATION DU PROJET",null,null,null,null,null,null,null,null,null,null,null,null,null,null,null,"(En F. Cfa)"]
["N°","Désignation","Quantité","ACHAT A L'ETRANGER (en F. Cfa)",null,null,null,null,null,null,null,null,"ACHAT EN COTE D'IVOIRE (en F. Cfa)",null,null,null,"Coût total des Investissements "]
[null,null,null,"Position tarifaire","Cout CAF","Droit de douane / Droit fiscaux",null,"RSTAT (1%)","PCS\n(1%)","PCC\n (0,5%)","TVA sur Droit de Douane","Total Achat à l'étranger","Achats HT"," Coûts locaux (Transport, montage,..)","T.V.A","Total Achat en RCI","Coût total HT","Coût total TTC"]
[null,null,null,null,null,"Taux","Montant"]
[]
[null,"MAT. & MOBIL. DE BUREAU",null,null,{"$f":"SUM(E8:E107)","v":0},null,{"$f":"SUM(G8:G107)","v":0},0,0,0,0,0,0,0,0,0,0,0]
[1,{"$f":"'INVENT.Mob&Mat Bur Importé - 10'!B7","v":0},{"$f":"'INVENT.Mob&Mat Bur Importé - 10'!F7","v":0},{"$f":"'INVENT.Mob&Mat Bur Importé - 10'!C7","v":0},{"$f":"'INVENT.Mob&Mat Bur Importé - 10'!H7","v":0},null,{"$f":"F8*E8","v":0},{"$f":"E8*1%","v":0},{"$f":"E8*1%","v":0},{"$f":"E8*0.5%","v":0},{"$f":"(E8+G8+H8)*18%","v":0},{"$f":"SUM(G8:K8)+E8","v":0},null,null,{"$f":"(M8+N8)*18%","v":0},{"$f":"O8+N8+M8","v":0},{"$f":"+R8-O8-K8","v":0},{"$f":"P8+L8","v":0}]
[{"$f":"+A8+1","v":2},{"$f":"'INVENT.Mob&Mat Bur Importé - 10'!B8","v":0},{"$f":"'INVENT.Mob&Mat Bur Importé - 10'!F8","v":0},{"$f":"'INVENT.Mob&Mat Bur Importé - 10'!C8","v":0},{"$f":"'INVENT.Mob&Mat Bur Importé - 10'!H8","v":0},null,0,{"$f":"E9*1%","v":0},{"$f":"E9*1%","v":0},{"$f":"E9*0.5%","v":0},0,0,null,null,0,0,0,0]
[{"$f":"+A9+1","v":3},{"$f":"'INVENT.Mob&Mat Bur Importé - 10'!B9","v":0},{"$f":"'INVENT.Mob&Mat Bur Importé - 10'!F9","v":0},{"$f":"'INVENT.Mob&Mat Bur Importé - 10'!C9","v":0},{"$f":"'INVENT.Mob&Mat Bur Importé - 10'!H9","v":0},null,0,0,0,0,0,0,null,null,0,0,0,0]
[4,{"$f":"'INVENT.Mob&Mat Bur Importé - 10'!B10","v":0},{"$f":"'INVENT.Mob&Mat Bur Importé - 10'!F10","v":0},{"$f":"'INVENT.Mob&Mat Bur Importé - 10'!C10","v":0},{"$f":"'INVENT.Mob&Mat Bur Importé - 10'!H10","v":0},null,0,0,0,0,0,0,null,null,0,0,0,0]
[5,{"$f":"'INVENT.Mob&Mat Bur Importé - 10'!B11","v":0},{"$f":"'INVENT.Mob&Mat Bur Importé - 10'!F11","v":0},{"$f":"'INVENT.Mob&Mat Bur Importé - 10'!C11","v":0},{"$f":"'INVENT.Mob&Mat Bur Importé - 10'!H11","v":0},null,0,0,0,0,0,0,null,null,0,0,0,0]
[6,{"$f":"'INVENT.Mob&Mat Bur Importé - 10'!B12","v":0},{"$f":"'INVENT.Mob&Mat Bur Importé - 10'!F12","v":0},{"$f":"'INVENT.Mob&Mat Bur Importé - 10'!C12","v":0},{"$f":"'INVENT.Mob&Mat Bur Importé - 10'!H12","v":0},null,0,0,0,0,0,0,null,null,0,0,0,0]
[7,{"$f":"'INVENT.Mob&Mat Bur Importé - 10'!B13","v":0},{"$f":"'INVENT.Mob&Mat Bur Importé - 10'!F13","v":0},{"$f":"'INVENT.Mob&Mat Bur Importé - 10'!C13","v":0},{"$f":"'INVENT.Mob&Mat Bur Importé - 10'!H13","v":0},null,0,0,0,0,0,0,null,null,0,0,0,0]
[8,{"$f":"'INVENT.Mob&Mat Bur Importé - 10'!B14","v":0},{"$f":"'INVENT.Mob&Mat Bur Importé - 10'!F14","v":0},{"$f":"'INVENT.Mob&Mat Bur Importé - 10'!C14","v":0},{"$f":"'INVENT.Mob&Mat Bur Importé - 10'!H14","v":0},null,0,0,0,0,0,0,null,null,0,0,0,0]
[9,{"$f":"'INVENT.Mob&Mat Bur Importé - 10'!B15","v":0},{"$f":"'INVENT.Mob&Mat Bur Importé - 10'!F15","v":0},{"$f":"'INVENT.Mob&Mat Bur Importé - 10'!C15","v":0},{"$f":"'INVENT.Mob&Mat Bur Importé - 10'!H15","v":0},null,0,0,0,0,0,0,null,null,0,0,0,0]
[10,{"$f":"'INVENT.Mob&Mat Bur Importé - 10'!B16","v":0},{"$f":"'INVENT.Mob&Mat Bur Importé - 10'!F16","v":0},{"$f":"'INVENT.Mob&Mat Bur Importé - 10'!C16","v":0},{"$f":"'INVENT.Mob&Mat Bur Importé - 10'!H16","v":0},null,0,0,0,0,0,0,null,null,0,0,0,0]
[11,{"$f":"'INVENT.Mob&Mat Bur Importé - 10'!B17","v":0},{"$f":"'INVENT.Mob&Mat Bur Importé - 10'!F17","v":0},{"$f":"'INVENT.Mob&Mat Bur Importé - 10'!C17","v":0},{"$f":"'INVENT.Mob&Mat Bur Importé - 10'!H17","v":0},null,0,0,0,0,0,0,null,null,0,0,0,0]
[12,{"$f":"'INVENT.Mob&Mat Bur Importé - 10'!B18","v":0},{"$f":"'INVENT.Mob&Mat Bur Importé - 10'!F18","v":0},{"$f":"'INVENT.Mob&Mat Bur Importé - 10'!C18","v":0},{"$f":"'INVENT.Mob&Mat Bur Importé - 10'!H18","v":0},null,0,0,0,0,0,0,null,null,0,0,0,0]
[13,{"$f":"'INVENT.Mob&Mat Bur Importé - 10'!B19","v":0},{"$f":"'INVENT.Mob&Mat Bur Importé - 10'!F19","v":0},{"$f":"'INVENT.Mob&Mat Bur Importé - 10'!C19","v":0},{"$f":"'INVENT.Mob&Mat Bur Importé - 10'!H19","v":0},null,0,0,0,0,0,0,null,null,0,0,0,0]
[14,{"$f":"'INVENT.Mob&Mat Bur Importé - 10'!B20","v":0},{"$f":"'INVENT.Mob&Mat Bur Importé - 10'!F20","v":0},{"$f":"'INVENT.Mob&Mat Bur Importé - 10'!C20","v":0},{"$f":"'INVENT.Mob&Mat Bur Importé - 10'!H20","v":0},null,0,0,0,0,0,0,null,null,0,0,0,0]
[15,{"$f":"'INVENT.Mob&Mat Bur Importé - 10'!B21","v":0},{"$f":"'INVENT.Mob&Mat Bur Importé - 10'!F21","v":0},{"$f":"'INVENT.Mob&Mat Bur Importé - 10'!C21","v":0},{"$f":"'INVENT.Mob&Mat Bur Importé - 10'!H21","v":0},null,0,0,0,0,0,0,null,null,0,0,0,0]
[16,{"$f":"'INVENT.Mob&Mat Bur Importé - 10'!B22","v":0},{"$f":"'INVENT.Mob&Mat Bur Importé - 10'!F22","v":0},{"$f":"'INVENT.Mob&Mat Bur Importé - 10'!C22","v":0},{"$f":"'INVENT.Mob&Mat Bur Importé - 10'!H22","v":0},null,0,0,0,0,0,0,null,null,0,0,0,0]
[17,{"$f":"'INVENT.Mob&Mat Bur Importé - 10'!B23","v":0},{"$f":"'INVENT.Mob&Mat Bur Importé - 10'!F23","v":0},{"$f":"'INVENT.Mob&Mat Bur Importé - 10'!C23","v":0},{"$f":"'INVENT.Mob&Mat Bur Importé - 10'!H23","v":0},null,0,0,0,0,0,0,null,null,0,0,0,0]
[18,{"$f":"'INVENT.Mob&Mat Bur Importé - 10'!B24","v":0},{"$f":"'INVENT.Mob&Mat Bur Importé - 10'!F24","v":0},{"$f":"'INVENT.Mob&Mat Bur Importé - 10'!C24","v":0},{"$f":"'INVENT.Mob&Mat Bur Importé - 10'!H24","v":0},null,0,0,0,0,0,0,null,null,0,0,0,0]
[19,{"$f":"'INVENT.Mob&Mat Bur Importé - 10'!B25","v":0},{"$f":"'INVENT.Mob&Mat Bur Importé - 10'!F25","v":0},{"$f":"'INVENT.Mob&Mat Bur Importé - 10'!C25","v":0},{"$f":"'INVENT.Mob&Mat Bur Importé - 10'!H25","v":0},null,0,0,0,0,0,0,null,null,0,0,0,0]
[20,{"$f":"'INVENT.Mob&Mat Bur Importé - 10'!B26","v":0},{"$f":"'INVENT.Mob&Mat Bur Importé - 10'!F26","v":0},{"$f":"'INVENT.Mob&Mat Bur Importé - 10'!C26","v":0},{"$f":"'INVENT.Mob&Mat Bur Importé - 10'!H26","v":0},null,0,0,0,0,0,0,null,null,0,0,0,0]
[21,{"$f":"'INVENT.Mob&Mat Bur Importé - 10'!B27","v":0},{"$f":"'INVENT.Mob&Mat Bur Importé - 10'!F27","v":0},{"$f":"'INVENT.Mob&Mat Bur Importé - 10'!C27","v":0},{"$f":"'INVENT.Mob&Mat Bur Importé - 10'!H27","v":0},null,0,0,0,0,0,0,null,null,0,0,0,0]
[22,{"$f":"'INVENT.Mob&Mat Bur Importé - 10'!B28","v":0},{"$f":"'INVENT.Mob&Mat Bur Importé - 10'!F28","v":0},{"$f":"'INVENT.Mob&Mat Bur Importé - 10'!C28","v":0},{"$f":"'INVENT.Mob&Mat Bur Importé - 10'!H28","v":0},null,0,0,0,0,0,0,null,null,0,0,0,0]
[23,{"$f":"'INVENT.Mob&Mat Bur Importé - 10'!B29","v":0},{"$f":"'INVENT.Mob&Mat Bur Importé - 10'!F29","v":0},{"$f":"'INVENT.Mob&Mat Bur Importé - 10'!C29","v":0},{"$f":"'INVENT.Mob&Mat Bur Importé - 10'!H29","v":0},null,0,0,0,0,0,0,null,null,0,0,0,0]
[24,{"$f":"'INVENT.Mob&Mat Bur Importé - 10'!B30","v":0},{"$f":"'INVENT.Mob&Mat Bur Importé - 10'!F30","v":0},{"$f":"'INVENT.Mob&Mat Bur Importé - 10'!C30","v":0},{"$f":"'INVENT.Mob&Mat Bur Importé - 10'!H30","v":0},null,0,0,0,0,0,0,null,null,0,0,0,0]
[25,{"$f":"'INVENT.Mob&Mat Bur Importé - 10'!B31","v":0},{"$f":"'INVENT.Mob&Mat Bur Importé - 10'!F31","v":0},{"$f":"'INVENT.Mob&Mat Bur Importé - 10'!C31","v":0},{"$f":"'INVENT.Mob&Mat Bur Importé - 10'!H31","v":0},null,0,0,0,0,0,0,null,null,0,0,0,0]
[26,{"$f":"'INVENT.Mob&Mat Bur Importé - 10'!B32","v":0},{"$f":"'INVENT.Mob&Mat Bur Importé - 10'!F32","v":0},{"$f":"'INVENT.Mob&Mat Bur Importé - 10'!C32","v":0},{"$f":"'INVENT.Mob&Mat Bur Importé - 10'!H32","v":0},null,0,0,0,0,0,0,null,null,0,0,0,0]
[27,{"$f":"'INVENT.Mob&Mat Bur Importé - 10'!B33","v":0},{"$f":"'INVENT.Mob&Mat Bur Importé - 10'!F33","v":0},{"$f":"'INVENT.Mob&Mat Bur Importé - 10'!C33","v":0},{"$f":"'INVENT.Mob&Mat Bur Importé - 10'!H33","v":0},null,0,0,0,0,0,0,null,null,0,0,0,0]
[28,{"$f":"'INVENT.Mob&Mat Bur Importé - 10'!B34","v":0},{"$f":"'INVENT.Mob&Mat Bur Importé - 10'!F34","v":0},{"$f":"'INVENT.Mob&Mat Bur Importé - 10'!C34","v":0},{"$f":"'INVENT.Mob&Mat Bur Importé - 10'!H34","v":0},null,0,0,0,0,0,0,null,null,0,0,0,0]
[29,{"$f":"'INVENT.Mob&Mat Bur Importé - 10'!B35","v":0},{"$f":"'INVENT.Mob&Mat Bur Importé - 10'!F35","v":0},{"$f":"'INVENT.Mob&Mat Bur Importé - 10'!C35","v":0},{"$f":"'INVENT.Mob&Mat Bur Importé - 10'!H35","v":0},null,0,0,0,0,0,0,null,null,0,0,0,0]
[30,{"$f":"'INVENT.Mob&Mat Bur Importé - 10'!B36","v":0},{"$f":"'INVENT.Mob&Mat Bur Importé - 10'!F36","v":0},{"$f":"'INVENT.Mob&Mat Bur Importé - 10'!C36","v":0},{"$f":"'INVENT.Mob&Mat Bur Importé - 10'!H36","v":0},null,{"$f":"F37*E37","v":0},0,0,0,{"$f":"(E37+G37+H37)*18%","v":0},{"$f":"SUM(G37:K37)+E37","v":0},null,null,{"$f":"(M37+N37)*18%","v":0},{"$f":"O37+N37+M37","v":0},{"$f":"+R37-O37-K37","v":0},{"$f":"P37+L37","v":0}]
[31,{"$f":"'INVENT.Mob&Mat Bur Importé - 10'!B37","v":0},{"$f":"'INVENT.Mob&Mat Bur Importé - 10'!F37","v":0},{"$f":"'INVENT.Mob&Mat Bur Importé - 10'!C37","v":0},{"$f":"'INVENT.Mob&Mat Bur Importé - 10'!H37","v":0},null,0,0,0,0,0,0,null,null,0,0,0,0]
[32,{"$f":"'INVENT.Mob&Mat Bur Importé - 10'!B38","v":0},{"$f":"'INVENT.Mob&Mat Bur Importé - 10'!F38","v":0},{"$f":"'INVENT.Mob&Mat Bur Importé - 10'!C38","v":0},{"$f":"'INVENT.Mob&Mat Bur Importé - 10'!H38","v":0},null,0,0,0,0,0,0,null,null,0,0,0,0]
[33,{"$f":"'INVENT.Mob&Mat Bur Importé - 10'!B39","v":0},{"$f":"'INVENT.Mob&Mat Bur Importé - 10'!F39","v":0},{"$f":"'INVENT.Mob&Mat Bur Importé - 10'!C39","v":0},{"$f":"'INVENT.Mob&Mat Bur Importé - 10'!H39","v":0},null,0,0,0,0,0,0,null,null,0,0,0,0]
[34,{"$f":"'INVENT.Mob&Mat Bur Importé - 10'!B40","v":0},{"$f":"'INVENT.Mob&Mat Bur Importé - 10'!F40","v":0},{"$f":"'INVENT.Mob&Mat Bur Importé - 10'!C40","v":0},{"$f":"'INVENT.Mob&Mat Bur Importé - 10'!H40","v":0},null,0,0,0,0,0,0,null,null,0,0,0,0]
[35,{"$f":"'INVENT.Mob&Mat Bur Importé - 10'!B41","v":0},{"$f":"'INVENT.Mob&Mat Bur Importé - 10'!F41","v":0},{"$f":"'INVENT.Mob&Mat Bur Importé - 10'!C41","v":0},{"$f":"'INVENT.Mob&Mat Bur Importé - 10'!H41","v":0},null,0,0,0,0,0,0,null,null,0,0,0,0]
[36,{"$f":"'INVENT.Mob&Mat Bur Importé - 10'!B42","v":0},{"$f":"'INVENT.Mob&Mat Bur Importé - 10'!F42","v":0},{"$f":"'INVENT.Mob&Mat Bur Importé - 10'!C42","v":0},{"$f":"'INVENT.Mob&Mat Bur Importé - 10'!H42","v":0},null,0,0,0,0,0,0,null,null,0,0,0,0]
[37,{"$f":"'INVENT.Mob&Mat Bur Importé - 10'!B43","v":0},{"$f":"'INVENT.Mob&Mat Bur Importé - 10'!F43","v":0},{"$f":"'INVENT.Mob&Mat Bur Importé - 10'!C43","v":0},{"$f":"'INVENT.Mob&Mat Bur Importé - 10'!H43","v":0},null,0,0,0,0,0,0,null,null,0,0,0,0]
[38,{"$f":"'INVENT.Mob&Mat Bur Importé - 10'!B44","v":0},{"$f":"'INVENT.Mob&Mat Bur Importé - 10'!F44","v":0},{"$f":"'INVENT.Mob&Mat Bur Importé - 10'!C44","v":0},{"$f":"'INVENT.Mob&Mat Bur Importé - 10'!H44","v":0},null,0,0,0,0,0,0,null,null,0,0,0,0]
[39,{"$f":"'INVENT.Mob&Mat Bur Importé - 10'!B45","v":0},{"$f":"'INVENT.Mob&Mat Bur Importé - 10'!F45","v":0},{"$f":"'INVENT.Mob&Mat Bur Importé - 10'!C45","v":0},{"$f":"'INVENT.Mob&Mat Bur Importé - 10'!H45","v":0},null,0,0,0,0,0,0,null,null,0,0,0,0]
[40,{"$f":"'INVENT.Mob&Mat Bur Importé - 10'!B46","v":0},{"$f":"'INVENT.Mob&Mat Bur Importé - 10'!F46","v":0},{"$f":"'INVENT.Mob&Mat Bur Importé - 10'!C46","v":0},{"$f":"'INVENT.Mob&Mat Bur Importé - 10'!H46","v":0},null,0,0,0,0,0,0,null,null,0,0,0,0]
[41,{"$f":"'INVENT.Mob&Mat Bur Importé - 10'!B47","v":0},{"$f":"'INVENT.Mob&Mat Bur Importé - 10'!F47","v":0},{"$f":"'INVENT.Mob&Mat Bur Importé - 10'!C47","v":0},{"$f":"'INVENT.Mob&Mat Bur Importé - 10'!H47","v":0},null,0,0,0,0,0,0,null,null,0,0,0,0]
[42,{"$f":"'INVENT.Mob&Mat Bur Importé - 10'!B48","v":0},{"$f":"'INVENT.Mob&Mat Bur Importé - 10'!F48","v":0},{"$f":"'INVENT.Mob&Mat Bur Importé - 10'!C48","v":0},{"$f":"'INVENT.Mob&Mat Bur Importé - 10'!H48","v":0},null,0,0,0,0,0,0,null,null,0,0,0,0]
[43,{"$f":"'INVENT.Mob&Mat Bur Importé - 10'!B49","v":0},{"$f":"'INVENT.Mob&Mat Bur Importé - 10'!F49","v":0},{"$f":"'INVENT.Mob&Mat Bur Importé - 10'!C49","v":0},{"$f":"'INVENT.Mob&Mat Bur Importé - 10'!H49","v":0},null,0,0,0,0,0,0,null,null,0,0,0,0]
[44,{"$f":"'INVENT.Mob&Mat Bur Importé - 10'!B50","v":0},{"$f":"'INVENT.Mob&Mat Bur Importé - 10'!F50","v":0},{"$f":"'INVENT.Mob&Mat Bur Importé - 10'!C50","v":0},{"$f":"'INVENT.Mob&Mat Bur Importé - 10'!H50","v":0},null,0,0,0,0,0,0,null,null,0,0,0,0]
[45,{"$f":"'INVENT.Mob&Mat Bur Importé - 10'!B51","v":0},{"$f":"'INVENT.Mob&Mat Bur Importé - 10'!F51","v":0},{"$f":"'INVENT.Mob&Mat Bur Importé - 10'!C51","v":0},{"$f":"'INVENT.Mob&Mat Bur Importé - 10'!H51","v":0},null,0,0,0,0,0,0,null,null,0,0,0,0]
[46,{"$f":"'INVENT.Mob&Mat Bur Importé - 10'!B52","v":0},{"$f":"'INVENT.Mob&Mat Bur Importé - 10'!F52","v":0},{"$f":"'INVENT.Mob&Mat Bur Importé - 10'!C52","v":0},{"$f":"'INVENT.Mob&Mat Bur Importé - 10'!H52","v":0},null,0,0,0,0,0,0,null,null,0,0,0,0]
[47,{"$f":"'INVENT.Mob&Mat Bur Importé - 10'!B53","v":0},{"$f":"'INVENT.Mob&Mat Bur Importé - 10'!F53","v":0},{"$f":"'INVENT.Mob&Mat Bur Importé - 10'!C53","v":0},{"$f":"'INVENT.Mob&Mat Bur Importé - 10'!H53","v":0},null,0,0,0,0,0,0,null,null,0,0,0,0]
[48,{"$f":"'INVENT.Mob&Mat Bur Importé - 10'!B54","v":0},{"$f":"'INVENT.Mob&Mat Bur Importé - 10'!F54","v":0},{"$f":"'INVENT.Mob&Mat Bur Importé - 10'!C54","v":0},{"$f":"'INVENT.Mob&Mat Bur Importé - 10'!H54","v":0},null,0,0,0,0,0,0,null,null,0,0,0,0]
[49,{"$f":"'INVENT.Mob&Mat Bur Importé - 10'!B55","v":0},{"$f":"'INVENT.Mob&Mat Bur Importé - 10'!F55","v":0},{"$f":"'INVENT.Mob&Mat Bur Importé - 10'!C55","v":0},{"$f":"'INVENT.Mob&Mat Bur Importé - 10'!H55","v":0},null,0,0,0,0,0,0,null,null,0,0,0,0]
[50,{"$f":"'INVENT.Mob&Mat Bur Importé - 10'!B56","v":0},{"$f":"'INVENT.Mob&Mat Bur Importé - 10'!F56","v":0},{"$f":"'INVENT.Mob&Mat Bur Importé - 10'!C56","v":0},{"$f":"'INVENT.Mob&Mat Bur Importé - 10'!H56","v":0},null,0,0,0,0,0,0,null,null,0,0,0,0]
[51,{"$f":"'INVENT.Mob&Mat Bur Importé - 10'!B57","v":0},{"$f":"'INVENT.Mob&Mat Bur Importé - 10'!F57","v":0},{"$f":"'INVENT.Mob&Mat Bur Importé - 10'!C57","v":0},{"$f":"'INVENT.Mob&Mat Bur Importé - 10'!H57","v":0},null,0,0,0,0,0,0,null,null,0,0,0,0]
[52,{"$f":"'INVENT.Mob&Mat Bur Importé - 10'!B58","v":0},{"$f":"'INVENT.Mob&Mat Bur Importé - 10'!F58","v":0},{"$f":"'INVENT.Mob&Mat Bur Importé - 10'!C58","v":0},{"$f":"'INVENT.Mob&Mat Bur Importé - 10'!H58","v":0},null,0,0,0,0,0,0,null,null,0,0,0,0]
[53,{"$f":"'INVENT.Mob&Mat Bur Importé - 10'!B59","v":0},{"$f":"'INVENT.Mob&Mat Bur Importé - 10'!F59","v":0},{"$f":"'INVENT.Mob&Mat Bur Importé - 10'!C59","v":0},{"$f":"'INVENT.Mob&Mat Bur Importé - 10'!H59","v":0},null,0,0,0,0,0,0,null,null,0,0,0,0]
[54,{"$f":"'INVENT.Mob&Mat Bur Importé - 10'!B60","v":0},{"$f":"'INVENT.Mob&Mat Bur Importé - 10'!F60","v":0},{"$f":"'INVENT.Mob&Mat Bur Importé - 10'!C60","v":0},{"$f":"'INVENT.Mob&Mat Bur Importé - 10'!H60","v":0},null,0,0,0,0,0,0,null,null,0,0,0,0]
[55,{"$f":"'INVENT.Mob&Mat Bur Importé - 10'!B61","v":0},{"$f":"'INVENT.Mob&Mat Bur Importé - 10'!F61","v":0},{"$f":"'INVENT.Mob&Mat Bur Importé - 10'!C61","v":0},{"$f":"'INVENT.Mob&Mat Bur Importé - 10'!H61","v":0},null,0,0,0,0,0,0,null,null,0,0,0,0]
[56,{"$f":"'INVENT.Mob&Mat Bur Importé - 10'!B62","v":0},{"$f":"'INVENT.Mob&Mat Bur Importé - 10'!F62","v":0},{"$f":"'INVENT.Mob&Mat Bur Importé - 10'!C62","v":0},{"$f":"'INVENT.Mob&Mat Bur Importé - 10'!H62","v":0},null,0,0,0,0,0,0,null,null,0,0,0,0]
[57,{"$f":"'INVENT.Mob&Mat Bur Importé - 10'!B63","v":0},{"$f":"'INVENT.Mob&Mat Bur Importé - 10'!F63","v":0},{"$f":"'INVENT.Mob&Mat Bur Importé - 10'!C63","v":0},{"$f":"'INVENT.Mob&Mat Bur Importé - 10'!H63","v":0},null,0,0,0,0,0,0,null,null,0,0,0,0]
[58,{"$f":"'INVENT.Mob&Mat Bur Importé - 10'!B64","v":0},{"$f":"'INVENT.Mob&Mat Bur Importé - 10'!F64","v":0},{"$f":"'INVENT.Mob&Mat Bur Importé - 10'!C64","v":0},{"$f":"'INVENT.Mob&Mat Bur Importé - 10'!H64","v":0},null,0,0,0,0,0,0,null,null,0,0,0,0]
[59,{"$f":"'INVENT.Mob&Mat Bur Importé - 10'!B65","v":0},{"$f":"'INVENT.Mob&Mat Bur Importé - 10'!F65","v":0},{"$f":"'INVENT.Mob&Mat Bur Importé - 10'!C65","v":0},{"$f":"'INVENT.Mob&Mat Bur Importé - 10'!H65","v":0},null,0,0,0,0,0,0,null,null,0,0,0,0]
[60,{"$f":"'INVENT.Mob&Mat Bur Importé - 10'!B66","v":0},{"$f":"'INVENT.Mob&Mat Bur Importé - 10'!F66","v":0},{"$f":"'INVENT.Mob&Mat Bur Importé - 10'!C66","v":0},{"$f":"'INVENT.Mob&Mat Bur Importé - 10'!H66","v":0},null,0,0,0,0,0,0,null,null,0,0,0,0]
[61,{"$f":"'INVENT.Mob&Mat Bur Importé - 10'!B67","v":0},{"$f":"'INVENT.Mob&Mat Bur Importé - 10'!F67","v":0},{"$f":"'INVENT.Mob&Mat Bur Importé - 10'!C67","v":0},{"$f":"'INVENT.Mob&Mat Bur Importé - 10'!H67","v":0},null,0,0,0,0,0,0,null,null,0,0,0,0]
[62,{"$f":"'INVENT.Mob&Mat Bur Importé - 10'!B68","v":0},{"$f":"'INVENT.Mob&Mat Bur Importé - 10'!F68","v":0},{"$f":"'INVENT.Mob&Mat Bur Importé - 10'!C68","v":0},{"$f":"'INVENT.Mob&Mat Bur Importé - 10'!H68","v":0},null,0,0,0,0,0,0,null,null,0,0,0,0]
[63,{"$f":"'INVENT.Mob&Mat Bur Importé - 10'!B69","v":0},{"$f":"'INVENT.Mob&Mat Bur Importé - 10'!F69","v":0},{"$f":"'INVENT.Mob&Mat Bur Importé - 10'!C69","v":0},{"$f":"'INVENT.Mob&Mat Bur Importé - 10'!H69","v":0},null,0,0,0,0,0,0,null,null,0,0,0,0]
[64,{"$f":"'INVENT.Mob&Mat Bur Importé - 10'!B70","v":0},{"$f":"'INVENT.Mob&Mat Bur Importé - 10'!F70","v":0},{"$f":"'INVENT.Mob&Mat Bur Importé - 10'!C70","v":0},{"$f":"'INVENT.Mob&Mat Bur Importé - 10'!H70","v":0},null,0,0,0,0,0,0,null,null,0,0,0,0]
[65,{"$f":"'INVENT.Mob&Mat Bur Importé - 10'!B71","v":0},{"$f":"'INVENT.Mob&Mat Bur Importé - 10'!F71","v":0},{"$f":"'INVENT.Mob&Mat Bur Importé - 10'!C71","v":0},{"$f":"'INVENT.Mob&Mat Bur Importé - 10'!H71","v":0},null,0,0,0,0,0,0,null,null,0,0,0,0]
[66,{"$f":"'INVENT.Mob&Mat Bur Importé - 10'!B72","v":0},{"$f":"'INVENT.Mob&Mat Bur Importé - 10'!F72","v":0},{"$f":"'INVENT.Mob&Mat Bur Importé - 10'!C72","v":0},{"$f":"'INVENT.Mob&Mat Bur Importé - 10'!H72","v":0},null,0,{"$f":"E73*1%","v":0},{"$f":"E73*1%","v":0},{"$f":"E73*0.5%","v":0},0,0,null,null,0,0,0,0]
[{"$f":"+A73+1","v":67},{"$f":"'INVENT.Mob&Mat Bur Importé - 10'!B73","v":0},{"$f":"'INVENT.Mob&Mat Bur Importé - 10'!F73","v":0},{"$f":"'INVENT.Mob&Mat Bur Importé - 10'!C73","v":0},{"$f":"'INVENT.Mob&Mat Bur Importé - 10'!H73","v":0},null,0,0,0,0,0,0,null,null,0,0,0,0]
[68,{"$f":"'INVENT.Mob&Mat Bur Importé - 10'!B74","v":0},{"$f":"'INVENT.Mob&Mat Bur Importé - 10'!F74","v":0},{"$f":"'INVENT.Mob&Mat Bur Importé - 10'!C74","v":0},{"$f":"'INVENT.Mob&Mat Bur Importé - 10'!H74","v":0},null,0,0,0,0,0,0,null,null,0,0,0,0]
[69,{"$f":"'INVENT.Mob&Mat Bur Importé - 10'!B75","v":0},{"$f":"'INVENT.Mob&Mat Bur Importé - 10'!F75","v":0},{"$f":"'INVENT.Mob&Mat Bur Importé - 10'!C75","v":0},{"$f":"'INVENT.Mob&Mat Bur Importé - 10'!H75","v":0},null,0,0,0,0,0,0,null,null,0,0,0,0]
[70,{"$f":"'INVENT.Mob&Mat Bur Importé - 10'!B76","v":0},{"$f":"'INVENT.Mob&Mat Bur Importé - 10'!F76","v":0},{"$f":"'INVENT.Mob&Mat Bur Importé - 10'!C76","v":0},{"$f":"'INVENT.Mob&Mat Bur Importé - 10'!H76","v":0},null,0,0,0,0,0,0,null,null,0,0,0,0]
[71,{"$f":"'INVENT.Mob&Mat Bur Importé - 10'!B77","v":0},{"$f":"'INVENT.Mob&Mat Bur Importé - 10'!F77","v":0},{"$f":"'INVENT.Mob&Mat Bur Importé - 10'!C77","v":0},{"$f":"'INVENT.Mob&Mat Bur Importé - 10'!H77","v":0},null,0,0,0,0,0,0,null,null,0,0,0,0]
[72,{"$f":"'INVENT.Mob&Mat Bur Importé - 10'!B78","v":0},{"$f":"'INVENT.Mob&Mat Bur Importé - 10'!F78","v":0},{"$f":"'INVENT.Mob&Mat Bur Importé - 10'!C78","v":0},{"$f":"'INVENT.Mob&Mat Bur Importé - 10'!H78","v":0},null,0,0,0,0,0,0,null,null,0,0,0,0]
[73,{"$f":"'INVENT.Mob&Mat Bur Importé - 10'!B79","v":0},{"$f":"'INVENT.Mob&Mat Bur Importé - 10'!F79","v":0},{"$f":"'INVENT.Mob&Mat Bur Importé - 10'!C79","v":0},{"$f":"'INVENT.Mob&Mat Bur Importé - 10'!H79","v":0},null,0,0,0,0,0,0,null,null,0,0,0,0]
[74,{"$f":"'INVENT.Mob&Mat Bur Importé - 10'!B80","v":0},{"$f":"'INVENT.Mob&Mat Bur Importé - 10'!F80","v":0},{"$f":"'INVENT.Mob&Mat Bur Importé - 10'!C80","v":0},{"$f":"'INVENT.Mob&Mat Bur Importé - 10'!H80","v":0},null,0,0,0,0,0,0,null,null,0,0,0,0]
[75,{"$f":"'INVENT.Mob&Mat Bur Importé - 10'!B81","v":0},{"$f":"'INVENT.Mob&Mat Bur Importé - 10'!F81","v":0},{"$f":"'INVENT.Mob&Mat Bur Importé - 10'!C81","v":0},{"$f":"'INVENT.Mob&Mat Bur Importé - 10'!H81","v":0},null,0,0,0,0,0,0,null,null,0,0,0,0]
[76,{"$f":"'INVENT.Mob&Mat Bur Importé - 10'!B82","v":0},{"$f":"'INVENT.Mob&Mat Bur Importé - 10'!F82","v":0},{"$f":"'INVENT.Mob&Mat Bur Importé - 10'!C82","v":0},{"$f":"'INVENT.Mob&Mat Bur Importé - 10'!H82","v":0},null,0,0,0,0,0,0,null,null,0,0,0,0]
[77,{"$f":"'INVENT.Mob&Mat Bur Importé - 10'!B83","v":0},{"$f":"'INVENT.Mob&Mat Bur Importé - 10'!F83","v":0},{"$f":"'INVENT.Mob&Mat Bur Importé - 10'!C83","v":0},{"$f":"'INVENT.Mob&Mat Bur Importé - 10'!H83","v":0},null,0,0,0,0,0,0,null,null,0,0,0,0]
[78,{"$f":"'INVENT.Mob&Mat Bur Importé - 10'!B84","v":0},{"$f":"'INVENT.Mob&Mat Bur Importé - 10'!F84","v":0},{"$f":"'INVENT.Mob&Mat Bur Importé - 10'!C84","v":0},{"$f":"'INVENT.Mob&Mat Bur Importé - 10'!H84","v":0},null,0,0,0,0,0,0,null,null,0,0,0,0]
[79,{"$f":"'INVENT.Mob&Mat Bur Importé - 10'!B85","v":0},{"$f":"'INVENT.Mob&Mat Bur Importé - 10'!F85","v":0},{"$f":"'INVENT.Mob&Mat Bur Importé - 10'!C85","v":0},{"$f":"'INVENT.Mob&Mat Bur Importé - 10'!H85","v":0},null,0,0,0,0,0,0,null,null,0,0,0,0]
[80,{"$f":"'INVENT.Mob&Mat Bur Importé - 10'!B86","v":0},{"$f":"'INVENT.Mob&Mat Bur Importé - 10'!F86","v":0},{"$f":"'INVENT.Mob&Mat Bur Importé - 10'!C86","v":0},{"$f":"'INVENT.Mob&Mat Bur Importé - 10'!H86","v":0},null,0,0,0,0,0,0,null,null,0,0,0,0]
[81,{"$f":"'INVENT.Mob&Mat Bur Importé - 10'!B87","v":0},{"$f":"'INVENT.Mob&Mat Bur Importé - 10'!F87","v":0},{"$f":"'INVENT.Mob&Mat Bur Importé - 10'!C87","v":0},{"$f":"'INVENT.Mob&Mat Bur Importé - 10'!H87","v":0},null,0,0,0,0,0,0,null,null,0,0,0,0]
[82,{"$f":"'INVENT.Mob&Mat Bur Importé - 10'!B88","v":0},{"$f":"'INVENT.Mob&Mat Bur Importé - 10'!F88","v":0},{"$f":"'INVENT.Mob&Mat Bur Importé - 10'!C88","v":0},{"$f":"'INVENT.Mob&Mat Bur Importé - 10'!H88","v":0},null,0,0,0,0,0,0,null,null,0,0,0,0]
[83,{"$f":"'INVENT.Mob&Mat Bur Importé - 10'!B89","v":0},{"$f":"'INVENT.Mob&Mat Bur Importé - 10'!F89","v":0},{"$f":"'INVENT.Mob&Mat Bur Importé - 10'!C89","v":0},{"$f":"'INVENT.Mob&Mat Bur Importé - 10'!H89","v":0},null,0,0,0,0,0,0,null,null,0,0,0,0]
[84,{"$f":"'INVENT.Mob&Mat Bur Importé - 10'!B90","v":0},{"$f":"'INVENT.Mob&Mat Bur Importé - 10'!F90","v":0},{"$f":"'INVENT.Mob&Mat Bur Importé - 10'!C90","v":0},{"$f":"'INVENT.Mob&Mat Bur Importé - 10'!H90","v":0},null,0,0,0,0,0,0,null,null,0,0,0,0]
[85,{"$f":"'INVENT.Mob&Mat Bur Importé - 10'!B91","v":0},{"$f":"'INVENT.Mob&Mat Bur Importé - 10'!F91","v":0},{"$f":"'INVENT.Mob&Mat Bur Importé - 10'!C91","v":0},{"$f":"'INVENT.Mob&Mat Bur Importé - 10'!H91","v":0},null,0,0,0,0,0,0,null,null,0,0,0,0]
[86,{"$f":"'INVENT.Mob&Mat Bur Importé - 10'!B92","v":0},{"$f":"'INVENT.Mob&Mat Bur Importé - 10'!F92","v":0},{"$f":"'INVENT.Mob&Mat Bur Importé - 10'!C92","v":0},{"$f":"'INVENT.Mob&Mat Bur Importé - 10'!H92","v":0},null,0,0,0,0,0,0,null,null,0,0,0,0]
[87,{"$f":"'INVENT.Mob&Mat Bur Importé - 10'!B93","v":0},{"$f":"'INVENT.Mob&Mat Bur Importé - 10'!F93","v":0},{"$f":"'INVENT.Mob&Mat Bur Importé - 10'!C93","v":0},{"$f":"'INVENT.Mob&Mat Bur Importé - 10'!H93","v":0},null,0,0,0,0,0,0,null,null,0,0,0,0]
[88,{"$f":"'INVENT.Mob&Mat Bur Importé - 10'!B94","v":0},{"$f":"'INVENT.Mob&Mat Bur Importé - 10'!F94","v":0},{"$f":"'INVENT.Mob&Mat Bur Importé - 10'!C94","v":0},{"$f":"'INVENT.Mob&Mat Bur Importé - 10'!H94","v":0},null,0,0,0,0,0,0,null,null,0,0,0,0]
[89,{"$f":"'INVENT.Mob&Mat Bur Importé - 10'!B95","v":0},{"$f":"'INVENT.Mob&Mat Bur Importé - 10'!F95","v":0},{"$f":"'INVENT.Mob&Mat Bur Importé - 10'!C95","v":0},{"$f":"'INVENT.Mob&Mat Bur Importé - 10'!H95","v":0},null,0,0,0,0,0,0,null,null,0,0,0,0]
[90,{"$f":"'INVENT.Mob&Mat Bur Importé - 10'!B96","v":0},{"$f":"'INVENT.Mob&Mat Bur Importé - 10'!F96","v":0},{"$f":"'INVENT.Mob&Mat Bur Importé - 10'!C96","v":0},{"$f":"'INVENT.Mob&Mat Bur Importé - 10'!H96","v":0},null,0,0,0,0,0,0,null,null,0,0,0,0]
[91,{"$f":"'INVENT.Mob&Mat Bur Importé - 10'!B97","v":0},{"$f":"'INVENT.Mob&Mat Bur Importé - 10'!F97","v":0},{"$f":"'INVENT.Mob&Mat Bur Importé - 10'!C97","v":0},{"$f":"'INVENT.Mob&Mat Bur Importé - 10'!H97","v":0},null,0,0,0,0,0,0,null,null,0,0,0,0]
[92,{"$f":"'INVENT.Mob&Mat Bur Importé - 10'!B98","v":0},{"$f":"'INVENT.Mob&Mat Bur Importé - 10'!F98","v":0},{"$f":"'INVENT.Mob&Mat Bur Importé - 10'!C98","v":0},{"$f":"'INVENT.Mob&Mat Bur Importé - 10'!H98","v":0},null,0,0,0,0,0,0,null,null,0,0,0,0]
[93,{"$f":"'INVENT.Mob&Mat Bur Importé - 10'!B99","v":0},{"$f":"'INVENT.Mob&Mat Bur Importé - 10'!F99","v":0},{"$f":"'INVENT.Mob&Mat Bur Importé - 10'!C99","v":0},{"$f":"'INVENT.Mob&Mat Bur Importé - 10'!H99","v":0},null,0,0,0,0,0,0,null,null,0,0,0,0]
[94,{"$f":"'INVENT.Mob&Mat Bur Importé - 10'!B100","v":0},{"$f":"'INVENT.Mob&Mat Bur Importé - 10'!F100","v":0},{"$f":"'INVENT.Mob&Mat Bur Importé - 10'!C100","v":0},{"$f":"'INVENT.Mob&Mat Bur Importé - 10'!H100","v":0},null,{"$f":"F101*E101","v":0},0,0,{"$f":"E101*0.5%","v":0},{"$f":"(E101+G101+H101)*18%","v":0},{"$f":"SUM(G101:K101)+E101","v":0},null,null,{"$f":"(M101+N101)*18%","v":0},{"$f":"O101+N101+M101","v":0},{"$f":"+R101-O101-K101","v":0},{"$f":"P101+L101","v":0}]
[95,{"$f":"'INVENT.Mob&Mat Bur Importé - 10'!B101","v":0},{"$f":"'INVENT.Mob&Mat Bur Importé - 10'!F101","v":0},{"$f":"'INVENT.Mob&Mat Bur Importé - 10'!C101","v":0},{"$f":"'INVENT.Mob&Mat Bur Importé - 10'!H101","v":0},null,0,0,0,0,0,0,null,null,0,0,0,0]
[96,{"$f":"'INVENT.Mob&Mat Bur Importé - 10'!B102","v":0},{"$f":"'INVENT.Mob&Mat Bur Importé - 10'!F102","v":0},{"$f":"'INVENT.Mob&Mat Bur Importé - 10'!C102","v":0},{"$f":"'INVENT.Mob&Mat Bur Importé - 10'!H102","v":0},null,0,0,0,0,0,0,null,null,0,0,0,0]
[97,{"$f":"'INVENT.Mob&Mat Bur Importé - 10'!B103","v":0},{"$f":"'INVENT.Mob&Mat Bur Importé - 10'!F103","v":0},{"$f":"'INVENT.Mob&Mat Bur Importé - 10'!C103","v":0},{"$f":"'INVENT.Mob&Mat Bur Importé - 10'!H103","v":0},null,0,0,0,0,0,0,null,null,0,0,0,0]
[98,{"$f":"'INVENT.Mob&Mat Bur Importé - 10'!B104","v":0},{"$f":"'INVENT.Mob&Mat Bur Importé - 10'!F104","v":0},{"$f":"'INVENT.Mob&Mat Bur Importé - 10'!C104","v":0},{"$f":"'INVENT.Mob&Mat Bur Importé - 10'!H104","v":0},null,0,0,0,0,0,0,null,null,0,0,0,0]
[99,{"$f":"'INVENT.Mob&Mat Bur Importé - 10'!B105","v":0},{"$f":"'INVENT.Mob&Mat Bur Importé - 10'!F105","v":0},{"$f":"'INVENT.Mob&Mat Bur Importé - 10'!C105","v":0},{"$f":"'INVENT.Mob&Mat Bur Importé - 10'!H105","v":0},null,0,0,0,0,0,0,null,null,0,0,0,0]
[100,{"$f":"'INVENT.Mob&Mat Bur Importé - 10'!B106","v":0},{"$f":"'INVENT.Mob&Mat Bur Importé - 10'!F106","v":0},{"$f":"'INVENT.Mob&Mat Bur Importé - 10'!C106","v":0},{"$f":"'INVENT.Mob&Mat Bur Importé - 10'!H106","v":0},null,{"$f":"F107*E107","v":0},0,0,0,{"$f":"(E107+G107+H107)*18%","v":0},{"$f":"SUM(G107:K107)+E107","v":0},null,null,{"$f":"(M107+N107)*18%","v":0},{"$f":"O107+N107+M107","v":0},{"$f":"+R107-O107-K107","v":0},{"$f":"P107+L107","v":0}]
[101,{"$f":"'INVENT.Mob&Mat Bur Importé - 10'!B107","v":0},{"$f":"'INVENT.Mob&Mat Bur Importé - 10'!F107","v":0},{"$f":"'INVENT.Mob&Mat Bur Importé - 10'!C107","v":0},{"$f":"'INVENT.Mob&Mat Bur Importé - 10'!H107","v":0},null,{"$f":"F108*E108","v":0},{"$f":"E108*1%","v":0},{"$f":"E108*1%","v":0},{"$f":"E108*0.5%","v":0},{"$f":"(E108+G108+H108)*18%","v":0},{"$f":"SUM(G108:K108)+E108","v":0},null,null,{"$f":"(M108+N108)*18%","v":0},{"$f":"O108+N108+M108","v":0},{"$f":"+R108-O108-K108","v":0},{"$f":"P108+L108","v":0}]
[102,{"$f":"'INVENT.Mob&Mat Bur Importé - 10'!B108","v":0},{"$f":"'INVENT.Mob&Mat Bur Importé - 10'!F108","v":0},{"$f":"'INVENT.Mob&Mat Bur Importé - 10'!C108","v":0},{"$f":"'INVENT.Mob&Mat Bur Importé - 10'!H108","v":0},null,0,0,0,0,0,0,null,null,0,0,0,0]
[103,{"$f":"'INVENT.Mob&Mat Bur Importé - 10'!B109","v":0},{"$f":"'INVENT.Mob&Mat Bur Importé - 10'!F109","v":0},{"$f":"'INVENT.Mob&Mat Bur Importé - 10'!C109","v":0},{"$f":"'INVENT.Mob&Mat Bur Importé - 10'!H109","v":0},null,0,0,0,0,0,0,null,null,0,0,0,0]
[104,{"$f":"'INVENT.Mob&Mat Bur Importé - 10'!B110","v":0},{"$f":"'INVENT.Mob&Mat Bur Importé - 10'!F110","v":0},{"$f":"'INVENT.Mob&Mat Bur Importé - 10'!C110","v":0},{"$f":"'INVENT.Mob&Mat Bur Importé - 10'!H110","v":0},null,0,0,0,0,0,0,null,null,0,0,0,0]
[105,{"$f":"'INVENT.Mob&Mat Bur Importé - 10'!B111","v":0},{"$f":"'INVENT.Mob&Mat Bur Importé - 10'!F111","v":0},{"$f":"'INVENT.Mob&Mat Bur Importé - 10'!C111","v":0},{"$f":"'INVENT.Mob&Mat Bur Importé - 10'!H111","v":0},null,0,0,0,0,0,0,null,null,0,0,0,0]
[106,{"$f":"'INVENT.Mob&Mat Bur Importé - 10'!B112","v":0},{"$f":"'INVENT.Mob&Mat Bur Importé - 10'!F112","v":0},{"$f":"'INVENT.Mob&Mat Bur Importé - 10'!C112","v":0},{"$f":"'INVENT.Mob&Mat Bur Importé - 10'!H112","v":0},null,0,0,0,0,0,0,null,null,0,0,0,0]
[107,{"$f":"'INVENT.Mob&Mat Bur Importé - 10'!B113","v":0},{"$f":"'INVENT.Mob&Mat Bur Importé - 10'!F113","v":0},{"$f":"'INVENT.Mob&Mat Bur Importé - 10'!C113","v":0},{"$f":"'INVENT.Mob&Mat Bur Importé - 10'!H113","v":0},null,0,0,0,0,0,0,null,null,0,0,0,0]
[108,{"$f":"'INVENT.Mob&Mat Bur Importé - 10'!B114","v":0},{"$f":"'INVENT.Mob&Mat Bur Importé - 10'!F114","v":0},{"$f":"'INVENT.Mob&Mat Bur Importé - 10'!C114","v":0},{"$f":"'INVENT.Mob&Mat Bur Importé - 10'!H114","v":0},null,0,0,0,0,0,0,null,null,0,0,0,0]
[109,{"$f":"'INVENT.Mob&Mat Bur Importé - 10'!B115","v":0},{"$f":"'INVENT.Mob&Mat Bur Importé - 10'!F115","v":0},{"$f":"'INVENT.Mob&Mat Bur Importé - 10'!C115","v":0},{"$f":"'INVENT.Mob&Mat Bur Importé - 10'!H115","v":0},null,0,0,0,0,0,0,null,null,0,0,0,0]
[110,{"$f":"'INVENT.Mob&Mat Bur Importé - 10'!B116","v":0},{"$f":"'INVENT.Mob&Mat Bur Importé - 10'!F116","v":0},{"$f":"'INVENT.Mob&Mat Bur Importé - 10'!C116","v":0},{"$f":"'INVENT.Mob&Mat Bur Importé - 10'!H116","v":0},null,0,0,0,0,0,0,null,null,0,0,0,0]
[111,{"$f":"'INVENT.Mob&Mat Bur Importé - 10'!B117","v":0},{"$f":"'INVENT.Mob&Mat Bur Importé - 10'!F117","v":0},{"$f":"'INVENT.Mob&Mat Bur Importé - 10'!C117","v":0},{"$f":"'INVENT.Mob&Mat Bur Importé - 10'!H117","v":0},null,0,0,0,0,0,0,null,null,0,0,0,0]
[112,{"$f":"'INVENT.Mob&Mat Bur Importé - 10'!B118","v":0},{"$f":"'INVENT.Mob&Mat Bur Importé - 10'!F118","v":0},{"$f":"'INVENT.Mob&Mat Bur Importé - 10'!C118","v":0},{"$f":"'INVENT.Mob&Mat Bur Importé - 10'!H118","v":0},null,0,0,0,0,0,0,null,null,0,0,0,0]
[113,{"$f":"'INVENT.Mob&Mat Bur Importé - 10'!B119","v":0},{"$f":"'INVENT.Mob&Mat Bur Importé - 10'!F119","v":0},{"$f":"'INVENT.Mob&Mat Bur Importé - 10'!C119","v":0},{"$f":"'INVENT.Mob&Mat Bur Importé - 10'!H119","v":0},null,0,0,0,0,0,0,null,null,0,0,0,0]
[114,{"$f":"'INVENT.Mob&Mat Bur Importé - 10'!B120","v":0},{"$f":"'INVENT.Mob&Mat Bur Importé - 10'!F120","v":0},{"$f":"'INVENT.Mob&Mat Bur Importé - 10'!C120","v":0},{"$f":"'INVENT.Mob&Mat Bur Importé - 10'!H120","v":0},null,0,0,0,0,0,0,null,null,0,0,0,0]
[115,{"$f":"'INVENT.Mob&Mat Bur Importé - 10'!B121","v":0},{"$f":"'INVENT.Mob&Mat Bur Importé - 10'!F121","v":0},{"$f":"'INVENT.Mob&Mat Bur Importé - 10'!C121","v":0},{"$f":"'INVENT.Mob&Mat Bur Importé - 10'!H121","v":0},null,0,0,0,0,0,0,null,null,0,0,0,0]
[116,{"$f":"'INVENT.Mob&Mat Bur Importé - 10'!B122","v":0},{"$f":"'INVENT.Mob&Mat Bur Importé - 10'!F122","v":0},{"$f":"'INVENT.Mob&Mat Bur Importé - 10'!C122","v":0},{"$f":"'INVENT.Mob&Mat Bur Importé - 10'!H122","v":0},null,0,0,0,0,0,0,null,null,0,0,0,0]
[117,{"$f":"'INVENT.Mob&Mat Bur Importé - 10'!B123","v":0},{"$f":"'INVENT.Mob&Mat Bur Importé - 10'!F123","v":0},{"$f":"'INVENT.Mob&Mat Bur Importé - 10'!C123","v":0},{"$f":"'INVENT.Mob&Mat Bur Importé - 10'!H123","v":0},null,0,0,0,0,0,0,null,null,0,0,0,0]
[118,{"$f":"'INVENT.Mob&Mat Bur Importé - 10'!B124","v":0},{"$f":"'INVENT.Mob&Mat Bur Importé - 10'!F124","v":0},{"$f":"'INVENT.Mob&Mat Bur Importé - 10'!C124","v":0},{"$f":"'INVENT.Mob&Mat Bur Importé - 10'!H124","v":0},null,0,0,0,0,0,0,null,null,0,0,0,0]
[119,{"$f":"'INVENT.Mob&Mat Bur Importé - 10'!B125","v":0},{"$f":"'INVENT.Mob&Mat Bur Importé - 10'!F125","v":0},{"$f":"'INVENT.Mob&Mat Bur Importé - 10'!C125","v":0},{"$f":"'INVENT.Mob&Mat Bur Importé - 10'!H125","v":0},null,0,0,0,0,0,0,null,null,0,0,0,0]
[120,{"$f":"'INVENT.Mob&Mat Bur Importé - 10'!B126","v":0},{"$f":"'INVENT.Mob&Mat Bur Importé - 10'!F126","v":0},{"$f":"'INVENT.Mob&Mat Bur Importé - 10'!C126","v":0},{"$f":"'INVENT.Mob&Mat Bur Importé - 10'!H126","v":0},null,0,0,0,0,0,0,null,null,0,0,0,0]
[121,{"$f":"'INVENT.Mob&Mat Bur Importé - 10'!B127","v":0},{"$f":"'INVENT.Mob&Mat Bur Importé - 10'!F127","v":0},{"$f":"'INVENT.Mob&Mat Bur Importé - 10'!C127","v":0},{"$f":"'INVENT.Mob&Mat Bur Importé - 10'!H127","v":0},null,0,0,0,0,0,0,null,null,0,0,0,0]
[122,{"$f":"'INVENT.Mob&Mat Bur Importé - 10'!B128","v":0},{"$f":"'INVENT.Mob&Mat Bur Importé - 10'!F128","v":0},{"$f":"'INVENT.Mob&Mat Bur Importé - 10'!C128","v":0},{"$f":"'INVENT.Mob&Mat Bur Importé - 10'!H128","v":0},null,0,0,0,0,0,0,null,null,0,0,0,0]
[123,{"$f":"'INVENT.Mob&Mat Bur Importé - 10'!B129","v":0},{"$f":"'INVENT.Mob&Mat Bur Importé - 10'!F129","v":0},{"$f":"'INVENT.Mob&Mat Bur Importé - 10'!C129","v":0},{"$f":"'INVENT.Mob&Mat Bur Importé - 10'!H129","v":0},null,0,0,0,0,0,0,null,null,0,0,0,0]
[124,{"$f":"'INVENT.Mob&Mat Bur Importé - 10'!B130","v":0},{"$f":"'INVENT.Mob&Mat Bur Importé - 10'!F130","v":0},{"$f":"'INVENT.Mob&Mat Bur Importé - 10'!C130","v":0},{"$f":"'INVENT.Mob&Mat Bur Importé - 10'!H130","v":0},null,0,0,0,0,0,0,null,null,0,0,0,0]
[125,{"$f":"'INVENT.Mob&Mat Bur Importé - 10'!B131","v":0},{"$f":"'INVENT.Mob&Mat Bur Importé - 10'!F131","v":0},{"$f":"'INVENT.Mob&Mat Bur Importé - 10'!C131","v":0},{"$f":"'INVENT.Mob&Mat Bur Importé - 10'!H131","v":0},null,0,0,0,0,0,0,null,null,0,0,0,0]
[126,{"$f":"'INVENT.Mob&Mat Bur Importé - 10'!B132","v":0},{"$f":"'INVENT.Mob&Mat Bur Importé - 10'!F132","v":0},{"$f":"'INVENT.Mob&Mat Bur Importé - 10'!C132","v":0},{"$f":"'INVENT.Mob&Mat Bur Importé - 10'!H132","v":0},null,0,0,0,0,0,0,null,null,0,0,0,0]
[127,{"$f":"'INVENT.Mob&Mat Bur Importé - 10'!B133","v":0},{"$f":"'INVENT.Mob&Mat Bur Importé - 10'!F133","v":0},{"$f":"'INVENT.Mob&Mat Bur Importé - 10'!C133","v":0},{"$f":"'INVENT.Mob&Mat Bur Importé - 10'!H133","v":0},null,0,0,0,0,0,0,null,null,0,0,0,0]
[128,{"$f":"'INVENT.Mob&Mat Bur Importé - 10'!B134","v":0},{"$f":"'INVENT.Mob&Mat Bur Importé - 10'!F134","v":0},{"$f":"'INVENT.Mob&Mat Bur Importé - 10'!C134","v":0},{"$f":"'INVENT.Mob&Mat Bur Importé - 10'!H134","v":0},null,0,0,0,0,0,0,null,null,0,0,0,0]
[129,{"$f":"'INVENT.Mob&Mat Bur Importé - 10'!B135","v":0},{"$f":"'INVENT.Mob&Mat Bur Importé - 10'!F135","v":0},{"$f":"'INVENT.Mob&Mat Bur Importé - 10'!C135","v":0},{"$f":"'INVENT.Mob&Mat Bur Importé - 10'!H135","v":0},null,0,0,0,0,0,0,null,null,0,0,0,0]
[130,{"$f":"'INVENT.Mob&Mat Bur Importé - 10'!B136","v":0},{"$f":"'INVENT.Mob&Mat Bur Importé - 10'!F136","v":0},{"$f":"'INVENT.Mob&Mat Bur Importé - 10'!C136","v":0},{"$f":"'INVENT.Mob&Mat Bur Importé - 10'!H136","v":0},null,0,0,0,0,0,0,null,null,0,0,0,0]
[{"$f":"+A137+1","v":131},{"$f":"'INVENT.Mob&Mat Bur Importé - 10'!B137","v":0},{"$f":"'INVENT.Mob&Mat Bur Importé - 10'!F137","v":0},{"$f":"'INVENT.Mob&Mat Bur Importé - 10'!C137","v":0},{"$f":"'INVENT.Mob&Mat Bur Importé - 10'!H137","v":0},null,0,0,0,0,0,0,null,null,0,0,0,0]
[132,{"$f":"'INVENT.Mob&Mat Bur Importé - 10'!B138","v":0},{"$f":"'INVENT.Mob&Mat Bur Importé - 10'!F138","v":0},{"$f":"'INVENT.Mob&Mat Bur Importé - 10'!C138","v":0},{"$f":"'INVENT.Mob&Mat Bur Importé - 10'!H138","v":0},null,0,0,0,0,0,0,null,null,0,0,0,0]
[133,{"$f":"'INVENT.Mob&Mat Bur Importé - 10'!B139","v":0},{"$f":"'INVENT.Mob&Mat Bur Importé - 10'!F139","v":0},{"$f":"'INVENT.Mob&Mat Bur Importé - 10'!C139","v":0},{"$f":"'INVENT.Mob&Mat Bur Importé - 10'!H139","v":0},null,0,0,0,0,0,0,null,null,0,0,0,0]
[134,{"$f":"'INVENT.Mob&Mat Bur Importé - 10'!B140","v":0},{"$f":"'INVENT.Mob&Mat Bur Importé - 10'!F140","v":0},{"$f":"'INVENT.Mob&Mat Bur Importé - 10'!C140","v":0},{"$f":"'INVENT.Mob&Mat Bur Importé - 10'!H140","v":0},null,0,0,0,0,0,0,null,null,0,0,0,0]
[135,{"$f":"'INVENT.Mob&Mat Bur Importé - 10'!B141","v":0},{"$f":"'INVENT.Mob&Mat Bur Importé - 10'!F141","v":0},{"$f":"'INVENT.Mob&Mat Bur Importé - 10'!C141","v":0},{"$f":"'INVENT.Mob&Mat Bur Importé - 10'!H141","v":0},null,0,0,0,0,0,0,null,null,0,0,0,0]
[136,{"$f":"'INVENT.Mob&Mat Bur Importé - 10'!B142","v":0},{"$f":"'INVENT.Mob&Mat Bur Importé - 10'!F142","v":0},{"$f":"'INVENT.Mob&Mat Bur Importé - 10'!C142","v":0},{"$f":"'INVENT.Mob&Mat Bur Importé - 10'!H142","v":0},null,0,0,0,0,0,0,null,null,0,0,0,0]
[137,{"$f":"'INVENT.Mob&Mat Bur Importé - 10'!B143","v":0},{"$f":"'INVENT.Mob&Mat Bur Importé - 10'!F143","v":0},{"$f":"'INVENT.Mob&Mat Bur Importé - 10'!C143","v":0},{"$f":"'INVENT.Mob&Mat Bur Importé - 10'!H143","v":0},null,0,0,0,0,0,0,null,null,0,0,0,0]
[138,{"$f":"'INVENT.Mob&Mat Bur Importé - 10'!B144","v":0},{"$f":"'INVENT.Mob&Mat Bur Importé - 10'!F144","v":0},{"$f":"'INVENT.Mob&Mat Bur Importé - 10'!C144","v":0},{"$f":"'INVENT.Mob&Mat Bur Importé - 10'!H144","v":0},null,0,0,0,0,0,0,null,null,0,0,0,0]
[139,{"$f":"'INVENT.Mob&Mat Bur Importé - 10'!B145","v":0},{"$f":"'INVENT.Mob&Mat Bur Importé - 10'!F145","v":0},{"$f":"'INVENT.Mob&Mat Bur Importé - 10'!C145","v":0},{"$f":"'INVENT.Mob&Mat Bur Importé - 10'!H145","v":0},null,0,0,0,0,0,0,null,null,0,0,0,0]
[140,{"$f":"'INVENT.Mob&Mat Bur Importé - 10'!B146","v":0},{"$f":"'INVENT.Mob&Mat Bur Importé - 10'!F146","v":0},{"$f":"'INVENT.Mob&Mat Bur Importé - 10'!C146","v":0},{"$f":"'INVENT.Mob&Mat Bur Importé - 10'!H146","v":0},null,0,0,0,0,0,0,null,null,0,0,0,0]
[141,{"$f":"'INVENT.Mob&Mat Bur Importé - 10'!B147","v":0},{"$f":"'INVENT.Mob&Mat Bur Importé - 10'!F147","v":0},{"$f":"'INVENT.Mob&Mat Bur Importé - 10'!C147","v":0},{"$f":"'INVENT.Mob&Mat Bur Importé - 10'!H147","v":0},null,0,0,0,0,0,0,null,null,0,0,0,0]
[142,{"$f":"'INVENT.Mob&Mat Bur Importé - 10'!B148","v":0},{"$f":"'INVENT.Mob&Mat Bur Importé - 10'!F148","v":0},{"$f":"'INVENT.Mob&Mat Bur Importé - 10'!C148","v":0},{"$f":"'INVENT.Mob&Mat Bur Importé - 10'!H148","v":0},null,0,0,0,0,0,0,null,null,0,0,0,0]
[143,{"$f":"'INVENT.Mob&Mat Bur Importé - 10'!B149","v":0},{"$f":"'INVENT.Mob&Mat Bur Importé - 10'!F149","v":0},{"$f":"'INVENT.Mob&Mat Bur Importé - 10'!C149","v":0},{"$f":"'INVENT.Mob&Mat Bur Importé - 10'!H149","v":0},null,0,0,0,0,0,0,null,null,0,0,0,0]
[144,{"$f":"'INVENT.Mob&Mat Bur Importé - 10'!B150","v":0},{"$f":"'INVENT.Mob&Mat Bur Importé - 10'!F150","v":0},{"$f":"'INVENT.Mob&Mat Bur Importé - 10'!C150","v":0},{"$f":"'INVENT.Mob&Mat Bur Importé - 10'!H150","v":0},null,0,0,0,0,0,0,null,null,0,0,0,0]
[145,{"$f":"'INVENT.Mob&Mat Bur Importé - 10'!B151","v":0},{"$f":"'INVENT.Mob&Mat Bur Importé - 10'!F151","v":0},{"$f":"'INVENT.Mob&Mat Bur Importé - 10'!C151","v":0},{"$f":"'INVENT.Mob&Mat Bur Importé - 10'!H151","v":0},null,0,0,0,0,0,0,null,null,0,0,0,0]
[146,{"$f":"'INVENT.Mob&Mat Bur Importé - 10'!B152","v":0},{"$f":"'INVENT.Mob&Mat Bur Importé - 10'!F152","v":0},{"$f":"'INVENT.Mob&Mat Bur Importé - 10'!C152","v":0},{"$f":"'INVENT.Mob&Mat Bur Importé - 10'!H152","v":0},null,0,0,0,0,0,0,null,null,0,0,0,0]
[147,{"$f":"'INVENT.Mob&Mat Bur Importé - 10'!B153","v":0},{"$f":"'INVENT.Mob&Mat Bur Importé - 10'!F153","v":0},{"$f":"'INVENT.Mob&Mat Bur Importé - 10'!C153","v":0},{"$f":"'INVENT.Mob&Mat Bur Importé - 10'!H153","v":0},null,0,0,0,0,0,0,null,null,0,0,0,0]
[148,{"$f":"'INVENT.Mob&Mat Bur Importé - 10'!B154","v":0},{"$f":"'INVENT.Mob&Mat Bur Importé - 10'!F154","v":0},{"$f":"'INVENT.Mob&Mat Bur Importé - 10'!C154","v":0},{"$f":"'INVENT.Mob&Mat Bur Importé - 10'!H154","v":0},null,0,0,0,0,0,0,null,null,0,0,0,0]
[149,{"$f":"'INVENT.Mob&Mat Bur Importé - 10'!B155","v":0},{"$f":"'INVENT.Mob&Mat Bur Importé - 10'!F155","v":0},{"$f":"'INVENT.Mob&Mat Bur Importé - 10'!C155","v":0},{"$f":"'INVENT.Mob&Mat Bur Importé - 10'!H155","v":0},null,0,0,0,0,0,0,null,null,0,0,0,0]
[150,{"$f":"'INVENT.Mob&Mat Bur Importé - 10'!B156","v":0},{"$f":"'INVENT.Mob&Mat Bur Importé - 10'!F156","v":0},{"$f":"'INVENT.Mob&Mat Bur Importé - 10'!C156","v":0},{"$f":"'INVENT.Mob&Mat Bur Importé - 10'!H156","v":0},null,0,0,0,0,0,0,null,null,0,0,0,0]
[151,{"$f":"'INVENT.Mob&Mat Bur Importé - 10'!B157","v":0},{"$f":"'INVENT.Mob&Mat Bur Importé - 10'!F157","v":0},{"$f":"'INVENT.Mob&Mat Bur Importé - 10'!C157","v":0},{"$f":"'INVENT.Mob&Mat Bur Importé - 10'!H157","v":0},null,0,0,0,0,0,0,null,null,0,0,0,0]
[152,{"$f":"'INVENT.Mob&Mat Bur Importé - 10'!B158","v":0},{"$f":"'INVENT.Mob&Mat Bur Importé - 10'!F158","v":0},{"$f":"'INVENT.Mob&Mat Bur Importé - 10'!C158","v":0},{"$f":"'INVENT.Mob&Mat Bur Importé - 10'!H158","v":0},null,0,0,0,0,0,0,null,null,0,0,0,0]
[153,{"$f":"'INVENT.Mob&Mat Bur Importé - 10'!B159","v":0},{"$f":"'INVENT.Mob&Mat Bur Importé - 10'!F159","v":0},{"$f":"'INVENT.Mob&Mat Bur Importé - 10'!C159","v":0},{"$f":"'INVENT.Mob&Mat Bur Importé - 10'!H159","v":0},null,0,0,0,0,0,0,null,null,0,0,0,0]
[154,{"$f":"'INVENT.Mob&Mat Bur Importé - 10'!B160","v":0},{"$f":"'INVENT.Mob&Mat Bur Importé - 10'!F160","v":0},{"$f":"'INVENT.Mob&Mat Bur Importé - 10'!C160","v":0},{"$f":"'INVENT.Mob&Mat Bur Importé - 10'!H160","v":0},null,0,0,0,0,0,0,null,null,0,0,0,0]
[155,{"$f":"'INVENT.Mob&Mat Bur Importé - 10'!B161","v":0},{"$f":"'INVENT.Mob&Mat Bur Importé - 10'!F161","v":0},{"$f":"'INVENT.Mob&Mat Bur Importé - 10'!C161","v":0},{"$f":"'INVENT.Mob&Mat Bur Importé - 10'!H161","v":0},null,0,0,0,0,0,0,null,null,0,0,0,0]
[156,{"$f":"'INVENT.Mob&Mat Bur Importé - 10'!B162","v":0},{"$f":"'INVENT.Mob&Mat Bur Importé - 10'!F162","v":0},{"$f":"'INVENT.Mob&Mat Bur Importé - 10'!C162","v":0},{"$f":"'INVENT.Mob&Mat Bur Importé - 10'!H162","v":0},null,0,0,0,0,0,0,null,null,0,0,0,0]
[157,{"$f":"'INVENT.Mob&Mat Bur Importé - 10'!B163","v":0},{"$f":"'INVENT.Mob&Mat Bur Importé - 10'!F163","v":0},{"$f":"'INVENT.Mob&Mat Bur Importé - 10'!C163","v":0},{"$f":"'INVENT.Mob&Mat Bur Importé - 10'!H163","v":0},null,0,0,0,0,0,0,null,null,0,0,0,0]
[158,{"$f":"'INVENT.Mob&Mat Bur Importé - 10'!B164","v":0},{"$f":"'INVENT.Mob&Mat Bur Importé - 10'!F164","v":0},{"$f":"'INVENT.Mob&Mat Bur Importé - 10'!C164","v":0},{"$f":"'INVENT.Mob&Mat Bur Importé - 10'!H164","v":0},null,0,0,0,0,0,0,null,null,0,0,0,0]
[159,{"$f":"'INVENT.Mob&Mat Bur Importé - 10'!B165","v":0},{"$f":"'INVENT.Mob&Mat Bur Importé - 10'!F165","v":0},{"$f":"'INVENT.Mob&Mat Bur Importé - 10'!C165","v":0},{"$f":"'INVENT.Mob&Mat Bur Importé - 10'!H165","v":0},null,0,0,0,0,0,0,null,null,0,0,0,0]
[160,{"$f":"'INVENT.Mob&Mat Bur Importé - 10'!B166","v":0},{"$f":"'INVENT.Mob&Mat Bur Importé - 10'!F166","v":0},{"$f":"'INVENT.Mob&Mat Bur Importé - 10'!C166","v":0},{"$f":"'INVENT.Mob&Mat Bur Importé - 10'!H166","v":0},null,0,0,0,0,0,0,null,null,0,0,0,0]
[161,{"$f":"'INVENT.Mob&Mat Bur Importé - 10'!B167","v":0},{"$f":"'INVENT.Mob&Mat Bur Importé - 10'!F167","v":0},{"$f":"'INVENT.Mob&Mat Bur Importé - 10'!C167","v":0},{"$f":"'INVENT.Mob&Mat Bur Importé - 10'!H167","v":0},null,0,0,0,0,0,0,null,null,0,0,0,0]
[162,{"$f":"'INVENT.Mob&Mat Bur Importé - 10'!B168","v":0},{"$f":"'INVENT.Mob&Mat Bur Importé - 10'!F168","v":0},{"$f":"'INVENT.Mob&Mat Bur Importé - 10'!C168","v":0},{"$f":"'INVENT.Mob&Mat Bur Importé - 10'!H168","v":0},null,0,0,0,0,0,0,null,null,0,0,0,0]
[163,{"$f":"'INVENT.Mob&Mat Bur Importé - 10'!B169","v":0},{"$f":"'INVENT.Mob&Mat Bur Importé - 10'!F169","v":0},{"$f":"'INVENT.Mob&Mat Bur Importé - 10'!C169","v":0},{"$f":"'INVENT.Mob&Mat Bur Importé - 10'!H169","v":0},null,0,0,0,0,0,0,null,null,0,0,0,0]
[164,{"$f":"'INVENT.Mob&Mat Bur Importé - 10'!B170","v":0},{"$f":"'INVENT.Mob&Mat Bur Importé - 10'!F170","v":0},{"$f":"'INVENT.Mob&Mat Bur Importé - 10'!C170","v":0},{"$f":"'INVENT.Mob&Mat Bur Importé - 10'!H170","v":0},null,0,0,0,0,0,0,null,null,0,0,0,0]
[165,{"$f":"'INVENT.Mob&Mat Bur Importé - 10'!B171","v":0},{"$f":"'INVENT.Mob&Mat Bur Importé - 10'!F171","v":0},{"$f":"'INVENT.Mob&Mat Bur Importé - 10'!C171","v":0},{"$f":"'INVENT.Mob&Mat Bur Importé - 10'!H171","v":0},null,{"$f":"F172*E172","v":0},{"$f":"E172*1%","v":0},{"$f":"E172*1%","v":0},{"$f":"E172*0.5%","v":0},{"$f":"(E172+G172+H172)*18%","v":0},{"$f":"SUM(G172:K172)+E172","v":0},null,null,{"$f":"(M172+N172)*18%","v":0},{"$f":"O172+N172+M172","v":0},{"$f":"+R172-O172-K172","v":0},{"$f":"P172+L172","v":0}]
[166,{"$f":"'INVENT.Mob&Mat Bur Importé - 10'!B172","v":0},{"$f":"'INVENT.Mob&Mat Bur Importé - 10'!F172","v":0},{"$f":"'INVENT.Mob&Mat Bur Importé - 10'!C172","v":0},{"$f":"'INVENT.Mob&Mat Bur Importé - 10'!H172","v":0},null,0,0,0,0,0,0,null,null,0,0,0,0]
[167,{"$f":"'INVENT.Mob&Mat Bur Importé - 10'!B173","v":0},{"$f":"'INVENT.Mob&Mat Bur Importé - 10'!F173","v":0},{"$f":"'INVENT.Mob&Mat Bur Importé - 10'!C173","v":0},{"$f":"'INVENT.Mob&Mat Bur Importé - 10'!H173","v":0},null,0,0,0,0,0,0,null,null,0,0,0,0]
[168,{"$f":"'INVENT.Mob&Mat Bur Importé - 10'!B174","v":0},{"$f":"'INVENT.Mob&Mat Bur Importé - 10'!F174","v":0},{"$f":"'INVENT.Mob&Mat Bur Importé - 10'!C174","v":0},{"$f":"'INVENT.Mob&Mat Bur Importé - 10'!H174","v":0},null,0,0,0,0,0,0,null,null,0,0,0,0]
[169,{"$f":"'INVENT.Mob&Mat Bur Importé - 10'!B175","v":0},{"$f":"'INVENT.Mob&Mat Bur Importé - 10'!F175","v":0},{"$f":"'INVENT.Mob&Mat Bur Importé - 10'!C175","v":0},{"$f":"'INVENT.Mob&Mat Bur Importé - 10'!H175","v":0},null,0,0,0,0,0,0,null,null,0,0,0,0]
[170,{"$f":"'INVENT.Mob&Mat Bur Importé - 10'!B176","v":0},{"$f":"'INVENT.Mob&Mat Bur Importé - 10'!F176","v":0},{"$f":"'INVENT.Mob&Mat Bur Importé - 10'!C176","v":0},{"$f":"'INVENT.Mob&Mat Bur Importé - 10'!H176","v":0},null,0,0,0,0,0,0,null,null,0,0,0,0]
[171,{"$f":"'INVENT.Mob&Mat Bur Importé - 10'!B177","v":0},{"$f":"'INVENT.Mob&Mat Bur Importé - 10'!F177","v":0},{"$f":"'INVENT.Mob&Mat Bur Importé - 10'!C177","v":0},{"$f":"'INVENT.Mob&Mat Bur Importé - 10'!H177","v":0},null,0,0,0,0,0,0,null,null,0,0,0,0]
[172,{"$f":"'INVENT.Mob&Mat Bur Importé - 10'!B178","v":0},{"$f":"'INVENT.Mob&Mat Bur Importé - 10'!F178","v":0},{"$f":"'INVENT.Mob&Mat Bur Importé - 10'!C178","v":0},{"$f":"'INVENT.Mob&Mat Bur Importé - 10'!H178","v":0},null,0,0,0,0,0,0,null,null,0,0,0,0]
[173,{"$f":"'INVENT.Mob&Mat Bur Importé - 10'!B179","v":0},{"$f":"'INVENT.Mob&Mat Bur Importé - 10'!F179","v":0},{"$f":"'INVENT.Mob&Mat Bur Importé - 10'!C179","v":0},{"$f":"'INVENT.Mob&Mat Bur Importé - 10'!H179","v":0},null,0,0,0,0,0,0,null,null,0,0,0,0]
[174,{"$f":"'INVENT.Mob&Mat Bur Importé - 10'!B180","v":0},{"$f":"'INVENT.Mob&Mat Bur Importé - 10'!F180","v":0},{"$f":"'INVENT.Mob&Mat Bur Importé - 10'!C180","v":0},{"$f":"'INVENT.Mob&Mat Bur Importé - 10'!H180","v":0},null,0,0,0,0,0,0,null,null,0,0,0,0]
[175,{"$f":"'INVENT.Mob&Mat Bur Importé - 10'!B181","v":0},{"$f":"'INVENT.Mob&Mat Bur Importé - 10'!F181","v":0},{"$f":"'INVENT.Mob&Mat Bur Importé - 10'!C181","v":0},{"$f":"'INVENT.Mob&Mat Bur Importé - 10'!H181","v":0},null,0,0,0,0,0,0,null,null,0,0,0,0]
[176,{"$f":"'INVENT.Mob&Mat Bur Importé - 10'!B182","v":0},{"$f":"'INVENT.Mob&Mat Bur Importé - 10'!F182","v":0},{"$f":"'INVENT.Mob&Mat Bur Importé - 10'!C182","v":0},{"$f":"'INVENT.Mob&Mat Bur Importé - 10'!H182","v":0},null,0,0,0,0,0,0,null,null,0,0,0,0]
[177,{"$f":"'INVENT.Mob&Mat Bur Importé - 10'!B183","v":0},{"$f":"'INVENT.Mob&Mat Bur Importé - 10'!F183","v":0},{"$f":"'INVENT.Mob&Mat Bur Importé - 10'!C183","v":0},{"$f":"'INVENT.Mob&Mat Bur Importé - 10'!H183","v":0},null,0,0,0,0,0,0,null,null,0,0,0,0]
[178,{"$f":"'INVENT.Mob&Mat Bur Importé - 10'!B184","v":0},{"$f":"'INVENT.Mob&Mat Bur Importé - 10'!F184","v":0},{"$f":"'INVENT.Mob&Mat Bur Importé - 10'!C184","v":0},{"$f":"'INVENT.Mob&Mat Bur Importé - 10'!H184","v":0},null,0,0,0,0,0,0,null,null,0,0,0,0]
[179,{"$f":"'INVENT.Mob&Mat Bur Importé - 10'!B185","v":0},{"$f":"'INVENT.Mob&Mat Bur Importé - 10'!F185","v":0},{"$f":"'INVENT.Mob&Mat Bur Importé - 10'!C185","v":0},{"$f":"'INVENT.Mob&Mat Bur Importé - 10'!H185","v":0},null,0,0,0,0,0,0,null,null,0,0,0,0]
[180,{"$f":"'INVENT.Mob&Mat Bur Importé - 10'!B186","v":0},{"$f":"'INVENT.Mob&Mat Bur Importé - 10'!F186","v":0},{"$f":"'INVENT.Mob&Mat Bur Importé - 10'!C186","v":0},{"$f":"'INVENT.Mob&Mat Bur Importé - 10'!H186","v":0},null,0,0,0,0,0,0,null,null,0,0,0,0]
[181,{"$f":"'INVENT.Mob&Mat Bur Importé - 10'!B187","v":0},{"$f":"'INVENT.Mob&Mat Bur Importé - 10'!F187","v":0},{"$f":"'INVENT.Mob&Mat Bur Importé - 10'!C187","v":0},{"$f":"'INVENT.Mob&Mat Bur Importé - 10'!H187","v":0},null,0,0,0,0,0,0,null,null,0,0,0,0]
[182,{"$f":"'INVENT.Mob&Mat Bur Importé - 10'!B188","v":0},{"$f":"'INVENT.Mob&Mat Bur Importé - 10'!F188","v":0},{"$f":"'INVENT.Mob&Mat Bur Importé - 10'!C188","v":0},{"$f":"'INVENT.Mob&Mat Bur Importé - 10'!H188","v":0},null,0,0,0,0,0,0,null,null,0,0,0,0]
[183,{"$f":"'INVENT.Mob&Mat Bur Importé - 10'!B189","v":0},{"$f":"'INVENT.Mob&Mat Bur Importé - 10'!F189","v":0},{"$f":"'INVENT.Mob&Mat Bur Importé - 10'!C189","v":0},{"$f":"'INVENT.Mob&Mat Bur Importé - 10'!H189","v":0},null,0,0,0,0,0,0,null,null,0,0,0,0]
[184,{"$f":"'INVENT.Mob&Mat Bur Importé - 10'!B190","v":0},{"$f":"'INVENT.Mob&Mat Bur Importé - 10'!F190","v":0},{"$f":"'INVENT.Mob&Mat Bur Importé - 10'!C190","v":0},{"$f":"'INVENT.Mob&Mat Bur Importé - 10'!H190","v":0},null,0,0,0,0,0,0,null,null,0,0,0,0]
[185,{"$f":"'INVENT.Mob&Mat Bur Importé - 10'!B191","v":0},{"$f":"'INVENT.Mob&Mat Bur Importé - 10'!F191","v":0},{"$f":"'INVENT.Mob&Mat Bur Importé - 10'!C191","v":0},{"$f":"'INVENT.Mob&Mat Bur Importé - 10'!H191","v":0},null,0,0,0,0,0,0,null,null,0,0,0,0]
[186,{"$f":"'INVENT.Mob&Mat Bur Importé - 10'!B192","v":0},{"$f":"'INVENT.Mob&Mat Bur Importé - 10'!F192","v":0},{"$f":"'INVENT.Mob&Mat Bur Importé - 10'!C192","v":0},{"$f":"'INVENT.Mob&Mat Bur Importé - 10'!H192","v":0},null,0,0,0,0,0,0,null,null,0,0,0,0]
[187,{"$f":"'INVENT.Mob&Mat Bur Importé - 10'!B193","v":0},{"$f":"'INVENT.Mob&Mat Bur Importé - 10'!F193","v":0},{"$f":"'INVENT.Mob&Mat Bur Importé - 10'!C193","v":0},{"$f":"'INVENT.Mob&Mat Bur Importé - 10'!H193","v":0},null,0,0,0,0,0,0,null,null,0,0,0,0]
[188,{"$f":"'INVENT.Mob&Mat Bur Importé - 10'!B194","v":0},{"$f":"'INVENT.Mob&Mat Bur Importé - 10'!F194","v":0},{"$f":"'INVENT.Mob&Mat Bur Importé - 10'!C194","v":0},{"$f":"'INVENT.Mob&Mat Bur Importé - 10'!H194","v":0},null,0,0,0,0,0,0,null,null,0,0,0,0]
[189,{"$f":"'INVENT.Mob&Mat Bur Importé - 10'!B195","v":0},{"$f":"'INVENT.Mob&Mat Bur Importé - 10'!F195","v":0},{"$f":"'INVENT.Mob&Mat Bur Importé - 10'!C195","v":0},{"$f":"'INVENT.Mob&Mat Bur Importé - 10'!H195","v":0},null,0,0,0,0,0,0,null,null,0,0,0,0]
[190,{"$f":"'INVENT.Mob&Mat Bur Importé - 10'!B196","v":0},{"$f":"'INVENT.Mob&Mat Bur Importé - 10'!F196","v":0},{"$f":"'INVENT.Mob&Mat Bur Importé - 10'!C196","v":0},{"$f":"'INVENT.Mob&Mat Bur Importé - 10'!H196","v":0},null,0,0,0,0,0,0,null,null,0,0,0,0]
[191,{"$f":"'INVENT.Mob&Mat Bur Importé - 10'!B197","v":0},{"$f":"'INVENT.Mob&Mat Bur Importé - 10'!F197","v":0},{"$f":"'INVENT.Mob&Mat Bur Importé - 10'!C197","v":0},{"$f":"'INVENT.Mob&Mat Bur Importé - 10'!H197","v":0},null,0,0,0,0,0,0,null,null,0,0,0,0]
[192,{"$f":"'INVENT.Mob&Mat Bur Importé - 10'!B198","v":0},{"$f":"'INVENT.Mob&Mat Bur Importé - 10'!F198","v":0},{"$f":"'INVENT.Mob&Mat Bur Importé - 10'!C198","v":0},{"$f":"'INVENT.Mob&Mat Bur Importé - 10'!H198","v":0},null,0,0,0,0,0,0,null,null,0,0,0,0]
[193,{"$f":"'INVENT.Mob&Mat Bur Importé - 10'!B199","v":0},{"$f":"'INVENT.Mob&Mat Bur Importé - 10'!F199","v":0},{"$f":"'INVENT.Mob&Mat Bur Importé - 10'!C199","v":0},{"$f":"'INVENT.Mob&Mat Bur Importé - 10'!H199","v":0},null,0,0,0,0,0,0,null,null,0,0,0,0]
[194,{"$f":"'INVENT.Mob&Mat Bur Importé - 10'!B200","v":0},{"$f":"'INVENT.Mob&Mat Bur Importé - 10'!F200","v":0},{"$f":"'INVENT.Mob&Mat Bur Importé - 10'!C200","v":0},{"$f":"'INVENT.Mob&Mat Bur Importé - 10'!H200","v":0},null,0,0,0,0,0,0,null,null,0,0,0,0]
[{"$f":"+A201+1","v":195},{"$f":"'INVENT.Mob&Mat Bur Importé - 10'!B201","v":0},{"$f":"'INVENT.Mob&Mat Bur Importé - 10'!F201","v":0},{"$f":"'INVENT.Mob&Mat Bur Importé - 10'!C201","v":0},{"$f":"'INVENT.Mob&Mat Bur Importé - 10'!H201","v":0},null,0,0,0,0,0,0,null,null,0,0,0,0]
[196,{"$f":"'INVENT.Mob&Mat Bur Importé - 10'!B202","v":0},{"$f":"'INVENT.Mob&Mat Bur Importé - 10'!F202","v":0},{"$f":"'INVENT.Mob&Mat Bur Importé - 10'!C202","v":0},{"$f":"'INVENT.Mob&Mat Bur Importé - 10'!H202","v":0},null,0,0,0,0,0,0,null,null,0,0,0,0]
[197,{"$f":"'INVENT.Mob&Mat Bur Importé - 10'!B203","v":0},{"$f":"'INVENT.Mob&Mat Bur Importé - 10'!F203","v":0},{"$f":"'INVENT.Mob&Mat Bur Importé - 10'!C203","v":0},{"$f":"'INVENT.Mob&Mat Bur Importé - 10'!H203","v":0},null,0,0,0,0,0,0,null,null,0,0,0,0]
[198,{"$f":"'INVENT.Mob&Mat Bur Importé - 10'!B204","v":0},{"$f":"'INVENT.Mob&Mat Bur Importé - 10'!F204","v":0},{"$f":"'INVENT.Mob&Mat Bur Importé - 10'!C204","v":0},{"$f":"'INVENT.Mob&Mat Bur Importé - 10'!H204","v":0},null,0,0,0,0,0,0,null,null,0,0,0,0]
[199,{"$f":"'INVENT.Mob&Mat Bur Importé - 10'!B205","v":0},{"$f":"'INVENT.Mob&Mat Bur Importé - 10'!F205","v":0},{"$f":"'INVENT.Mob&Mat Bur Importé - 10'!C205","v":0},{"$f":"'INVENT.Mob&Mat Bur Importé - 10'!H205","v":0},null,0,0,0,0,0,0,null,null,0,0,0,0]
[200,{"$f":"'INVENT.Mob&Mat Bur Importé - 10'!B206","v":0},{"$f":"'INVENT.Mob&Mat Bur Importé - 10'!F206","v":0},{"$f":"'INVENT.Mob&Mat Bur Importé - 10'!C206","v":0},{"$f":"'INVENT.Mob&Mat Bur Importé - 10'!H206","v":0},null,0,0,0,0,0,0,null,null,0,0,0,0]
[201,{"$f":"'INVENT.Mob&Mat Bur Importé - 10'!B207","v":0},{"$f":"'INVENT.Mob&Mat Bur Importé - 10'!F207","v":0},{"$f":"'INVENT.Mob&Mat Bur Importé - 10'!C207","v":0},{"$f":"'INVENT.Mob&Mat Bur Importé - 10'!H207","v":0},null,0,0,0,0,0,0,null,null,0,0,0,0]
[202,{"$f":"'INVENT.Mob&Mat Bur Importé - 10'!B208","v":0},{"$f":"'INVENT.Mob&Mat Bur Importé - 10'!F208","v":0},{"$f":"'INVENT.Mob&Mat Bur Importé - 10'!C208","v":0},{"$f":"'INVENT.Mob&Mat Bur Importé - 10'!H208","v":0},null,0,0,0,0,0,0,null,null,0,0,0,0]
[203,{"$f":"'INVENT.Mob&Mat Bur Importé - 10'!B209","v":0},{"$f":"'INVENT.Mob&Mat Bur Importé - 10'!F209","v":0},{"$f":"'INVENT.Mob&Mat Bur Importé - 10'!C209","v":0},{"$f":"'INVENT.Mob&Mat Bur Importé - 10'!H209","v":0},null,0,0,0,0,0,0,null,null,0,0,0,0]
[204,{"$f":"'INVENT.Mob&Mat Bur Importé - 10'!B210","v":0},{"$f":"'INVENT.Mob&Mat Bur Importé - 10'!F210","v":0},{"$f":"'INVENT.Mob&Mat Bur Importé - 10'!C210","v":0},{"$f":"'INVENT.Mob&Mat Bur Importé - 10'!H210","v":0},null,0,0,0,0,0,0,null,null,0,0,0,0]
[205,{"$f":"'INVENT.Mob&Mat Bur Importé - 10'!B211","v":0},{"$f":"'INVENT.Mob&Mat Bur Importé - 10'!F211","v":0},{"$f":"'INVENT.Mob&Mat Bur Importé - 10'!C211","v":0},{"$f":"'INVENT.Mob&Mat Bur Importé - 10'!H211","v":0},null,0,0,0,0,0,0,null,null,0,0,0,0]
[206,{"$f":"'INVENT.Mob&Mat Bur Importé - 10'!B212","v":0},{"$f":"'INVENT.Mob&Mat Bur Importé - 10'!F212","v":0},{"$f":"'INVENT.Mob&Mat Bur Importé - 10'!C212","v":0},{"$f":"'INVENT.Mob&Mat Bur Importé - 10'!H212","v":0},null,0,0,0,0,0,0,null,null,0,0,0,0]
[207,{"$f":"'INVENT.Mob&Mat Bur Importé - 10'!B213","v":0},{"$f":"'INVENT.Mob&Mat Bur Importé - 10'!F213","v":0},{"$f":"'INVENT.Mob&Mat Bur Importé - 10'!C213","v":0},{"$f":"'INVENT.Mob&Mat Bur Importé - 10'!H213","v":0},null,0,0,0,0,0,0,null,null,0,0,0,0]
[208,{"$f":"'INVENT.Mob&Mat Bur Importé - 10'!B214","v":0},{"$f":"'INVENT.Mob&Mat Bur Importé - 10'!F214","v":0},{"$f":"'INVENT.Mob&Mat Bur Importé - 10'!C214","v":0},{"$f":"'INVENT.Mob&Mat Bur Importé - 10'!H214","v":0},null,0,0,0,0,0,0,null,null,0,0,0,0]
[209,{"$f":"'INVENT.Mob&Mat Bur Importé - 10'!B215","v":0},{"$f":"'INVENT.Mob&Mat Bur Importé - 10'!F215","v":0},{"$f":"'INVENT.Mob&Mat Bur Importé - 10'!C215","v":0},{"$f":"'INVENT.Mob&Mat Bur Importé - 10'!H215","v":0},null,0,0,0,0,0,0,null,null,0,0,0,0]
[210,{"$f":"'INVENT.Mob&Mat Bur Importé - 10'!B216","v":0},{"$f":"'INVENT.Mob&Mat Bur Importé - 10'!F216","v":0},{"$f":"'INVENT.Mob&Mat Bur Importé - 10'!C216","v":0},{"$f":"'INVENT.Mob&Mat Bur Importé - 10'!H216","v":0},null,0,0,0,0,0,0,null,null,0,0,0,0]
[211,{"$f":"'INVENT.Mob&Mat Bur Importé - 10'!B217","v":0},{"$f":"'INVENT.Mob&Mat Bur Importé - 10'!F217","v":0},{"$f":"'INVENT.Mob&Mat Bur Importé - 10'!C217","v":0},{"$f":"'INVENT.Mob&Mat Bur Importé - 10'!H217","v":0},null,0,0,0,0,0,0,null,null,0,0,0,0]
[212,{"$f":"'INVENT.Mob&Mat Bur Importé - 10'!B218","v":0},{"$f":"'INVENT.Mob&Mat Bur Importé - 10'!F218","v":0},{"$f":"'INVENT.Mob&Mat Bur Importé - 10'!C218","v":0},{"$f":"'INVENT.Mob&Mat Bur Importé - 10'!H218","v":0},null,0,0,0,0,0,0,null,null,0,0,0,0]
[213,{"$f":"'INVENT.Mob&Mat Bur Importé - 10'!B219","v":0},{"$f":"'INVENT.Mob&Mat Bur Importé - 10'!F219","v":0},{"$f":"'INVENT.Mob&Mat Bur Importé - 10'!C219","v":0},{"$f":"'INVENT.Mob&Mat Bur Importé - 10'!H219","v":0},null,0,0,0,0,0,0,null,null,0,0,0,0]
[214,{"$f":"'INVENT.Mob&Mat Bur Importé - 10'!B220","v":0},{"$f":"'INVENT.Mob&Mat Bur Importé - 10'!F220","v":0},{"$f":"'INVENT.Mob&Mat Bur Importé - 10'!C220","v":0},{"$f":"'INVENT.Mob&Mat Bur Importé - 10'!H220","v":0},null,0,0,0,0,0,0,null,null,0,0,0,0]
[215,{"$f":"'INVENT.Mob&Mat Bur Importé - 10'!B221","v":0},{"$f":"'INVENT.Mob&Mat Bur Importé - 10'!F221","v":0},{"$f":"'INVENT.Mob&Mat Bur Importé - 10'!C221","v":0},{"$f":"'INVENT.Mob&Mat Bur Importé - 10'!H221","v":0},null,0,0,0,0,0,0,null,null,0,0,0,0]
[216,{"$f":"'INVENT.Mob&Mat Bur Importé - 10'!B222","v":0},{"$f":"'INVENT.Mob&Mat Bur Importé - 10'!F222","v":0},{"$f":"'INVENT.Mob&Mat Bur Importé - 10'!C222","v":0},{"$f":"'INVENT.Mob&Mat Bur Importé - 10'!H222","v":0},null,0,0,0,0,0,0,null,null,0,0,0,0]
[217,{"$f":"'INVENT.Mob&Mat Bur Importé - 10'!B223","v":0},{"$f":"'INVENT.Mob&Mat Bur Importé - 10'!F223","v":0},{"$f":"'INVENT.Mob&Mat Bur Importé - 10'!C223","v":0},{"$f":"'INVENT.Mob&Mat Bur Importé - 10'!H223","v":0},null,0,0,0,0,0,0,null,null,0,0,0,0]
[218,{"$f":"'INVENT.Mob&Mat Bur Importé - 10'!B224","v":0},{"$f":"'INVENT.Mob&Mat Bur Importé - 10'!F224","v":0},{"$f":"'INVENT.Mob&Mat Bur Importé - 10'!C224","v":0},{"$f":"'INVENT.Mob&Mat Bur Importé - 10'!H224","v":0},null,0,0,0,0,0,0,null,null,0,0,0,0]
[219,{"$f":"'INVENT.Mob&Mat Bur Importé - 10'!B225","v":0},{"$f":"'INVENT.Mob&Mat Bur Importé - 10'!F225","v":0},{"$f":"'INVENT.Mob&Mat Bur Importé - 10'!C225","v":0},{"$f":"'INVENT.Mob&Mat Bur Importé - 10'!H225","v":0},null,0,0,0,0,0,0,null,null,0,0,0,0]
[220,{"$f":"'INVENT.Mob&Mat Bur Importé - 10'!B226","v":0},{"$f":"'INVENT.Mob&Mat Bur Importé - 10'!F226","v":0},{"$f":"'INVENT.Mob&Mat Bur Importé - 10'!C226","v":0},{"$f":"'INVENT.Mob&Mat Bur Importé - 10'!H226","v":0},null,0,0,0,0,0,0,null,null,0,0,0,0]
[221,{"$f":"'INVENT.Mob&Mat Bur Importé - 10'!B227","v":0},{"$f":"'INVENT.Mob&Mat Bur Importé - 10'!F227","v":0},{"$f":"'INVENT.Mob&Mat Bur Importé - 10'!C227","v":0},{"$f":"'INVENT.Mob&Mat Bur Importé - 10'!H227","v":0},null,0,0,0,0,0,0,null,null,0,0,0,0]
[222,{"$f":"'INVENT.Mob&Mat Bur Importé - 10'!B228","v":0},{"$f":"'INVENT.Mob&Mat Bur Importé - 10'!F228","v":0},{"$f":"'INVENT.Mob&Mat Bur Importé - 10'!C228","v":0},{"$f":"'INVENT.Mob&Mat Bur Importé - 10'!H228","v":0},null,0,0,0,0,0,0,null,null,0,0,0,0]
[223,{"$f":"'INVENT.Mob&Mat Bur Importé - 10'!B229","v":0},{"$f":"'INVENT.Mob&Mat Bur Importé - 10'!F229","v":0},{"$f":"'INVENT.Mob&Mat Bur Importé - 10'!C229","v":0},{"$f":"'INVENT.Mob&Mat Bur Importé - 10'!H229","v":0},null,0,0,0,0,0,0,null,null,0,0,0,0]
[224,{"$f":"'INVENT.Mob&Mat Bur Importé - 10'!B230","v":0},{"$f":"'INVENT.Mob&Mat Bur Importé - 10'!F230","v":0},{"$f":"'INVENT.Mob&Mat Bur Importé - 10'!C230","v":0},{"$f":"'INVENT.Mob&Mat Bur Importé - 10'!H230","v":0},null,0,0,0,0,0,0,null,null,0,0,0,0]
[225,{"$f":"'INVENT.Mob&Mat Bur Importé - 10'!B231","v":0},{"$f":"'INVENT.Mob&Mat Bur Importé - 10'!F231","v":0},{"$f":"'INVENT.Mob&Mat Bur Importé - 10'!C231","v":0},{"$f":"'INVENT.Mob&Mat Bur Importé - 10'!H231","v":0},null,0,0,0,0,0,0,null,null,0,0,0,0]
[226,{"$f":"'INVENT.Mob&Mat Bur Importé - 10'!B232","v":0},{"$f":"'INVENT.Mob&Mat Bur Importé - 10'!F232","v":0},{"$f":"'INVENT.Mob&Mat Bur Importé - 10'!C232","v":0},{"$f":"'INVENT.Mob&Mat Bur Importé - 10'!H232","v":0},null,0,0,0,0,0,0,null,null,0,0,0,0]
[227,{"$f":"'INVENT.Mob&Mat Bur Importé - 10'!B233","v":0},{"$f":"'INVENT.Mob&Mat Bur Importé - 10'!F233","v":0},{"$f":"'INVENT.Mob&Mat Bur Importé - 10'!C233","v":0},{"$f":"'INVENT.Mob&Mat Bur Importé - 10'!H233","v":0},null,0,0,0,0,0,0,null,null,0,0,0,0]
[228,{"$f":"'INVENT.Mob&Mat Bur Importé - 10'!B234","v":0},{"$f":"'INVENT.Mob&Mat Bur Importé - 10'!F234","v":0},{"$f":"'INVENT.Mob&Mat Bur Importé - 10'!C234","v":0},{"$f":"'INVENT.Mob&Mat Bur Importé - 10'!H234","v":0},null,0,0,0,0,0,0,null,null,0,0,0,0]
[229,{"$f":"'INVENT.Mob&Mat Bur Importé - 10'!B235","v":0},{"$f":"'INVENT.Mob&Mat Bur Importé - 10'!F235","v":0},{"$f":"'INVENT.Mob&Mat Bur Importé - 10'!C235","v":0},{"$f":"'INVENT.Mob&Mat Bur Importé - 10'!H235","v":0},null,{"$f":"F236*E236","v":0},{"$f":"E236*1%","v":0},{"$f":"E236*1%","v":0},{"$f":"E236*0.5%","v":0},{"$f":"(E236+G236+H236)*18%","v":0},{"$f":"SUM(G236:K236)+E236","v":0},null,null,{"$f":"(M236+N236)*18%","v":0},{"$f":"O236+N236+M236","v":0},{"$f":"+R236-O236-K236","v":0},{"$f":"P236+L236","v":0}]
[230,{"$f":"'INVENT.Mob&Mat Bur Importé - 10'!B236","v":0},{"$f":"'INVENT.Mob&Mat Bur Importé - 10'!F236","v":0},{"$f":"'INVENT.Mob&Mat Bur Importé - 10'!C236","v":0},{"$f":"'INVENT.Mob&Mat Bur Importé - 10'!H236","v":0},null,0,0,0,0,0,0,null,null,0,0,0,0]
[231,{"$f":"'INVENT.Mob&Mat Bur Importé - 10'!B237","v":0},{"$f":"'INVENT.Mob&Mat Bur Importé - 10'!F237","v":0},{"$f":"'INVENT.Mob&Mat Bur Importé - 10'!C237","v":0},{"$f":"'INVENT.Mob&Mat Bur Importé - 10'!H237","v":0},null,0,0,0,0,0,0,null,null,0,0,0,0]
[232,{"$f":"'INVENT.Mob&Mat Bur Importé - 10'!B238","v":0},{"$f":"'INVENT.Mob&Mat Bur Importé - 10'!F238","v":0},{"$f":"'INVENT.Mob&Mat Bur Importé - 10'!C238","v":0},{"$f":"'INVENT.Mob&Mat Bur Importé - 10'!H238","v":0},null,0,0,0,0,0,0,null,null,0,0,0,0]
[233,{"$f":"'INVENT.Mob&Mat Bur Importé - 10'!B239","v":0},{"$f":"'INVENT.Mob&Mat Bur Importé - 10'!F239","v":0},{"$f":"'INVENT.Mob&Mat Bur Importé - 10'!C239","v":0},{"$f":"'INVENT.Mob&Mat Bur Importé - 10'!H239","v":0},null,0,0,0,0,0,0,null,null,0,0,0,0]
[234,{"$f":"'INVENT.Mob&Mat Bur Importé - 10'!B240","v":0},{"$f":"'INVENT.Mob&Mat Bur Importé - 10'!F240","v":0},{"$f":"'INVENT.Mob&Mat Bur Importé - 10'!C240","v":0},{"$f":"'INVENT.Mob&Mat Bur Importé - 10'!H240","v":0},null,0,0,0,0,0,0,null,null,0,0,0,0]
[235,{"$f":"'INVENT.Mob&Mat Bur Importé - 10'!B241","v":0},{"$f":"'INVENT.Mob&Mat Bur Importé - 10'!F241","v":0},{"$f":"'INVENT.Mob&Mat Bur Importé - 10'!C241","v":0},{"$f":"'INVENT.Mob&Mat Bur Importé - 10'!H241","v":0},null,0,0,0,0,0,0,null,null,0,0,0,0]
[236,{"$f":"'INVENT.Mob&Mat Bur Importé - 10'!B242","v":0},{"$f":"'INVENT.Mob&Mat Bur Importé - 10'!F242","v":0},{"$f":"'INVENT.Mob&Mat Bur Importé - 10'!C242","v":0},{"$f":"'INVENT.Mob&Mat Bur Importé - 10'!H242","v":0},null,0,0,0,0,0,0,null,null,0,0,0,0]
[237,{"$f":"'INVENT.Mob&Mat Bur Importé - 10'!B243","v":0},{"$f":"'INVENT.Mob&Mat Bur Importé - 10'!F243","v":0},{"$f":"'INVENT.Mob&Mat Bur Importé - 10'!C243","v":0},{"$f":"'INVENT.Mob&Mat Bur Importé - 10'!H243","v":0},null,0,0,0,0,0,0,null,null,0,0,0,0]
[238,{"$f":"'INVENT.Mob&Mat Bur Importé - 10'!B244","v":0},{"$f":"'INVENT.Mob&Mat Bur Importé - 10'!F244","v":0},{"$f":"'INVENT.Mob&Mat Bur Importé - 10'!C244","v":0},{"$f":"'INVENT.Mob&Mat Bur Importé - 10'!H244","v":0},null,0,0,0,0,0,0,null,null,0,0,0,0]
[239,{"$f":"'INVENT.Mob&Mat Bur Importé - 10'!B245","v":0},{"$f":"'INVENT.Mob&Mat Bur Importé - 10'!F245","v":0},{"$f":"'INVENT.Mob&Mat Bur Importé - 10'!C245","v":0},{"$f":"'INVENT.Mob&Mat Bur Importé - 10'!H245","v":0},null,0,0,0,0,0,0,null,null,0,0,0,0]
[240,{"$f":"'INVENT.Mob&Mat Bur Importé - 10'!B246","v":0},{"$f":"'INVENT.Mob&Mat Bur Importé - 10'!F246","v":0},{"$f":"'INVENT.Mob&Mat Bur Importé - 10'!C246","v":0},{"$f":"'INVENT.Mob&Mat Bur Importé - 10'!H246","v":0},null,0,0,0,0,0,0,null,null,0,0,0,0]
[241,{"$f":"'INVENT.Mob&Mat Bur Importé - 10'!B247","v":0},{"$f":"'INVENT.Mob&Mat Bur Importé - 10'!F247","v":0},{"$f":"'INVENT.Mob&Mat Bur Importé - 10'!C247","v":0},{"$f":"'INVENT.Mob&Mat Bur Importé - 10'!H247","v":0},null,0,0,0,0,0,0,null,null,0,0,0,0]
[242,{"$f":"'INVENT.Mob&Mat Bur Importé - 10'!B248","v":0},{"$f":"'INVENT.Mob&Mat Bur Importé - 10'!F248","v":0},{"$f":"'INVENT.Mob&Mat Bur Importé - 10'!C248","v":0},{"$f":"'INVENT.Mob&Mat Bur Importé - 10'!H248","v":0},null,0,0,0,0,0,0,null,null,0,0,0,0]
[243,{"$f":"'INVENT.Mob&Mat Bur Importé - 10'!B249","v":0},{"$f":"'INVENT.Mob&Mat Bur Importé - 10'!F249","v":0},{"$f":"'INVENT.Mob&Mat Bur Importé - 10'!C249","v":0},{"$f":"'INVENT.Mob&Mat Bur Importé - 10'!H249","v":0},null,0,0,0,0,0,0,null,null,0,0,0,0]
[244,{"$f":"'INVENT.Mob&Mat Bur Importé - 10'!B250","v":0},{"$f":"'INVENT.Mob&Mat Bur Importé - 10'!F250","v":0},{"$f":"'INVENT.Mob&Mat Bur Importé - 10'!C250","v":0},{"$f":"'INVENT.Mob&Mat Bur Importé - 10'!H250","v":0},null,0,0,0,0,0,0,null,null,0,0,0,0]
[245,{"$f":"'INVENT.Mob&Mat Bur Importé - 10'!B251","v":0},{"$f":"'INVENT.Mob&Mat Bur Importé - 10'!F251","v":0},{"$f":"'INVENT.Mob&Mat Bur Importé - 10'!C251","v":0},{"$f":"'INVENT.Mob&Mat Bur Importé - 10'!H251","v":0},null,0,0,0,0,0,0,null,null,0,0,0,0]
[246,{"$f":"'INVENT.Mob&Mat Bur Importé - 10'!B252","v":0},{"$f":"'INVENT.Mob&Mat Bur Importé - 10'!F252","v":0},{"$f":"'INVENT.Mob&Mat Bur Importé - 10'!C252","v":0},{"$f":"'INVENT.Mob&Mat Bur Importé - 10'!H252","v":0},null,0,0,0,0,0,0,null,null,0,0,0,0]
[247,{"$f":"'INVENT.Mob&Mat Bur Importé - 10'!B253","v":0},{"$f":"'INVENT.Mob&Mat Bur Importé - 10'!F253","v":0},{"$f":"'INVENT.Mob&Mat Bur Importé - 10'!C253","v":0},{"$f":"'INVENT.Mob&Mat Bur Importé - 10'!H253","v":0},null,0,0,0,0,0,0,null,null,0,0,0,0]
[248,{"$f":"'INVENT.Mob&Mat Bur Importé - 10'!B254","v":0},{"$f":"'INVENT.Mob&Mat Bur Importé - 10'!F254","v":0},{"$f":"'INVENT.Mob&Mat Bur Importé - 10'!C254","v":0},{"$f":"'INVENT.Mob&Mat Bur Importé - 10'!H254","v":0},null,0,0,0,0,0,0,null,null,0,0,0,0]
[249,{"$f":"'INVENT.Mob&Mat Bur Importé - 10'!B255","v":0},{"$f":"'INVENT.Mob&Mat Bur Importé - 10'!F255","v":0},{"$f":"'INVENT.Mob&Mat Bur Importé - 10'!C255","v":0},{"$f":"'INVENT.Mob&Mat Bur Importé - 10'!H255","v":0},null,0,0,0,0,0,0,null,null,0,0,0,0]
[250,{"$f":"'INVENT.Mob&Mat Bur Importé - 10'!B256","v":0},{"$f":"'INVENT.Mob&Mat Bur Importé - 10'!F256","v":0},{"$f":"'INVENT.Mob&Mat Bur Importé - 10'!C256","v":0},{"$f":"'INVENT.Mob&Mat Bur Importé - 10'!H256","v":0},null,0,0,0,0,0,0,null,null,0,0,0,0]
[251,{"$f":"'INVENT.Mob&Mat Bur Importé - 10'!B257","v":0},{"$f":"'INVENT.Mob&Mat Bur Importé - 10'!F257","v":0},{"$f":"'INVENT.Mob&Mat Bur Importé - 10'!C257","v":0},{"$f":"'INVENT.Mob&Mat Bur Importé - 10'!H257","v":0},null,0,0,0,0,0,0,null,null,0,0,0,0]
[252,{"$f":"'INVENT.Mob&Mat Bur Importé - 10'!B258","v":0},{"$f":"'INVENT.Mob&Mat Bur Importé - 10'!F258","v":0},{"$f":"'INVENT.Mob&Mat Bur Importé - 10'!C258","v":0},{"$f":"'INVENT.Mob&Mat Bur Importé - 10'!H258","v":0},null,0,0,0,0,0,0,null,null,0,0,0,0]
[253,{"$f":"'INVENT.Mob&Mat Bur Importé - 10'!B259","v":0},{"$f":"'INVENT.Mob&Mat Bur Importé - 10'!F259","v":0},{"$f":"'INVENT.Mob&Mat Bur Importé - 10'!C259","v":0},{"$f":"'INVENT.Mob&Mat Bur Importé - 10'!H259","v":0},null,0,0,0,0,0,0,null,null,0,0,0,0]
[254,{"$f":"'INVENT.Mob&Mat Bur Importé - 10'!B260","v":0},{"$f":"'INVENT.Mob&Mat Bur Importé - 10'!F260","v":0},{"$f":"'INVENT.Mob&Mat Bur Importé - 10'!C260","v":0},{"$f":"'INVENT.Mob&Mat Bur Importé - 10'!H260","v":0},null,0,0,0,0,0,0,null,null,0,0,0,0]
[255,{"$f":"'INVENT.Mob&Mat Bur Importé - 10'!B261","v":0},{"$f":"'INVENT.Mob&Mat Bur Importé - 10'!F261","v":0},{"$f":"'INVENT.Mob&Mat Bur Importé - 10'!C261","v":0},{"$f":"'INVENT.Mob&Mat Bur Importé - 10'!H261","v":0},null,0,0,0,0,0,0,null,null,0,0,0,0]
[256,{"$f":"'INVENT.Mob&Mat Bur Importé - 10'!B262","v":0},{"$f":"'INVENT.Mob&Mat Bur Importé - 10'!F262","v":0},{"$f":"'INVENT.Mob&Mat Bur Importé - 10'!C262","v":0},{"$f":"'INVENT.Mob&Mat Bur Importé - 10'!H262","v":0},null,0,0,0,0,0,0,null,null,0,0,0,0]
[257,{"$f":"'INVENT.Mob&Mat Bur Importé - 10'!B263","v":0},{"$f":"'INVENT.Mob&Mat Bur Importé - 10'!F263","v":0},{"$f":"'INVENT.Mob&Mat Bur Importé - 10'!C263","v":0},{"$f":"'INVENT.Mob&Mat Bur Importé - 10'!H263","v":0},null,0,0,0,0,0,0,null,null,0,0,0,0]
[258,{"$f":"'INVENT.Mob&Mat Bur Importé - 10'!B264","v":0},{"$f":"'INVENT.Mob&Mat Bur Importé - 10'!F264","v":0},{"$f":"'INVENT.Mob&Mat Bur Importé - 10'!C264","v":0},{"$f":"'INVENT.Mob&Mat Bur Importé - 10'!H264","v":0},null,0,0,0,0,0,0,null,null,0,0,0,0]
[{"$f":"+A265+1","v":259},{"$f":"'INVENT.Mob&Mat Bur Importé - 10'!B265","v":0},{"$f":"'INVENT.Mob&Mat Bur Importé - 10'!F265","v":0},{"$f":"'INVENT.Mob&Mat Bur Importé - 10'!C265","v":0},{"$f":"'INVENT.Mob&Mat Bur Importé - 10'!H265","v":0},null,0,0,0,0,0,0,null,null,0,0,0,0]
[260,{"$f":"'INVENT.Mob&Mat Bur Importé - 10'!B266","v":0},{"$f":"'INVENT.Mob&Mat Bur Importé - 10'!F266","v":0},{"$f":"'INVENT.Mob&Mat Bur Importé - 10'!C266","v":0},{"$f":"'INVENT.Mob&Mat Bur Importé - 10'!H266","v":0},null,0,0,0,0,0,0,null,null,0,0,0,0]
[261,{"$f":"'INVENT.Mob&Mat Bur Importé - 10'!B267","v":0},{"$f":"'INVENT.Mob&Mat Bur Importé - 10'!F267","v":0},{"$f":"'INVENT.Mob&Mat Bur Importé - 10'!C267","v":0},{"$f":"'INVENT.Mob&Mat Bur Importé - 10'!H267","v":0},null,0,0,0,0,0,0,null,null,0,0,0,0]
[262,{"$f":"'INVENT.Mob&Mat Bur Importé - 10'!B268","v":0},{"$f":"'INVENT.Mob&Mat Bur Importé - 10'!F268","v":0},{"$f":"'INVENT.Mob&Mat Bur Importé - 10'!C268","v":0},{"$f":"'INVENT.Mob&Mat Bur Importé - 10'!H268","v":0},null,0,0,0,0,0,0,null,null,0,0,0,0]
[263,{"$f":"'INVENT.Mob&Mat Bur Importé - 10'!B269","v":0},{"$f":"'INVENT.Mob&Mat Bur Importé - 10'!F269","v":0},{"$f":"'INVENT.Mob&Mat Bur Importé - 10'!C269","v":0},{"$f":"'INVENT.Mob&Mat Bur Importé - 10'!H269","v":0},null,0,0,0,0,0,0,null,null,0,0,0,0]
[264,{"$f":"'INVENT.Mob&Mat Bur Importé - 10'!B270","v":0},{"$f":"'INVENT.Mob&Mat Bur Importé - 10'!F270","v":0},{"$f":"'INVENT.Mob&Mat Bur Importé - 10'!C270","v":0},{"$f":"'INVENT.Mob&Mat Bur Importé - 10'!H270","v":0},null,0,0,0,0,0,0,null,null,0,0,0,0]
[265,{"$f":"'INVENT.Mob&Mat Bur Importé - 10'!B271","v":0},{"$f":"'INVENT.Mob&Mat Bur Importé - 10'!F271","v":0},{"$f":"'INVENT.Mob&Mat Bur Importé - 10'!C271","v":0},{"$f":"'INVENT.Mob&Mat Bur Importé - 10'!H271","v":0},null,0,0,0,0,0,0,null,null,0,0,0,0]
[266,{"$f":"'INVENT.Mob&Mat Bur Importé - 10'!B272","v":0},{"$f":"'INVENT.Mob&Mat Bur Importé - 10'!F272","v":0},{"$f":"'INVENT.Mob&Mat Bur Importé - 10'!C272","v":0},{"$f":"'INVENT.Mob&Mat Bur Importé - 10'!H272","v":0},null,0,0,0,0,0,0,null,null,0,0,0,0]
[267,{"$f":"'INVENT.Mob&Mat Bur Importé - 10'!B273","v":0},{"$f":"'INVENT.Mob&Mat Bur Importé - 10'!F273","v":0},{"$f":"'INVENT.Mob&Mat Bur Importé - 10'!C273","v":0},{"$f":"'INVENT.Mob&Mat Bur Importé - 10'!H273","v":0},null,0,0,0,0,0,0,null,null,0,0,0,0]
[268,{"$f":"'INVENT.Mob&Mat Bur Importé - 10'!B274","v":0},{"$f":"'INVENT.Mob&Mat Bur Importé - 10'!F274","v":0},{"$f":"'INVENT.Mob&Mat Bur Importé - 10'!C274","v":0},{"$f":"'INVENT.Mob&Mat Bur Importé - 10'!H274","v":0},null,0,0,0,0,0,0,null,null,0,0,0,0]
[269,{"$f":"'INVENT.Mob&Mat Bur Importé - 10'!B275","v":0},{"$f":"'INVENT.Mob&Mat Bur Importé - 10'!F275","v":0},{"$f":"'INVENT.Mob&Mat Bur Importé - 10'!C275","v":0},{"$f":"'INVENT.Mob&Mat Bur Importé - 10'!H275","v":0},null,0,0,0,0,0,0,null,null,0,0,0,0]
[270,{"$f":"'INVENT.Mob&Mat Bur Importé - 10'!B276","v":0},{"$f":"'INVENT.Mob&Mat Bur Importé - 10'!F276","v":0},{"$f":"'INVENT.Mob&Mat Bur Importé - 10'!C276","v":0},{"$f":"'INVENT.Mob&Mat Bur Importé - 10'!H276","v":0},null,0,0,0,0,0,0,null,null,0,0,0,0]
[271,{"$f":"'INVENT.Mob&Mat Bur Importé - 10'!B277","v":0},{"$f":"'INVENT.Mob&Mat Bur Importé - 10'!F277","v":0},{"$f":"'INVENT.Mob&Mat Bur Importé - 10'!C277","v":0},{"$f":"'INVENT.Mob&Mat Bur Importé - 10'!H277","v":0},null,0,0,0,0,0,0,null,null,0,0,0,0]
[272,{"$f":"'INVENT.Mob&Mat Bur Importé - 10'!B278","v":0},{"$f":"'INVENT.Mob&Mat Bur Importé - 10'!F278","v":0},{"$f":"'INVENT.Mob&Mat Bur Importé - 10'!C278","v":0},{"$f":"'INVENT.Mob&Mat Bur Importé - 10'!H278","v":0},null,0,0,0,0,0,0,null,null,0,0,0,0]
[273,{"$f":"'INVENT.Mob&Mat Bur Importé - 10'!B279","v":0},{"$f":"'INVENT.Mob&Mat Bur Importé - 10'!F279","v":0},{"$f":"'INVENT.Mob&Mat Bur Importé - 10'!C279","v":0},{"$f":"'INVENT.Mob&Mat Bur Importé - 10'!H279","v":0},null,0,0,0,0,0,0,null,null,0,0,0,0]
[274,{"$f":"'INVENT.Mob&Mat Bur Importé - 10'!B280","v":0},{"$f":"'INVENT.Mob&Mat Bur Importé - 10'!F280","v":0},{"$f":"'INVENT.Mob&Mat Bur Importé - 10'!C280","v":0},{"$f":"'INVENT.Mob&Mat Bur Importé - 10'!H280","v":0},null,0,0,0,0,0,0,null,null,0,0,0,0]
[275,{"$f":"'INVENT.Mob&Mat Bur Importé - 10'!B281","v":0},{"$f":"'INVENT.Mob&Mat Bur Importé - 10'!F281","v":0},{"$f":"'INVENT.Mob&Mat Bur Importé - 10'!C281","v":0},{"$f":"'INVENT.Mob&Mat Bur Importé - 10'!H281","v":0},null,0,0,0,0,0,0,null,null,0,0,0,0]
[276,{"$f":"'INVENT.Mob&Mat Bur Importé - 10'!B282","v":0},{"$f":"'INVENT.Mob&Mat Bur Importé - 10'!F282","v":0},{"$f":"'INVENT.Mob&Mat Bur Importé - 10'!C282","v":0},{"$f":"'INVENT.Mob&Mat Bur Importé - 10'!H282","v":0},null,0,0,0,0,0,0,null,null,0,0,0,0]
[277,{"$f":"'INVENT.Mob&Mat Bur Importé - 10'!B283","v":0},{"$f":"'INVENT.Mob&Mat Bur Importé - 10'!F283","v":0},{"$f":"'INVENT.Mob&Mat Bur Importé - 10'!C283","v":0},{"$f":"'INVENT.Mob&Mat Bur Importé - 10'!H283","v":0},null,0,0,0,0,0,0,null,null,0,0,0,0]
[278,{"$f":"'INVENT.Mob&Mat Bur Importé - 10'!B284","v":0},{"$f":"'INVENT.Mob&Mat Bur Importé - 10'!F284","v":0},{"$f":"'INVENT.Mob&Mat Bur Importé - 10'!C284","v":0},{"$f":"'INVENT.Mob&Mat Bur Importé - 10'!H284","v":0},null,0,0,0,0,0,0,null,null,0,0,0,0]
[279,{"$f":"'INVENT.Mob&Mat Bur Importé - 10'!B285","v":0},{"$f":"'INVENT.Mob&Mat Bur Importé - 10'!F285","v":0},{"$f":"'INVENT.Mob&Mat Bur Importé - 10'!C285","v":0},{"$f":"'INVENT.Mob&Mat Bur Importé - 10'!H285","v":0},null,0,0,0,0,0,0,null,null,0,0,0,0]
[280,{"$f":"'INVENT.Mob&Mat Bur Importé - 10'!B286","v":0},{"$f":"'INVENT.Mob&Mat Bur Importé - 10'!F286","v":0},{"$f":"'INVENT.Mob&Mat Bur Importé - 10'!C286","v":0},{"$f":"'INVENT.Mob&Mat Bur Importé - 10'!H286","v":0},null,0,0,0,0,0,0,null,null,0,0,0,0]
[281,{"$f":"'INVENT.Mob&Mat Bur Importé - 10'!B287","v":0},{"$f":"'INVENT.Mob&Mat Bur Importé - 10'!F287","v":0},{"$f":"'INVENT.Mob&Mat Bur Importé - 10'!C287","v":0},{"$f":"'INVENT.Mob&Mat Bur Importé - 10'!H287","v":0},null,0,0,0,0,0,0,null,null,0,0,0,0]
[282,{"$f":"'INVENT.Mob&Mat Bur Importé - 10'!B288","v":0},{"$f":"'INVENT.Mob&Mat Bur Importé - 10'!F288","v":0},{"$f":"'INVENT.Mob&Mat Bur Importé - 10'!C288","v":0},{"$f":"'INVENT.Mob&Mat Bur Importé - 10'!H288","v":0},null,0,0,0,0,0,0,null,null,0,0,0,0]
[283,{"$f":"'INVENT.Mob&Mat Bur Importé - 10'!B289","v":0},{"$f":"'INVENT.Mob&Mat Bur Importé - 10'!F289","v":0},{"$f":"'INVENT.Mob&Mat Bur Importé - 10'!C289","v":0},{"$f":"'INVENT.Mob&Mat Bur Importé - 10'!H289","v":0},null,0,0,0,0,0,0,null,null,0,0,0,0]
[284,{"$f":"'INVENT.Mob&Mat Bur Importé - 10'!B290","v":0},{"$f":"'INVENT.Mob&Mat Bur Importé - 10'!F290","v":0},{"$f":"'INVENT.Mob&Mat Bur Importé - 10'!C290","v":0},{"$f":"'INVENT.Mob&Mat Bur Importé - 10'!H290","v":0},null,0,0,0,0,0,0,null,null,0,0,0,0]
[285,{"$f":"'INVENT.Mob&Mat Bur Importé - 10'!B291","v":0},{"$f":"'INVENT.Mob&Mat Bur Importé - 10'!F291","v":0},{"$f":"'INVENT.Mob&Mat Bur Importé - 10'!C291","v":0},{"$f":"'INVENT.Mob&Mat Bur Importé - 10'!H291","v":0},null,0,0,0,0,0,0,null,null,0,0,0,0]
[286,{"$f":"'INVENT.Mob&Mat Bur Importé - 10'!B292","v":0},{"$f":"'INVENT.Mob&Mat Bur Importé - 10'!F292","v":0},{"$f":"'INVENT.Mob&Mat Bur Importé - 10'!C292","v":0},{"$f":"'INVENT.Mob&Mat Bur Importé - 10'!H292","v":0},null,0,0,0,0,0,0,null,null,0,0,0,0]
[287,{"$f":"'INVENT.Mob&Mat Bur Importé - 10'!B293","v":0},{"$f":"'INVENT.Mob&Mat Bur Importé - 10'!F293","v":0},{"$f":"'INVENT.Mob&Mat Bur Importé - 10'!C293","v":0},{"$f":"'INVENT.Mob&Mat Bur Importé - 10'!H293","v":0},null,0,0,0,0,0,0,null,null,0,0,0,0]
[288,{"$f":"'INVENT.Mob&Mat Bur Importé - 10'!B294","v":0},{"$f":"'INVENT.Mob&Mat Bur Importé - 10'!F294","v":0},{"$f":"'INVENT.Mob&Mat Bur Importé - 10'!C294","v":0},{"$f":"'INVENT.Mob&Mat Bur Importé - 10'!H294","v":0},null,0,0,0,0,0,0,null,null,0,0,0,0]
[289,{"$f":"'INVENT.Mob&Mat Bur Importé - 10'!B295","v":0},{"$f":"'INVENT.Mob&Mat Bur Importé - 10'!F295","v":0},{"$f":"'INVENT.Mob&Mat Bur Importé - 10'!C295","v":0},{"$f":"'INVENT.Mob&Mat Bur Importé - 10'!H295","v":0},null,0,0,0,0,0,0,null,null,0,0,0,0]
[290,{"$f":"'INVENT.Mob&Mat Bur Importé - 10'!B296","v":0},{"$f":"'INVENT.Mob&Mat Bur Importé - 10'!F296","v":0},{"$f":"'INVENT.Mob&Mat Bur Importé - 10'!C296","v":0},{"$f":"'INVENT.Mob&Mat Bur Importé - 10'!H296","v":0},null,0,0,0,0,0,0,null,null,0,0,0,0]
[291,{"$f":"'INVENT.Mob&Mat Bur Importé - 10'!B297","v":0},{"$f":"'INVENT.Mob&Mat Bur Importé - 10'!F297","v":0},{"$f":"'INVENT.Mob&Mat Bur Importé - 10'!C297","v":0},{"$f":"'INVENT.Mob&Mat Bur Importé - 10'!H297","v":0},null,0,0,0,0,0,0,null,null,0,0,0,0]
[292,{"$f":"'INVENT.Mob&Mat Bur Importé - 10'!B298","v":0},{"$f":"'INVENT.Mob&Mat Bur Importé - 10'!F298","v":0},{"$f":"'INVENT.Mob&Mat Bur Importé - 10'!C298","v":0},{"$f":"'INVENT.Mob&Mat Bur Importé - 10'!H298","v":0},null,0,0,0,0,0,0,null,null,0,0,0,0]
[293,{"$f":"'INVENT.Mob&Mat Bur Importé - 10'!B299","v":0},{"$f":"'INVENT.Mob&Mat Bur Importé - 10'!F299","v":0},{"$f":"'INVENT.Mob&Mat Bur Importé - 10'!C299","v":0},{"$f":"'INVENT.Mob&Mat Bur Importé - 10'!H299","v":0},null,{"$f":"F300*E300","v":0},{"$f":"E300*1%","v":0},{"$f":"E300*1%","v":0},{"$f":"E300*0.5%","v":0},{"$f":"(E300+G300+H300)*18%","v":0},{"$f":"SUM(G300:K300)+E300","v":0},null,null,{"$f":"(M300+N300)*18%","v":0},{"$f":"O300+N300+M300","v":0},{"$f":"+R300-O300-K300","v":0},{"$f":"P300+L300","v":0}]
[294,{"$f":"'INVENT.Mob&Mat Bur Importé - 10'!B300","v":0},{"$f":"'INVENT.Mob&Mat Bur Importé - 10'!F300","v":0},{"$f":"'INVENT.Mob&Mat Bur Importé - 10'!C300","v":0},{"$f":"'INVENT.Mob&Mat Bur Importé - 10'!H300","v":0},null,0,0,0,0,0,0,null,null,0,0,0,0]
[295,{"$f":"'INVENT.Mob&Mat Bur Importé - 10'!B301","v":0},{"$f":"'INVENT.Mob&Mat Bur Importé - 10'!F301","v":0},{"$f":"'INVENT.Mob&Mat Bur Importé - 10'!C301","v":0},{"$f":"'INVENT.Mob&Mat Bur Importé - 10'!H301","v":0},null,0,0,0,0,0,0,null,null,0,0,0,0]
[296,{"$f":"'INVENT.Mob&Mat Bur Importé - 10'!B302","v":0},{"$f":"'INVENT.Mob&Mat Bur Importé - 10'!F302","v":0},{"$f":"'INVENT.Mob&Mat Bur Importé - 10'!C302","v":0},{"$f":"'INVENT.Mob&Mat Bur Importé - 10'!H302","v":0},null,0,0,0,0,0,0,null,null,0,0,0,0]
[297,{"$f":"'INVENT.Mob&Mat Bur Importé - 10'!B303","v":0},{"$f":"'INVENT.Mob&Mat Bur Importé - 10'!F303","v":0},{"$f":"'INVENT.Mob&Mat Bur Importé - 10'!C303","v":0},{"$f":"'INVENT.Mob&Mat Bur Importé - 10'!H303","v":0},null,0,0,0,0,0,0,null,null,0,0,0,0]
[298,{"$f":"'INVENT.Mob&Mat Bur Importé - 10'!B304","v":0},{"$f":"'INVENT.Mob&Mat Bur Importé - 10'!F304","v":0},{"$f":"'INVENT.Mob&Mat Bur Importé - 10'!C304","v":0},{"$f":"'INVENT.Mob&Mat Bur Importé - 10'!H304","v":0},null,0,0,0,0,0,0,null,null,0,0,0,0]
[299,{"$f":"'INVENT.Mob&Mat Bur Importé - 10'!B305","v":0},{"$f":"'INVENT.Mob&Mat Bur Importé - 10'!F305","v":0},{"$f":"'INVENT.Mob&Mat Bur Importé - 10'!C305","v":0},{"$f":"'INVENT.Mob&Mat Bur Importé - 10'!H305","v":0},null,0,0,0,0,0,0,null,null,0,0,0,0]
[300,{"$f":"'INVENT.Mob&Mat Bur Importé - 10'!B306","v":0},{"$f":"'INVENT.Mob&Mat Bur Importé - 10'!F306","v":0},{"$f":"'INVENT.Mob&Mat Bur Importé - 10'!C306","v":0},{"$f":"'INVENT.Mob&Mat Bur Importé - 10'!H306","v":0},null,0,0,0,0,0,0,null,null,0,0,0,0]
[301,{"$f":"'INVENT.Mob&Mat Bur Importé - 10'!B307","v":0},{"$f":"'INVENT.Mob&Mat Bur Importé - 10'!F307","v":0},{"$f":"'INVENT.Mob&Mat Bur Importé - 10'!C307","v":0},{"$f":"'INVENT.Mob&Mat Bur Importé - 10'!H307","v":0},null,0,0,0,0,0,0,null,null,0,0,0,0]
[302,{"$f":"'INVENT.Mob&Mat Bur Importé - 10'!B308","v":0},{"$f":"'INVENT.Mob&Mat Bur Importé - 10'!F308","v":0},{"$f":"'INVENT.Mob&Mat Bur Importé - 10'!C308","v":0},{"$f":"'INVENT.Mob&Mat Bur Importé - 10'!H308","v":0},null,0,0,0,0,0,0,null,null,0,0,0,0]
[303,{"$f":"'INVENT.Mob&Mat Bur Importé - 10'!B309","v":0},{"$f":"'INVENT.Mob&Mat Bur Importé - 10'!F309","v":0},{"$f":"'INVENT.Mob&Mat Bur Importé - 10'!C309","v":0},{"$f":"'INVENT.Mob&Mat Bur Importé - 10'!H309","v":0},null,0,0,0,0,0,0,null,null,0,0,0,0]
[304,{"$f":"'INVENT.Mob&Mat Bur Importé - 10'!B310","v":0},{"$f":"'INVENT.Mob&Mat Bur Importé - 10'!F310","v":0},{"$f":"'INVENT.Mob&Mat Bur Importé - 10'!C310","v":0},{"$f":"'INVENT.Mob&Mat Bur Importé - 10'!H310","v":0},null,0,0,0,0,0,0,null,null,0,0,0,0]
[305,{"$f":"'INVENT.Mob&Mat Bur Importé - 10'!B311","v":0},{"$f":"'INVENT.Mob&Mat Bur Importé - 10'!F311","v":0},{"$f":"'INVENT.Mob&Mat Bur Importé - 10'!C311","v":0},{"$f":"'INVENT.Mob&Mat Bur Importé - 10'!H311","v":0},null,0,0,0,0,0,0,null,null,0,0,0,0]
[306,{"$f":"'INVENT.Mob&Mat Bur Importé - 10'!B312","v":0},{"$f":"'INVENT.Mob&Mat Bur Importé - 10'!F312","v":0},{"$f":"'INVENT.Mob&Mat Bur Importé - 10'!C312","v":0},{"$f":"'INVENT.Mob&Mat Bur Importé - 10'!H312","v":0},null,0,0,0,0,0,0,null,null,0,0,0,0]
[307,{"$f":"'INVENT.Mob&Mat Bur Importé - 10'!B313","v":0},{"$f":"'INVENT.Mob&Mat Bur Importé - 10'!F313","v":0},{"$f":"'INVENT.Mob&Mat Bur Importé - 10'!C313","v":0},{"$f":"'INVENT.Mob&Mat Bur Importé - 10'!H313","v":0},null,0,0,0,0,0,0,null,null,0,0,0,0]
[308,{"$f":"'INVENT.Mob&Mat Bur Importé - 10'!B314","v":0},{"$f":"'INVENT.Mob&Mat Bur Importé - 10'!F314","v":0},{"$f":"'INVENT.Mob&Mat Bur Importé - 10'!C314","v":0},{"$f":"'INVENT.Mob&Mat Bur Importé - 10'!H314","v":0},null,0,0,0,0,0,0,null,null,0,0,0,0]
[309,{"$f":"'INVENT.Mob&Mat Bur Importé - 10'!B315","v":0},{"$f":"'INVENT.Mob&Mat Bur Importé - 10'!F315","v":0},{"$f":"'INVENT.Mob&Mat Bur Importé - 10'!C315","v":0},{"$f":"'INVENT.Mob&Mat Bur Importé - 10'!H315","v":0},null,0,0,0,0,0,0,null,null,0,0,0,0]
[310,{"$f":"'INVENT.Mob&Mat Bur Importé - 10'!B316","v":0},{"$f":"'INVENT.Mob&Mat Bur Importé - 10'!F316","v":0},{"$f":"'INVENT.Mob&Mat Bur Importé - 10'!C316","v":0},{"$f":"'INVENT.Mob&Mat Bur Importé - 10'!H316","v":0},null,0,0,0,0,0,0,null,null,0,0,0,0]
[311,{"$f":"'INVENT.Mob&Mat Bur Importé - 10'!B317","v":0},{"$f":"'INVENT.Mob&Mat Bur Importé - 10'!F317","v":0},{"$f":"'INVENT.Mob&Mat Bur Importé - 10'!C317","v":0},{"$f":"'INVENT.Mob&Mat Bur Importé - 10'!H317","v":0},null,0,0,0,0,0,0,null,null,0,0,0,0]
[312,{"$f":"'INVENT.Mob&Mat Bur Importé - 10'!B318","v":0},{"$f":"'INVENT.Mob&Mat Bur Importé - 10'!F318","v":0},{"$f":"'INVENT.Mob&Mat Bur Importé - 10'!C318","v":0},{"$f":"'INVENT.Mob&Mat Bur Importé - 10'!H318","v":0},null,0,0,0,0,0,0,null,null,0,0,0,0]
[313,{"$f":"'INVENT.Mob&Mat Bur Importé - 10'!B319","v":0},{"$f":"'INVENT.Mob&Mat Bur Importé - 10'!F319","v":0},{"$f":"'INVENT.Mob&Mat Bur Importé - 10'!C319","v":0},{"$f":"'INVENT.Mob&Mat Bur Importé - 10'!H319","v":0},null,0,0,0,0,0,0,null,null,0,0,0,0]
[314,{"$f":"'INVENT.Mob&Mat Bur Importé - 10'!B320","v":0},{"$f":"'INVENT.Mob&Mat Bur Importé - 10'!F320","v":0},{"$f":"'INVENT.Mob&Mat Bur Importé - 10'!C320","v":0},{"$f":"'INVENT.Mob&Mat Bur Importé - 10'!H320","v":0},null,0,0,0,0,0,0,null,null,0,0,0,0]
[315,{"$f":"'INVENT.Mob&Mat Bur Importé - 10'!B321","v":0},{"$f":"'INVENT.Mob&Mat Bur Importé - 10'!F321","v":0},{"$f":"'INVENT.Mob&Mat Bur Importé - 10'!C321","v":0},{"$f":"'INVENT.Mob&Mat Bur Importé - 10'!H321","v":0},null,0,0,0,0,0,0,null,null,0,0,0,0]
[316,{"$f":"'INVENT.Mob&Mat Bur Importé - 10'!B322","v":0},{"$f":"'INVENT.Mob&Mat Bur Importé - 10'!F322","v":0},{"$f":"'INVENT.Mob&Mat Bur Importé - 10'!C322","v":0},{"$f":"'INVENT.Mob&Mat Bur Importé - 10'!H322","v":0},null,0,0,0,0,0,0,null,null,0,0,0,0]
[317,{"$f":"'INVENT.Mob&Mat Bur Importé - 10'!B323","v":0},{"$f":"'INVENT.Mob&Mat Bur Importé - 10'!F323","v":0},{"$f":"'INVENT.Mob&Mat Bur Importé - 10'!C323","v":0},{"$f":"'INVENT.Mob&Mat Bur Importé - 10'!H323","v":0},null,0,0,0,0,0,0,null,null,0,0,0,0]
[318,{"$f":"'INVENT.Mob&Mat Bur Importé - 10'!B324","v":0},{"$f":"'INVENT.Mob&Mat Bur Importé - 10'!F324","v":0},{"$f":"'INVENT.Mob&Mat Bur Importé - 10'!C324","v":0},{"$f":"'INVENT.Mob&Mat Bur Importé - 10'!H324","v":0},null,0,0,0,0,0,0,null,null,0,0,0,0]
[319,{"$f":"'INVENT.Mob&Mat Bur Importé - 10'!B325","v":0},{"$f":"'INVENT.Mob&Mat Bur Importé - 10'!F325","v":0},{"$f":"'INVENT.Mob&Mat Bur Importé - 10'!C325","v":0},{"$f":"'INVENT.Mob&Mat Bur Importé - 10'!H325","v":0},null,0,0,0,0,0,0,null,null,0,0,0,0]
[320,{"$f":"'INVENT.Mob&Mat Bur Importé - 10'!B326","v":0},{"$f":"'INVENT.Mob&Mat Bur Importé - 10'!F326","v":0},{"$f":"'INVENT.Mob&Mat Bur Importé - 10'!C326","v":0},{"$f":"'INVENT.Mob&Mat Bur Importé - 10'!H326","v":0},null,0,0,0,0,0,0,null,null,0,0,0,0]
[321,{"$f":"'INVENT.Mob&Mat Bur Importé - 10'!B327","v":0},{"$f":"'INVENT.Mob&Mat Bur Importé - 10'!F327","v":0},{"$f":"'INVENT.Mob&Mat Bur Importé - 10'!C327","v":0},{"$f":"'INVENT.Mob&Mat Bur Importé - 10'!H327","v":0},null,0,0,0,0,0,0,null,null,0,0,0,0]
[322,{"$f":"'INVENT.Mob&Mat Bur Importé - 10'!B328","v":0},{"$f":"'INVENT.Mob&Mat Bur Importé - 10'!F328","v":0},{"$f":"'INVENT.Mob&Mat Bur Importé - 10'!C328","v":0},{"$f":"'INVENT.Mob&Mat Bur Importé - 10'!H328","v":0},null,0,0,0,0,0,0,null,null,0,0,0,0]
[{"$f":"+A329+1","v":323},{"$f":"'INVENT.Mob&Mat Bur Importé - 10'!B329","v":0},{"$f":"'INVENT.Mob&Mat Bur Importé - 10'!F329","v":0},{"$f":"'INVENT.Mob&Mat Bur Importé - 10'!C329","v":0},{"$f":"'INVENT.Mob&Mat Bur Importé - 10'!H329","v":0},null,0,0,0,0,0,0,null,null,0,0,0,0]
[324,{"$f":"'INVENT.Mob&Mat Bur Importé - 10'!B330","v":0},{"$f":"'INVENT.Mob&Mat Bur Importé - 10'!F330","v":0},{"$f":"'INVENT.Mob&Mat Bur Importé - 10'!C330","v":0},{"$f":"'INVENT.Mob&Mat Bur Importé - 10'!H330","v":0},null,0,0,0,0,0,0,null,null,0,0,0,0]
[325,{"$f":"'INVENT.Mob&Mat Bur Importé - 10'!B331","v":0},{"$f":"'INVENT.Mob&Mat Bur Importé - 10'!F331","v":0},{"$f":"'INVENT.Mob&Mat Bur Importé - 10'!C331","v":0},{"$f":"'INVENT.Mob&Mat Bur Importé - 10'!H331","v":0},null,0,0,0,0,0,0,null,null,0,0,0,0]
[326,{"$f":"'INVENT.Mob&Mat Bur Importé - 10'!B332","v":0},{"$f":"'INVENT.Mob&Mat Bur Importé - 10'!F332","v":0},{"$f":"'INVENT.Mob&Mat Bur Importé - 10'!C332","v":0},{"$f":"'INVENT.Mob&Mat Bur Importé - 10'!H332","v":0},null,0,0,0,0,0,0,null,null,0,0,0,0]
[327,{"$f":"'INVENT.Mob&Mat Bur Importé - 10'!B333","v":0},{"$f":"'INVENT.Mob&Mat Bur Importé - 10'!F333","v":0},{"$f":"'INVENT.Mob&Mat Bur Importé - 10'!C333","v":0},{"$f":"'INVENT.Mob&Mat Bur Importé - 10'!H333","v":0},null,0,0,0,0,0,0,null,null,0,0,0,0]
[328,{"$f":"'INVENT.Mob&Mat Bur Importé - 10'!B334","v":0},{"$f":"'INVENT.Mob&Mat Bur Importé - 10'!F334","v":0},{"$f":"'INVENT.Mob&Mat Bur Importé - 10'!C334","v":0},{"$f":"'INVENT.Mob&Mat Bur Importé - 10'!H334","v":0},null,0,0,0,0,0,0,null,null,0,0,0,0]
[329,{"$f":"'INVENT.Mob&Mat Bur Importé - 10'!B335","v":0},{"$f":"'INVENT.Mob&Mat Bur Importé - 10'!F335","v":0},{"$f":"'INVENT.Mob&Mat Bur Importé - 10'!C335","v":0},{"$f":"'INVENT.Mob&Mat Bur Importé - 10'!H335","v":0},null,0,0,0,0,0,0,null,null,0,0,0,0]
[330,{"$f":"'INVENT.Mob&Mat Bur Importé - 10'!B336","v":0},{"$f":"'INVENT.Mob&Mat Bur Importé - 10'!F336","v":0},{"$f":"'INVENT.Mob&Mat Bur Importé - 10'!C336","v":0},{"$f":"'INVENT.Mob&Mat Bur Importé - 10'!H336","v":0},null,0,0,0,0,0,0,null,null,0,0,0,0]
[331,{"$f":"'INVENT.Mob&Mat Bur Importé - 10'!B337","v":0},{"$f":"'INVENT.Mob&Mat Bur Importé - 10'!F337","v":0},{"$f":"'INVENT.Mob&Mat Bur Importé - 10'!C337","v":0},{"$f":"'INVENT.Mob&Mat Bur Importé - 10'!H337","v":0},null,0,0,0,0,0,0,null,null,0,0,0,0]
[332,{"$f":"'INVENT.Mob&Mat Bur Importé - 10'!B338","v":0},{"$f":"'INVENT.Mob&Mat Bur Importé - 10'!F338","v":0},{"$f":"'INVENT.Mob&Mat Bur Importé - 10'!C338","v":0},{"$f":"'INVENT.Mob&Mat Bur Importé - 10'!H338","v":0},null,0,0,0,0,0,0,null,null,0,0,0,0]
[333,{"$f":"'INVENT.Mob&Mat Bur Importé - 10'!B339","v":0},{"$f":"'INVENT.Mob&Mat Bur Importé - 10'!F339","v":0},{"$f":"'INVENT.Mob&Mat Bur Importé - 10'!C339","v":0},{"$f":"'INVENT.Mob&Mat Bur Importé - 10'!H339","v":0},null,0,0,0,0,0,0,null,null,0,0,0,0]
[334,{"$f":"'INVENT.Mob&Mat Bur Importé - 10'!B340","v":0},{"$f":"'INVENT.Mob&Mat Bur Importé - 10'!F340","v":0},{"$f":"'INVENT.Mob&Mat Bur Importé - 10'!C340","v":0},{"$f":"'INVENT.Mob&Mat Bur Importé - 10'!H340","v":0},null,0,0,0,0,0,0,null,null,0,0,0,0]
[335,{"$f":"'INVENT.Mob&Mat Bur Importé - 10'!B341","v":0},{"$f":"'INVENT.Mob&Mat Bur Importé - 10'!F341","v":0},{"$f":"'INVENT.Mob&Mat Bur Importé - 10'!C341","v":0},{"$f":"'INVENT.Mob&Mat Bur Importé - 10'!H341","v":0},null,0,0,0,0,0,0,null,null,0,0,0,0]
[336,{"$f":"'INVENT.Mob&Mat Bur Importé - 10'!B342","v":0},{"$f":"'INVENT.Mob&Mat Bur Importé - 10'!F342","v":0},{"$f":"'INVENT.Mob&Mat Bur Importé - 10'!C342","v":0},{"$f":"'INVENT.Mob&Mat Bur Importé - 10'!H342","v":0},null,0,0,0,0,0,0,null,null,0,0,0,0]
[337,{"$f":"'INVENT.Mob&Mat Bur Importé - 10'!B343","v":0},{"$f":"'INVENT.Mob&Mat Bur Importé - 10'!F343","v":0},{"$f":"'INVENT.Mob&Mat Bur Importé - 10'!C343","v":0},{"$f":"'INVENT.Mob&Mat Bur Importé - 10'!H343","v":0},null,0,0,0,0,0,0,null,null,0,0,0,0]
[338,{"$f":"'INVENT.Mob&Mat Bur Importé - 10'!B344","v":0},{"$f":"'INVENT.Mob&Mat Bur Importé - 10'!F344","v":0},{"$f":"'INVENT.Mob&Mat Bur Importé - 10'!C344","v":0},{"$f":"'INVENT.Mob&Mat Bur Importé - 10'!H344","v":0},null,0,0,0,0,0,0,null,null,0,0,0,0]
[339,{"$f":"'INVENT.Mob&Mat Bur Importé - 10'!B345","v":0},{"$f":"'INVENT.Mob&Mat Bur Importé - 10'!F345","v":0},{"$f":"'INVENT.Mob&Mat Bur Importé - 10'!C345","v":0},{"$f":"'INVENT.Mob&Mat Bur Importé - 10'!H345","v":0},null,0,0,0,0,0,0,null,null,0,0,0,0]
[340,{"$f":"'INVENT.Mob&Mat Bur Importé - 10'!B346","v":0},{"$f":"'INVENT.Mob&Mat Bur Importé - 10'!F346","v":0},{"$f":"'INVENT.Mob&Mat Bur Importé - 10'!C346","v":0},{"$f":"'INVENT.Mob&Mat Bur Importé - 10'!H346","v":0},null,0,0,0,0,0,0,null,null,0,0,0,0]
[341,{"$f":"'INVENT.Mob&Mat Bur Importé - 10'!B347","v":0},{"$f":"'INVENT.Mob&Mat Bur Importé - 10'!F347","v":0},{"$f":"'INVENT.Mob&Mat Bur Importé - 10'!C347","v":0},{"$f":"'INVENT.Mob&Mat Bur Importé - 10'!H347","v":0},null,0,0,0,0,0,0,null,null,0,0,0,0]
[342,{"$f":"'INVENT.Mob&Mat Bur Importé - 10'!B348","v":0},{"$f":"'INVENT.Mob&Mat Bur Importé - 10'!F348","v":0},{"$f":"'INVENT.Mob&Mat Bur Importé - 10'!C348","v":0},{"$f":"'INVENT.Mob&Mat Bur Importé - 10'!H348","v":0},null,0,0,0,0,0,0,null,null,0,0,0,0]
[343,{"$f":"'INVENT.Mob&Mat Bur Importé - 10'!B349","v":0},{"$f":"'INVENT.Mob&Mat Bur Importé - 10'!F349","v":0},{"$f":"'INVENT.Mob&Mat Bur Importé - 10'!C349","v":0},{"$f":"'INVENT.Mob&Mat Bur Importé - 10'!H349","v":0},null,0,0,0,0,0,0,null,null,0,0,0,0]
[344,{"$f":"'INVENT.Mob&Mat Bur Importé - 10'!B350","v":0},{"$f":"'INVENT.Mob&Mat Bur Importé - 10'!F350","v":0},{"$f":"'INVENT.Mob&Mat Bur Importé - 10'!C350","v":0},{"$f":"'INVENT.Mob&Mat Bur Importé - 10'!H350","v":0},null,0,0,0,0,0,0,null,null,0,0,0,0]
[345,{"$f":"'INVENT.Mob&Mat Bur Importé - 10'!B351","v":0},{"$f":"'INVENT.Mob&Mat Bur Importé - 10'!F351","v":0},{"$f":"'INVENT.Mob&Mat Bur Importé - 10'!C351","v":0},{"$f":"'INVENT.Mob&Mat Bur Importé - 10'!H351","v":0},null,0,0,0,0,0,0,null,null,0,0,0,0]
[346,{"$f":"'INVENT.Mob&Mat Bur Importé - 10'!B352","v":0},{"$f":"'INVENT.Mob&Mat Bur Importé - 10'!F352","v":0},{"$f":"'INVENT.Mob&Mat Bur Importé - 10'!C352","v":0},{"$f":"'INVENT.Mob&Mat Bur Importé - 10'!H352","v":0},null,0,0,0,0,0,0,null,null,0,0,0,0]
[347,{"$f":"'INVENT.Mob&Mat Bur Importé - 10'!B353","v":0},{"$f":"'INVENT.Mob&Mat Bur Importé - 10'!F353","v":0},{"$f":"'INVENT.Mob&Mat Bur Importé - 10'!C353","v":0},{"$f":"'INVENT.Mob&Mat Bur Importé - 10'!H353","v":0},null,0,0,0,0,0,0,null,null,0,0,0,0]
[348,{"$f":"'INVENT.Mob&Mat Bur Importé - 10'!B354","v":0},{"$f":"'INVENT.Mob&Mat Bur Importé - 10'!F354","v":0},{"$f":"'INVENT.Mob&Mat Bur Importé - 10'!C354","v":0},{"$f":"'INVENT.Mob&Mat Bur Importé - 10'!H354","v":0},null,0,0,0,0,0,0,null,null,0,0,0,0]
[349,{"$f":"'INVENT.Mob&Mat Bur Importé - 10'!B355","v":0},{"$f":"'INVENT.Mob&Mat Bur Importé - 10'!F355","v":0},{"$f":"'INVENT.Mob&Mat Bur Importé - 10'!C355","v":0},{"$f":"'INVENT.Mob&Mat Bur Importé - 10'!H355","v":0},null,0,0,0,0,0,0,null,null,0,0,0,0]
[350,{"$f":"'INVENT.Mob&Mat Bur Importé - 10'!B356","v":0},{"$f":"'INVENT.Mob&Mat Bur Importé - 10'!F356","v":0},{"$f":"'INVENT.Mob&Mat Bur Importé - 10'!C356","v":0},{"$f":"'INVENT.Mob&Mat Bur Importé - 10'!H356","v":0},null,0,0,0,0,0,0,null,null,0,0,0,0]
[351,{"$f":"'INVENT.Mob&Mat Bur Importé - 10'!B357","v":0},{"$f":"'INVENT.Mob&Mat Bur Importé - 10'!F357","v":0},{"$f":"'INVENT.Mob&Mat Bur Importé - 10'!C357","v":0},{"$f":"'INVENT.Mob&Mat Bur Importé - 10'!H357","v":0},null,0,0,0,0,0,0,null,null,0,0,0,0]
[352,{"$f":"'INVENT.Mob&Mat Bur Importé - 10'!B358","v":0},{"$f":"'INVENT.Mob&Mat Bur Importé - 10'!F358","v":0},{"$f":"'INVENT.Mob&Mat Bur Importé - 10'!C358","v":0},{"$f":"'INVENT.Mob&Mat Bur Importé - 10'!H358","v":0},null,0,0,0,0,0,0,null,null,0,0,0,0]
[353,{"$f":"'INVENT.Mob&Mat Bur Importé - 10'!B359","v":0},{"$f":"'INVENT.Mob&Mat Bur Importé - 10'!F359","v":0},{"$f":"'INVENT.Mob&Mat Bur Importé - 10'!C359","v":0},{"$f":"'INVENT.Mob&Mat Bur Importé - 10'!H359","v":0},null,0,0,0,0,0,0,null,null,0,0,0,0]
[354,{"$f":"'INVENT.Mob&Mat Bur Importé - 10'!B360","v":0},{"$f":"'INVENT.Mob&Mat Bur Importé - 10'!F360","v":0},{"$f":"'INVENT.Mob&Mat Bur Importé - 10'!C360","v":0},{"$f":"'INVENT.Mob&Mat Bur Importé - 10'!H360","v":0},null,0,0,0,0,0,0,null,null,0,0,0,0]
[355,{"$f":"'INVENT.Mob&Mat Bur Importé - 10'!B361","v":0},{"$f":"'INVENT.Mob&Mat Bur Importé - 10'!F361","v":0},{"$f":"'INVENT.Mob&Mat Bur Importé - 10'!C361","v":0},{"$f":"'INVENT.Mob&Mat Bur Importé - 10'!H361","v":0},null,0,0,0,0,0,0,null,null,0,0,0,0]
[356,{"$f":"'INVENT.Mob&Mat Bur Importé - 10'!B362","v":0},{"$f":"'INVENT.Mob&Mat Bur Importé - 10'!F362","v":0},{"$f":"'INVENT.Mob&Mat Bur Importé - 10'!C362","v":0},{"$f":"'INVENT.Mob&Mat Bur Importé - 10'!H362","v":0},null,0,0,0,0,0,0,null,null,0,0,0,0]
[357,{"$f":"'INVENT.Mob&Mat Bur Importé - 10'!B363","v":0},{"$f":"'INVENT.Mob&Mat Bur Importé - 10'!F363","v":0},{"$f":"'INVENT.Mob&Mat Bur Importé - 10'!C363","v":0},{"$f":"'INVENT.Mob&Mat Bur Importé - 10'!H363","v":0},null,{"$f":"F364*E364","v":0},{"$f":"E364*1%","v":0},{"$f":"E364*1%","v":0},{"$f":"E364*0.5%","v":0},{"$f":"(E364+G364+H364)*18%","v":0},{"$f":"SUM(G364:K364)+E364","v":0},null,null,{"$f":"(M364+N364)*18%","v":0},{"$f":"O364+N364+M364","v":0},{"$f":"+R364-O364-K364","v":0},{"$f":"P364+L364","v":0}]
[358,{"$f":"'INVENT.Mob&Mat Bur Importé - 10'!B364","v":0},{"$f":"'INVENT.Mob&Mat Bur Importé - 10'!F364","v":0},{"$f":"'INVENT.Mob&Mat Bur Importé - 10'!C364","v":0},{"$f":"'INVENT.Mob&Mat Bur Importé - 10'!H364","v":0},null,0,0,0,0,0,0,null,null,0,0,0,0]
[359,{"$f":"'INVENT.Mob&Mat Bur Importé - 10'!B365","v":0},{"$f":"'INVENT.Mob&Mat Bur Importé - 10'!F365","v":0},{"$f":"'INVENT.Mob&Mat Bur Importé - 10'!C365","v":0},{"$f":"'INVENT.Mob&Mat Bur Importé - 10'!H365","v":0},null,0,0,0,0,0,0,null,null,0,0,0,0]
[360,{"$f":"'INVENT.Mob&Mat Bur Importé - 10'!B366","v":0},{"$f":"'INVENT.Mob&Mat Bur Importé - 10'!F366","v":0},{"$f":"'INVENT.Mob&Mat Bur Importé - 10'!C366","v":0},{"$f":"'INVENT.Mob&Mat Bur Importé - 10'!H366","v":0},null,0,0,0,0,0,0,null,null,0,0,0,0]
[361,{"$f":"'INVENT.Mob&Mat Bur Importé - 10'!B367","v":0},{"$f":"'INVENT.Mob&Mat Bur Importé - 10'!F367","v":0},{"$f":"'INVENT.Mob&Mat Bur Importé - 10'!C367","v":0},{"$f":"'INVENT.Mob&Mat Bur Importé - 10'!H367","v":0},null,0,0,0,0,0,0,null,null,0,0,0,0]
[362,{"$f":"'INVENT.Mob&Mat Bur Importé - 10'!B368","v":0},{"$f":"'INVENT.Mob&Mat Bur Importé - 10'!F368","v":0},{"$f":"'INVENT.Mob&Mat Bur Importé - 10'!C368","v":0},{"$f":"'INVENT.Mob&Mat Bur Importé - 10'!H368","v":0},null,0,0,0,0,0,0,null,null,0,0,0,0]
[363,{"$f":"'INVENT.Mob&Mat Bur Importé - 10'!B369","v":0},{"$f":"'INVENT.Mob&Mat Bur Importé - 10'!F369","v":0},{"$f":"'INVENT.Mob&Mat Bur Importé - 10'!C369","v":0},{"$f":"'INVENT.Mob&Mat Bur Importé - 10'!H369","v":0},null,0,0,0,0,0,0,null,null,0,0,0,0]
[364,{"$f":"'INVENT.Mob&Mat Bur Importé - 10'!B370","v":0},{"$f":"'INVENT.Mob&Mat Bur Importé - 10'!F370","v":0},{"$f":"'INVENT.Mob&Mat Bur Importé - 10'!C370","v":0},{"$f":"'INVENT.Mob&Mat Bur Importé - 10'!H370","v":0},null,0,0,0,0,0,0,null,null,0,0,0,0]
[365,{"$f":"'INVENT.Mob&Mat Bur Importé - 10'!B371","v":0},{"$f":"'INVENT.Mob&Mat Bur Importé - 10'!F371","v":0},{"$f":"'INVENT.Mob&Mat Bur Importé - 10'!C371","v":0},{"$f":"'INVENT.Mob&Mat Bur Importé - 10'!H371","v":0},null,0,0,0,0,0,0,null,null,0,0,0,0]
[366,{"$f":"'INVENT.Mob&Mat Bur Importé - 10'!B372","v":0},{"$f":"'INVENT.Mob&Mat Bur Importé - 10'!F372","v":0},{"$f":"'INVENT.Mob&Mat Bur Importé - 10'!C372","v":0},{"$f":"'INVENT.Mob&Mat Bur Importé - 10'!H372","v":0},null,0,0,0,0,0,0,null,null,0,0,0,0]
[367,{"$f":"'INVENT.Mob&Mat Bur Importé - 10'!B373","v":0},{"$f":"'INVENT.Mob&Mat Bur Importé - 10'!F373","v":0},{"$f":"'INVENT.Mob&Mat Bur Importé - 10'!C373","v":0},{"$f":"'INVENT.Mob&Mat Bur Importé - 10'!H373","v":0},null,0,0,0,0,0,0,null,null,0,0,0,0]
[368,{"$f":"'INVENT.Mob&Mat Bur Importé - 10'!B374","v":0},{"$f":"'INVENT.Mob&Mat Bur Importé - 10'!F374","v":0},{"$f":"'INVENT.Mob&Mat Bur Importé - 10'!C374","v":0},{"$f":"'INVENT.Mob&Mat Bur Importé - 10'!H374","v":0},null,0,0,0,0,0,0,null,null,0,0,0,0]
[369,{"$f":"'INVENT.Mob&Mat Bur Importé - 10'!B375","v":0},{"$f":"'INVENT.Mob&Mat Bur Importé - 10'!F375","v":0},{"$f":"'INVENT.Mob&Mat Bur Importé - 10'!C375","v":0},{"$f":"'INVENT.Mob&Mat Bur Importé - 10'!H375","v":0},null,0,0,0,0,0,0,null,null,0,0,0,0]
[370,{"$f":"'INVENT.Mob&Mat Bur Importé - 10'!B376","v":0},{"$f":"'INVENT.Mob&Mat Bur Importé - 10'!F376","v":0},{"$f":"'INVENT.Mob&Mat Bur Importé - 10'!C376","v":0},{"$f":"'INVENT.Mob&Mat Bur Importé - 10'!H376","v":0},null,0,0,0,0,0,0,null,null,0,0,0,0]
[371,{"$f":"'INVENT.Mob&Mat Bur Importé - 10'!B377","v":0},{"$f":"'INVENT.Mob&Mat Bur Importé - 10'!F377","v":0},{"$f":"'INVENT.Mob&Mat Bur Importé - 10'!C377","v":0},{"$f":"'INVENT.Mob&Mat Bur Importé - 10'!H377","v":0},null,0,0,0,0,0,0,null,null,0,0,0,0]
[372,{"$f":"'INVENT.Mob&Mat Bur Importé - 10'!B378","v":0},{"$f":"'INVENT.Mob&Mat Bur Importé - 10'!F378","v":0},{"$f":"'INVENT.Mob&Mat Bur Importé - 10'!C378","v":0},{"$f":"'INVENT.Mob&Mat Bur Importé - 10'!H378","v":0},null,0,0,0,0,0,0,null,null,0,0,0,0]
[373,{"$f":"'INVENT.Mob&Mat Bur Importé - 10'!B379","v":0},{"$f":"'INVENT.Mob&Mat Bur Importé - 10'!F379","v":0},{"$f":"'INVENT.Mob&Mat Bur Importé - 10'!C379","v":0},{"$f":"'INVENT.Mob&Mat Bur Importé - 10'!H379","v":0},null,0,0,0,0,0,0,null,null,0,0,0,0]
[374,{"$f":"'INVENT.Mob&Mat Bur Importé - 10'!B380","v":0},{"$f":"'INVENT.Mob&Mat Bur Importé - 10'!F380","v":0},{"$f":"'INVENT.Mob&Mat Bur Importé - 10'!C380","v":0},{"$f":"'INVENT.Mob&Mat Bur Importé - 10'!H380","v":0},null,0,0,0,0,0,0,null,null,0,0,0,0]
[375,{"$f":"'INVENT.Mob&Mat Bur Importé - 10'!B381","v":0},{"$f":"'INVENT.Mob&Mat Bur Importé - 10'!F381","v":0},{"$f":"'INVENT.Mob&Mat Bur Importé - 10'!C381","v":0},{"$f":"'INVENT.Mob&Mat Bur Importé - 10'!H381","v":0},null,0,0,0,0,0,0,null,null,0,0,0,0]
[376,{"$f":"'INVENT.Mob&Mat Bur Importé - 10'!B382","v":0},{"$f":"'INVENT.Mob&Mat Bur Importé - 10'!F382","v":0},{"$f":"'INVENT.Mob&Mat Bur Importé - 10'!C382","v":0},{"$f":"'INVENT.Mob&Mat Bur Importé - 10'!H382","v":0},null,0,0,0,0,0,0,null,null,0,0,0,0]
[377,{"$f":"'INVENT.Mob&Mat Bur Importé - 10'!B383","v":0},{"$f":"'INVENT.Mob&Mat Bur Importé - 10'!F383","v":0},{"$f":"'INVENT.Mob&Mat Bur Importé - 10'!C383","v":0},{"$f":"'INVENT.Mob&Mat Bur Importé - 10'!H383","v":0},null,0,0,0,0,0,0,null,null,0,0,0,0]
[378,{"$f":"'INVENT.Mob&Mat Bur Importé - 10'!B384","v":0},{"$f":"'INVENT.Mob&Mat Bur Importé - 10'!F384","v":0},{"$f":"'INVENT.Mob&Mat Bur Importé - 10'!C384","v":0},{"$f":"'INVENT.Mob&Mat Bur Importé - 10'!H384","v":0},null,0,0,0,0,0,0,null,null,0,0,0,0]
[379,{"$f":"'INVENT.Mob&Mat Bur Importé - 10'!B385","v":0},{"$f":"'INVENT.Mob&Mat Bur Importé - 10'!F385","v":0},{"$f":"'INVENT.Mob&Mat Bur Importé - 10'!C385","v":0},{"$f":"'INVENT.Mob&Mat Bur Importé - 10'!H385","v":0},null,0,0,0,0,0,0,null,null,0,0,0,0]
[380,{"$f":"'INVENT.Mob&Mat Bur Importé - 10'!B386","v":0},{"$f":"'INVENT.Mob&Mat Bur Importé - 10'!F386","v":0},{"$f":"'INVENT.Mob&Mat Bur Importé - 10'!C386","v":0},{"$f":"'INVENT.Mob&Mat Bur Importé - 10'!H386","v":0},null,0,0,0,0,0,0,null,null,0,0,0,0]
[381,{"$f":"'INVENT.Mob&Mat Bur Importé - 10'!B387","v":0},{"$f":"'INVENT.Mob&Mat Bur Importé - 10'!F387","v":0},{"$f":"'INVENT.Mob&Mat Bur Importé - 10'!C387","v":0},{"$f":"'INVENT.Mob&Mat Bur Importé - 10'!H387","v":0},null,0,0,0,0,0,0,null,null,0,0,0,0]
[382,{"$f":"'INVENT.Mob&Mat Bur Importé - 10'!B388","v":0},{"$f":"'INVENT.Mob&Mat Bur Importé - 10'!F388","v":0},{"$f":"'INVENT.Mob&Mat Bur Importé - 10'!C388","v":0},{"$f":"'INVENT.Mob&Mat Bur Importé - 10'!H388","v":0},null,0,0,0,0,0,0,null,null,0,0,0,0]
[383,{"$f":"'INVENT.Mob&Mat Bur Importé - 10'!B389","v":0},{"$f":"'INVENT.Mob&Mat Bur Importé - 10'!F389","v":0},{"$f":"'INVENT.Mob&Mat Bur Importé - 10'!C389","v":0},{"$f":"'INVENT.Mob&Mat Bur Importé - 10'!H389","v":0},null,0,0,0,0,0,0,null,null,0,0,0,0]
[384,{"$f":"'INVENT.Mob&Mat Bur Importé - 10'!B390","v":0},{"$f":"'INVENT.Mob&Mat Bur Importé - 10'!F390","v":0},{"$f":"'INVENT.Mob&Mat Bur Importé - 10'!C390","v":0},{"$f":"'INVENT.Mob&Mat Bur Importé - 10'!H390","v":0},null,0,0,0,0,0,0,null,null,0,0,0,0]
[385,{"$f":"'INVENT.Mob&Mat Bur Importé - 10'!B391","v":0},{"$f":"'INVENT.Mob&Mat Bur Importé - 10'!F391","v":0},{"$f":"'INVENT.Mob&Mat Bur Importé - 10'!C391","v":0},{"$f":"'INVENT.Mob&Mat Bur Importé - 10'!H391","v":0},null,0,0,0,0,0,0,null,null,0,0,0,0]
[386,{"$f":"'INVENT.Mob&Mat Bur Importé - 10'!B392","v":0},{"$f":"'INVENT.Mob&Mat Bur Importé - 10'!F392","v":0},{"$f":"'INVENT.Mob&Mat Bur Importé - 10'!C392","v":0},{"$f":"'INVENT.Mob&Mat Bur Importé - 10'!H392","v":0},null,0,0,0,0,0,0,null,null,0,0,0,0]
[{"$f":"+A393+1","v":387},{"$f":"'INVENT.Mob&Mat Bur Importé - 10'!B393","v":0},{"$f":"'INVENT.Mob&Mat Bur Importé - 10'!F393","v":0},{"$f":"'INVENT.Mob&Mat Bur Importé - 10'!C393","v":0},{"$f":"'INVENT.Mob&Mat Bur Importé - 10'!H393","v":0},null,0,0,0,0,0,0,null,null,0,0,0,0]
[388,{"$f":"'INVENT.Mob&Mat Bur Importé - 10'!B394","v":0},{"$f":"'INVENT.Mob&Mat Bur Importé - 10'!F394","v":0},{"$f":"'INVENT.Mob&Mat Bur Importé - 10'!C394","v":0},{"$f":"'INVENT.Mob&Mat Bur Importé - 10'!H394","v":0},null,0,0,0,0,0,0,null,null,0,0,0,0]
[389,{"$f":"'INVENT.Mob&Mat Bur Importé - 10'!B395","v":0},{"$f":"'INVENT.Mob&Mat Bur Importé - 10'!F395","v":0},{"$f":"'INVENT.Mob&Mat Bur Importé - 10'!C395","v":0},{"$f":"'INVENT.Mob&Mat Bur Importé - 10'!H395","v":0},null,0,0,0,0,0,0,null,null,0,0,0,0]
[390,{"$f":"'INVENT.Mob&Mat Bur Importé - 10'!B396","v":0},{"$f":"'INVENT.Mob&Mat Bur Importé - 10'!F396","v":0},{"$f":"'INVENT.Mob&Mat Bur Importé - 10'!C396","v":0},{"$f":"'INVENT.Mob&Mat Bur Importé - 10'!H396","v":0},null,0,0,0,0,0,0,null,null,0,0,0,0]
[391,{"$f":"'INVENT.Mob&Mat Bur Importé - 10'!B397","v":0},{"$f":"'INVENT.Mob&Mat Bur Importé - 10'!F397","v":0},{"$f":"'INVENT.Mob&Mat Bur Importé - 10'!C397","v":0},{"$f":"'INVENT.Mob&Mat Bur Importé - 10'!H397","v":0},null,0,0,0,0,0,0,null,null,0,0,0,0]
[392,{"$f":"'INVENT.Mob&Mat Bur Importé - 10'!B398","v":0},{"$f":"'INVENT.Mob&Mat Bur Importé - 10'!F398","v":0},{"$f":"'INVENT.Mob&Mat Bur Importé - 10'!C398","v":0},{"$f":"'INVENT.Mob&Mat Bur Importé - 10'!H398","v":0},null,0,0,0,0,0,0,null,null,0,0,0,0]
[393,{"$f":"'INVENT.Mob&Mat Bur Importé - 10'!B399","v":0},{"$f":"'INVENT.Mob&Mat Bur Importé - 10'!F399","v":0},{"$f":"'INVENT.Mob&Mat Bur Importé - 10'!C399","v":0},{"$f":"'INVENT.Mob&Mat Bur Importé - 10'!H399","v":0},null,0,0,0,0,0,0,null,null,0,0,0,0]
[394,{"$f":"'INVENT.Mob&Mat Bur Importé - 10'!B400","v":0},{"$f":"'INVENT.Mob&Mat Bur Importé - 10'!F400","v":0},{"$f":"'INVENT.Mob&Mat Bur Importé - 10'!C400","v":0},{"$f":"'INVENT.Mob&Mat Bur Importé - 10'!H400","v":0},null,0,0,0,0,0,0,null,null,0,0,0,0]
[395,{"$f":"'INVENT.Mob&Mat Bur Importé - 10'!B401","v":0},{"$f":"'INVENT.Mob&Mat Bur Importé - 10'!F401","v":0},{"$f":"'INVENT.Mob&Mat Bur Importé - 10'!C401","v":0},{"$f":"'INVENT.Mob&Mat Bur Importé - 10'!H401","v":0},null,0,0,0,0,0,0,null,null,0,0,0,0]
[396,{"$f":"'INVENT.Mob&Mat Bur Importé - 10'!B402","v":0},{"$f":"'INVENT.Mob&Mat Bur Importé - 10'!F402","v":0},{"$f":"'INVENT.Mob&Mat Bur Importé - 10'!C402","v":0},{"$f":"'INVENT.Mob&Mat Bur Importé - 10'!H402","v":0},null,0,0,0,0,0,0,null,null,0,0,0,0]
[397,{"$f":"'INVENT.Mob&Mat Bur Importé - 10'!B403","v":0},{"$f":"'INVENT.Mob&Mat Bur Importé - 10'!F403","v":0},{"$f":"'INVENT.Mob&Mat Bur Importé - 10'!C403","v":0},{"$f":"'INVENT.Mob&Mat Bur Importé - 10'!H403","v":0},null,0,0,0,0,0,0,null,null,0,0,0,0]
[398,{"$f":"'INVENT.Mob&Mat Bur Importé - 10'!B404","v":0},{"$f":"'INVENT.Mob&Mat Bur Importé - 10'!F404","v":0},{"$f":"'INVENT.Mob&Mat Bur Importé - 10'!C404","v":0},{"$f":"'INVENT.Mob&Mat Bur Importé - 10'!H404","v":0},null,0,0,0,0,0,0,null,null,0,0,0,0]
[399,{"$f":"'INVENT.Mob&Mat Bur Importé - 10'!B405","v":0},{"$f":"'INVENT.Mob&Mat Bur Importé - 10'!F405","v":0},{"$f":"'INVENT.Mob&Mat Bur Importé - 10'!C405","v":0},{"$f":"'INVENT.Mob&Mat Bur Importé - 10'!H405","v":0},null,0,0,0,0,0,0,null,null,0,0,0,0]
[400,{"$f":"'INVENT.Mob&Mat Bur Importé - 10'!B406","v":0},{"$f":"'INVENT.Mob&Mat Bur Importé - 10'!F406","v":0},{"$f":"'INVENT.Mob&Mat Bur Importé - 10'!C406","v":0},{"$f":"'INVENT.Mob&Mat Bur Importé - 10'!H406","v":0},null,0,0,0,0,0,0,null,null,0,0,0,0]
[401,{"$f":"'INVENT.Mob&Mat Bur Importé - 10'!B407","v":0},{"$f":"'INVENT.Mob&Mat Bur Importé - 10'!F407","v":0},{"$f":"'INVENT.Mob&Mat Bur Importé - 10'!C407","v":0},{"$f":"'INVENT.Mob&Mat Bur Importé - 10'!H407","v":0},null,0,0,0,0,0,0,null,null,0,0,0,0]
[402,{"$f":"'INVENT.Mob&Mat Bur Importé - 10'!B408","v":0},{"$f":"'INVENT.Mob&Mat Bur Importé - 10'!F408","v":0},{"$f":"'INVENT.Mob&Mat Bur Importé - 10'!C408","v":0},{"$f":"'INVENT.Mob&Mat Bur Importé - 10'!H408","v":0},null,0,0,0,0,0,0,null,null,0,0,0,0]
[403,{"$f":"'INVENT.Mob&Mat Bur Importé - 10'!B409","v":0},{"$f":"'INVENT.Mob&Mat Bur Importé - 10'!F409","v":0},{"$f":"'INVENT.Mob&Mat Bur Importé - 10'!C409","v":0},{"$f":"'INVENT.Mob&Mat Bur Importé - 10'!H409","v":0},null,0,0,0,0,0,0,null,null,0,0,0,0]
[404,{"$f":"'INVENT.Mob&Mat Bur Importé - 10'!B410","v":0},{"$f":"'INVENT.Mob&Mat Bur Importé - 10'!F410","v":0},{"$f":"'INVENT.Mob&Mat Bur Importé - 10'!C410","v":0},{"$f":"'INVENT.Mob&Mat Bur Importé - 10'!H410","v":0},null,0,0,0,0,0,0,null,null,0,0,0,0]
[405,{"$f":"'INVENT.Mob&Mat Bur Importé - 10'!B411","v":0},{"$f":"'INVENT.Mob&Mat Bur Importé - 10'!F411","v":0},{"$f":"'INVENT.Mob&Mat Bur Importé - 10'!C411","v":0},{"$f":"'INVENT.Mob&Mat Bur Importé - 10'!H411","v":0},null,0,0,0,0,0,0,null,null,0,0,0,0]
[406,{"$f":"'INVENT.Mob&Mat Bur Importé - 10'!B412","v":0},{"$f":"'INVENT.Mob&Mat Bur Importé - 10'!F412","v":0},{"$f":"'INVENT.Mob&Mat Bur Importé - 10'!C412","v":0},{"$f":"'INVENT.Mob&Mat Bur Importé - 10'!H412","v":0},null,0,0,0,0,0,0,null,null,0,0,0,0]
[407,{"$f":"'INVENT.Mob&Mat Bur Importé - 10'!B413","v":0},{"$f":"'INVENT.Mob&Mat Bur Importé - 10'!F413","v":0},{"$f":"'INVENT.Mob&Mat Bur Importé - 10'!C413","v":0},{"$f":"'INVENT.Mob&Mat Bur Importé - 10'!H413","v":0},null,0,0,0,0,0,0,null,null,0,0,0,0]
[408,{"$f":"'INVENT.Mob&Mat Bur Importé - 10'!B414","v":0},{"$f":"'INVENT.Mob&Mat Bur Importé - 10'!F414","v":0},{"$f":"'INVENT.Mob&Mat Bur Importé - 10'!C414","v":0},{"$f":"'INVENT.Mob&Mat Bur Importé - 10'!H414","v":0},null,0,0,0,0,0,0,null,null,0,0,0,0]
[409,{"$f":"'INVENT.Mob&Mat Bur Importé - 10'!B415","v":0},{"$f":"'INVENT.Mob&Mat Bur Importé - 10'!F415","v":0},{"$f":"'INVENT.Mob&Mat Bur Importé - 10'!C415","v":0},{"$f":"'INVENT.Mob&Mat Bur Importé - 10'!H415","v":0},null,0,0,0,0,0,0,null,null,0,0,0,0]
[410,{"$f":"'INVENT.Mob&Mat Bur Importé - 10'!B416","v":0},{"$f":"'INVENT.Mob&Mat Bur Importé - 10'!F416","v":0},{"$f":"'INVENT.Mob&Mat Bur Importé - 10'!C416","v":0},{"$f":"'INVENT.Mob&Mat Bur Importé - 10'!H416","v":0},null,0,0,0,0,0,0,null,null,0,0,0,0]
[411,{"$f":"'INVENT.Mob&Mat Bur Importé - 10'!B417","v":0},{"$f":"'INVENT.Mob&Mat Bur Importé - 10'!F417","v":0},{"$f":"'INVENT.Mob&Mat Bur Importé - 10'!C417","v":0},{"$f":"'INVENT.Mob&Mat Bur Importé - 10'!H417","v":0},null,0,0,0,0,0,0,null,null,0,0,0,0]
[412,{"$f":"'INVENT.Mob&Mat Bur Importé - 10'!B418","v":0},{"$f":"'INVENT.Mob&Mat Bur Importé - 10'!F418","v":0},{"$f":"'INVENT.Mob&Mat Bur Importé - 10'!C418","v":0},{"$f":"'INVENT.Mob&Mat Bur Importé - 10'!H418","v":0},null,0,0,0,0,0,0,null,null,0,0,0,0]
[413,{"$f":"'INVENT.Mob&Mat Bur Importé - 10'!B419","v":0},{"$f":"'INVENT.Mob&Mat Bur Importé - 10'!F419","v":0},{"$f":"'INVENT.Mob&Mat Bur Importé - 10'!C419","v":0},{"$f":"'INVENT.Mob&Mat Bur Importé - 10'!H419","v":0},null,0,0,0,0,0,0,null,null,0,0,0,0]
[414,{"$f":"'INVENT.Mob&Mat Bur Importé - 10'!B420","v":0},{"$f":"'INVENT.Mob&Mat Bur Importé - 10'!F420","v":0},{"$f":"'INVENT.Mob&Mat Bur Importé - 10'!C420","v":0},{"$f":"'INVENT.Mob&Mat Bur Importé - 10'!H420","v":0},null,0,0,0,0,0,0,null,null,0,0,0,0]
[415,{"$f":"'INVENT.Mob&Mat Bur Importé - 10'!B421","v":0},{"$f":"'INVENT.Mob&Mat Bur Importé - 10'!F421","v":0},{"$f":"'INVENT.Mob&Mat Bur Importé - 10'!C421","v":0},{"$f":"'INVENT.Mob&Mat Bur Importé - 10'!H421","v":0},null,0,0,0,0,0,0,null,null,0,0,0,0]
[416,{"$f":"'INVENT.Mob&Mat Bur Importé - 10'!B422","v":0},{"$f":"'INVENT.Mob&Mat Bur Importé - 10'!F422","v":0},{"$f":"'INVENT.Mob&Mat Bur Importé - 10'!C422","v":0},{"$f":"'INVENT.Mob&Mat Bur Importé - 10'!H422","v":0},null,0,0,0,0,0,0,null,null,0,0,0,0]
[417,{"$f":"'INVENT.Mob&Mat Bur Importé - 10'!B423","v":0},{"$f":"'INVENT.Mob&Mat Bur Importé - 10'!F423","v":0},{"$f":"'INVENT.Mob&Mat Bur Importé - 10'!C423","v":0},{"$f":"'INVENT.Mob&Mat Bur Importé - 10'!H423","v":0},null,0,0,0,0,0,0,null,null,0,0,0,0]
[418,{"$f":"'INVENT.Mob&Mat Bur Importé - 10'!B424","v":0},{"$f":"'INVENT.Mob&Mat Bur Importé - 10'!F424","v":0},{"$f":"'INVENT.Mob&Mat Bur Importé - 10'!C424","v":0},{"$f":"'INVENT.Mob&Mat Bur Importé - 10'!H424","v":0},null,0,0,0,0,0,0,null,null,0,0,0,0]
[419,{"$f":"'INVENT.Mob&Mat Bur Importé - 10'!B425","v":0},{"$f":"'INVENT.Mob&Mat Bur Importé - 10'!F425","v":0},{"$f":"'INVENT.Mob&Mat Bur Importé - 10'!C425","v":0},{"$f":"'INVENT.Mob&Mat Bur Importé - 10'!H425","v":0},null,0,0,0,0,0,0,null,null,0,0,0,0]
[420,{"$f":"'INVENT.Mob&Mat Bur Importé - 10'!B426","v":0},{"$f":"'INVENT.Mob&Mat Bur Importé - 10'!F426","v":0},{"$f":"'INVENT.Mob&Mat Bur Importé - 10'!C426","v":0},{"$f":"'INVENT.Mob&Mat Bur Importé - 10'!H426","v":0},null,0,0,0,0,0,0,null,null,0,0,0,0]
[421,{"$f":"'INVENT.Mob&Mat Bur Importé - 10'!B427","v":0},{"$f":"'INVENT.Mob&Mat Bur Importé - 10'!F427","v":0},{"$f":"'INVENT.Mob&Mat Bur Importé - 10'!C427","v":0},{"$f":"'INVENT.Mob&Mat Bur Importé - 10'!H427","v":0},null,{"$f":"F428*E428","v":0},{"$f":"E428*1%","v":0},{"$f":"E428*1%","v":0},{"$f":"E428*0.5%","v":0},{"$f":"(E428+G428+H428)*18%","v":0},{"$f":"SUM(G428:K428)+E428","v":0},null,null,{"$f":"(M428+N428)*18%","v":0},{"$f":"O428+N428+M428","v":0},{"$f":"+R428-O428-K428","v":0},{"$f":"P428+L428","v":0}]
[422,{"$f":"'INVENT.Mob&Mat Bur Importé - 10'!B428","v":0},{"$f":"'INVENT.Mob&Mat Bur Importé - 10'!F428","v":0},{"$f":"'INVENT.Mob&Mat Bur Importé - 10'!C428","v":0},{"$f":"'INVENT.Mob&Mat Bur Importé - 10'!H428","v":0},null,0,0,0,0,0,0,null,null,0,0,0,0]
[423,{"$f":"'INVENT.Mob&Mat Bur Importé - 10'!B429","v":0},{"$f":"'INVENT.Mob&Mat Bur Importé - 10'!F429","v":0},{"$f":"'INVENT.Mob&Mat Bur Importé - 10'!C429","v":0},{"$f":"'INVENT.Mob&Mat Bur Importé - 10'!H429","v":0},null,0,0,0,0,0,0,null,null,0,0,0,0]
[424,{"$f":"'INVENT.Mob&Mat Bur Importé - 10'!B430","v":0},{"$f":"'INVENT.Mob&Mat Bur Importé - 10'!F430","v":0},{"$f":"'INVENT.Mob&Mat Bur Importé - 10'!C430","v":0},{"$f":"'INVENT.Mob&Mat Bur Importé - 10'!H430","v":0},null,0,0,0,0,0,0,null,null,0,0,0,0]
[425,{"$f":"'INVENT.Mob&Mat Bur Importé - 10'!B431","v":0},{"$f":"'INVENT.Mob&Mat Bur Importé - 10'!F431","v":0},{"$f":"'INVENT.Mob&Mat Bur Importé - 10'!C431","v":0},{"$f":"'INVENT.Mob&Mat Bur Importé - 10'!H431","v":0},null,0,0,0,0,0,0,null,null,0,0,0,0]
[426,{"$f":"'INVENT.Mob&Mat Bur Importé - 10'!B432","v":0},{"$f":"'INVENT.Mob&Mat Bur Importé - 10'!F432","v":0},{"$f":"'INVENT.Mob&Mat Bur Importé - 10'!C432","v":0},{"$f":"'INVENT.Mob&Mat Bur Importé - 10'!H432","v":0},null,0,0,0,0,0,0,null,null,0,0,0,0]
[427,{"$f":"'INVENT.Mob&Mat Bur Importé - 10'!B433","v":0},{"$f":"'INVENT.Mob&Mat Bur Importé - 10'!F433","v":0},{"$f":"'INVENT.Mob&Mat Bur Importé - 10'!C433","v":0},{"$f":"'INVENT.Mob&Mat Bur Importé - 10'!H433","v":0},null,0,0,0,0,0,0,null,null,0,0,0,0]
[428,{"$f":"'INVENT.Mob&Mat Bur Importé - 10'!B434","v":0},{"$f":"'INVENT.Mob&Mat Bur Importé - 10'!F434","v":0},{"$f":"'INVENT.Mob&Mat Bur Importé - 10'!C434","v":0},{"$f":"'INVENT.Mob&Mat Bur Importé - 10'!H434","v":0},null,0,0,0,0,0,0,null,null,0,0,0,0]
[429,{"$f":"'INVENT.Mob&Mat Bur Importé - 10'!B435","v":0},{"$f":"'INVENT.Mob&Mat Bur Importé - 10'!F435","v":0},{"$f":"'INVENT.Mob&Mat Bur Importé - 10'!C435","v":0},{"$f":"'INVENT.Mob&Mat Bur Importé - 10'!H435","v":0},null,0,0,0,0,0,0,null,null,0,0,0,0]
[430,{"$f":"'INVENT.Mob&Mat Bur Importé - 10'!B436","v":0},{"$f":"'INVENT.Mob&Mat Bur Importé - 10'!F436","v":0},{"$f":"'INVENT.Mob&Mat Bur Importé - 10'!C436","v":0},{"$f":"'INVENT.Mob&Mat Bur Importé - 10'!H436","v":0},null,0,0,0,0,0,0,null,null,0,0,0,0]
[431,{"$f":"'INVENT.Mob&Mat Bur Importé - 10'!B437","v":0},{"$f":"'INVENT.Mob&Mat Bur Importé - 10'!F437","v":0},{"$f":"'INVENT.Mob&Mat Bur Importé - 10'!C437","v":0},{"$f":"'INVENT.Mob&Mat Bur Importé - 10'!H437","v":0},null,0,0,0,0,0,0,null,null,0,0,0,0]
[432,{"$f":"'INVENT.Mob&Mat Bur Importé - 10'!B438","v":0},{"$f":"'INVENT.Mob&Mat Bur Importé - 10'!F438","v":0},{"$f":"'INVENT.Mob&Mat Bur Importé - 10'!C438","v":0},{"$f":"'INVENT.Mob&Mat Bur Importé - 10'!H438","v":0},null,0,0,0,0,0,0,null,null,0,0,0,0]
[433,{"$f":"'INVENT.Mob&Mat Bur Importé - 10'!B439","v":0},{"$f":"'INVENT.Mob&Mat Bur Importé - 10'!F439","v":0},{"$f":"'INVENT.Mob&Mat Bur Importé - 10'!C439","v":0},{"$f":"'INVENT.Mob&Mat Bur Importé - 10'!H439","v":0},null,0,0,0,0,0,0,null,null,0,0,0,0]
[434,{"$f":"'INVENT.Mob&Mat Bur Importé - 10'!B440","v":0},{"$f":"'INVENT.Mob&Mat Bur Importé - 10'!F440","v":0},{"$f":"'INVENT.Mob&Mat Bur Importé - 10'!C440","v":0},{"$f":"'INVENT.Mob&Mat Bur Importé - 10'!H440","v":0},null,0,0,0,0,0,0,null,null,0,0,0,0]
[435,{"$f":"'INVENT.Mob&Mat Bur Importé - 10'!B441","v":0},{"$f":"'INVENT.Mob&Mat Bur Importé - 10'!F441","v":0},{"$f":"'INVENT.Mob&Mat Bur Importé - 10'!C441","v":0},{"$f":"'INVENT.Mob&Mat Bur Importé - 10'!H441","v":0},null,0,0,0,0,0,0,null,null,0,0,0,0]
[436,{"$f":"'INVENT.Mob&Mat Bur Importé - 10'!B442","v":0},{"$f":"'INVENT.Mob&Mat Bur Importé - 10'!F442","v":0},{"$f":"'INVENT.Mob&Mat Bur Importé - 10'!C442","v":0},{"$f":"'INVENT.Mob&Mat Bur Importé - 10'!H442","v":0},null,0,0,0,0,0,0,null,null,0,0,0,0]
[437,{"$f":"'INVENT.Mob&Mat Bur Importé - 10'!B443","v":0},{"$f":"'INVENT.Mob&Mat Bur Importé - 10'!F443","v":0},{"$f":"'INVENT.Mob&Mat Bur Importé - 10'!C443","v":0},{"$f":"'INVENT.Mob&Mat Bur Importé - 10'!H443","v":0},null,0,0,0,0,0,0,null,null,0,0,0,0]
[438,{"$f":"'INVENT.Mob&Mat Bur Importé - 10'!B444","v":0},{"$f":"'INVENT.Mob&Mat Bur Importé - 10'!F444","v":0},{"$f":"'INVENT.Mob&Mat Bur Importé - 10'!C444","v":0},{"$f":"'INVENT.Mob&Mat Bur Importé - 10'!H444","v":0},null,0,0,0,0,0,0,null,null,0,0,0,0]
[439,{"$f":"'INVENT.Mob&Mat Bur Importé - 10'!B445","v":0},{"$f":"'INVENT.Mob&Mat Bur Importé - 10'!F445","v":0},{"$f":"'INVENT.Mob&Mat Bur Importé - 10'!C445","v":0},{"$f":"'INVENT.Mob&Mat Bur Importé - 10'!H445","v":0},null,0,0,0,0,0,0,null,null,0,0,0,0]
[440,{"$f":"'INVENT.Mob&Mat Bur Importé - 10'!B446","v":0},{"$f":"'INVENT.Mob&Mat Bur Importé - 10'!F446","v":0},{"$f":"'INVENT.Mob&Mat Bur Importé - 10'!C446","v":0},{"$f":"'INVENT.Mob&Mat Bur Importé - 10'!H446","v":0},null,0,0,0,0,0,0,null,null,0,0,0,0]
[441,{"$f":"'INVENT.Mob&Mat Bur Importé - 10'!B447","v":0},{"$f":"'INVENT.Mob&Mat Bur Importé - 10'!F447","v":0},{"$f":"'INVENT.Mob&Mat Bur Importé - 10'!C447","v":0},{"$f":"'INVENT.Mob&Mat Bur Importé - 10'!H447","v":0},null,0,0,0,0,0,0,null,null,0,0,0,0]
[442,{"$f":"'INVENT.Mob&Mat Bur Importé - 10'!B448","v":0},{"$f":"'INVENT.Mob&Mat Bur Importé - 10'!F448","v":0},{"$f":"'INVENT.Mob&Mat Bur Importé - 10'!C448","v":0},{"$f":"'INVENT.Mob&Mat Bur Importé - 10'!H448","v":0},null,0,0,0,0,0,0,null,null,0,0,0,0]
[443,{"$f":"'INVENT.Mob&Mat Bur Importé - 10'!B449","v":0},{"$f":"'INVENT.Mob&Mat Bur Importé - 10'!F449","v":0},{"$f":"'INVENT.Mob&Mat Bur Importé - 10'!C449","v":0},{"$f":"'INVENT.Mob&Mat Bur Importé - 10'!H449","v":0},null,0,0,0,0,0,0,null,null,0,0,0,0]
[444,{"$f":"'INVENT.Mob&Mat Bur Importé - 10'!B450","v":0},{"$f":"'INVENT.Mob&Mat Bur Importé - 10'!F450","v":0},{"$f":"'INVENT.Mob&Mat Bur Importé - 10'!C450","v":0},{"$f":"'INVENT.Mob&Mat Bur Importé - 10'!H450","v":0},null,0,0,0,0,0,0,null,null,0,0,0,0]
[445,{"$f":"'INVENT.Mob&Mat Bur Importé - 10'!B451","v":0},{"$f":"'INVENT.Mob&Mat Bur Importé - 10'!F451","v":0},{"$f":"'INVENT.Mob&Mat Bur Importé - 10'!C451","v":0},{"$f":"'INVENT.Mob&Mat Bur Importé - 10'!H451","v":0},null,0,0,0,0,0,0,null,null,0,0,0,0]
[446,{"$f":"'INVENT.Mob&Mat Bur Importé - 10'!B452","v":0},{"$f":"'INVENT.Mob&Mat Bur Importé - 10'!F452","v":0},{"$f":"'INVENT.Mob&Mat Bur Importé - 10'!C452","v":0},{"$f":"'INVENT.Mob&Mat Bur Importé - 10'!H452","v":0},null,0,0,0,0,0,0,null,null,0,0,0,0]
[447,{"$f":"'INVENT.Mob&Mat Bur Importé - 10'!B453","v":0},{"$f":"'INVENT.Mob&Mat Bur Importé - 10'!F453","v":0},{"$f":"'INVENT.Mob&Mat Bur Importé - 10'!C453","v":0},{"$f":"'INVENT.Mob&Mat Bur Importé - 10'!H453","v":0},null,0,0,0,0,0,0,null,null,0,0,0,0]
[448,{"$f":"'INVENT.Mob&Mat Bur Importé - 10'!B454","v":0},{"$f":"'INVENT.Mob&Mat Bur Importé - 10'!F454","v":0},{"$f":"'INVENT.Mob&Mat Bur Importé - 10'!C454","v":0},{"$f":"'INVENT.Mob&Mat Bur Importé - 10'!H454","v":0},null,0,0,0,0,0,0,null,null,0,0,0,0]
[449,{"$f":"'INVENT.Mob&Mat Bur Importé - 10'!B455","v":0},{"$f":"'INVENT.Mob&Mat Bur Importé - 10'!F455","v":0},{"$f":"'INVENT.Mob&Mat Bur Importé - 10'!C455","v":0},{"$f":"'INVENT.Mob&Mat Bur Importé - 10'!H455","v":0},null,0,0,0,0,0,0,null,null,0,0,0,0]
[450,{"$f":"'INVENT.Mob&Mat Bur Importé - 10'!B456","v":0},{"$f":"'INVENT.Mob&Mat Bur Importé - 10'!F456","v":0},{"$f":"'INVENT.Mob&Mat Bur Importé - 10'!C456","v":0},{"$f":"'INVENT.Mob&Mat Bur Importé - 10'!H456","v":0},null,0,0,0,0,0,0,null,null,0,0,0,0]
[{"$f":"+A457+1","v":451},{"$f":"'INVENT.Mob&Mat Bur Importé - 10'!B457","v":0},{"$f":"'INVENT.Mob&Mat Bur Importé - 10'!F457","v":0},{"$f":"'INVENT.Mob&Mat Bur Importé - 10'!C457","v":0},{"$f":"'INVENT.Mob&Mat Bur Importé - 10'!H457","v":0},null,0,0,0,0,0,0,null,null,0,0,0,0]
[452,{"$f":"'INVENT.Mob&Mat Bur Importé - 10'!B458","v":0},{"$f":"'INVENT.Mob&Mat Bur Importé - 10'!F458","v":0},{"$f":"'INVENT.Mob&Mat Bur Importé - 10'!C458","v":0},{"$f":"'INVENT.Mob&Mat Bur Importé - 10'!H458","v":0},null,0,0,0,0,0,0,null,null,0,0,0,0]
[453,{"$f":"'INVENT.Mob&Mat Bur Importé - 10'!B459","v":0},{"$f":"'INVENT.Mob&Mat Bur Importé - 10'!F459","v":0},{"$f":"'INVENT.Mob&Mat Bur Importé - 10'!C459","v":0},{"$f":"'INVENT.Mob&Mat Bur Importé - 10'!H459","v":0},null,0,0,0,0,0,0,null,null,0,0,0,0]
[454,{"$f":"'INVENT.Mob&Mat Bur Importé - 10'!B460","v":0},{"$f":"'INVENT.Mob&Mat Bur Importé - 10'!F460","v":0},{"$f":"'INVENT.Mob&Mat Bur Importé - 10'!C460","v":0},{"$f":"'INVENT.Mob&Mat Bur Importé - 10'!H460","v":0},null,0,0,0,0,0,0,null,null,0,0,0,0]
[455,{"$f":"'INVENT.Mob&Mat Bur Importé - 10'!B461","v":0},{"$f":"'INVENT.Mob&Mat Bur Importé - 10'!F461","v":0},{"$f":"'INVENT.Mob&Mat Bur Importé - 10'!C461","v":0},{"$f":"'INVENT.Mob&Mat Bur Importé - 10'!H461","v":0},null,0,0,0,0,0,0,null,null,0,0,0,0]
[456,{"$f":"'INVENT.Mob&Mat Bur Importé - 10'!B462","v":0},{"$f":"'INVENT.Mob&Mat Bur Importé - 10'!F462","v":0},{"$f":"'INVENT.Mob&Mat Bur Importé - 10'!C462","v":0},{"$f":"'INVENT.Mob&Mat Bur Importé - 10'!H462","v":0},null,0,0,0,0,0,0,null,null,0,0,0,0]
[457,{"$f":"'INVENT.Mob&Mat Bur Importé - 10'!B463","v":0},{"$f":"'INVENT.Mob&Mat Bur Importé - 10'!F463","v":0},{"$f":"'INVENT.Mob&Mat Bur Importé - 10'!C463","v":0},{"$f":"'INVENT.Mob&Mat Bur Importé - 10'!H463","v":0},null,0,0,0,0,0,0,null,null,0,0,0,0]
[458,{"$f":"'INVENT.Mob&Mat Bur Importé - 10'!B464","v":0},{"$f":"'INVENT.Mob&Mat Bur Importé - 10'!F464","v":0},{"$f":"'INVENT.Mob&Mat Bur Importé - 10'!C464","v":0},{"$f":"'INVENT.Mob&Mat Bur Importé - 10'!H464","v":0},null,0,0,0,0,0,0,null,null,0,0,0,0]
[459,{"$f":"'INVENT.Mob&Mat Bur Importé - 10'!B465","v":0},{"$f":"'INVENT.Mob&Mat Bur Importé - 10'!F465","v":0},{"$f":"'INVENT.Mob&Mat Bur Importé - 10'!C465","v":0},{"$f":"'INVENT.Mob&Mat Bur Importé - 10'!H465","v":0},null,0,0,0,0,0,0,null,null,0,0,0,0]
[460,{"$f":"'INVENT.Mob&Mat Bur Importé - 10'!B466","v":0},{"$f":"'INVENT.Mob&Mat Bur Importé - 10'!F466","v":0},{"$f":"'INVENT.Mob&Mat Bur Importé - 10'!C466","v":0},{"$f":"'INVENT.Mob&Mat Bur Importé - 10'!H466","v":0},null,0,0,0,0,0,0,null,null,0,0,0,0]
[461,{"$f":"'INVENT.Mob&Mat Bur Importé - 10'!B467","v":0},{"$f":"'INVENT.Mob&Mat Bur Importé - 10'!F467","v":0},{"$f":"'INVENT.Mob&Mat Bur Importé - 10'!C467","v":0},{"$f":"'INVENT.Mob&Mat Bur Importé - 10'!H467","v":0},null,0,0,0,0,0,0,null,null,0,0,0,0]
[462,{"$f":"'INVENT.Mob&Mat Bur Importé - 10'!B468","v":0},{"$f":"'INVENT.Mob&Mat Bur Importé - 10'!F468","v":0},{"$f":"'INVENT.Mob&Mat Bur Importé - 10'!C468","v":0},{"$f":"'INVENT.Mob&Mat Bur Importé - 10'!H468","v":0},null,0,0,0,0,0,0,null,null,0,0,0,0]
[463,{"$f":"'INVENT.Mob&Mat Bur Importé - 10'!B469","v":0},{"$f":"'INVENT.Mob&Mat Bur Importé - 10'!F469","v":0},{"$f":"'INVENT.Mob&Mat Bur Importé - 10'!C469","v":0},{"$f":"'INVENT.Mob&Mat Bur Importé - 10'!H469","v":0},null,0,0,0,0,0,0,null,null,0,0,0,0]
[464,{"$f":"'INVENT.Mob&Mat Bur Importé - 10'!B470","v":0},{"$f":"'INVENT.Mob&Mat Bur Importé - 10'!F470","v":0},{"$f":"'INVENT.Mob&Mat Bur Importé - 10'!C470","v":0},{"$f":"'INVENT.Mob&Mat Bur Importé - 10'!H470","v":0},null,0,0,0,0,0,0,null,null,0,0,0,0]
[465,{"$f":"'INVENT.Mob&Mat Bur Importé - 10'!B471","v":0},{"$f":"'INVENT.Mob&Mat Bur Importé - 10'!F471","v":0},{"$f":"'INVENT.Mob&Mat Bur Importé - 10'!C471","v":0},{"$f":"'INVENT.Mob&Mat Bur Importé - 10'!H471","v":0},null,0,0,0,0,0,0,null,null,0,0,0,0]
[466,{"$f":"'INVENT.Mob&Mat Bur Importé - 10'!B472","v":0},{"$f":"'INVENT.Mob&Mat Bur Importé - 10'!F472","v":0},{"$f":"'INVENT.Mob&Mat Bur Importé - 10'!C472","v":0},{"$f":"'INVENT.Mob&Mat Bur Importé - 10'!H472","v":0},null,0,0,0,0,0,0,null,null,0,0,0,0]
[467,{"$f":"'INVENT.Mob&Mat Bur Importé - 10'!B473","v":0},{"$f":"'INVENT.Mob&Mat Bur Importé - 10'!F473","v":0},{"$f":"'INVENT.Mob&Mat Bur Importé - 10'!C473","v":0},{"$f":"'INVENT.Mob&Mat Bur Importé - 10'!H473","v":0},null,0,0,0,0,0,0,null,null,0,0,0,0]
[468,{"$f":"'INVENT.Mob&Mat Bur Importé - 10'!B474","v":0},{"$f":"'INVENT.Mob&Mat Bur Importé - 10'!F474","v":0},{"$f":"'INVENT.Mob&Mat Bur Importé - 10'!C474","v":0},{"$f":"'INVENT.Mob&Mat Bur Importé - 10'!H474","v":0},null,0,0,0,0,0,0,null,null,0,0,0,0]
[469,{"$f":"'INVENT.Mob&Mat Bur Importé - 10'!B475","v":0},{"$f":"'INVENT.Mob&Mat Bur Importé - 10'!F475","v":0},{"$f":"'INVENT.Mob&Mat Bur Importé - 10'!C475","v":0},{"$f":"'INVENT.Mob&Mat Bur Importé - 10'!H475","v":0},null,0,0,0,0,0,0,null,null,0,0,0,0]
[470,{"$f":"'INVENT.Mob&Mat Bur Importé - 10'!B476","v":0},{"$f":"'INVENT.Mob&Mat Bur Importé - 10'!F476","v":0},{"$f":"'INVENT.Mob&Mat Bur Importé - 10'!C476","v":0},{"$f":"'INVENT.Mob&Mat Bur Importé - 10'!H476","v":0},null,0,0,0,0,0,0,null,null,0,0,0,0]
[471,{"$f":"'INVENT.Mob&Mat Bur Importé - 10'!B477","v":0},{"$f":"'INVENT.Mob&Mat Bur Importé - 10'!F477","v":0},{"$f":"'INVENT.Mob&Mat Bur Importé - 10'!C477","v":0},{"$f":"'INVENT.Mob&Mat Bur Importé - 10'!H477","v":0},null,0,0,0,0,0,0,null,null,0,0,0,0]
[472,{"$f":"'INVENT.Mob&Mat Bur Importé - 10'!B478","v":0},{"$f":"'INVENT.Mob&Mat Bur Importé - 10'!F478","v":0},{"$f":"'INVENT.Mob&Mat Bur Importé - 10'!C478","v":0},{"$f":"'INVENT.Mob&Mat Bur Importé - 10'!H478","v":0},null,0,0,0,0,0,0,null,null,0,0,0,0]
[473,{"$f":"'INVENT.Mob&Mat Bur Importé - 10'!B479","v":0},{"$f":"'INVENT.Mob&Mat Bur Importé - 10'!F479","v":0},{"$f":"'INVENT.Mob&Mat Bur Importé - 10'!C479","v":0},{"$f":"'INVENT.Mob&Mat Bur Importé - 10'!H479","v":0},null,0,0,0,0,0,0,null,null,0,0,0,0]
[474,{"$f":"'INVENT.Mob&Mat Bur Importé - 10'!B480","v":0},{"$f":"'INVENT.Mob&Mat Bur Importé - 10'!F480","v":0},{"$f":"'INVENT.Mob&Mat Bur Importé - 10'!C480","v":0},{"$f":"'INVENT.Mob&Mat Bur Importé - 10'!H480","v":0},null,0,0,0,0,0,0,null,null,0,0,0,0]
[475,{"$f":"'INVENT.Mob&Mat Bur Importé - 10'!B481","v":0},{"$f":"'INVENT.Mob&Mat Bur Importé - 10'!F481","v":0},{"$f":"'INVENT.Mob&Mat Bur Importé - 10'!C481","v":0},{"$f":"'INVENT.Mob&Mat Bur Importé - 10'!H481","v":0},null,0,0,0,0,0,0,null,null,0,0,0,0]
[476,{"$f":"'INVENT.Mob&Mat Bur Importé - 10'!B482","v":0},{"$f":"'INVENT.Mob&Mat Bur Importé - 10'!F482","v":0},{"$f":"'INVENT.Mob&Mat Bur Importé - 10'!C482","v":0},{"$f":"'INVENT.Mob&Mat Bur Importé - 10'!H482","v":0},null,0,0,0,0,0,0,null,null,0,0,0,0]
[477,{"$f":"'INVENT.Mob&Mat Bur Importé - 10'!B483","v":0},{"$f":"'INVENT.Mob&Mat Bur Importé - 10'!F483","v":0},{"$f":"'INVENT.Mob&Mat Bur Importé - 10'!C483","v":0},{"$f":"'INVENT.Mob&Mat Bur Importé - 10'!H483","v":0},null,0,0,0,0,0,0,null,null,0,0,0,0]
[478,{"$f":"'INVENT.Mob&Mat Bur Importé - 10'!B484","v":0},{"$f":"'INVENT.Mob&Mat Bur Importé - 10'!F484","v":0},{"$f":"'INVENT.Mob&Mat Bur Importé - 10'!C484","v":0},{"$f":"'INVENT.Mob&Mat Bur Importé - 10'!H484","v":0},null,0,0,0,0,0,0,null,null,0,0,0,0]
[479,{"$f":"'INVENT.Mob&Mat Bur Importé - 10'!B485","v":0},{"$f":"'INVENT.Mob&Mat Bur Importé - 10'!F485","v":0},{"$f":"'INVENT.Mob&Mat Bur Importé - 10'!C485","v":0},{"$f":"'INVENT.Mob&Mat Bur Importé - 10'!H485","v":0},null,0,0,0,0,0,0,null,null,0,0,0,0]
[480,{"$f":"'INVENT.Mob&Mat Bur Importé - 10'!B486","v":0},{"$f":"'INVENT.Mob&Mat Bur Importé - 10'!F486","v":0},{"$f":"'INVENT.Mob&Mat Bur Importé - 10'!C486","v":0},{"$f":"'INVENT.Mob&Mat Bur Importé - 10'!H486","v":0},null,0,0,0,0,0,0,null,null,0,0,0,0]
[481,{"$f":"'INVENT.Mob&Mat Bur Importé - 10'!B487","v":0},{"$f":"'INVENT.Mob&Mat Bur Importé - 10'!F487","v":0},{"$f":"'INVENT.Mob&Mat Bur Importé - 10'!C487","v":0},{"$f":"'INVENT.Mob&Mat Bur Importé - 10'!H487","v":0},null,0,0,0,0,0,0,null,null,0,0,0,0]
[482,{"$f":"'INVENT.Mob&Mat Bur Importé - 10'!B488","v":0},{"$f":"'INVENT.Mob&Mat Bur Importé - 10'!F488","v":0},{"$f":"'INVENT.Mob&Mat Bur Importé - 10'!C488","v":0},{"$f":"'INVENT.Mob&Mat Bur Importé - 10'!H488","v":0},null,0,0,0,0,0,0,null,null,0,0,0,0]
[483,{"$f":"'INVENT.Mob&Mat Bur Importé - 10'!B489","v":0},{"$f":"'INVENT.Mob&Mat Bur Importé - 10'!F489","v":0},{"$f":"'INVENT.Mob&Mat Bur Importé - 10'!C489","v":0},{"$f":"'INVENT.Mob&Mat Bur Importé - 10'!H489","v":0},null,0,0,0,0,0,0,null,null,0,0,0,0]
[484,{"$f":"'INVENT.Mob&Mat Bur Importé - 10'!B490","v":0},{"$f":"'INVENT.Mob&Mat Bur Importé - 10'!F490","v":0},{"$f":"'INVENT.Mob&Mat Bur Importé - 10'!C490","v":0},{"$f":"'INVENT.Mob&Mat Bur Importé - 10'!H490","v":0},null,0,0,0,0,0,0,null,null,0,0,0,0]
[485,{"$f":"'INVENT.Mob&Mat Bur Importé - 10'!B491","v":0},{"$f":"'INVENT.Mob&Mat Bur Importé - 10'!F491","v":0},{"$f":"'INVENT.Mob&Mat Bur Importé - 10'!C491","v":0},{"$f":"'INVENT.Mob&Mat Bur Importé - 10'!H491","v":0},null,{"$f":"F492*E492","v":0},{"$f":"E492*1%","v":0},{"$f":"E492*1%","v":0},{"$f":"E492*0.5%","v":0},{"$f":"(E492+G492+H492)*18%","v":0},{"$f":"SUM(G492:K492)+E492","v":0},null,null,{"$f":"(M492+N492)*18%","v":0},{"$f":"O492+N492+M492","v":0},{"$f":"+R492-O492-K492","v":0},{"$f":"P492+L492","v":0}]
[486,{"$f":"'INVENT.Mob&Mat Bur Importé - 10'!B492","v":0},{"$f":"'INVENT.Mob&Mat Bur Importé - 10'!F492","v":0},{"$f":"'INVENT.Mob&Mat Bur Importé - 10'!C492","v":0},{"$f":"'INVENT.Mob&Mat Bur Importé - 10'!H492","v":0},null,0,0,0,0,0,0,null,null,0,0,0,0]
[487,{"$f":"'INVENT.Mob&Mat Bur Importé - 10'!B493","v":0},{"$f":"'INVENT.Mob&Mat Bur Importé - 10'!F493","v":0},{"$f":"'INVENT.Mob&Mat Bur Importé - 10'!C493","v":0},{"$f":"'INVENT.Mob&Mat Bur Importé - 10'!H493","v":0},null,0,0,0,0,0,0,null,null,0,0,0,0]
[488,{"$f":"'INVENT.Mob&Mat Bur Importé - 10'!B494","v":0},{"$f":"'INVENT.Mob&Mat Bur Importé - 10'!F494","v":0},{"$f":"'INVENT.Mob&Mat Bur Importé - 10'!C494","v":0},{"$f":"'INVENT.Mob&Mat Bur Importé - 10'!H494","v":0},null,0,0,0,0,0,0,null,null,0,0,0,0]
[489,{"$f":"'INVENT.Mob&Mat Bur Importé - 10'!B495","v":0},{"$f":"'INVENT.Mob&Mat Bur Importé - 10'!F495","v":0},{"$f":"'INVENT.Mob&Mat Bur Importé - 10'!C495","v":0},{"$f":"'INVENT.Mob&Mat Bur Importé - 10'!H495","v":0},null,0,0,0,0,0,0,null,null,0,0,0,0]
[490,{"$f":"'INVENT.Mob&Mat Bur Importé - 10'!B496","v":0},{"$f":"'INVENT.Mob&Mat Bur Importé - 10'!F496","v":0},{"$f":"'INVENT.Mob&Mat Bur Importé - 10'!C496","v":0},{"$f":"'INVENT.Mob&Mat Bur Importé - 10'!H496","v":0},null,0,0,0,0,0,0,null,null,0,0,0,0]
[491,{"$f":"'INVENT.Mob&Mat Bur Importé - 10'!B497","v":0},{"$f":"'INVENT.Mob&Mat Bur Importé - 10'!F497","v":0},{"$f":"'INVENT.Mob&Mat Bur Importé - 10'!C497","v":0},{"$f":"'INVENT.Mob&Mat Bur Importé - 10'!H497","v":0},null,0,0,0,0,0,0,null,null,0,0,0,0]
[492,{"$f":"'INVENT.Mob&Mat Bur Importé - 10'!B498","v":0},{"$f":"'INVENT.Mob&Mat Bur Importé - 10'!F498","v":0},{"$f":"'INVENT.Mob&Mat Bur Importé - 10'!C498","v":0},{"$f":"'INVENT.Mob&Mat Bur Importé - 10'!H498","v":0},null,0,0,0,0,0,0,null,null,0,0,0,0]
[493,{"$f":"'INVENT.Mob&Mat Bur Importé - 10'!B499","v":0},{"$f":"'INVENT.Mob&Mat Bur Importé - 10'!F499","v":0},{"$f":"'INVENT.Mob&Mat Bur Importé - 10'!C499","v":0},{"$f":"'INVENT.Mob&Mat Bur Importé - 10'!H499","v":0},null,0,0,0,0,0,0,null,null,0,0,0,0]
[494,{"$f":"'INVENT.Mob&Mat Bur Importé - 10'!B500","v":0},{"$f":"'INVENT.Mob&Mat Bur Importé - 10'!F500","v":0},{"$f":"'INVENT.Mob&Mat Bur Importé - 10'!C500","v":0},{"$f":"'INVENT.Mob&Mat Bur Importé - 10'!H500","v":0},null,0,0,0,0,0,0,null,null,0,0,0,0]
[495,{"$f":"'INVENT.Mob&Mat Bur Importé - 10'!B501","v":0},{"$f":"'INVENT.Mob&Mat Bur Importé - 10'!F501","v":0},{"$f":"'INVENT.Mob&Mat Bur Importé - 10'!C501","v":0},{"$f":"'INVENT.Mob&Mat Bur Importé - 10'!H501","v":0},null,0,0,0,0,0,0,null,null,0,0,0,0]
[496,{"$f":"'INVENT.Mob&Mat Bur Importé - 10'!B502","v":0},{"$f":"'INVENT.Mob&Mat Bur Importé - 10'!F502","v":0},{"$f":"'INVENT.Mob&Mat Bur Importé - 10'!C502","v":0},{"$f":"'INVENT.Mob&Mat Bur Importé - 10'!H502","v":0},null,0,0,0,0,0,0,null,null,0,0,0,0]
[497,{"$f":"'INVENT.Mob&Mat Bur Importé - 10'!B503","v":0},{"$f":"'INVENT.Mob&Mat Bur Importé - 10'!F503","v":0},{"$f":"'INVENT.Mob&Mat Bur Importé - 10'!C503","v":0},{"$f":"'INVENT.Mob&Mat Bur Importé - 10'!H503","v":0},null,0,0,0,0,0,0,null,null,0,0,0,0]
[498,{"$f":"'INVENT.Mob&Mat Bur Importé - 10'!B504","v":0},{"$f":"'INVENT.Mob&Mat Bur Importé - 10'!F504","v":0},{"$f":"'INVENT.Mob&Mat Bur Importé - 10'!C504","v":0},{"$f":"'INVENT.Mob&Mat Bur Importé - 10'!H504","v":0},null,0,0,0,0,0,0,null,null,0,0,0,0]
[499,{"$f":"'INVENT.Mob&Mat Bur Importé - 10'!B505","v":0},{"$f":"'INVENT.Mob&Mat Bur Importé - 10'!F505","v":0},{"$f":"'INVENT.Mob&Mat Bur Importé - 10'!C505","v":0},{"$f":"'INVENT.Mob&Mat Bur Importé - 10'!H505","v":0},null,0,0,0,0,0,0,null,null,0,0,0,0]
[500,{"$f":"'INVENT.Mob&Mat Bur Importé - 10'!B506","v":0},{"$f":"'INVENT.Mob&Mat Bur Importé - 10'!F506","v":0},{"$f":"'INVENT.Mob&Mat Bur Importé - 10'!C506","v":0},{"$f":"'INVENT.Mob&Mat Bur Importé - 10'!H506","v":0},null,0,0,0,0,0,0,null,null,0,0,0,0]
[501,{"$f":"'INVENT.Mob&Mat Bur Importé - 10'!B507","v":0},{"$f":"'INVENT.Mob&Mat Bur Importé - 10'!F507","v":0},{"$f":"'INVENT.Mob&Mat Bur Importé - 10'!C507","v":0},{"$f":"'INVENT.Mob&Mat Bur Importé - 10'!H507","v":0},null,0,0,0,0,0,0,null,null,0,0,0,0]
[502,{"$f":"'INVENT.Mob&Mat Bur Importé - 10'!B508","v":0},{"$f":"'INVENT.Mob&Mat Bur Importé - 10'!F508","v":0},{"$f":"'INVENT.Mob&Mat Bur Importé - 10'!C508","v":0},{"$f":"'INVENT.Mob&Mat Bur Importé - 10'!H508","v":0},null,0,0,0,0,0,0,null,null,0,0,0,0]
[503,{"$f":"'INVENT.Mob&Mat Bur Importé - 10'!B509","v":0},{"$f":"'INVENT.Mob&Mat Bur Importé - 10'!F509","v":0},{"$f":"'INVENT.Mob&Mat Bur Importé - 10'!C509","v":0},{"$f":"'INVENT.Mob&Mat Bur Importé - 10'!H509","v":0},null,0,0,0,0,0,0,null,null,0,0,0,0]
[504,{"$f":"'INVENT.Mob&Mat Bur Importé - 10'!B510","v":0},{"$f":"'INVENT.Mob&Mat Bur Importé - 10'!F510","v":0},{"$f":"'INVENT.Mob&Mat Bur Importé - 10'!C510","v":0},{"$f":"'INVENT.Mob&Mat Bur Importé - 10'!H510","v":0},null,0,0,0,0,0,0,null,null,0,0,0,0]
[505,{"$f":"'INVENT.Mob&Mat Bur Importé - 10'!B511","v":0},{"$f":"'INVENT.Mob&Mat Bur Importé - 10'!F511","v":0},{"$f":"'INVENT.Mob&Mat Bur Importé - 10'!C511","v":0},{"$f":"'INVENT.Mob&Mat Bur Importé - 10'!H511","v":0},null,0,0,0,0,0,0,null,null,0,0,0,0]
[506,{"$f":"'INVENT.Mob&Mat Bur Importé - 10'!B512","v":0},{"$f":"'INVENT.Mob&Mat Bur Importé - 10'!F512","v":0},{"$f":"'INVENT.Mob&Mat Bur Importé - 10'!C512","v":0},{"$f":"'INVENT.Mob&Mat Bur Importé - 10'!H512","v":0},null,0,0,0,0,0,0,null,null,0,0,0,0]
[507,{"$f":"'INVENT.Mob&Mat Bur Importé - 10'!B513","v":0},{"$f":"'INVENT.Mob&Mat Bur Importé - 10'!F513","v":0},{"$f":"'INVENT.Mob&Mat Bur Importé - 10'!C513","v":0},{"$f":"'INVENT.Mob&Mat Bur Importé - 10'!H513","v":0},null,0,0,0,0,0,0,null,null,0,0,0,0]
[508,{"$f":"'INVENT.Mob&Mat Bur Importé - 10'!B514","v":0},{"$f":"'INVENT.Mob&Mat Bur Importé - 10'!F514","v":0},{"$f":"'INVENT.Mob&Mat Bur Importé - 10'!C514","v":0},{"$f":"'INVENT.Mob&Mat Bur Importé - 10'!H514","v":0},null,0,0,0,0,0,0,null,null,0,0,0,0]
[509,{"$f":"'INVENT.Mob&Mat Bur Importé - 10'!B515","v":0},{"$f":"'INVENT.Mob&Mat Bur Importé - 10'!F515","v":0},{"$f":"'INVENT.Mob&Mat Bur Importé - 10'!C515","v":0},{"$f":"'INVENT.Mob&Mat Bur Importé - 10'!H515","v":0},null,0,0,0,0,0,0,null,null,0,0,0,0]
[510,{"$f":"'INVENT.Mob&Mat Bur Importé - 10'!B516","v":0},{"$f":"'INVENT.Mob&Mat Bur Importé - 10'!F516","v":0},{"$f":"'INVENT.Mob&Mat Bur Importé - 10'!C516","v":0},{"$f":"'INVENT.Mob&Mat Bur Importé - 10'!H516","v":0},null,0,0,0,0,0,0,null,null,0,0,0,0]
[511,{"$f":"'INVENT.Mob&Mat Bur Importé - 10'!B517","v":0},{"$f":"'INVENT.Mob&Mat Bur Importé - 10'!F517","v":0},{"$f":"'INVENT.Mob&Mat Bur Importé - 10'!C517","v":0},{"$f":"'INVENT.Mob&Mat Bur Importé - 10'!H517","v":0},null,0,0,0,0,0,0,null,null,0,0,0,0]
[512,{"$f":"'INVENT.Mob&Mat Bur Importé - 10'!B518","v":0},{"$f":"'INVENT.Mob&Mat Bur Importé - 10'!F518","v":0},{"$f":"'INVENT.Mob&Mat Bur Importé - 10'!C518","v":0},{"$f":"'INVENT.Mob&Mat Bur Importé - 10'!H518","v":0},null,0,0,0,0,0,0,null,null,0,0,0,0]
[513,{"$f":"'INVENT.Mob&Mat Bur Importé - 10'!B519","v":0},{"$f":"'INVENT.Mob&Mat Bur Importé - 10'!F519","v":0},{"$f":"'INVENT.Mob&Mat Bur Importé - 10'!C519","v":0},{"$f":"'INVENT.Mob&Mat Bur Importé - 10'!H519","v":0},null,0,0,0,0,0,0,null,null,0,0,0,0]
[514,{"$f":"'INVENT.Mob&Mat Bur Importé - 10'!B520","v":0},{"$f":"'INVENT.Mob&Mat Bur Importé - 10'!F520","v":0},{"$f":"'INVENT.Mob&Mat Bur Importé - 10'!C520","v":0},{"$f":"'INVENT.Mob&Mat Bur Importé - 10'!H520","v":0},null,0,0,0,0,0,0,null,null,0,0,0,0]
[{"$f":"+A521+1","v":515},{"$f":"'INVENT.Mob&Mat Bur Importé - 10'!B521","v":0},{"$f":"'INVENT.Mob&Mat Bur Importé - 10'!F521","v":0},{"$f":"'INVENT.Mob&Mat Bur Importé - 10'!C521","v":0},{"$f":"'INVENT.Mob&Mat Bur Importé - 10'!H521","v":0},null,0,0,0,0,0,0,null,null,0,0,0,0]
[516,{"$f":"'INVENT.Mob&Mat Bur Importé - 10'!B522","v":0},{"$f":"'INVENT.Mob&Mat Bur Importé - 10'!F522","v":0},{"$f":"'INVENT.Mob&Mat Bur Importé - 10'!C522","v":0},{"$f":"'INVENT.Mob&Mat Bur Importé - 10'!H522","v":0},null,0,0,0,0,0,0,null,null,0,0,0,0]
[517,{"$f":"'INVENT.Mob&Mat Bur Importé - 10'!B523","v":0},{"$f":"'INVENT.Mob&Mat Bur Importé - 10'!F523","v":0},{"$f":"'INVENT.Mob&Mat Bur Importé - 10'!C523","v":0},{"$f":"'INVENT.Mob&Mat Bur Importé - 10'!H523","v":0},null,0,0,0,0,0,0,null,null,0,0,0,0]
[518,{"$f":"'INVENT.Mob&Mat Bur Importé - 10'!B524","v":0},{"$f":"'INVENT.Mob&Mat Bur Importé - 10'!F524","v":0},{"$f":"'INVENT.Mob&Mat Bur Importé - 10'!C524","v":0},{"$f":"'INVENT.Mob&Mat Bur Importé - 10'!H524","v":0},null,0,0,0,0,0,0,null,null,0,0,0,0]
[519,{"$f":"'INVENT.Mob&Mat Bur Importé - 10'!B525","v":0},{"$f":"'INVENT.Mob&Mat Bur Importé - 10'!F525","v":0},{"$f":"'INVENT.Mob&Mat Bur Importé - 10'!C525","v":0},{"$f":"'INVENT.Mob&Mat Bur Importé - 10'!H525","v":0},null,0,0,0,0,0,0,null,null,0,0,0,0]
[520,{"$f":"'INVENT.Mob&Mat Bur Importé - 10'!B526","v":0},{"$f":"'INVENT.Mob&Mat Bur Importé - 10'!F526","v":0},{"$f":"'INVENT.Mob&Mat Bur Importé - 10'!C526","v":0},{"$f":"'INVENT.Mob&Mat Bur Importé - 10'!H526","v":0},null,0,0,0,0,0,0,null,null,0,0,0,0]
[521,{"$f":"'INVENT.Mob&Mat Bur Importé - 10'!B527","v":0},{"$f":"'INVENT.Mob&Mat Bur Importé - 10'!F527","v":0},{"$f":"'INVENT.Mob&Mat Bur Importé - 10'!C527","v":0},{"$f":"'INVENT.Mob&Mat Bur Importé - 10'!H527","v":0},null,0,0,0,0,0,0,null,null,0,0,0,0]
[522,{"$f":"'INVENT.Mob&Mat Bur Importé - 10'!B528","v":0},{"$f":"'INVENT.Mob&Mat Bur Importé - 10'!F528","v":0},{"$f":"'INVENT.Mob&Mat Bur Importé - 10'!C528","v":0},{"$f":"'INVENT.Mob&Mat Bur Importé - 10'!H528","v":0},null,0,0,0,0,0,0,null,null,0,0,0,0]
[523,{"$f":"'INVENT.Mob&Mat Bur Importé - 10'!B529","v":0},{"$f":"'INVENT.Mob&Mat Bur Importé - 10'!F529","v":0},{"$f":"'INVENT.Mob&Mat Bur Importé - 10'!C529","v":0},{"$f":"'INVENT.Mob&Mat Bur Importé - 10'!H529","v":0},null,0,0,0,0,0,0,null,null,0,0,0,0]
[524,{"$f":"'INVENT.Mob&Mat Bur Importé - 10'!B530","v":0},{"$f":"'INVENT.Mob&Mat Bur Importé - 10'!F530","v":0},{"$f":"'INVENT.Mob&Mat Bur Importé - 10'!C530","v":0},{"$f":"'INVENT.Mob&Mat Bur Importé - 10'!H530","v":0},null,0,0,0,0,0,0,null,null,0,0,0,0]
[525,{"$f":"'INVENT.Mob&Mat Bur Importé - 10'!B531","v":0},{"$f":"'INVENT.Mob&Mat Bur Importé - 10'!F531","v":0},{"$f":"'INVENT.Mob&Mat Bur Importé - 10'!C531","v":0},{"$f":"'INVENT.Mob&Mat Bur Importé - 10'!H531","v":0},null,0,0,0,0,0,0,null,null,0,0,0,0]
[526,{"$f":"'INVENT.Mob&Mat Bur Importé - 10'!B532","v":0},{"$f":"'INVENT.Mob&Mat Bur Importé - 10'!F532","v":0},{"$f":"'INVENT.Mob&Mat Bur Importé - 10'!C532","v":0},{"$f":"'INVENT.Mob&Mat Bur Importé - 10'!H532","v":0},null,0,0,0,0,0,0,null,null,0,0,0,0]
[527,{"$f":"'INVENT.Mob&Mat Bur Importé - 10'!B533","v":0},{"$f":"'INVENT.Mob&Mat Bur Importé - 10'!F533","v":0},{"$f":"'INVENT.Mob&Mat Bur Importé - 10'!C533","v":0},{"$f":"'INVENT.Mob&Mat Bur Importé - 10'!H533","v":0},null,0,0,0,0,0,0,null,null,0,0,0,0]
[528,{"$f":"'INVENT.Mob&Mat Bur Importé - 10'!B534","v":0},{"$f":"'INVENT.Mob&Mat Bur Importé - 10'!F534","v":0},{"$f":"'INVENT.Mob&Mat Bur Importé - 10'!C534","v":0},{"$f":"'INVENT.Mob&Mat Bur Importé - 10'!H534","v":0},null,0,0,0,0,0,0,null,null,0,0,0,0]
[529,{"$f":"'INVENT.Mob&Mat Bur Importé - 10'!B535","v":0},{"$f":"'INVENT.Mob&Mat Bur Importé - 10'!F535","v":0},{"$f":"'INVENT.Mob&Mat Bur Importé - 10'!C535","v":0},{"$f":"'INVENT.Mob&Mat Bur Importé - 10'!H535","v":0},null,0,0,0,0,0,0,null,null,0,0,0,0]
[530,{"$f":"'INVENT.Mob&Mat Bur Importé - 10'!B536","v":0},{"$f":"'INVENT.Mob&Mat Bur Importé - 10'!F536","v":0},{"$f":"'INVENT.Mob&Mat Bur Importé - 10'!C536","v":0},{"$f":"'INVENT.Mob&Mat Bur Importé - 10'!H536","v":0},null,0,0,0,0,0,0,null,null,0,0,0,0]
[531,{"$f":"'INVENT.Mob&Mat Bur Importé - 10'!B537","v":0},{"$f":"'INVENT.Mob&Mat Bur Importé - 10'!F537","v":0},{"$f":"'INVENT.Mob&Mat Bur Importé - 10'!C537","v":0},{"$f":"'INVENT.Mob&Mat Bur Importé - 10'!H537","v":0},null,0,0,0,0,0,0,null,null,0,0,0,0]
[532,{"$f":"'INVENT.Mob&Mat Bur Importé - 10'!B538","v":0},{"$f":"'INVENT.Mob&Mat Bur Importé - 10'!F538","v":0},{"$f":"'INVENT.Mob&Mat Bur Importé - 10'!C538","v":0},{"$f":"'INVENT.Mob&Mat Bur Importé - 10'!H538","v":0},null,0,0,0,0,0,0,null,null,0,0,0,0]
[533,{"$f":"'INVENT.Mob&Mat Bur Importé - 10'!B539","v":0},{"$f":"'INVENT.Mob&Mat Bur Importé - 10'!F539","v":0},{"$f":"'INVENT.Mob&Mat Bur Importé - 10'!C539","v":0},{"$f":"'INVENT.Mob&Mat Bur Importé - 10'!H539","v":0},null,0,0,0,0,0,0,null,null,0,0,0,0]
[534,{"$f":"'INVENT.Mob&Mat Bur Importé - 10'!B540","v":0},{"$f":"'INVENT.Mob&Mat Bur Importé - 10'!F540","v":0},{"$f":"'INVENT.Mob&Mat Bur Importé - 10'!C540","v":0},{"$f":"'INVENT.Mob&Mat Bur Importé - 10'!H540","v":0},null,0,0,0,0,0,0,null,null,0,0,0,0]
[535,{"$f":"'INVENT.Mob&Mat Bur Importé - 10'!B541","v":0},{"$f":"'INVENT.Mob&Mat Bur Importé - 10'!F541","v":0},{"$f":"'INVENT.Mob&Mat Bur Importé - 10'!C541","v":0},{"$f":"'INVENT.Mob&Mat Bur Importé - 10'!H541","v":0},null,0,0,0,0,0,0,null,null,0,0,0,0]
[536,{"$f":"'INVENT.Mob&Mat Bur Importé - 10'!B542","v":0},{"$f":"'INVENT.Mob&Mat Bur Importé - 10'!F542","v":0},{"$f":"'INVENT.Mob&Mat Bur Importé - 10'!C542","v":0},{"$f":"'INVENT.Mob&Mat Bur Importé - 10'!H542","v":0},null,0,0,0,0,0,0,null,null,0,0,0,0]
[537,{"$f":"'INVENT.Mob&Mat Bur Importé - 10'!B543","v":0},{"$f":"'INVENT.Mob&Mat Bur Importé - 10'!F543","v":0},{"$f":"'INVENT.Mob&Mat Bur Importé - 10'!C543","v":0},{"$f":"'INVENT.Mob&Mat Bur Importé - 10'!H543","v":0},null,0,0,0,0,0,0,null,null,0,0,0,0]
[538,{"$f":"'INVENT.Mob&Mat Bur Importé - 10'!B544","v":0},{"$f":"'INVENT.Mob&Mat Bur Importé - 10'!F544","v":0},{"$f":"'INVENT.Mob&Mat Bur Importé - 10'!C544","v":0},{"$f":"'INVENT.Mob&Mat Bur Importé - 10'!H544","v":0},null,0,0,0,0,0,0,null,null,0,0,0,0]
[539,{"$f":"'INVENT.Mob&Mat Bur Importé - 10'!B545","v":0},{"$f":"'INVENT.Mob&Mat Bur Importé - 10'!F545","v":0},{"$f":"'INVENT.Mob&Mat Bur Importé - 10'!C545","v":0},{"$f":"'INVENT.Mob&Mat Bur Importé - 10'!H545","v":0},null,0,0,0,0,0,0,null,null,0,0,0,0]
[540,{"$f":"'INVENT.Mob&Mat Bur Importé - 10'!B546","v":0},{"$f":"'INVENT.Mob&Mat Bur Importé - 10'!F546","v":0},{"$f":"'INVENT.Mob&Mat Bur Importé - 10'!C546","v":0},{"$f":"'INVENT.Mob&Mat Bur Importé - 10'!H546","v":0},null,0,0,0,0,0,0,null,null,0,0,0,0]
[541,{"$f":"'INVENT.Mob&Mat Bur Importé - 10'!B547","v":0},{"$f":"'INVENT.Mob&Mat Bur Importé - 10'!F547","v":0},{"$f":"'INVENT.Mob&Mat Bur Importé - 10'!C547","v":0},{"$f":"'INVENT.Mob&Mat Bur Importé - 10'!H547","v":0},null,0,0,0,0,0,0,null,null,0,0,0,0]
[542,{"$f":"'INVENT.Mob&Mat Bur Importé - 10'!B548","v":0},{"$f":"'INVENT.Mob&Mat Bur Importé - 10'!F548","v":0},{"$f":"'INVENT.Mob&Mat Bur Importé - 10'!C548","v":0},{"$f":"'INVENT.Mob&Mat Bur Importé - 10'!H548","v":0},null,0,0,0,0,0,0,null,null,0,0,0,0]
[543,{"$f":"'INVENT.Mob&Mat Bur Importé - 10'!B549","v":0},{"$f":"'INVENT.Mob&Mat Bur Importé - 10'!F549","v":0},{"$f":"'INVENT.Mob&Mat Bur Importé - 10'!C549","v":0},{"$f":"'INVENT.Mob&Mat Bur Importé - 10'!H549","v":0},null,0,0,0,0,0,0,null,null,0,0,0,0]
[544,{"$f":"'INVENT.Mob&Mat Bur Importé - 10'!B550","v":0},{"$f":"'INVENT.Mob&Mat Bur Importé - 10'!F550","v":0},{"$f":"'INVENT.Mob&Mat Bur Importé - 10'!C550","v":0},{"$f":"'INVENT.Mob&Mat Bur Importé - 10'!H550","v":0},null,0,0,0,0,0,0,null,null,0,0,0,0]
[545,{"$f":"'INVENT.Mob&Mat Bur Importé - 10'!B551","v":0},{"$f":"'INVENT.Mob&Mat Bur Importé - 10'!F551","v":0},{"$f":"'INVENT.Mob&Mat Bur Importé - 10'!C551","v":0},{"$f":"'INVENT.Mob&Mat Bur Importé - 10'!H551","v":0},null,0,0,0,0,0,0,null,null,0,0,0,0]
[546,{"$f":"'INVENT.Mob&Mat Bur Importé - 10'!B552","v":0},{"$f":"'INVENT.Mob&Mat Bur Importé - 10'!F552","v":0},{"$f":"'INVENT.Mob&Mat Bur Importé - 10'!C552","v":0},{"$f":"'INVENT.Mob&Mat Bur Importé - 10'!H552","v":0},null,0,0,0,0,0,0,null,null,0,0,0,0]
[547,{"$f":"'INVENT.Mob&Mat Bur Importé - 10'!B553","v":0},{"$f":"'INVENT.Mob&Mat Bur Importé - 10'!F553","v":0},{"$f":"'INVENT.Mob&Mat Bur Importé - 10'!C553","v":0},{"$f":"'INVENT.Mob&Mat Bur Importé - 10'!H553","v":0},null,0,0,0,0,0,0,null,null,0,0,0,0]
[548,{"$f":"'INVENT.Mob&Mat Bur Importé - 10'!B554","v":0},{"$f":"'INVENT.Mob&Mat Bur Importé - 10'!F554","v":0},{"$f":"'INVENT.Mob&Mat Bur Importé - 10'!C554","v":0},{"$f":"'INVENT.Mob&Mat Bur Importé - 10'!H554","v":0},null,0,0,0,0,0,0,null,null,0,0,0,0]
[549,{"$f":"'INVENT.Mob&Mat Bur Importé - 10'!B555","v":0},{"$f":"'INVENT.Mob&Mat Bur Importé - 10'!F555","v":0},{"$f":"'INVENT.Mob&Mat Bur Importé - 10'!C555","v":0},{"$f":"'INVENT.Mob&Mat Bur Importé - 10'!H555","v":0},null,{"$f":"F556*E556","v":0},{"$f":"E556*1%","v":0},{"$f":"E556*1%","v":0},{"$f":"E556*0.5%","v":0},{"$f":"(E556+G556+H556)*18%","v":0},{"$f":"SUM(G556:K556)+E556","v":0},null,null,{"$f":"(M556+N556)*18%","v":0},{"$f":"O556+N556+M556","v":0},{"$f":"+R556-O556-K556","v":0},{"$f":"P556+L556","v":0}]
[550,{"$f":"'INVENT.Mob&Mat Bur Importé - 10'!B556","v":0},{"$f":"'INVENT.Mob&Mat Bur Importé - 10'!F556","v":0},{"$f":"'INVENT.Mob&Mat Bur Importé - 10'!C556","v":0},{"$f":"'INVENT.Mob&Mat Bur Importé - 10'!H556","v":0},null,0,0,0,0,0,0,null,null,0,0,0,0]
[551,{"$f":"'INVENT.Mob&Mat Bur Importé - 10'!B557","v":0},{"$f":"'INVENT.Mob&Mat Bur Importé - 10'!F557","v":0},{"$f":"'INVENT.Mob&Mat Bur Importé - 10'!C557","v":0},{"$f":"'INVENT.Mob&Mat Bur Importé - 10'!H557","v":0},null,0,0,0,0,0,0,null,null,0,0,0,0]
[552,{"$f":"'INVENT.Mob&Mat Bur Importé - 10'!B558","v":0},{"$f":"'INVENT.Mob&Mat Bur Importé - 10'!F558","v":0},{"$f":"'INVENT.Mob&Mat Bur Importé - 10'!C558","v":0},{"$f":"'INVENT.Mob&Mat Bur Importé - 10'!H558","v":0},null,0,0,0,0,0,0,null,null,0,0,0,0]
[553,{"$f":"'INVENT.Mob&Mat Bur Importé - 10'!B559","v":0},{"$f":"'INVENT.Mob&Mat Bur Importé - 10'!F559","v":0},{"$f":"'INVENT.Mob&Mat Bur Importé - 10'!C559","v":0},{"$f":"'INVENT.Mob&Mat Bur Importé - 10'!H559","v":0},null,0,0,0,0,0,0,null,null,0,0,0,0]
[554,{"$f":"'INVENT.Mob&Mat Bur Importé - 10'!B560","v":0},{"$f":"'INVENT.Mob&Mat Bur Importé - 10'!F560","v":0},{"$f":"'INVENT.Mob&Mat Bur Importé - 10'!C560","v":0},{"$f":"'INVENT.Mob&Mat Bur Importé - 10'!H560","v":0},null,0,0,0,0,0,0,null,null,0,0,0,0]
[555,{"$f":"'INVENT.Mob&Mat Bur Importé - 10'!B561","v":0},{"$f":"'INVENT.Mob&Mat Bur Importé - 10'!F561","v":0},{"$f":"'INVENT.Mob&Mat Bur Importé - 10'!C561","v":0},{"$f":"'INVENT.Mob&Mat Bur Importé - 10'!H561","v":0},null,0,0,0,0,0,0,null,null,0,0,0,0]
[556,{"$f":"'INVENT.Mob&Mat Bur Importé - 10'!B562","v":0},{"$f":"'INVENT.Mob&Mat Bur Importé - 10'!F562","v":0},{"$f":"'INVENT.Mob&Mat Bur Importé - 10'!C562","v":0},{"$f":"'INVENT.Mob&Mat Bur Importé - 10'!H562","v":0},null,0,0,0,0,0,0,null,null,0,0,0,0]
[557,{"$f":"'INVENT.Mob&Mat Bur Importé - 10'!B563","v":0},{"$f":"'INVENT.Mob&Mat Bur Importé - 10'!F563","v":0},{"$f":"'INVENT.Mob&Mat Bur Importé - 10'!C563","v":0},{"$f":"'INVENT.Mob&Mat Bur Importé - 10'!H563","v":0},null,0,0,0,0,0,0,null,null,0,0,0,0]
[558,{"$f":"'INVENT.Mob&Mat Bur Importé - 10'!B564","v":0},{"$f":"'INVENT.Mob&Mat Bur Importé - 10'!F564","v":0},{"$f":"'INVENT.Mob&Mat Bur Importé - 10'!C564","v":0},{"$f":"'INVENT.Mob&Mat Bur Importé - 10'!H564","v":0},null,0,0,0,0,0,0,null,null,0,0,0,0]
[559,{"$f":"'INVENT.Mob&Mat Bur Importé - 10'!B565","v":0},{"$f":"'INVENT.Mob&Mat Bur Importé - 10'!F565","v":0},{"$f":"'INVENT.Mob&Mat Bur Importé - 10'!C565","v":0},{"$f":"'INVENT.Mob&Mat Bur Importé - 10'!H565","v":0},null,0,0,0,0,0,0,null,null,0,0,0,0]
[560,{"$f":"'INVENT.Mob&Mat Bur Importé - 10'!B566","v":0},{"$f":"'INVENT.Mob&Mat Bur Importé - 10'!F566","v":0},{"$f":"'INVENT.Mob&Mat Bur Importé - 10'!C566","v":0},{"$f":"'INVENT.Mob&Mat Bur Importé - 10'!H566","v":0},null,0,0,0,0,0,0,null,null,0,0,0,0]
[561,{"$f":"'INVENT.Mob&Mat Bur Importé - 10'!B567","v":0},{"$f":"'INVENT.Mob&Mat Bur Importé - 10'!F567","v":0},{"$f":"'INVENT.Mob&Mat Bur Importé - 10'!C567","v":0},{"$f":"'INVENT.Mob&Mat Bur Importé - 10'!H567","v":0},null,0,0,0,0,0,0,null,null,0,0,0,0]
[562,{"$f":"'INVENT.Mob&Mat Bur Importé - 10'!B568","v":0},{"$f":"'INVENT.Mob&Mat Bur Importé - 10'!F568","v":0},{"$f":"'INVENT.Mob&Mat Bur Importé - 10'!C568","v":0},{"$f":"'INVENT.Mob&Mat Bur Importé - 10'!H568","v":0},null,0,0,0,0,0,0,null,null,0,0,0,0]
[563,{"$f":"'INVENT.Mob&Mat Bur Importé - 10'!B569","v":0},{"$f":"'INVENT.Mob&Mat Bur Importé - 10'!F569","v":0},{"$f":"'INVENT.Mob&Mat Bur Importé - 10'!C569","v":0},{"$f":"'INVENT.Mob&Mat Bur Importé - 10'!H569","v":0},null,0,0,0,0,0,0,null,null,0,0,0,0]
[564,{"$f":"'INVENT.Mob&Mat Bur Importé - 10'!B570","v":0},{"$f":"'INVENT.Mob&Mat Bur Importé - 10'!F570","v":0},{"$f":"'INVENT.Mob&Mat Bur Importé - 10'!C570","v":0},{"$f":"'INVENT.Mob&Mat Bur Importé - 10'!H570","v":0},null,0,0,0,0,0,0,null,null,0,0,0,0]
[565,{"$f":"'INVENT.Mob&Mat Bur Importé - 10'!B571","v":0},{"$f":"'INVENT.Mob&Mat Bur Importé - 10'!F571","v":0},{"$f":"'INVENT.Mob&Mat Bur Importé - 10'!C571","v":0},{"$f":"'INVENT.Mob&Mat Bur Importé - 10'!H571","v":0},null,0,0,0,0,0,0,null,null,0,0,0,0]
[566,{"$f":"'INVENT.Mob&Mat Bur Importé - 10'!B572","v":0},{"$f":"'INVENT.Mob&Mat Bur Importé - 10'!F572","v":0},{"$f":"'INVENT.Mob&Mat Bur Importé - 10'!C572","v":0},{"$f":"'INVENT.Mob&Mat Bur Importé - 10'!H572","v":0},null,0,0,0,0,0,0,null,null,0,0,0,0]
[567,{"$f":"'INVENT.Mob&Mat Bur Importé - 10'!B573","v":0},{"$f":"'INVENT.Mob&Mat Bur Importé - 10'!F573","v":0},{"$f":"'INVENT.Mob&Mat Bur Importé - 10'!C573","v":0},{"$f":"'INVENT.Mob&Mat Bur Importé - 10'!H573","v":0},null,0,0,0,0,0,0,null,null,0,0,0,0]
[568,{"$f":"'INVENT.Mob&Mat Bur Importé - 10'!B574","v":0},{"$f":"'INVENT.Mob&Mat Bur Importé - 10'!F574","v":0},{"$f":"'INVENT.Mob&Mat Bur Importé - 10'!C574","v":0},{"$f":"'INVENT.Mob&Mat Bur Importé - 10'!H574","v":0},null,0,0,0,0,0,0,null,null,0,0,0,0]
[569,{"$f":"'INVENT.Mob&Mat Bur Importé - 10'!B575","v":0},{"$f":"'INVENT.Mob&Mat Bur Importé - 10'!F575","v":0},{"$f":"'INVENT.Mob&Mat Bur Importé - 10'!C575","v":0},{"$f":"'INVENT.Mob&Mat Bur Importé - 10'!H575","v":0},null,0,0,0,0,0,0,null,null,0,0,0,0]
[570,{"$f":"'INVENT.Mob&Mat Bur Importé - 10'!B576","v":0},{"$f":"'INVENT.Mob&Mat Bur Importé - 10'!F576","v":0},{"$f":"'INVENT.Mob&Mat Bur Importé - 10'!C576","v":0},{"$f":"'INVENT.Mob&Mat Bur Importé - 10'!H576","v":0},null,0,0,0,0,0,0,null,null,0,0,0,0]
[571,{"$f":"'INVENT.Mob&Mat Bur Importé - 10'!B577","v":0},{"$f":"'INVENT.Mob&Mat Bur Importé - 10'!F577","v":0},{"$f":"'INVENT.Mob&Mat Bur Importé - 10'!C577","v":0},{"$f":"'INVENT.Mob&Mat Bur Importé - 10'!H577","v":0},null,0,0,0,0,0,0,null,null,0,0,0,0]
[572,{"$f":"'INVENT.Mob&Mat Bur Importé - 10'!B578","v":0},{"$f":"'INVENT.Mob&Mat Bur Importé - 10'!F578","v":0},{"$f":"'INVENT.Mob&Mat Bur Importé - 10'!C578","v":0},{"$f":"'INVENT.Mob&Mat Bur Importé - 10'!H578","v":0},null,0,0,0,0,0,0,null,null,0,0,0,0]
[573,{"$f":"'INVENT.Mob&Mat Bur Importé - 10'!B579","v":0},{"$f":"'INVENT.Mob&Mat Bur Importé - 10'!F579","v":0},{"$f":"'INVENT.Mob&Mat Bur Importé - 10'!C579","v":0},{"$f":"'INVENT.Mob&Mat Bur Importé - 10'!H579","v":0},null,0,0,0,0,0,0,null,null,0,0,0,0]
[574,{"$f":"'INVENT.Mob&Mat Bur Importé - 10'!B580","v":0},{"$f":"'INVENT.Mob&Mat Bur Importé - 10'!F580","v":0},{"$f":"'INVENT.Mob&Mat Bur Importé - 10'!C580","v":0},{"$f":"'INVENT.Mob&Mat Bur Importé - 10'!H580","v":0},null,0,0,0,0,0,0,null,null,0,0,0,0]
[575,{"$f":"'INVENT.Mob&Mat Bur Importé - 10'!B581","v":0},{"$f":"'INVENT.Mob&Mat Bur Importé - 10'!F581","v":0},{"$f":"'INVENT.Mob&Mat Bur Importé - 10'!C581","v":0},{"$f":"'INVENT.Mob&Mat Bur Importé - 10'!H581","v":0},null,0,0,0,0,0,0,null,null,0,0,0,0]
[576,{"$f":"'INVENT.Mob&Mat Bur Importé - 10'!B582","v":0},{"$f":"'INVENT.Mob&Mat Bur Importé - 10'!F582","v":0},{"$f":"'INVENT.Mob&Mat Bur Importé - 10'!C582","v":0},{"$f":"'INVENT.Mob&Mat Bur Importé - 10'!H582","v":0},null,0,0,0,0,0,0,null,null,0,0,0,0]
[577,{"$f":"'INVENT.Mob&Mat Bur Importé - 10'!B583","v":0},{"$f":"'INVENT.Mob&Mat Bur Importé - 10'!F583","v":0},{"$f":"'INVENT.Mob&Mat Bur Importé - 10'!C583","v":0},{"$f":"'INVENT.Mob&Mat Bur Importé - 10'!H583","v":0},null,0,0,0,0,0,0,null,null,0,0,0,0]
[578,{"$f":"'INVENT.Mob&Mat Bur Importé - 10'!B584","v":0},{"$f":"'INVENT.Mob&Mat Bur Importé - 10'!F584","v":0},{"$f":"'INVENT.Mob&Mat Bur Importé - 10'!C584","v":0},{"$f":"'INVENT.Mob&Mat Bur Importé - 10'!H584","v":0},null,0,0,0,0,0,0,null,null,0,0,0,0]
[{"$f":"+A585+1","v":579},{"$f":"'INVENT.Mob&Mat Bur Importé - 10'!B585","v":0},{"$f":"'INVENT.Mob&Mat Bur Importé - 10'!F585","v":0},{"$f":"'INVENT.Mob&Mat Bur Importé - 10'!C585","v":0},{"$f":"'INVENT.Mob&Mat Bur Importé - 10'!H585","v":0},null,0,0,0,0,0,0,null,null,0,0,0,0]
[580,{"$f":"'INVENT.Mob&Mat Bur Importé - 10'!B586","v":0},{"$f":"'INVENT.Mob&Mat Bur Importé - 10'!F586","v":0},{"$f":"'INVENT.Mob&Mat Bur Importé - 10'!C586","v":0},{"$f":"'INVENT.Mob&Mat Bur Importé - 10'!H586","v":0},null,0,0,0,0,0,0,null,null,0,0,0,0]
[581,{"$f":"'INVENT.Mob&Mat Bur Importé - 10'!B587","v":0},{"$f":"'INVENT.Mob&Mat Bur Importé - 10'!F587","v":0},{"$f":"'INVENT.Mob&Mat Bur Importé - 10'!C587","v":0},{"$f":"'INVENT.Mob&Mat Bur Importé - 10'!H587","v":0},null,0,0,0,0,0,0,null,null,0,0,0,0]
[582,{"$f":"'INVENT.Mob&Mat Bur Importé - 10'!B588","v":0},{"$f":"'INVENT.Mob&Mat Bur Importé - 10'!F588","v":0},{"$f":"'INVENT.Mob&Mat Bur Importé - 10'!C588","v":0},{"$f":"'INVENT.Mob&Mat Bur Importé - 10'!H588","v":0},null,0,0,0,0,0,0,null,null,0,0,0,0]
[583,{"$f":"'INVENT.Mob&Mat Bur Importé - 10'!B589","v":0},{"$f":"'INVENT.Mob&Mat Bur Importé - 10'!F589","v":0},{"$f":"'INVENT.Mob&Mat Bur Importé - 10'!C589","v":0},{"$f":"'INVENT.Mob&Mat Bur Importé - 10'!H589","v":0},null,0,0,0,0,0,0,null,null,0,0,0,0]
[584,{"$f":"'INVENT.Mob&Mat Bur Importé - 10'!B590","v":0},{"$f":"'INVENT.Mob&Mat Bur Importé - 10'!F590","v":0},{"$f":"'INVENT.Mob&Mat Bur Importé - 10'!C590","v":0},{"$f":"'INVENT.Mob&Mat Bur Importé - 10'!H590","v":0},null,0,0,0,0,0,0,null,null,0,0,0,0]
[585,{"$f":"'INVENT.Mob&Mat Bur Importé - 10'!B591","v":0},{"$f":"'INVENT.Mob&Mat Bur Importé - 10'!F591","v":0},{"$f":"'INVENT.Mob&Mat Bur Importé - 10'!C591","v":0},{"$f":"'INVENT.Mob&Mat Bur Importé - 10'!H591","v":0},null,0,0,0,0,0,0,null,null,0,0,0,0]
[586,{"$f":"'INVENT.Mob&Mat Bur Importé - 10'!B592","v":0},{"$f":"'INVENT.Mob&Mat Bur Importé - 10'!F592","v":0},{"$f":"'INVENT.Mob&Mat Bur Importé - 10'!C592","v":0},{"$f":"'INVENT.Mob&Mat Bur Importé - 10'!H592","v":0},null,0,0,0,0,0,0,null,null,0,0,0,0]
[587,{"$f":"'INVENT.Mob&Mat Bur Importé - 10'!B593","v":0},{"$f":"'INVENT.Mob&Mat Bur Importé - 10'!F593","v":0},{"$f":"'INVENT.Mob&Mat Bur Importé - 10'!C593","v":0},{"$f":"'INVENT.Mob&Mat Bur Importé - 10'!H593","v":0},null,0,0,0,0,0,0,null,null,0,0,0,0]
[588,{"$f":"'INVENT.Mob&Mat Bur Importé - 10'!B594","v":0},{"$f":"'INVENT.Mob&Mat Bur Importé - 10'!F594","v":0},{"$f":"'INVENT.Mob&Mat Bur Importé - 10'!C594","v":0},{"$f":"'INVENT.Mob&Mat Bur Importé - 10'!H594","v":0},null,0,0,0,0,0,0,null,null,0,0,0,0]
[589,{"$f":"'INVENT.Mob&Mat Bur Importé - 10'!B595","v":0},{"$f":"'INVENT.Mob&Mat Bur Importé - 10'!F595","v":0},{"$f":"'INVENT.Mob&Mat Bur Importé - 10'!C595","v":0},{"$f":"'INVENT.Mob&Mat Bur Importé - 10'!H595","v":0},null,0,0,0,0,0,0,null,null,0,0,0,0]
[590,{"$f":"'INVENT.Mob&Mat Bur Importé - 10'!B596","v":0},{"$f":"'INVENT.Mob&Mat Bur Importé - 10'!F596","v":0},{"$f":"'INVENT.Mob&Mat Bur Importé - 10'!C596","v":0},{"$f":"'INVENT.Mob&Mat Bur Importé - 10'!H596","v":0},null,0,0,0,0,0,0,null,null,0,0,0,0]
[591,{"$f":"'INVENT.Mob&Mat Bur Importé - 10'!B597","v":0},{"$f":"'INVENT.Mob&Mat Bur Importé - 10'!F597","v":0},{"$f":"'INVENT.Mob&Mat Bur Importé - 10'!C597","v":0},{"$f":"'INVENT.Mob&Mat Bur Importé - 10'!H597","v":0},null,0,0,0,0,0,0,null,null,0,0,0,0]
[592,{"$f":"'INVENT.Mob&Mat Bur Importé - 10'!B598","v":0},{"$f":"'INVENT.Mob&Mat Bur Importé - 10'!F598","v":0},{"$f":"'INVENT.Mob&Mat Bur Importé - 10'!C598","v":0},{"$f":"'INVENT.Mob&Mat Bur Importé - 10'!H598","v":0},null,0,0,0,0,0,0,null,null,0,0,0,0]
[593,{"$f":"'INVENT.Mob&Mat Bur Importé - 10'!B599","v":0},{"$f":"'INVENT.Mob&Mat Bur Importé - 10'!F599","v":0},{"$f":"'INVENT.Mob&Mat Bur Importé - 10'!C599","v":0},{"$f":"'INVENT.Mob&Mat Bur Importé - 10'!H599","v":0},null,0,0,0,0,0,0,null,null,0,0,0,0]
[594,{"$f":"'INVENT.Mob&Mat Bur Importé - 10'!B600","v":0},{"$f":"'INVENT.Mob&Mat Bur Importé - 10'!F600","v":0},{"$f":"'INVENT.Mob&Mat Bur Importé - 10'!C600","v":0},{"$f":"'INVENT.Mob&Mat Bur Importé - 10'!H600","v":0},null,0,0,0,0,0,0,null,null,0,0,0,0]
[595,{"$f":"'INVENT.Mob&Mat Bur Importé - 10'!B601","v":0},{"$f":"'INVENT.Mob&Mat Bur Importé - 10'!F601","v":0},{"$f":"'INVENT.Mob&Mat Bur Importé - 10'!C601","v":0},{"$f":"'INVENT.Mob&Mat Bur Importé - 10'!H601","v":0},null,0,0,0,0,0,0,null,null,0,0,0,0]
[596,{"$f":"'INVENT.Mob&Mat Bur Importé - 10'!B602","v":0},{"$f":"'INVENT.Mob&Mat Bur Importé - 10'!F602","v":0},{"$f":"'INVENT.Mob&Mat Bur Importé - 10'!C602","v":0},{"$f":"'INVENT.Mob&Mat Bur Importé - 10'!H602","v":0},null,0,0,0,0,0,0,null,null,0,0,0,0]
[597,{"$f":"'INVENT.Mob&Mat Bur Importé - 10'!B603","v":0},{"$f":"'INVENT.Mob&Mat Bur Importé - 10'!F603","v":0},{"$f":"'INVENT.Mob&Mat Bur Importé - 10'!C603","v":0},{"$f":"'INVENT.Mob&Mat Bur Importé - 10'!H603","v":0},null,0,0,0,0,0,0,null,null,0,0,0,0]
[598,{"$f":"'INVENT.Mob&Mat Bur Importé - 10'!B604","v":0},{"$f":"'INVENT.Mob&Mat Bur Importé - 10'!F604","v":0},{"$f":"'INVENT.Mob&Mat Bur Importé - 10'!C604","v":0},{"$f":"'INVENT.Mob&Mat Bur Importé - 10'!H604","v":0},null,0,0,0,0,0,0,null,null,0,0,0,0]
[599,{"$f":"'INVENT.Mob&Mat Bur Importé - 10'!B605","v":0},{"$f":"'INVENT.Mob&Mat Bur Importé - 10'!F605","v":0},{"$f":"'INVENT.Mob&Mat Bur Importé - 10'!C605","v":0},{"$f":"'INVENT.Mob&Mat Bur Importé - 10'!H605","v":0},null,0,0,0,0,0,0,null,null,0,0,0,0]
[600,{"$f":"'INVENT.Mob&Mat Bur Importé - 10'!B606","v":0},{"$f":"'INVENT.Mob&Mat Bur Importé - 10'!F606","v":0},{"$f":"'INVENT.Mob&Mat Bur Importé - 10'!C606","v":0},{"$f":"'INVENT.Mob&Mat Bur Importé - 10'!H606","v":0},null,0,0,0,0,0,0,null,null,0,0,0,0]
[601,{"$f":"'INVENT.Mob&Mat Bur Importé - 10'!B607","v":0},{"$f":"'INVENT.Mob&Mat Bur Importé - 10'!F607","v":0},{"$f":"'INVENT.Mob&Mat Bur Importé - 10'!C607","v":0},{"$f":"'INVENT.Mob&Mat Bur Importé - 10'!H607","v":0},null,0,0,0,0,0,0,null,null,0,0,0,0]
[602,{"$f":"'INVENT.Mob&Mat Bur Importé - 10'!B608","v":0},{"$f":"'INVENT.Mob&Mat Bur Importé - 10'!F608","v":0},{"$f":"'INVENT.Mob&Mat Bur Importé - 10'!C608","v":0},{"$f":"'INVENT.Mob&Mat Bur Importé - 10'!H608","v":0},null,0,0,0,0,0,0,null,null,0,0,0,0]
[603,{"$f":"'INVENT.Mob&Mat Bur Importé - 10'!B609","v":0},{"$f":"'INVENT.Mob&Mat Bur Importé - 10'!F609","v":0},{"$f":"'INVENT.Mob&Mat Bur Importé - 10'!C609","v":0},{"$f":"'INVENT.Mob&Mat Bur Importé - 10'!H609","v":0},null,0,0,0,0,0,0,null,null,0,0,0,0]
[604,{"$f":"'INVENT.Mob&Mat Bur Importé - 10'!B610","v":0},{"$f":"'INVENT.Mob&Mat Bur Importé - 10'!F610","v":0},{"$f":"'INVENT.Mob&Mat Bur Importé - 10'!C610","v":0},{"$f":"'INVENT.Mob&Mat Bur Importé - 10'!H610","v":0},null,0,0,0,0,0,0,null,null,0,0,0,0]
[605,{"$f":"'INVENT.Mob&Mat Bur Importé - 10'!B611","v":0},{"$f":"'INVENT.Mob&Mat Bur Importé - 10'!F611","v":0},{"$f":"'INVENT.Mob&Mat Bur Importé - 10'!C611","v":0},{"$f":"'INVENT.Mob&Mat Bur Importé - 10'!H611","v":0},null,0,0,0,0,0,0,null,null,0,0,0,0]
[606,{"$f":"'INVENT.Mob&Mat Bur Importé - 10'!B612","v":0},{"$f":"'INVENT.Mob&Mat Bur Importé - 10'!F612","v":0},{"$f":"'INVENT.Mob&Mat Bur Importé - 10'!C612","v":0},{"$f":"'INVENT.Mob&Mat Bur Importé - 10'!H612","v":0},null,0,0,0,0,0,0,null,null,0,0,0,0]
[607,{"$f":"'INVENT.Mob&Mat Bur Importé - 10'!B613","v":0},{"$f":"'INVENT.Mob&Mat Bur Importé - 10'!F613","v":0},{"$f":"'INVENT.Mob&Mat Bur Importé - 10'!C613","v":0},{"$f":"'INVENT.Mob&Mat Bur Importé - 10'!H613","v":0},null,0,0,0,0,0,0,null,null,0,0,0,0]
[608,{"$f":"'INVENT.Mob&Mat Bur Importé - 10'!B614","v":0},{"$f":"'INVENT.Mob&Mat Bur Importé - 10'!F614","v":0},{"$f":"'INVENT.Mob&Mat Bur Importé - 10'!C614","v":0},{"$f":"'INVENT.Mob&Mat Bur Importé - 10'!H614","v":0},null,0,0,0,0,0,0,null,null,0,0,0,0]
[609,{"$f":"'INVENT.Mob&Mat Bur Importé - 10'!B615","v":0},{"$f":"'INVENT.Mob&Mat Bur Importé - 10'!F615","v":0},{"$f":"'INVENT.Mob&Mat Bur Importé - 10'!C615","v":0},{"$f":"'INVENT.Mob&Mat Bur Importé - 10'!H615","v":0},null,0,0,0,0,0,0,null,null,0,0,0,0]
[610,{"$f":"'INVENT.Mob&Mat Bur Importé - 10'!B616","v":0},{"$f":"'INVENT.Mob&Mat Bur Importé - 10'!F616","v":0},{"$f":"'INVENT.Mob&Mat Bur Importé - 10'!C616","v":0},{"$f":"'INVENT.Mob&Mat Bur Importé - 10'!H616","v":0},null,0,0,0,0,0,0,null,null,0,0,0,0]
[611,{"$f":"'INVENT.Mob&Mat Bur Importé - 10'!B617","v":0},{"$f":"'INVENT.Mob&Mat Bur Importé - 10'!F617","v":0},{"$f":"'INVENT.Mob&Mat Bur Importé - 10'!C617","v":0},{"$f":"'INVENT.Mob&Mat Bur Importé - 10'!H617","v":0},null,0,0,0,0,0,0,null,null,0,0,0,0]
[612,{"$f":"'INVENT.Mob&Mat Bur Importé - 10'!B618","v":0},{"$f":"'INVENT.Mob&Mat Bur Importé - 10'!F618","v":0},{"$f":"'INVENT.Mob&Mat Bur Importé - 10'!C618","v":0},{"$f":"'INVENT.Mob&Mat Bur Importé - 10'!H618","v":0},null,0,0,0,0,0,0,null,null,0,0,0,0]
[613,{"$f":"'INVENT.Mob&Mat Bur Importé - 10'!B619","v":0},{"$f":"'INVENT.Mob&Mat Bur Importé - 10'!F619","v":0},{"$f":"'INVENT.Mob&Mat Bur Importé - 10'!C619","v":0},{"$f":"'INVENT.Mob&Mat Bur Importé - 10'!H619","v":0},null,{"$f":"F620*E620","v":0},{"$f":"E620*1%","v":0},{"$f":"E620*1%","v":0},{"$f":"E620*0.5%","v":0},{"$f":"(E620+G620+H620)*18%","v":0},{"$f":"SUM(G620:K620)+E620","v":0},null,null,{"$f":"(M620+N620)*18%","v":0},{"$f":"O620+N620+M620","v":0},{"$f":"+R620-O620-K620","v":0},{"$f":"P620+L620","v":0}]
[614,{"$f":"'INVENT.Mob&Mat Bur Importé - 10'!B620","v":0},{"$f":"'INVENT.Mob&Mat Bur Importé - 10'!F620","v":0},{"$f":"'INVENT.Mob&Mat Bur Importé - 10'!C620","v":0},{"$f":"'INVENT.Mob&Mat Bur Importé - 10'!H620","v":0},null,0,0,0,0,0,0,null,null,0,0,0,0]
[615,{"$f":"'INVENT.Mob&Mat Bur Importé - 10'!B621","v":0},{"$f":"'INVENT.Mob&Mat Bur Importé - 10'!F621","v":0},{"$f":"'INVENT.Mob&Mat Bur Importé - 10'!C621","v":0},{"$f":"'INVENT.Mob&Mat Bur Importé - 10'!H621","v":0},null,0,0,0,0,0,0,null,null,0,0,0,0]
[616,{"$f":"'INVENT.Mob&Mat Bur Importé - 10'!B622","v":0},{"$f":"'INVENT.Mob&Mat Bur Importé - 10'!F622","v":0},{"$f":"'INVENT.Mob&Mat Bur Importé - 10'!C622","v":0},{"$f":"'INVENT.Mob&Mat Bur Importé - 10'!H622","v":0},null,0,0,0,0,0,0,null,null,0,0,0,0]
[617,{"$f":"'INVENT.Mob&Mat Bur Importé - 10'!B623","v":0},{"$f":"'INVENT.Mob&Mat Bur Importé - 10'!F623","v":0},{"$f":"'INVENT.Mob&Mat Bur Importé - 10'!C623","v":0},{"$f":"'INVENT.Mob&Mat Bur Importé - 10'!H623","v":0},null,0,0,0,0,0,0,null,null,0,0,0,0]
[618,{"$f":"'INVENT.Mob&Mat Bur Importé - 10'!B624","v":0},{"$f":"'INVENT.Mob&Mat Bur Importé - 10'!F624","v":0},{"$f":"'INVENT.Mob&Mat Bur Importé - 10'!C624","v":0},{"$f":"'INVENT.Mob&Mat Bur Importé - 10'!H624","v":0},null,0,0,0,0,0,0,null,null,0,0,0,0]
[619,{"$f":"'INVENT.Mob&Mat Bur Importé - 10'!B625","v":0},{"$f":"'INVENT.Mob&Mat Bur Importé - 10'!F625","v":0},{"$f":"'INVENT.Mob&Mat Bur Importé - 10'!C625","v":0},{"$f":"'INVENT.Mob&Mat Bur Importé - 10'!H625","v":0},null,0,0,0,0,0,0,null,null,0,0,0,0]
[620,{"$f":"'INVENT.Mob&Mat Bur Importé - 10'!B626","v":0},{"$f":"'INVENT.Mob&Mat Bur Importé - 10'!F626","v":0},{"$f":"'INVENT.Mob&Mat Bur Importé - 10'!C626","v":0},{"$f":"'INVENT.Mob&Mat Bur Importé - 10'!H626","v":0},null,0,0,0,0,0,0,null,null,0,0,0,0]
[621,{"$f":"'INVENT.Mob&Mat Bur Importé - 10'!B627","v":0},{"$f":"'INVENT.Mob&Mat Bur Importé - 10'!F627","v":0},{"$f":"'INVENT.Mob&Mat Bur Importé - 10'!C627","v":0},{"$f":"'INVENT.Mob&Mat Bur Importé - 10'!H627","v":0},null,0,0,0,0,0,0,null,null,0,0,0,0]
[622,{"$f":"'INVENT.Mob&Mat Bur Importé - 10'!B628","v":0},{"$f":"'INVENT.Mob&Mat Bur Importé - 10'!F628","v":0},{"$f":"'INVENT.Mob&Mat Bur Importé - 10'!C628","v":0},{"$f":"'INVENT.Mob&Mat Bur Importé - 10'!H628","v":0},null,0,0,0,0,0,0,null,null,0,0,0,0]
[623,{"$f":"'INVENT.Mob&Mat Bur Importé - 10'!B629","v":0},{"$f":"'INVENT.Mob&Mat Bur Importé - 10'!F629","v":0},{"$f":"'INVENT.Mob&Mat Bur Importé - 10'!C629","v":0},{"$f":"'INVENT.Mob&Mat Bur Importé - 10'!H629","v":0},null,0,0,0,0,0,0,null,null,0,0,0,0]
[624,{"$f":"'INVENT.Mob&Mat Bur Importé - 10'!B630","v":0},{"$f":"'INVENT.Mob&Mat Bur Importé - 10'!F630","v":0},{"$f":"'INVENT.Mob&Mat Bur Importé - 10'!C630","v":0},{"$f":"'INVENT.Mob&Mat Bur Importé - 10'!H630","v":0},null,0,0,0,0,0,0,null,null,0,0,0,0]
[625,{"$f":"'INVENT.Mob&Mat Bur Importé - 10'!B631","v":0},{"$f":"'INVENT.Mob&Mat Bur Importé - 10'!F631","v":0},{"$f":"'INVENT.Mob&Mat Bur Importé - 10'!C631","v":0},{"$f":"'INVENT.Mob&Mat Bur Importé - 10'!H631","v":0},null,0,0,0,0,0,0,null,null,0,0,0,0]
[626,{"$f":"'INVENT.Mob&Mat Bur Importé - 10'!B632","v":0},{"$f":"'INVENT.Mob&Mat Bur Importé - 10'!F632","v":0},{"$f":"'INVENT.Mob&Mat Bur Importé - 10'!C632","v":0},{"$f":"'INVENT.Mob&Mat Bur Importé - 10'!H632","v":0},null,0,0,0,0,0,0,null,null,0,0,0,0]
[627,{"$f":"'INVENT.Mob&Mat Bur Importé - 10'!B633","v":0},{"$f":"'INVENT.Mob&Mat Bur Importé - 10'!F633","v":0},{"$f":"'INVENT.Mob&Mat Bur Importé - 10'!C633","v":0},{"$f":"'INVENT.Mob&Mat Bur Importé - 10'!H633","v":0},null,0,0,0,0,0,0,null,null,0,0,0,0]
[628,{"$f":"'INVENT.Mob&Mat Bur Importé - 10'!B634","v":0},{"$f":"'INVENT.Mob&Mat Bur Importé - 10'!F634","v":0},{"$f":"'INVENT.Mob&Mat Bur Importé - 10'!C634","v":0},{"$f":"'INVENT.Mob&Mat Bur Importé - 10'!H634","v":0},null,0,0,0,0,0,0,null,null,0,0,0,0]
[629,{"$f":"'INVENT.Mob&Mat Bur Importé - 10'!B635","v":0},{"$f":"'INVENT.Mob&Mat Bur Importé - 10'!F635","v":0},{"$f":"'INVENT.Mob&Mat Bur Importé - 10'!C635","v":0},{"$f":"'INVENT.Mob&Mat Bur Importé - 10'!H635","v":0},null,0,0,0,0,0,0,null,null,0,0,0,0]
[630,{"$f":"'INVENT.Mob&Mat Bur Importé - 10'!B636","v":0},{"$f":"'INVENT.Mob&Mat Bur Importé - 10'!F636","v":0},{"$f":"'INVENT.Mob&Mat Bur Importé - 10'!C636","v":0},{"$f":"'INVENT.Mob&Mat Bur Importé - 10'!H636","v":0},null,0,0,0,0,0,0,null,null,0,0,0,0]
[631,{"$f":"'INVENT.Mob&Mat Bur Importé - 10'!B637","v":0},{"$f":"'INVENT.Mob&Mat Bur Importé - 10'!F637","v":0},{"$f":"'INVENT.Mob&Mat Bur Importé - 10'!C637","v":0},{"$f":"'INVENT.Mob&Mat Bur Importé - 10'!H637","v":0},null,0,0,0,0,0,0,null,null,0,0,0,0]
[632,{"$f":"'INVENT.Mob&Mat Bur Importé - 10'!B638","v":0},{"$f":"'INVENT.Mob&Mat Bur Importé - 10'!F638","v":0},{"$f":"'INVENT.Mob&Mat Bur Importé - 10'!C638","v":0},{"$f":"'INVENT.Mob&Mat Bur Importé - 10'!H638","v":0},null,0,0,0,0,0,0,null,null,0,0,0,0]
[633,{"$f":"'INVENT.Mob&Mat Bur Importé - 10'!B639","v":0},{"$f":"'INVENT.Mob&Mat Bur Importé - 10'!F639","v":0},{"$f":"'INVENT.Mob&Mat Bur Importé - 10'!C639","v":0},{"$f":"'INVENT.Mob&Mat Bur Importé - 10'!H639","v":0},null,0,0,0,0,0,0,null,null,0,0,0,0]
[634,{"$f":"'INVENT.Mob&Mat Bur Importé - 10'!B640","v":0},{"$f":"'INVENT.Mob&Mat Bur Importé - 10'!F640","v":0},{"$f":"'INVENT.Mob&Mat Bur Importé - 10'!C640","v":0},{"$f":"'INVENT.Mob&Mat Bur Importé - 10'!H640","v":0},null,0,0,0,0,0,0,null,null,0,0,0,0]
[635,{"$f":"'INVENT.Mob&Mat Bur Importé - 10'!B641","v":0},{"$f":"'INVENT.Mob&Mat Bur Importé - 10'!F641","v":0},{"$f":"'INVENT.Mob&Mat Bur Importé - 10'!C641","v":0},{"$f":"'INVENT.Mob&Mat Bur Importé - 10'!H641","v":0},null,0,0,0,0,0,0,null,null,0,0,0,0]
[636,{"$f":"'INVENT.Mob&Mat Bur Importé - 10'!B642","v":0},{"$f":"'INVENT.Mob&Mat Bur Importé - 10'!F642","v":0},{"$f":"'INVENT.Mob&Mat Bur Importé - 10'!C642","v":0},{"$f":"'INVENT.Mob&Mat Bur Importé - 10'!H642","v":0},null,0,0,0,0,0,0,null,null,0,0,0,0]
[637,{"$f":"'INVENT.Mob&Mat Bur Importé - 10'!B643","v":0},{"$f":"'INVENT.Mob&Mat Bur Importé - 10'!F643","v":0},{"$f":"'INVENT.Mob&Mat Bur Importé - 10'!C643","v":0},{"$f":"'INVENT.Mob&Mat Bur Importé - 10'!H643","v":0},null,0,0,0,0,0,0,null,null,0,0,0,0]
[638,{"$f":"'INVENT.Mob&Mat Bur Importé - 10'!B644","v":0},{"$f":"'INVENT.Mob&Mat Bur Importé - 10'!F644","v":0},{"$f":"'INVENT.Mob&Mat Bur Importé - 10'!C644","v":0},{"$f":"'INVENT.Mob&Mat Bur Importé - 10'!H644","v":0},null,0,0,0,0,0,0,null,null,0,0,0,0]
[639,{"$f":"'INVENT.Mob&Mat Bur Importé - 10'!B645","v":0},{"$f":"'INVENT.Mob&Mat Bur Importé - 10'!F645","v":0},{"$f":"'INVENT.Mob&Mat Bur Importé - 10'!C645","v":0},{"$f":"'INVENT.Mob&Mat Bur Importé - 10'!H645","v":0},null,0,0,0,0,0,0,null,null,0,0,0,0]
[640,{"$f":"'INVENT.Mob&Mat Bur Importé - 10'!B646","v":0},{"$f":"'INVENT.Mob&Mat Bur Importé - 10'!F646","v":0},{"$f":"'INVENT.Mob&Mat Bur Importé - 10'!C646","v":0},{"$f":"'INVENT.Mob&Mat Bur Importé - 10'!H646","v":0},null,0,0,0,0,0,0,null,null,0,0,0,0]
[641,{"$f":"'INVENT.Mob&Mat Bur Importé - 10'!B647","v":0},{"$f":"'INVENT.Mob&Mat Bur Importé - 10'!F647","v":0},{"$f":"'INVENT.Mob&Mat Bur Importé - 10'!C647","v":0},{"$f":"'INVENT.Mob&Mat Bur Importé - 10'!H647","v":0},null,0,0,0,0,0,0,null,null,0,0,0,0]
[642,{"$f":"'INVENT.Mob&Mat Bur Importé - 10'!B648","v":0},{"$f":"'INVENT.Mob&Mat Bur Importé - 10'!F648","v":0},{"$f":"'INVENT.Mob&Mat Bur Importé - 10'!C648","v":0},{"$f":"'INVENT.Mob&Mat Bur Importé - 10'!H648","v":0},null,0,0,0,0,0,0,null,null,0,0,0,0]
[{"$f":"+A649+1","v":643},{"$f":"'INVENT.Mob&Mat Bur Importé - 10'!B649","v":0},{"$f":"'INVENT.Mob&Mat Bur Importé - 10'!F649","v":0},{"$f":"'INVENT.Mob&Mat Bur Importé - 10'!C649","v":0},{"$f":"'INVENT.Mob&Mat Bur Importé - 10'!H649","v":0},null,0,0,0,0,0,0,null,null,0,0,0,0]
[644,{"$f":"'INVENT.Mob&Mat Bur Importé - 10'!B650","v":0},{"$f":"'INVENT.Mob&Mat Bur Importé - 10'!F650","v":0},{"$f":"'INVENT.Mob&Mat Bur Importé - 10'!C650","v":0},{"$f":"'INVENT.Mob&Mat Bur Importé - 10'!H650","v":0},null,0,0,0,0,0,0,null,null,0,0,0,0]
[645,{"$f":"'INVENT.Mob&Mat Bur Importé - 10'!B651","v":0},{"$f":"'INVENT.Mob&Mat Bur Importé - 10'!F651","v":0},{"$f":"'INVENT.Mob&Mat Bur Importé - 10'!C651","v":0},{"$f":"'INVENT.Mob&Mat Bur Importé - 10'!H651","v":0},null,0,0,0,0,0,0,null,null,0,0,0,0]
[646,{"$f":"'INVENT.Mob&Mat Bur Importé - 10'!B652","v":0},{"$f":"'INVENT.Mob&Mat Bur Importé - 10'!F652","v":0},{"$f":"'INVENT.Mob&Mat Bur Importé - 10'!C652","v":0},{"$f":"'INVENT.Mob&Mat Bur Importé - 10'!H652","v":0},null,0,0,0,0,0,0,null,null,0,0,0,0]
[647,{"$f":"'INVENT.Mob&Mat Bur Importé - 10'!B653","v":0},{"$f":"'INVENT.Mob&Mat Bur Importé - 10'!F653","v":0},{"$f":"'INVENT.Mob&Mat Bur Importé - 10'!C653","v":0},{"$f":"'INVENT.Mob&Mat Bur Importé - 10'!H653","v":0},null,0,0,0,0,0,0,null,null,0,0,0,0]
[648,{"$f":"'INVENT.Mob&Mat Bur Importé - 10'!B654","v":0},{"$f":"'INVENT.Mob&Mat Bur Importé - 10'!F654","v":0},{"$f":"'INVENT.Mob&Mat Bur Importé - 10'!C654","v":0},{"$f":"'INVENT.Mob&Mat Bur Importé - 10'!H654","v":0},null,0,0,0,0,0,0,null,null,0,0,0,0]
[649,{"$f":"'INVENT.Mob&Mat Bur Importé - 10'!B655","v":0},{"$f":"'INVENT.Mob&Mat Bur Importé - 10'!F655","v":0},{"$f":"'INVENT.Mob&Mat Bur Importé - 10'!C655","v":0},{"$f":"'INVENT.Mob&Mat Bur Importé - 10'!H655","v":0},null,0,0,0,0,0,0,null,null,0,0,0,0]
[650,{"$f":"'INVENT.Mob&Mat Bur Importé - 10'!B656","v":0},{"$f":"'INVENT.Mob&Mat Bur Importé - 10'!F656","v":0},{"$f":"'INVENT.Mob&Mat Bur Importé - 10'!C656","v":0},{"$f":"'INVENT.Mob&Mat Bur Importé - 10'!H656","v":0},null,0,0,0,0,0,0,null,null,0,0,0,0]
[651,{"$f":"'INVENT.Mob&Mat Bur Importé - 10'!B657","v":0},{"$f":"'INVENT.Mob&Mat Bur Importé - 10'!F657","v":0},{"$f":"'INVENT.Mob&Mat Bur Importé - 10'!C657","v":0},{"$f":"'INVENT.Mob&Mat Bur Importé - 10'!H657","v":0},null,0,0,0,0,0,0,null,null,0,0,0,0]
[652,{"$f":"'INVENT.Mob&Mat Bur Importé - 10'!B658","v":0},{"$f":"'INVENT.Mob&Mat Bur Importé - 10'!F658","v":0},{"$f":"'INVENT.Mob&Mat Bur Importé - 10'!C658","v":0},{"$f":"'INVENT.Mob&Mat Bur Importé - 10'!H658","v":0},null,0,0,0,0,0,0,null,null,0,0,0,0]
[653,{"$f":"'INVENT.Mob&Mat Bur Importé - 10'!B659","v":0},{"$f":"'INVENT.Mob&Mat Bur Importé - 10'!F659","v":0},{"$f":"'INVENT.Mob&Mat Bur Importé - 10'!C659","v":0},{"$f":"'INVENT.Mob&Mat Bur Importé - 10'!H659","v":0},null,0,0,0,0,0,0,null,null,0,0,0,0]
[654,{"$f":"'INVENT.Mob&Mat Bur Importé - 10'!B660","v":0},{"$f":"'INVENT.Mob&Mat Bur Importé - 10'!F660","v":0},{"$f":"'INVENT.Mob&Mat Bur Importé - 10'!C660","v":0},{"$f":"'INVENT.Mob&Mat Bur Importé - 10'!H660","v":0},null,0,0,0,0,0,0,null,null,0,0,0,0]
[655,{"$f":"'INVENT.Mob&Mat Bur Importé - 10'!B661","v":0},{"$f":"'INVENT.Mob&Mat Bur Importé - 10'!F661","v":0},{"$f":"'INVENT.Mob&Mat Bur Importé - 10'!C661","v":0},{"$f":"'INVENT.Mob&Mat Bur Importé - 10'!H661","v":0},null,0,0,0,0,0,0,null,null,0,0,0,0]
[656,{"$f":"'INVENT.Mob&Mat Bur Importé - 10'!B662","v":0},{"$f":"'INVENT.Mob&Mat Bur Importé - 10'!F662","v":0},{"$f":"'INVENT.Mob&Mat Bur Importé - 10'!C662","v":0},{"$f":"'INVENT.Mob&Mat Bur Importé - 10'!H662","v":0},null,0,0,0,0,0,0,null,null,0,0,0,0]
[657,{"$f":"'INVENT.Mob&Mat Bur Importé - 10'!B663","v":0},{"$f":"'INVENT.Mob&Mat Bur Importé - 10'!F663","v":0},{"$f":"'INVENT.Mob&Mat Bur Importé - 10'!C663","v":0},{"$f":"'INVENT.Mob&Mat Bur Importé - 10'!H663","v":0},null,0,0,0,0,0,0,null,null,0,0,0,0]
[658,{"$f":"'INVENT.Mob&Mat Bur Importé - 10'!B664","v":0},{"$f":"'INVENT.Mob&Mat Bur Importé - 10'!F664","v":0},{"$f":"'INVENT.Mob&Mat Bur Importé - 10'!C664","v":0},{"$f":"'INVENT.Mob&Mat Bur Importé - 10'!H664","v":0},null,0,0,0,0,0,0,null,null,0,0,0,0]
[659,{"$f":"'INVENT.Mob&Mat Bur Importé - 10'!B665","v":0},{"$f":"'INVENT.Mob&Mat Bur Importé - 10'!F665","v":0},{"$f":"'INVENT.Mob&Mat Bur Importé - 10'!C665","v":0},{"$f":"'INVENT.Mob&Mat Bur Importé - 10'!H665","v":0},null,0,0,0,0,0,0,null,null,0,0,0,0]
[660,{"$f":"'INVENT.Mob&Mat Bur Importé - 10'!B666","v":0},{"$f":"'INVENT.Mob&Mat Bur Importé - 10'!F666","v":0},{"$f":"'INVENT.Mob&Mat Bur Importé - 10'!C666","v":0},{"$f":"'INVENT.Mob&Mat Bur Importé - 10'!H666","v":0},null,0,0,0,0,0,0,null,null,0,0,0,0]
[661,{"$f":"'INVENT.Mob&Mat Bur Importé - 10'!B667","v":0},{"$f":"'INVENT.Mob&Mat Bur Importé - 10'!F667","v":0},{"$f":"'INVENT.Mob&Mat Bur Importé - 10'!C667","v":0},{"$f":"'INVENT.Mob&Mat Bur Importé - 10'!H667","v":0},null,0,0,0,0,0,0,null,null,0,0,0,0]
[662,{"$f":"'INVENT.Mob&Mat Bur Importé - 10'!B668","v":0},{"$f":"'INVENT.Mob&Mat Bur Importé - 10'!F668","v":0},{"$f":"'INVENT.Mob&Mat Bur Importé - 10'!C668","v":0},{"$f":"'INVENT.Mob&Mat Bur Importé - 10'!H668","v":0},null,0,0,0,0,0,0,null,null,0,0,0,0]
[663,{"$f":"'INVENT.Mob&Mat Bur Importé - 10'!B669","v":0},{"$f":"'INVENT.Mob&Mat Bur Importé - 10'!F669","v":0},{"$f":"'INVENT.Mob&Mat Bur Importé - 10'!C669","v":0},{"$f":"'INVENT.Mob&Mat Bur Importé - 10'!H669","v":0},null,0,0,0,0,0,0,null,null,0,0,0,0]
[664,{"$f":"'INVENT.Mob&Mat Bur Importé - 10'!B670","v":0},{"$f":"'INVENT.Mob&Mat Bur Importé - 10'!F670","v":0},{"$f":"'INVENT.Mob&Mat Bur Importé - 10'!C670","v":0},{"$f":"'INVENT.Mob&Mat Bur Importé - 10'!H670","v":0},null,0,0,0,0,0,0,null,null,0,0,0,0]
[665,{"$f":"'INVENT.Mob&Mat Bur Importé - 10'!B671","v":0},{"$f":"'INVENT.Mob&Mat Bur Importé - 10'!F671","v":0},{"$f":"'INVENT.Mob&Mat Bur Importé - 10'!C671","v":0},{"$f":"'INVENT.Mob&Mat Bur Importé - 10'!H671","v":0},null,0,0,0,0,0,0,null,null,0,0,0,0]
[666,{"$f":"'INVENT.Mob&Mat Bur Importé - 10'!B672","v":0},{"$f":"'INVENT.Mob&Mat Bur Importé - 10'!F672","v":0},{"$f":"'INVENT.Mob&Mat Bur Importé - 10'!C672","v":0},{"$f":"'INVENT.Mob&Mat Bur Importé - 10'!H672","v":0},null,0,0,0,0,0,0,null,null,0,0,0,0]
[667,{"$f":"'INVENT.Mob&Mat Bur Importé - 10'!B673","v":0},{"$f":"'INVENT.Mob&Mat Bur Importé - 10'!F673","v":0},{"$f":"'INVENT.Mob&Mat Bur Importé - 10'!C673","v":0},{"$f":"'INVENT.Mob&Mat Bur Importé - 10'!H673","v":0},null,0,0,0,0,0,0,null,null,0,0,0,0]
[668,{"$f":"'INVENT.Mob&Mat Bur Importé - 10'!B674","v":0},{"$f":"'INVENT.Mob&Mat Bur Importé - 10'!F674","v":0},{"$f":"'INVENT.Mob&Mat Bur Importé - 10'!C674","v":0},{"$f":"'INVENT.Mob&Mat Bur Importé - 10'!H674","v":0},null,0,0,0,0,0,0,null,null,0,0,0,0]
[669,{"$f":"'INVENT.Mob&Mat Bur Importé - 10'!B675","v":0},{"$f":"'INVENT.Mob&Mat Bur Importé - 10'!F675","v":0},{"$f":"'INVENT.Mob&Mat Bur Importé - 10'!C675","v":0},{"$f":"'INVENT.Mob&Mat Bur Importé - 10'!H675","v":0},null,0,0,0,0,0,0,null,null,0,0,0,0]
[670,{"$f":"'INVENT.Mob&Mat Bur Importé - 10'!B676","v":0},{"$f":"'INVENT.Mob&Mat Bur Importé - 10'!F676","v":0},{"$f":"'INVENT.Mob&Mat Bur Importé - 10'!C676","v":0},{"$f":"'INVENT.Mob&Mat Bur Importé - 10'!H676","v":0},null,0,0,0,0,0,0,null,null,0,0,0,0]
[671,{"$f":"'INVENT.Mob&Mat Bur Importé - 10'!B677","v":0},{"$f":"'INVENT.Mob&Mat Bur Importé - 10'!F677","v":0},{"$f":"'INVENT.Mob&Mat Bur Importé - 10'!C677","v":0},{"$f":"'INVENT.Mob&Mat Bur Importé - 10'!H677","v":0},null,0,0,0,0,0,0,null,null,0,0,0,0]
[672,{"$f":"'INVENT.Mob&Mat Bur Importé - 10'!B678","v":0},{"$f":"'INVENT.Mob&Mat Bur Importé - 10'!F678","v":0},{"$f":"'INVENT.Mob&Mat Bur Importé - 10'!C678","v":0},{"$f":"'INVENT.Mob&Mat Bur Importé - 10'!H678","v":0},null,0,0,0,0,0,0,null,null,0,0,0,0]
[673,{"$f":"'INVENT.Mob&Mat Bur Importé - 10'!B679","v":0},{"$f":"'INVENT.Mob&Mat Bur Importé - 10'!F679","v":0},{"$f":"'INVENT.Mob&Mat Bur Importé - 10'!C679","v":0},{"$f":"'INVENT.Mob&Mat Bur Importé - 10'!H679","v":0},null,0,0,0,0,0,0,null,null,0,0,0,0]
[674,{"$f":"'INVENT.Mob&Mat Bur Importé - 10'!B680","v":0},{"$f":"'INVENT.Mob&Mat Bur Importé - 10'!F680","v":0},{"$f":"'INVENT.Mob&Mat Bur Importé - 10'!C680","v":0},{"$f":"'INVENT.Mob&Mat Bur Importé - 10'!H680","v":0},null,0,0,0,0,0,0,null,null,0,0,0,0]
[675,{"$f":"'INVENT.Mob&Mat Bur Importé - 10'!B681","v":0},{"$f":"'INVENT.Mob&Mat Bur Importé - 10'!F681","v":0},{"$f":"'INVENT.Mob&Mat Bur Importé - 10'!C681","v":0},{"$f":"'INVENT.Mob&Mat Bur Importé - 10'!H681","v":0},null,0,0,0,0,0,0,null,null,0,0,0,0]
[676,{"$f":"'INVENT.Mob&Mat Bur Importé - 10'!B682","v":0},{"$f":"'INVENT.Mob&Mat Bur Importé - 10'!F682","v":0},{"$f":"'INVENT.Mob&Mat Bur Importé - 10'!C682","v":0},{"$f":"'INVENT.Mob&Mat Bur Importé - 10'!H682","v":0},null,0,0,0,0,0,0,null,null,0,0,0,0]
[677,{"$f":"'INVENT.Mob&Mat Bur Importé - 10'!B683","v":0},{"$f":"'INVENT.Mob&Mat Bur Importé - 10'!F683","v":0},{"$f":"'INVENT.Mob&Mat Bur Importé - 10'!C683","v":0},{"$f":"'INVENT.Mob&Mat Bur Importé - 10'!H683","v":0},null,{"$f":"F684*E684","v":0},{"$f":"E684*1%","v":0},{"$f":"E684*1%","v":0},{"$f":"E684*0.5%","v":0},{"$f":"(E684+G684+H684)*18%","v":0},{"$f":"SUM(G684:K684)+E684","v":0},null,null,{"$f":"(M684+N684)*18%","v":0},{"$f":"O684+N684+M684","v":0},{"$f":"+R684-O684-K684","v":0},{"$f":"P684+L684","v":0}]
[678,{"$f":"'INVENT.Mob&Mat Bur Importé - 10'!B684","v":0},{"$f":"'INVENT.Mob&Mat Bur Importé - 10'!F684","v":0},{"$f":"'INVENT.Mob&Mat Bur Importé - 10'!C684","v":0},{"$f":"'INVENT.Mob&Mat Bur Importé - 10'!H684","v":0},null,0,0,0,0,0,0,null,null,0,0,0,0]
[679,{"$f":"'INVENT.Mob&Mat Bur Importé - 10'!B685","v":0},{"$f":"'INVENT.Mob&Mat Bur Importé - 10'!F685","v":0},{"$f":"'INVENT.Mob&Mat Bur Importé - 10'!C685","v":0},{"$f":"'INVENT.Mob&Mat Bur Importé - 10'!H685","v":0},null,0,0,0,0,0,0,null,null,0,0,0,0]
[680,{"$f":"'INVENT.Mob&Mat Bur Importé - 10'!B686","v":0},{"$f":"'INVENT.Mob&Mat Bur Importé - 10'!F686","v":0},{"$f":"'INVENT.Mob&Mat Bur Importé - 10'!C686","v":0},{"$f":"'INVENT.Mob&Mat Bur Importé - 10'!H686","v":0},null,0,0,0,0,0,0,null,null,0,0,0,0]
[681,{"$f":"'INVENT.Mob&Mat Bur Importé - 10'!B687","v":0},{"$f":"'INVENT.Mob&Mat Bur Importé - 10'!F687","v":0},{"$f":"'INVENT.Mob&Mat Bur Importé - 10'!C687","v":0},{"$f":"'INVENT.Mob&Mat Bur Importé - 10'!H687","v":0},null,0,0,0,0,0,0,null,null,0,0,0,0]
[682,{"$f":"'INVENT.Mob&Mat Bur Importé - 10'!B688","v":0},{"$f":"'INVENT.Mob&Mat Bur Importé - 10'!F688","v":0},{"$f":"'INVENT.Mob&Mat Bur Importé - 10'!C688","v":0},{"$f":"'INVENT.Mob&Mat Bur Importé - 10'!H688","v":0},null,0,0,0,0,0,0,null,null,0,0,0,0]
[683,{"$f":"'INVENT.Mob&Mat Bur Importé - 10'!B689","v":0},{"$f":"'INVENT.Mob&Mat Bur Importé - 10'!F689","v":0},{"$f":"'INVENT.Mob&Mat Bur Importé - 10'!C689","v":0},{"$f":"'INVENT.Mob&Mat Bur Importé - 10'!H689","v":0},null,0,0,0,0,0,0,null,null,0,0,0,0]
[684,{"$f":"'INVENT.Mob&Mat Bur Importé - 10'!B690","v":0},{"$f":"'INVENT.Mob&Mat Bur Importé - 10'!F690","v":0},{"$f":"'INVENT.Mob&Mat Bur Importé - 10'!C690","v":0},{"$f":"'INVENT.Mob&Mat Bur Importé - 10'!H690","v":0},null,0,0,0,0,0,0,null,null,0,0,0,0]
[685,{"$f":"'INVENT.Mob&Mat Bur Importé - 10'!B691","v":0},{"$f":"'INVENT.Mob&Mat Bur Importé - 10'!F691","v":0},{"$f":"'INVENT.Mob&Mat Bur Importé - 10'!C691","v":0},{"$f":"'INVENT.Mob&Mat Bur Importé - 10'!H691","v":0},null,0,0,0,0,0,0,null,null,0,0,0,0]
[686,{"$f":"'INVENT.Mob&Mat Bur Importé - 10'!B692","v":0},{"$f":"'INVENT.Mob&Mat Bur Importé - 10'!F692","v":0},{"$f":"'INVENT.Mob&Mat Bur Importé - 10'!C692","v":0},{"$f":"'INVENT.Mob&Mat Bur Importé - 10'!H692","v":0},null,0,0,0,0,0,0,null,null,0,0,0,0]
[687,{"$f":"'INVENT.Mob&Mat Bur Importé - 10'!B693","v":0},{"$f":"'INVENT.Mob&Mat Bur Importé - 10'!F693","v":0},{"$f":"'INVENT.Mob&Mat Bur Importé - 10'!C693","v":0},{"$f":"'INVENT.Mob&Mat Bur Importé - 10'!H693","v":0},null,0,0,0,0,0,0,null,null,0,0,0,0]
[688,{"$f":"'INVENT.Mob&Mat Bur Importé - 10'!B694","v":0},{"$f":"'INVENT.Mob&Mat Bur Importé - 10'!F694","v":0},{"$f":"'INVENT.Mob&Mat Bur Importé - 10'!C694","v":0},{"$f":"'INVENT.Mob&Mat Bur Importé - 10'!H694","v":0},null,0,0,0,0,0,0,null,null,0,0,0,0]
[689,{"$f":"'INVENT.Mob&Mat Bur Importé - 10'!B695","v":0},{"$f":"'INVENT.Mob&Mat Bur Importé - 10'!F695","v":0},{"$f":"'INVENT.Mob&Mat Bur Importé - 10'!C695","v":0},{"$f":"'INVENT.Mob&Mat Bur Importé - 10'!H695","v":0},null,0,0,0,0,0,0,null,null,0,0,0,0]
[690,{"$f":"'INVENT.Mob&Mat Bur Importé - 10'!B696","v":0},{"$f":"'INVENT.Mob&Mat Bur Importé - 10'!F696","v":0},{"$f":"'INVENT.Mob&Mat Bur Importé - 10'!C696","v":0},{"$f":"'INVENT.Mob&Mat Bur Importé - 10'!H696","v":0},null,0,0,0,0,0,0,null,null,0,0,0,0]
[691,{"$f":"'INVENT.Mob&Mat Bur Importé - 10'!B697","v":0},{"$f":"'INVENT.Mob&Mat Bur Importé - 10'!F697","v":0},{"$f":"'INVENT.Mob&Mat Bur Importé - 10'!C697","v":0},{"$f":"'INVENT.Mob&Mat Bur Importé - 10'!H697","v":0},null,0,0,0,0,0,0,null,null,0,0,0,0]
[692,{"$f":"'INVENT.Mob&Mat Bur Importé - 10'!B698","v":0},{"$f":"'INVENT.Mob&Mat Bur Importé - 10'!F698","v":0},{"$f":"'INVENT.Mob&Mat Bur Importé - 10'!C698","v":0},{"$f":"'INVENT.Mob&Mat Bur Importé - 10'!H698","v":0},null,0,0,0,0,0,0,null,null,0,0,0,0]
[693,{"$f":"'INVENT.Mob&Mat Bur Importé - 10'!B699","v":0},{"$f":"'INVENT.Mob&Mat Bur Importé - 10'!F699","v":0},{"$f":"'INVENT.Mob&Mat Bur Importé - 10'!C699","v":0},{"$f":"'INVENT.Mob&Mat Bur Importé - 10'!H699","v":0},null,0,0,0,0,0,0,null,null,0,0,0,0]
[694,{"$f":"'INVENT.Mob&Mat Bur Importé - 10'!B700","v":0},{"$f":"'INVENT.Mob&Mat Bur Importé - 10'!F700","v":0},{"$f":"'INVENT.Mob&Mat Bur Importé - 10'!C700","v":0},{"$f":"'INVENT.Mob&Mat Bur Importé - 10'!H700","v":0},null,0,0,0,0,0,0,null,null,0,0,0,0]
[695,{"$f":"'INVENT.Mob&Mat Bur Importé - 10'!B701","v":0},{"$f":"'INVENT.Mob&Mat Bur Importé - 10'!F701","v":0},{"$f":"'INVENT.Mob&Mat Bur Importé - 10'!C701","v":0},{"$f":"'INVENT.Mob&Mat Bur Importé - 10'!H701","v":0},null,0,0,0,0,0,0,null,null,0,0,0,0]
[696,{"$f":"'INVENT.Mob&Mat Bur Importé - 10'!B702","v":0},{"$f":"'INVENT.Mob&Mat Bur Importé - 10'!F702","v":0},{"$f":"'INVENT.Mob&Mat Bur Importé - 10'!C702","v":0},{"$f":"'INVENT.Mob&Mat Bur Importé - 10'!H702","v":0},null,0,0,0,0,0,0,null,null,0,0,0,0]
[697,{"$f":"'INVENT.Mob&Mat Bur Importé - 10'!B703","v":0},{"$f":"'INVENT.Mob&Mat Bur Importé - 10'!F703","v":0},{"$f":"'INVENT.Mob&Mat Bur Importé - 10'!C703","v":0},{"$f":"'INVENT.Mob&Mat Bur Importé - 10'!H703","v":0},null,0,0,0,0,0,0,null,null,0,0,0,0]
[698,{"$f":"'INVENT.Mob&Mat Bur Importé - 10'!B704","v":0},{"$f":"'INVENT.Mob&Mat Bur Importé - 10'!F704","v":0},{"$f":"'INVENT.Mob&Mat Bur Importé - 10'!C704","v":0},{"$f":"'INVENT.Mob&Mat Bur Importé - 10'!H704","v":0},null,0,0,0,0,0,0,null,null,0,0,0,0]
[699,{"$f":"'INVENT.Mob&Mat Bur Importé - 10'!B705","v":0},{"$f":"'INVENT.Mob&Mat Bur Importé - 10'!F705","v":0},{"$f":"'INVENT.Mob&Mat Bur Importé - 10'!C705","v":0},{"$f":"'INVENT.Mob&Mat Bur Importé - 10'!H705","v":0},null,0,0,0,0,0,0,null,null,0,0,0,0]
[700,{"$f":"'INVENT.Mob&Mat Bur Importé - 10'!B706","v":0},{"$f":"'INVENT.Mob&Mat Bur Importé - 10'!F706","v":0},{"$f":"'INVENT.Mob&Mat Bur Importé - 10'!C706","v":0},{"$f":"'INVENT.Mob&Mat Bur Importé - 10'!H706","v":0},null,0,0,0,0,0,0,null,null,0,0,0,0]
[701,{"$f":"'INVENT.Mob&Mat Bur Importé - 10'!B707","v":0},{"$f":"'INVENT.Mob&Mat Bur Importé - 10'!F707","v":0},{"$f":"'INVENT.Mob&Mat Bur Importé - 10'!C707","v":0},{"$f":"'INVENT.Mob&Mat Bur Importé - 10'!H707","v":0},null,0,0,0,0,0,0,null,null,0,0,0,0]
[702,{"$f":"'INVENT.Mob&Mat Bur Importé - 10'!B708","v":0},{"$f":"'INVENT.Mob&Mat Bur Importé - 10'!F708","v":0},{"$f":"'INVENT.Mob&Mat Bur Importé - 10'!C708","v":0},{"$f":"'INVENT.Mob&Mat Bur Importé - 10'!H708","v":0},null,0,0,0,0,0,0,null,null,0,0,0,0]
[703,{"$f":"'INVENT.Mob&Mat Bur Importé - 10'!B709","v":0},{"$f":"'INVENT.Mob&Mat Bur Importé - 10'!F709","v":0},{"$f":"'INVENT.Mob&Mat Bur Importé - 10'!C709","v":0},{"$f":"'INVENT.Mob&Mat Bur Importé - 10'!H709","v":0},null,0,0,0,0,0,0,null,null,0,0,0,0]
[704,{"$f":"'INVENT.Mob&Mat Bur Importé - 10'!B710","v":0},{"$f":"'INVENT.Mob&Mat Bur Importé - 10'!F710","v":0},{"$f":"'INVENT.Mob&Mat Bur Importé - 10'!C710","v":0},{"$f":"'INVENT.Mob&Mat Bur Importé - 10'!H710","v":0},null,0,0,0,0,0,0,null,null,0,0,0,0]
[705,{"$f":"'INVENT.Mob&Mat Bur Importé - 10'!B711","v":0},{"$f":"'INVENT.Mob&Mat Bur Importé - 10'!F711","v":0},{"$f":"'INVENT.Mob&Mat Bur Importé - 10'!C711","v":0},{"$f":"'INVENT.Mob&Mat Bur Importé - 10'!H711","v":0},null,0,0,0,0,0,0,null,null,0,0,0,0]
[706,{"$f":"'INVENT.Mob&Mat Bur Importé - 10'!B712","v":0},{"$f":"'INVENT.Mob&Mat Bur Importé - 10'!F712","v":0},{"$f":"'INVENT.Mob&Mat Bur Importé - 10'!C712","v":0},{"$f":"'INVENT.Mob&Mat Bur Importé - 10'!H712","v":0},null,0,0,0,0,0,0,null,null,0,0,0,0]
[{"$f":"+A713+1","v":707},{"$f":"'INVENT.Mob&Mat Bur Importé - 10'!B713","v":0},{"$f":"'INVENT.Mob&Mat Bur Importé - 10'!F713","v":0},{"$f":"'INVENT.Mob&Mat Bur Importé - 10'!C713","v":0},{"$f":"'INVENT.Mob&Mat Bur Importé - 10'!H713","v":0},null,0,0,0,0,0,0,null,null,0,0,0,0]
[708,{"$f":"'INVENT.Mob&Mat Bur Importé - 10'!B714","v":0},{"$f":"'INVENT.Mob&Mat Bur Importé - 10'!F714","v":0},{"$f":"'INVENT.Mob&Mat Bur Importé - 10'!C714","v":0},{"$f":"'INVENT.Mob&Mat Bur Importé - 10'!H714","v":0},null,0,0,0,0,0,0,null,null,0,0,0,0]
[709,{"$f":"'INVENT.Mob&Mat Bur Importé - 10'!B715","v":0},{"$f":"'INVENT.Mob&Mat Bur Importé - 10'!F715","v":0},{"$f":"'INVENT.Mob&Mat Bur Importé - 10'!C715","v":0},{"$f":"'INVENT.Mob&Mat Bur Importé - 10'!H715","v":0},null,0,0,0,0,0,0,null,null,0,0,0,0]
[710,{"$f":"'INVENT.Mob&Mat Bur Importé - 10'!B716","v":0},{"$f":"'INVENT.Mob&Mat Bur Importé - 10'!F716","v":0},{"$f":"'INVENT.Mob&Mat Bur Importé - 10'!C716","v":0},{"$f":"'INVENT.Mob&Mat Bur Importé - 10'!H716","v":0},null,0,0,0,0,0,0,null,null,0,0,0,0]
[711,{"$f":"'INVENT.Mob&Mat Bur Importé - 10'!B717","v":0},{"$f":"'INVENT.Mob&Mat Bur Importé - 10'!F717","v":0},{"$f":"'INVENT.Mob&Mat Bur Importé - 10'!C717","v":0},{"$f":"'INVENT.Mob&Mat Bur Importé - 10'!H717","v":0},null,0,0,0,0,0,0,null,null,0,0,0,0]
[712,{"$f":"'INVENT.Mob&Mat Bur Importé - 10'!B718","v":0},{"$f":"'INVENT.Mob&Mat Bur Importé - 10'!F718","v":0},{"$f":"'INVENT.Mob&Mat Bur Importé - 10'!C718","v":0},{"$f":"'INVENT.Mob&Mat Bur Importé - 10'!H718","v":0},null,0,0,0,0,0,0,null,null,0,0,0,0]
[713,{"$f":"'INVENT.Mob&Mat Bur Importé - 10'!B719","v":0},{"$f":"'INVENT.Mob&Mat Bur Importé - 10'!F719","v":0},{"$f":"'INVENT.Mob&Mat Bur Importé - 10'!C719","v":0},{"$f":"'INVENT.Mob&Mat Bur Importé - 10'!H719","v":0},null,0,0,0,0,0,0,null,null,0,0,0,0]
[714,{"$f":"'INVENT.Mob&Mat Bur Importé - 10'!B720","v":0},{"$f":"'INVENT.Mob&Mat Bur Importé - 10'!F720","v":0},{"$f":"'INVENT.Mob&Mat Bur Importé - 10'!C720","v":0},{"$f":"'INVENT.Mob&Mat Bur Importé - 10'!H720","v":0},null,0,0,0,0,0,0,null,null,0,0,0,0]
[715,{"$f":"'INVENT.Mob&Mat Bur Importé - 10'!B721","v":0},{"$f":"'INVENT.Mob&Mat Bur Importé - 10'!F721","v":0},{"$f":"'INVENT.Mob&Mat Bur Importé - 10'!C721","v":0},{"$f":"'INVENT.Mob&Mat Bur Importé - 10'!H721","v":0},null,0,0,0,0,0,0,null,null,0,0,0,0]
[716,{"$f":"'INVENT.Mob&Mat Bur Importé - 10'!B722","v":0},{"$f":"'INVENT.Mob&Mat Bur Importé - 10'!F722","v":0},{"$f":"'INVENT.Mob&Mat Bur Importé - 10'!C722","v":0},{"$f":"'INVENT.Mob&Mat Bur Importé - 10'!H722","v":0},null,0,0,0,0,0,0,null,null,0,0,0,0]
[717,{"$f":"'INVENT.Mob&Mat Bur Importé - 10'!B723","v":0},{"$f":"'INVENT.Mob&Mat Bur Importé - 10'!F723","v":0},{"$f":"'INVENT.Mob&Mat Bur Importé - 10'!C723","v":0},{"$f":"'INVENT.Mob&Mat Bur Importé - 10'!H723","v":0},null,0,0,0,0,0,0,null,null,0,0,0,0]
[718,{"$f":"'INVENT.Mob&Mat Bur Importé - 10'!B724","v":0},{"$f":"'INVENT.Mob&Mat Bur Importé - 10'!F724","v":0},{"$f":"'INVENT.Mob&Mat Bur Importé - 10'!C724","v":0},{"$f":"'INVENT.Mob&Mat Bur Importé - 10'!H724","v":0},null,0,0,0,0,0,0,null,null,0,0,0,0]
[719,{"$f":"'INVENT.Mob&Mat Bur Importé - 10'!B725","v":0},{"$f":"'INVENT.Mob&Mat Bur Importé - 10'!F725","v":0},{"$f":"'INVENT.Mob&Mat Bur Importé - 10'!C725","v":0},{"$f":"'INVENT.Mob&Mat Bur Importé - 10'!H725","v":0},null,0,0,0,0,0,0,null,null,0,0,0,0]
[720,{"$f":"'INVENT.Mob&Mat Bur Importé - 10'!B726","v":0},{"$f":"'INVENT.Mob&Mat Bur Importé - 10'!F726","v":0},{"$f":"'INVENT.Mob&Mat Bur Importé - 10'!C726","v":0},{"$f":"'INVENT.Mob&Mat Bur Importé - 10'!H726","v":0},null,0,0,0,0,0,0,null,null,0,0,0,0]
[721,{"$f":"'INVENT.Mob&Mat Bur Importé - 10'!B727","v":0},{"$f":"'INVENT.Mob&Mat Bur Importé - 10'!F727","v":0},{"$f":"'INVENT.Mob&Mat Bur Importé - 10'!C727","v":0},{"$f":"'INVENT.Mob&Mat Bur Importé - 10'!H727","v":0},null,0,0,0,0,0,0,null,null,0,0,0,0]
[722,{"$f":"'INVENT.Mob&Mat Bur Importé - 10'!B728","v":0},{"$f":"'INVENT.Mob&Mat Bur Importé - 10'!F728","v":0},{"$f":"'INVENT.Mob&Mat Bur Importé - 10'!C728","v":0},{"$f":"'INVENT.Mob&Mat Bur Importé - 10'!H728","v":0},null,0,0,0,0,0,0,null,null,0,0,0,0]
[723,{"$f":"'INVENT.Mob&Mat Bur Importé - 10'!B729","v":0},{"$f":"'INVENT.Mob&Mat Bur Importé - 10'!F729","v":0},{"$f":"'INVENT.Mob&Mat Bur Importé - 10'!C729","v":0},{"$f":"'INVENT.Mob&Mat Bur Importé - 10'!H729","v":0},null,0,0,0,0,0,0,null,null,0,0,0,0]
[724,{"$f":"'INVENT.Mob&Mat Bur Importé - 10'!B730","v":0},{"$f":"'INVENT.Mob&Mat Bur Importé - 10'!F730","v":0},{"$f":"'INVENT.Mob&Mat Bur Importé - 10'!C730","v":0},{"$f":"'INVENT.Mob&Mat Bur Importé - 10'!H730","v":0},null,0,0,0,0,0,0,null,null,0,0,0,0]
[725,{"$f":"'INVENT.Mob&Mat Bur Importé - 10'!B731","v":0},{"$f":"'INVENT.Mob&Mat Bur Importé - 10'!F731","v":0},{"$f":"'INVENT.Mob&Mat Bur Importé - 10'!C731","v":0},{"$f":"'INVENT.Mob&Mat Bur Importé - 10'!H731","v":0},null,0,0,0,0,0,0,null,null,0,0,0,0]
[726,{"$f":"'INVENT.Mob&Mat Bur Importé - 10'!B732","v":0},{"$f":"'INVENT.Mob&Mat Bur Importé - 10'!F732","v":0},{"$f":"'INVENT.Mob&Mat Bur Importé - 10'!C732","v":0},{"$f":"'INVENT.Mob&Mat Bur Importé - 10'!H732","v":0},null,0,0,0,0,0,0,null,null,0,0,0,0]
[727,{"$f":"'INVENT.Mob&Mat Bur Importé - 10'!B733","v":0},{"$f":"'INVENT.Mob&Mat Bur Importé - 10'!F733","v":0},{"$f":"'INVENT.Mob&Mat Bur Importé - 10'!C733","v":0},{"$f":"'INVENT.Mob&Mat Bur Importé - 10'!H733","v":0},null,0,0,0,0,0,0,null,null,0,0,0,0]
[728,{"$f":"'INVENT.Mob&Mat Bur Importé - 10'!B734","v":0},{"$f":"'INVENT.Mob&Mat Bur Importé - 10'!F734","v":0},{"$f":"'INVENT.Mob&Mat Bur Importé - 10'!C734","v":0},{"$f":"'INVENT.Mob&Mat Bur Importé - 10'!H734","v":0},null,0,0,0,0,0,0,null,null,0,0,0,0]
[729,{"$f":"'INVENT.Mob&Mat Bur Importé - 10'!B735","v":0},{"$f":"'INVENT.Mob&Mat Bur Importé - 10'!F735","v":0},{"$f":"'INVENT.Mob&Mat Bur Importé - 10'!C735","v":0},{"$f":"'INVENT.Mob&Mat Bur Importé - 10'!H735","v":0},null,0,0,0,0,0,0,null,null,0,0,0,0]
[730,{"$f":"'INVENT.Mob&Mat Bur Importé - 10'!B736","v":0},{"$f":"'INVENT.Mob&Mat Bur Importé - 10'!F736","v":0},{"$f":"'INVENT.Mob&Mat Bur Importé - 10'!C736","v":0},{"$f":"'INVENT.Mob&Mat Bur Importé - 10'!H736","v":0},null,0,0,0,0,0,0,null,null,0,0,0,0]
[731,{"$f":"'INVENT.Mob&Mat Bur Importé - 10'!B737","v":0},{"$f":"'INVENT.Mob&Mat Bur Importé - 10'!F737","v":0},{"$f":"'INVENT.Mob&Mat Bur Importé - 10'!C737","v":0},{"$f":"'INVENT.Mob&Mat Bur Importé - 10'!H737","v":0},null,0,0,0,0,0,0,null,null,0,0,0,0]
[732,{"$f":"'INVENT.Mob&Mat Bur Importé - 10'!B738","v":0},{"$f":"'INVENT.Mob&Mat Bur Importé - 10'!F738","v":0},{"$f":"'INVENT.Mob&Mat Bur Importé - 10'!C738","v":0},{"$f":"'INVENT.Mob&Mat Bur Importé - 10'!H738","v":0},null,0,0,0,0,0,0,null,null,0,0,0,0]
[733,{"$f":"'INVENT.Mob&Mat Bur Importé - 10'!B739","v":0},{"$f":"'INVENT.Mob&Mat Bur Importé - 10'!F739","v":0},{"$f":"'INVENT.Mob&Mat Bur Importé - 10'!C739","v":0},{"$f":"'INVENT.Mob&Mat Bur Importé - 10'!H739","v":0},null,0,0,0,0,0,0,null,null,0,0,0,0]
[734,{"$f":"'INVENT.Mob&Mat Bur Importé - 10'!B740","v":0},{"$f":"'INVENT.Mob&Mat Bur Importé - 10'!F740","v":0},{"$f":"'INVENT.Mob&Mat Bur Importé - 10'!C740","v":0},{"$f":"'INVENT.Mob&Mat Bur Importé - 10'!H740","v":0},null,0,0,0,0,0,0,null,null,0,0,0,0]
[735,{"$f":"'INVENT.Mob&Mat Bur Importé - 10'!B741","v":0},{"$f":"'INVENT.Mob&Mat Bur Importé - 10'!F741","v":0},{"$f":"'INVENT.Mob&Mat Bur Importé - 10'!C741","v":0},{"$f":"'INVENT.Mob&Mat Bur Importé - 10'!H741","v":0},null,0,0,0,0,0,0,null,null,0,0,0,0]
[736,{"$f":"'INVENT.Mob&Mat Bur Importé - 10'!B742","v":0},{"$f":"'INVENT.Mob&Mat Bur Importé - 10'!F742","v":0},{"$f":"'INVENT.Mob&Mat Bur Importé - 10'!C742","v":0},{"$f":"'INVENT.Mob&Mat Bur Importé - 10'!H742","v":0},null,0,0,0,0,0,0,null,null,0,0,0,0]
[737,{"$f":"'INVENT.Mob&Mat Bur Importé - 10'!B743","v":0},{"$f":"'INVENT.Mob&Mat Bur Importé - 10'!F743","v":0},{"$f":"'INVENT.Mob&Mat Bur Importé - 10'!C743","v":0},{"$f":"'INVENT.Mob&Mat Bur Importé - 10'!H743","v":0},null,0,0,0,0,0,0,null,null,0,0,0,0]
[738,{"$f":"'INVENT.Mob&Mat Bur Importé - 10'!B744","v":0},{"$f":"'INVENT.Mob&Mat Bur Importé - 10'!F744","v":0},{"$f":"'INVENT.Mob&Mat Bur Importé - 10'!C744","v":0},{"$f":"'INVENT.Mob&Mat Bur Importé - 10'!H744","v":0},null,0,0,0,0,0,0,null,null,0,0,0,0]
[739,{"$f":"'INVENT.Mob&Mat Bur Importé - 10'!B745","v":0},{"$f":"'INVENT.Mob&Mat Bur Importé - 10'!F745","v":0},{"$f":"'INVENT.Mob&Mat Bur Importé - 10'!C745","v":0},{"$f":"'INVENT.Mob&Mat Bur Importé - 10'!H745","v":0},null,0,0,0,0,0,0,null,null,0,0,0,0]
[740,{"$f":"'INVENT.Mob&Mat Bur Importé - 10'!B746","v":0},{"$f":"'INVENT.Mob&Mat Bur Importé - 10'!F746","v":0},{"$f":"'INVENT.Mob&Mat Bur Importé - 10'!C746","v":0},{"$f":"'INVENT.Mob&Mat Bur Importé - 10'!H746","v":0},null,0,0,0,0,0,0,null,null,0,0,0,0]
[741,{"$f":"'INVENT.Mob&Mat Bur Importé - 10'!B747","v":0},{"$f":"'INVENT.Mob&Mat Bur Importé - 10'!F747","v":0},{"$f":"'INVENT.Mob&Mat Bur Importé - 10'!C747","v":0},{"$f":"'INVENT.Mob&Mat Bur Importé - 10'!H747","v":0},null,{"$f":"F748*E748","v":0},{"$f":"E748*1%","v":0},{"$f":"E748*1%","v":0},{"$f":"E748*0.5%","v":0},{"$f":"(E748+G748+H748)*18%","v":0},{"$f":"SUM(G748:K748)+E748","v":0},null,null,{"$f":"(M748+N748)*18%","v":0},{"$f":"O748+N748+M748","v":0},{"$f":"+R748-O748-K748","v":0},{"$f":"P748+L748","v":0}]
[742,{"$f":"'INVENT.Mob&Mat Bur Importé - 10'!B748","v":0},{"$f":"'INVENT.Mob&Mat Bur Importé - 10'!F748","v":0},{"$f":"'INVENT.Mob&Mat Bur Importé - 10'!C748","v":0},{"$f":"'INVENT.Mob&Mat Bur Importé - 10'!H748","v":0},null,0,0,0,0,0,0,null,null,0,0,0,0]
[743,{"$f":"'INVENT.Mob&Mat Bur Importé - 10'!B749","v":0},{"$f":"'INVENT.Mob&Mat Bur Importé - 10'!F749","v":0},{"$f":"'INVENT.Mob&Mat Bur Importé - 10'!C749","v":0},{"$f":"'INVENT.Mob&Mat Bur Importé - 10'!H749","v":0},null,0,0,0,0,0,0,null,null,0,0,0,0]
[744,{"$f":"'INVENT.Mob&Mat Bur Importé - 10'!B750","v":0},{"$f":"'INVENT.Mob&Mat Bur Importé - 10'!F750","v":0},{"$f":"'INVENT.Mob&Mat Bur Importé - 10'!C750","v":0},{"$f":"'INVENT.Mob&Mat Bur Importé - 10'!H750","v":0},null,0,0,0,0,0,0,null,null,0,0,0,0]
[745,{"$f":"'INVENT.Mob&Mat Bur Importé - 10'!B751","v":0},{"$f":"'INVENT.Mob&Mat Bur Importé - 10'!F751","v":0},{"$f":"'INVENT.Mob&Mat Bur Importé - 10'!C751","v":0},{"$f":"'INVENT.Mob&Mat Bur Importé - 10'!H751","v":0},null,0,0,0,0,0,0,null,null,0,0,0,0]
[746,{"$f":"'INVENT.Mob&Mat Bur Importé - 10'!B752","v":0},{"$f":"'INVENT.Mob&Mat Bur Importé - 10'!F752","v":0},{"$f":"'INVENT.Mob&Mat Bur Importé - 10'!C752","v":0},{"$f":"'INVENT.Mob&Mat Bur Importé - 10'!H752","v":0},null,0,0,0,0,0,0,null,null,0,0,0,0]
[747,{"$f":"'INVENT.Mob&Mat Bur Importé - 10'!B753","v":0},{"$f":"'INVENT.Mob&Mat Bur Importé - 10'!F753","v":0},{"$f":"'INVENT.Mob&Mat Bur Importé - 10'!C753","v":0},{"$f":"'INVENT.Mob&Mat Bur Importé - 10'!H753","v":0},null,0,0,0,0,0,0,null,null,0,0,0,0]
[748,{"$f":"'INVENT.Mob&Mat Bur Importé - 10'!B754","v":0},{"$f":"'INVENT.Mob&Mat Bur Importé - 10'!F754","v":0},{"$f":"'INVENT.Mob&Mat Bur Importé - 10'!C754","v":0},{"$f":"'INVENT.Mob&Mat Bur Importé - 10'!H754","v":0},null,0,0,0,0,0,0,null,null,0,0,0,0]
[749,{"$f":"'INVENT.Mob&Mat Bur Importé - 10'!B755","v":0},{"$f":"'INVENT.Mob&Mat Bur Importé - 10'!F755","v":0},{"$f":"'INVENT.Mob&Mat Bur Importé - 10'!C755","v":0},{"$f":"'INVENT.Mob&Mat Bur Importé - 10'!H755","v":0},null,0,0,0,0,0,0,null,null,0,0,0,0]
[750,{"$f":"'INVENT.Mob&Mat Bur Importé - 10'!B756","v":0},{"$f":"'INVENT.Mob&Mat Bur Importé - 10'!F756","v":0},{"$f":"'INVENT.Mob&Mat Bur Importé - 10'!C756","v":0},{"$f":"'INVENT.Mob&Mat Bur Importé - 10'!H756","v":0},null,0,0,0,0,0,0,null,null,0,0,0,0]
[751,{"$f":"'INVENT.Mob&Mat Bur Importé - 10'!B757","v":0},{"$f":"'INVENT.Mob&Mat Bur Importé - 10'!F757","v":0},{"$f":"'INVENT.Mob&Mat Bur Importé - 10'!C757","v":0},{"$f":"'INVENT.Mob&Mat Bur Importé - 10'!H757","v":0},null,0,0,0,0,0,0,null,null,0,0,0,0]
[752,{"$f":"'INVENT.Mob&Mat Bur Importé - 10'!B758","v":0},{"$f":"'INVENT.Mob&Mat Bur Importé - 10'!F758","v":0},{"$f":"'INVENT.Mob&Mat Bur Importé - 10'!C758","v":0},{"$f":"'INVENT.Mob&Mat Bur Importé - 10'!H758","v":0},null,0,0,0,0,0,0,null,null,0,0,0,0]
[753,{"$f":"'INVENT.Mob&Mat Bur Importé - 10'!B759","v":0},{"$f":"'INVENT.Mob&Mat Bur Importé - 10'!F759","v":0},{"$f":"'INVENT.Mob&Mat Bur Importé - 10'!C759","v":0},{"$f":"'INVENT.Mob&Mat Bur Importé - 10'!H759","v":0},null,0,0,0,0,0,0,null,null,0,0,0,0]
[754,{"$f":"'INVENT.Mob&Mat Bur Importé - 10'!B760","v":0},{"$f":"'INVENT.Mob&Mat Bur Importé - 10'!F760","v":0},{"$f":"'INVENT.Mob&Mat Bur Importé - 10'!C760","v":0},{"$f":"'INVENT.Mob&Mat Bur Importé - 10'!H760","v":0},null,0,0,0,0,0,0,null,null,0,0,0,0]
[755,{"$f":"'INVENT.Mob&Mat Bur Importé - 10'!B761","v":0},{"$f":"'INVENT.Mob&Mat Bur Importé - 10'!F761","v":0},{"$f":"'INVENT.Mob&Mat Bur Importé - 10'!C761","v":0},{"$f":"'INVENT.Mob&Mat Bur Importé - 10'!H761","v":0},null,0,0,0,0,0,0,null,null,0,0,0,0]
[756,{"$f":"'INVENT.Mob&Mat Bur Importé - 10'!B762","v":0},{"$f":"'INVENT.Mob&Mat Bur Importé - 10'!F762","v":0},{"$f":"'INVENT.Mob&Mat Bur Importé - 10'!C762","v":0},{"$f":"'INVENT.Mob&Mat Bur Importé - 10'!H762","v":0},null,0,0,0,0,0,0,null,null,0,0,0,0]
[757,{"$f":"'INVENT.Mob&Mat Bur Importé - 10'!B763","v":0},{"$f":"'INVENT.Mob&Mat Bur Importé - 10'!F763","v":0},{"$f":"'INVENT.Mob&Mat Bur Importé - 10'!C763","v":0},{"$f":"'INVENT.Mob&Mat Bur Importé - 10'!H763","v":0},null,0,0,0,0,0,0,null,null,0,0,0,0]
[758,{"$f":"'INVENT.Mob&Mat Bur Importé - 10'!B764","v":0},{"$f":"'INVENT.Mob&Mat Bur Importé - 10'!F764","v":0},{"$f":"'INVENT.Mob&Mat Bur Importé - 10'!C764","v":0},{"$f":"'INVENT.Mob&Mat Bur Importé - 10'!H764","v":0},null,0,0,0,0,0,0,null,null,0,0,0,0]
[759,{"$f":"'INVENT.Mob&Mat Bur Importé - 10'!B765","v":0},{"$f":"'INVENT.Mob&Mat Bur Importé - 10'!F765","v":0},{"$f":"'INVENT.Mob&Mat Bur Importé - 10'!C765","v":0},{"$f":"'INVENT.Mob&Mat Bur Importé - 10'!H765","v":0},null,0,0,0,0,0,0,null,null,0,0,0,0]
[760,{"$f":"'INVENT.Mob&Mat Bur Importé - 10'!B766","v":0},{"$f":"'INVENT.Mob&Mat Bur Importé - 10'!F766","v":0},{"$f":"'INVENT.Mob&Mat Bur Importé - 10'!C766","v":0},{"$f":"'INVENT.Mob&Mat Bur Importé - 10'!H766","v":0},null,0,0,0,0,0,0,null,null,0,0,0,0]
[761,{"$f":"'INVENT.Mob&Mat Bur Importé - 10'!B767","v":0},{"$f":"'INVENT.Mob&Mat Bur Importé - 10'!F767","v":0},{"$f":"'INVENT.Mob&Mat Bur Importé - 10'!C767","v":0},{"$f":"'INVENT.Mob&Mat Bur Importé - 10'!H767","v":0},null,0,0,0,0,0,0,null,null,0,0,0,0]
[762,{"$f":"'INVENT.Mob&Mat Bur Importé - 10'!B768","v":0},{"$f":"'INVENT.Mob&Mat Bur Importé - 10'!F768","v":0},{"$f":"'INVENT.Mob&Mat Bur Importé - 10'!C768","v":0},{"$f":"'INVENT.Mob&Mat Bur Importé - 10'!H768","v":0},null,0,0,0,0,0,0,null,null,0,0,0,0]
[763,{"$f":"'INVENT.Mob&Mat Bur Importé - 10'!B769","v":0},{"$f":"'INVENT.Mob&Mat Bur Importé - 10'!F769","v":0},{"$f":"'INVENT.Mob&Mat Bur Importé - 10'!C769","v":0},{"$f":"'INVENT.Mob&Mat Bur Importé - 10'!H769","v":0},null,0,0,0,0,0,0,null,null,0,0,0,0]
[764,{"$f":"'INVENT.Mob&Mat Bur Importé - 10'!B770","v":0},{"$f":"'INVENT.Mob&Mat Bur Importé - 10'!F770","v":0},{"$f":"'INVENT.Mob&Mat Bur Importé - 10'!C770","v":0},{"$f":"'INVENT.Mob&Mat Bur Importé - 10'!H770","v":0},null,0,0,0,0,0,0,null,null,0,0,0,0]
[765,{"$f":"'INVENT.Mob&Mat Bur Importé - 10'!B771","v":0},{"$f":"'INVENT.Mob&Mat Bur Importé - 10'!F771","v":0},{"$f":"'INVENT.Mob&Mat Bur Importé - 10'!C771","v":0},{"$f":"'INVENT.Mob&Mat Bur Importé - 10'!H771","v":0},null,0,0,0,0,0,0,null,null,0,0,0,0]
[766,{"$f":"'INVENT.Mob&Mat Bur Importé - 10'!B772","v":0},{"$f":"'INVENT.Mob&Mat Bur Importé - 10'!F772","v":0},{"$f":"'INVENT.Mob&Mat Bur Importé - 10'!C772","v":0},{"$f":"'INVENT.Mob&Mat Bur Importé - 10'!H772","v":0},null,0,0,0,0,0,0,null,null,0,0,0,0]
[767,{"$f":"'INVENT.Mob&Mat Bur Importé - 10'!B773","v":0},{"$f":"'INVENT.Mob&Mat Bur Importé - 10'!F773","v":0},{"$f":"'INVENT.Mob&Mat Bur Importé - 10'!C773","v":0},{"$f":"'INVENT.Mob&Mat Bur Importé - 10'!H773","v":0},null,0,0,0,0,0,0,null,null,0,0,0,0]
[768,{"$f":"'INVENT.Mob&Mat Bur Importé - 10'!B774","v":0},{"$f":"'INVENT.Mob&Mat Bur Importé - 10'!F774","v":0},{"$f":"'INVENT.Mob&Mat Bur Importé - 10'!C774","v":0},{"$f":"'INVENT.Mob&Mat Bur Importé - 10'!H774","v":0},null,0,0,0,0,0,0,null,null,0,0,0,0]
[769,{"$f":"'INVENT.Mob&Mat Bur Importé - 10'!B775","v":0},{"$f":"'INVENT.Mob&Mat Bur Importé - 10'!F775","v":0},{"$f":"'INVENT.Mob&Mat Bur Importé - 10'!C775","v":0},{"$f":"'INVENT.Mob&Mat Bur Importé - 10'!H775","v":0},null,0,0,0,0,0,0,null,null,0,0,0,0]
[770,{"$f":"'INVENT.Mob&Mat Bur Importé - 10'!B776","v":0},{"$f":"'INVENT.Mob&Mat Bur Importé - 10'!F776","v":0},{"$f":"'INVENT.Mob&Mat Bur Importé - 10'!C776","v":0},{"$f":"'INVENT.Mob&Mat Bur Importé - 10'!H776","v":0},null,0,0,0,0,0,0,null,null,0,0,0,0]
[{"$f":"+A777+1","v":771},{"$f":"'INVENT.Mob&Mat Bur Importé - 10'!B777","v":0},{"$f":"'INVENT.Mob&Mat Bur Importé - 10'!F777","v":0},{"$f":"'INVENT.Mob&Mat Bur Importé - 10'!C777","v":0},{"$f":"'INVENT.Mob&Mat Bur Importé - 10'!H777","v":0},null,0,0,0,0,0,0,null,null,0,0,0,0]
[772,{"$f":"'INVENT.Mob&Mat Bur Importé - 10'!B778","v":0},{"$f":"'INVENT.Mob&Mat Bur Importé - 10'!F778","v":0},{"$f":"'INVENT.Mob&Mat Bur Importé - 10'!C778","v":0},{"$f":"'INVENT.Mob&Mat Bur Importé - 10'!H778","v":0},null,0,0,0,0,0,0,null,null,0,0,0,0]
[773,{"$f":"'INVENT.Mob&Mat Bur Importé - 10'!B779","v":0},{"$f":"'INVENT.Mob&Mat Bur Importé - 10'!F779","v":0},{"$f":"'INVENT.Mob&Mat Bur Importé - 10'!C779","v":0},{"$f":"'INVENT.Mob&Mat Bur Importé - 10'!H779","v":0},null,0,0,0,0,0,0,null,null,0,0,0,0]
[774,{"$f":"'INVENT.Mob&Mat Bur Importé - 10'!B780","v":0},{"$f":"'INVENT.Mob&Mat Bur Importé - 10'!F780","v":0},{"$f":"'INVENT.Mob&Mat Bur Importé - 10'!C780","v":0},{"$f":"'INVENT.Mob&Mat Bur Importé - 10'!H780","v":0},null,0,0,0,0,0,0,null,null,0,0,0,0]
[775,{"$f":"'INVENT.Mob&Mat Bur Importé - 10'!B781","v":0},{"$f":"'INVENT.Mob&Mat Bur Importé - 10'!F781","v":0},{"$f":"'INVENT.Mob&Mat Bur Importé - 10'!C781","v":0},{"$f":"'INVENT.Mob&Mat Bur Importé - 10'!H781","v":0},null,0,0,0,0,0,0,null,null,0,0,0,0]
[776,{"$f":"'INVENT.Mob&Mat Bur Importé - 10'!B782","v":0},{"$f":"'INVENT.Mob&Mat Bur Importé - 10'!F782","v":0},{"$f":"'INVENT.Mob&Mat Bur Importé - 10'!C782","v":0},{"$f":"'INVENT.Mob&Mat Bur Importé - 10'!H782","v":0},null,0,0,0,0,0,0,null,null,0,0,0,0]
[777,{"$f":"'INVENT.Mob&Mat Bur Importé - 10'!B783","v":0},{"$f":"'INVENT.Mob&Mat Bur Importé - 10'!F783","v":0},{"$f":"'INVENT.Mob&Mat Bur Importé - 10'!C783","v":0},{"$f":"'INVENT.Mob&Mat Bur Importé - 10'!H783","v":0},null,0,0,0,0,0,0,null,null,0,0,0,0]
[778,{"$f":"'INVENT.Mob&Mat Bur Importé - 10'!B784","v":0},{"$f":"'INVENT.Mob&Mat Bur Importé - 10'!F784","v":0},{"$f":"'INVENT.Mob&Mat Bur Importé - 10'!C784","v":0},{"$f":"'INVENT.Mob&Mat Bur Importé - 10'!H784","v":0},null,0,0,0,0,0,0,null,null,0,0,0,0]
[779,{"$f":"'INVENT.Mob&Mat Bur Importé - 10'!B785","v":0},{"$f":"'INVENT.Mob&Mat Bur Importé - 10'!F785","v":0},{"$f":"'INVENT.Mob&Mat Bur Importé - 10'!C785","v":0},{"$f":"'INVENT.Mob&Mat Bur Importé - 10'!H785","v":0},null,0,0,0,0,0,0,null,null,0,0,0,0]
[780,{"$f":"'INVENT.Mob&Mat Bur Importé - 10'!B786","v":0},{"$f":"'INVENT.Mob&Mat Bur Importé - 10'!F786","v":0},{"$f":"'INVENT.Mob&Mat Bur Importé - 10'!C786","v":0},{"$f":"'INVENT.Mob&Mat Bur Importé - 10'!H786","v":0},null,0,0,0,0,0,0,null,null,0,0,0,0]
[781,{"$f":"'INVENT.Mob&Mat Bur Importé - 10'!B787","v":0},{"$f":"'INVENT.Mob&Mat Bur Importé - 10'!F787","v":0},{"$f":"'INVENT.Mob&Mat Bur Importé - 10'!C787","v":0},{"$f":"'INVENT.Mob&Mat Bur Importé - 10'!H787","v":0},null,0,0,0,0,0,0,null,null,0,0,0,0]
[782,{"$f":"'INVENT.Mob&Mat Bur Importé - 10'!B788","v":0},{"$f":"'INVENT.Mob&Mat Bur Importé - 10'!F788","v":0},{"$f":"'INVENT.Mob&Mat Bur Importé - 10'!C788","v":0},{"$f":"'INVENT.Mob&Mat Bur Importé - 10'!H788","v":0},null,0,0,0,0,0,0,null,null,0,0,0,0]
[783,{"$f":"'INVENT.Mob&Mat Bur Importé - 10'!B789","v":0},{"$f":"'INVENT.Mob&Mat Bur Importé - 10'!F789","v":0},{"$f":"'INVENT.Mob&Mat Bur Importé - 10'!C789","v":0},{"$f":"'INVENT.Mob&Mat Bur Importé - 10'!H789","v":0},null,0,0,0,0,0,0,null,null,0,0,0,0]
[784,{"$f":"'INVENT.Mob&Mat Bur Importé - 10'!B790","v":0},{"$f":"'INVENT.Mob&Mat Bur Importé - 10'!F790","v":0},{"$f":"'INVENT.Mob&Mat Bur Importé - 10'!C790","v":0},{"$f":"'INVENT.Mob&Mat Bur Importé - 10'!H790","v":0},null,0,0,0,0,0,0,null,null,0,0,0,0]
[785,{"$f":"'INVENT.Mob&Mat Bur Importé - 10'!B791","v":0},{"$f":"'INVENT.Mob&Mat Bur Importé - 10'!F791","v":0},{"$f":"'INVENT.Mob&Mat Bur Importé - 10'!C791","v":0},{"$f":"'INVENT.Mob&Mat Bur Importé - 10'!H791","v":0},null,0,0,0,0,0,0,null,null,0,0,0,0]
[786,{"$f":"'INVENT.Mob&Mat Bur Importé - 10'!B792","v":0},{"$f":"'INVENT.Mob&Mat Bur Importé - 10'!F792","v":0},{"$f":"'INVENT.Mob&Mat Bur Importé - 10'!C792","v":0},{"$f":"'INVENT.Mob&Mat Bur Importé - 10'!H792","v":0},null,0,0,0,0,0,0,null,null,0,0,0,0]
[787,{"$f":"'INVENT.Mob&Mat Bur Importé - 10'!B793","v":0},{"$f":"'INVENT.Mob&Mat Bur Importé - 10'!F793","v":0},{"$f":"'INVENT.Mob&Mat Bur Importé - 10'!C793","v":0},{"$f":"'INVENT.Mob&Mat Bur Importé - 10'!H793","v":0},null,0,0,0,0,0,0,null,null,0,0,0,0]
[788,{"$f":"'INVENT.Mob&Mat Bur Importé - 10'!B794","v":0},{"$f":"'INVENT.Mob&Mat Bur Importé - 10'!F794","v":0},{"$f":"'INVENT.Mob&Mat Bur Importé - 10'!C794","v":0},{"$f":"'INVENT.Mob&Mat Bur Importé - 10'!H794","v":0},null,0,0,0,0,0,0,null,null,0,0,0,0]
[789,{"$f":"'INVENT.Mob&Mat Bur Importé - 10'!B795","v":0},{"$f":"'INVENT.Mob&Mat Bur Importé - 10'!F795","v":0},{"$f":"'INVENT.Mob&Mat Bur Importé - 10'!C795","v":0},{"$f":"'INVENT.Mob&Mat Bur Importé - 10'!H795","v":0},null,0,0,0,0,0,0,null,null,0,0,0,0]
[790,{"$f":"'INVENT.Mob&Mat Bur Importé - 10'!B796","v":0},{"$f":"'INVENT.Mob&Mat Bur Importé - 10'!F796","v":0},{"$f":"'INVENT.Mob&Mat Bur Importé - 10'!C796","v":0},{"$f":"'INVENT.Mob&Mat Bur Importé - 10'!H796","v":0},null,0,0,0,0,0,0,null,null,0,0,0,0]
[791,{"$f":"'INVENT.Mob&Mat Bur Importé - 10'!B797","v":0},{"$f":"'INVENT.Mob&Mat Bur Importé - 10'!F797","v":0},{"$f":"'INVENT.Mob&Mat Bur Importé - 10'!C797","v":0},{"$f":"'INVENT.Mob&Mat Bur Importé - 10'!H797","v":0},null,0,0,0,0,0,0,null,null,0,0,0,0]
[792,{"$f":"'INVENT.Mob&Mat Bur Importé - 10'!B798","v":0},{"$f":"'INVENT.Mob&Mat Bur Importé - 10'!F798","v":0},{"$f":"'INVENT.Mob&Mat Bur Importé - 10'!C798","v":0},{"$f":"'INVENT.Mob&Mat Bur Importé - 10'!H798","v":0},null,0,0,0,0,0,0,null,null,0,0,0,0]
[793,{"$f":"'INVENT.Mob&Mat Bur Importé - 10'!B799","v":0},{"$f":"'INVENT.Mob&Mat Bur Importé - 10'!F799","v":0},{"$f":"'INVENT.Mob&Mat Bur Importé - 10'!C799","v":0},{"$f":"'INVENT.Mob&Mat Bur Importé - 10'!H799","v":0},null,0,0,0,0,0,0,null,null,0,0,0,0]
[794,{"$f":"'INVENT.Mob&Mat Bur Importé - 10'!B800","v":0},{"$f":"'INVENT.Mob&Mat Bur Importé - 10'!F800","v":0},{"$f":"'INVENT.Mob&Mat Bur Importé - 10'!C800","v":0},{"$f":"'INVENT.Mob&Mat Bur Importé - 10'!H800","v":0},null,0,0,0,0,0,0,null,null,0,0,0,0]
[795,{"$f":"'INVENT.Mob&Mat Bur Importé - 10'!B801","v":0},{"$f":"'INVENT.Mob&Mat Bur Importé - 10'!F801","v":0},{"$f":"'INVENT.Mob&Mat Bur Importé - 10'!C801","v":0},{"$f":"'INVENT.Mob&Mat Bur Importé - 10'!H801","v":0},null,0,0,0,0,0,0,null,null,0,0,0,0]
[796,{"$f":"'INVENT.Mob&Mat Bur Importé - 10'!B802","v":0},{"$f":"'INVENT.Mob&Mat Bur Importé - 10'!F802","v":0},{"$f":"'INVENT.Mob&Mat Bur Importé - 10'!C802","v":0},{"$f":"'INVENT.Mob&Mat Bur Importé - 10'!H802","v":0},null,0,0,0,0,0,0,null,null,0,0,0,0]
[797,{"$f":"'INVENT.Mob&Mat Bur Importé - 10'!B803","v":0},{"$f":"'INVENT.Mob&Mat Bur Importé - 10'!F803","v":0},{"$f":"'INVENT.Mob&Mat Bur Importé - 10'!C803","v":0},{"$f":"'INVENT.Mob&Mat Bur Importé - 10'!H803","v":0},null,0,0,0,0,0,0,null,null,0,0,0,0]
[798,{"$f":"'INVENT.Mob&Mat Bur Importé - 10'!B804","v":0},{"$f":"'INVENT.Mob&Mat Bur Importé - 10'!F804","v":0},{"$f":"'INVENT.Mob&Mat Bur Importé - 10'!C804","v":0},{"$f":"'INVENT.Mob&Mat Bur Importé - 10'!H804","v":0},null,0,0,0,0,0,0,null,null,0,0,0,0]
[799,{"$f":"'INVENT.Mob&Mat Bur Importé - 10'!B805","v":0},{"$f":"'INVENT.Mob&Mat Bur Importé - 10'!F805","v":0},{"$f":"'INVENT.Mob&Mat Bur Importé - 10'!C805","v":0},{"$f":"'INVENT.Mob&Mat Bur Importé - 10'!H805","v":0},null,0,0,0,0,0,0,null,null,0,0,0,0]
[800,{"$f":"'INVENT.Mob&Mat Bur Importé - 10'!B806","v":0},{"$f":"'INVENT.Mob&Mat Bur Importé - 10'!F806","v":0},{"$f":"'INVENT.Mob&Mat Bur Importé - 10'!C806","v":0},{"$f":"'INVENT.Mob&Mat Bur Importé - 10'!H806","v":0},null,0,0,0,0,0,0,null,null,0,0,0,0]
[801,{"$f":"'INVENT.Mob&Mat Bur Importé - 10'!B807","v":0},{"$f":"'INVENT.Mob&Mat Bur Importé - 10'!F807","v":0},{"$f":"'INVENT.Mob&Mat Bur Importé - 10'!C807","v":0},{"$f":"'INVENT.Mob&Mat Bur Importé - 10'!H807","v":0},null,0,0,0,0,0,0,null,null,0,0,0,0]
[802,{"$f":"'INVENT.Mob&Mat Bur Importé - 10'!B808","v":0},{"$f":"'INVENT.Mob&Mat Bur Importé - 10'!F808","v":0},{"$f":"'INVENT.Mob&Mat Bur Importé - 10'!C808","v":0},{"$f":"'INVENT.Mob&Mat Bur Importé - 10'!H808","v":0},null,0,0,0,0,0,0,null,null,0,0,0,0]
[803,{"$f":"'INVENT.Mob&Mat Bur Importé - 10'!B809","v":0},{"$f":"'INVENT.Mob&Mat Bur Importé - 10'!F809","v":0},{"$f":"'INVENT.Mob&Mat Bur Importé - 10'!C809","v":0},{"$f":"'INVENT.Mob&Mat Bur Importé - 10'!H809","v":0},null,0,0,0,0,0,0,null,null,0,0,0,0]
[804,{"$f":"'INVENT.Mob&Mat Bur Importé - 10'!B810","v":0},{"$f":"'INVENT.Mob&Mat Bur Importé - 10'!F810","v":0},{"$f":"'INVENT.Mob&Mat Bur Importé - 10'!C810","v":0},{"$f":"'INVENT.Mob&Mat Bur Importé - 10'!H810","v":0},null,0,0,0,0,0,0,null,null,0,0,0,0]
[805,{"$f":"'INVENT.Mob&Mat Bur Importé - 10'!B811","v":0},{"$f":"'INVENT.Mob&Mat Bur Importé - 10'!F811","v":0},{"$f":"'INVENT.Mob&Mat Bur Importé - 10'!C811","v":0},{"$f":"'INVENT.Mob&Mat Bur Importé - 10'!H811","v":0},null,{"$f":"F812*E812","v":0},{"$f":"E812*1%","v":0},{"$f":"E812*1%","v":0},{"$f":"E812*0.5%","v":0},{"$f":"(E812+G812+H812)*18%","v":0},{"$f":"SUM(G812:K812)+E812","v":0},null,null,{"$f":"(M812+N812)*18%","v":0},{"$f":"O812+N812+M812","v":0},{"$f":"+R812-O812-K812","v":0},{"$f":"P812+L812","v":0}]
[806,{"$f":"'INVENT.Mob&Mat Bur Importé - 10'!B812","v":0},{"$f":"'INVENT.Mob&Mat Bur Importé - 10'!F812","v":0},{"$f":"'INVENT.Mob&Mat Bur Importé - 10'!C812","v":0},{"$f":"'INVENT.Mob&Mat Bur Importé - 10'!H812","v":0},null,0,0,0,0,0,0,null,null,0,0,0,0]
[807,{"$f":"'INVENT.Mob&Mat Bur Importé - 10'!B813","v":0},{"$f":"'INVENT.Mob&Mat Bur Importé - 10'!F813","v":0},{"$f":"'INVENT.Mob&Mat Bur Importé - 10'!C813","v":0},{"$f":"'INVENT.Mob&Mat Bur Importé - 10'!H813","v":0},null,0,0,0,0,0,0,null,null,0,0,0,0]
[808,{"$f":"'INVENT.Mob&Mat Bur Importé - 10'!B814","v":0},{"$f":"'INVENT.Mob&Mat Bur Importé - 10'!F814","v":0},{"$f":"'INVENT.Mob&Mat Bur Importé - 10'!C814","v":0},{"$f":"'INVENT.Mob&Mat Bur Importé - 10'!H814","v":0},null,0,0,0,0,0,0,null,null,0,0,0,0]
[809,{"$f":"'INVENT.Mob&Mat Bur Importé - 10'!B815","v":0},{"$f":"'INVENT.Mob&Mat Bur Importé - 10'!F815","v":0},{"$f":"'INVENT.Mob&Mat Bur Importé - 10'!C815","v":0},{"$f":"'INVENT.Mob&Mat Bur Importé - 10'!H815","v":0},null,0,0,0,0,0,0,null,null,0,0,0,0]
[810,{"$f":"'INVENT.Mob&Mat Bur Importé - 10'!B816","v":0},{"$f":"'INVENT.Mob&Mat Bur Importé - 10'!F816","v":0},{"$f":"'INVENT.Mob&Mat Bur Importé - 10'!C816","v":0},{"$f":"'INVENT.Mob&Mat Bur Importé - 10'!H816","v":0},null,0,0,0,0,0,0,null,null,0,0,0,0]
[811,{"$f":"'INVENT.Mob&Mat Bur Importé - 10'!B817","v":0},{"$f":"'INVENT.Mob&Mat Bur Importé - 10'!F817","v":0},{"$f":"'INVENT.Mob&Mat Bur Importé - 10'!C817","v":0},{"$f":"'INVENT.Mob&Mat Bur Importé - 10'!H817","v":0},null,0,0,0,0,0,0,null,null,0,0,0,0]
[812,{"$f":"'INVENT.Mob&Mat Bur Importé - 10'!B818","v":0},{"$f":"'INVENT.Mob&Mat Bur Importé - 10'!F818","v":0},{"$f":"'INVENT.Mob&Mat Bur Importé - 10'!C818","v":0},{"$f":"'INVENT.Mob&Mat Bur Importé - 10'!H818","v":0},null,0,0,0,0,0,0,null,null,0,0,0,0]
[813,{"$f":"'INVENT.Mob&Mat Bur Importé - 10'!B819","v":0},{"$f":"'INVENT.Mob&Mat Bur Importé - 10'!F819","v":0},{"$f":"'INVENT.Mob&Mat Bur Importé - 10'!C819","v":0},{"$f":"'INVENT.Mob&Mat Bur Importé - 10'!H819","v":0},null,0,0,0,0,0,0,null,null,0,0,0,0]
[814,{"$f":"'INVENT.Mob&Mat Bur Importé - 10'!B820","v":0},{"$f":"'INVENT.Mob&Mat Bur Importé - 10'!F820","v":0},{"$f":"'INVENT.Mob&Mat Bur Importé - 10'!C820","v":0},{"$f":"'INVENT.Mob&Mat Bur Importé - 10'!H820","v":0},null,0,0,0,0,0,0,null,null,0,0,0,0]
[815,{"$f":"'INVENT.Mob&Mat Bur Importé - 10'!B821","v":0},{"$f":"'INVENT.Mob&Mat Bur Importé - 10'!F821","v":0},{"$f":"'INVENT.Mob&Mat Bur Importé - 10'!C821","v":0},{"$f":"'INVENT.Mob&Mat Bur Importé - 10'!H821","v":0},null,0,0,0,0,0,0,null,null,0,0,0,0]
[816,{"$f":"'INVENT.Mob&Mat Bur Importé - 10'!B822","v":0},{"$f":"'INVENT.Mob&Mat Bur Importé - 10'!F822","v":0},{"$f":"'INVENT.Mob&Mat Bur Importé - 10'!C822","v":0},{"$f":"'INVENT.Mob&Mat Bur Importé - 10'!H822","v":0},null,0,0,0,0,0,0,null,null,0,0,0,0]
[817,{"$f":"'INVENT.Mob&Mat Bur Importé - 10'!B823","v":0},{"$f":"'INVENT.Mob&Mat Bur Importé - 10'!F823","v":0},{"$f":"'INVENT.Mob&Mat Bur Importé - 10'!C823","v":0},{"$f":"'INVENT.Mob&Mat Bur Importé - 10'!H823","v":0},null,0,0,0,0,0,0,null,null,0,0,0,0]
[818,{"$f":"'INVENT.Mob&Mat Bur Importé - 10'!B824","v":0},{"$f":"'INVENT.Mob&Mat Bur Importé - 10'!F824","v":0},{"$f":"'INVENT.Mob&Mat Bur Importé - 10'!C824","v":0},{"$f":"'INVENT.Mob&Mat Bur Importé - 10'!H824","v":0},null,0,0,0,0,0,0,null,null,0,0,0,0]
[819,{"$f":"'INVENT.Mob&Mat Bur Importé - 10'!B825","v":0},{"$f":"'INVENT.Mob&Mat Bur Importé - 10'!F825","v":0},{"$f":"'INVENT.Mob&Mat Bur Importé - 10'!C825","v":0},{"$f":"'INVENT.Mob&Mat Bur Importé - 10'!H825","v":0},null,0,0,0,0,0,0,null,null,0,0,0,0]
[820,{"$f":"'INVENT.Mob&Mat Bur Importé - 10'!B826","v":0},{"$f":"'INVENT.Mob&Mat Bur Importé - 10'!F826","v":0},{"$f":"'INVENT.Mob&Mat Bur Importé - 10'!C826","v":0},{"$f":"'INVENT.Mob&Mat Bur Importé - 10'!H826","v":0},null,0,0,0,0,0,0,null,null,0,0,0,0]
[821,{"$f":"'INVENT.Mob&Mat Bur Importé - 10'!B827","v":0},{"$f":"'INVENT.Mob&Mat Bur Importé - 10'!F827","v":0},{"$f":"'INVENT.Mob&Mat Bur Importé - 10'!C827","v":0},{"$f":"'INVENT.Mob&Mat Bur Importé - 10'!H827","v":0},null,0,0,0,0,0,0,null,null,0,0,0,0]
[822,{"$f":"'INVENT.Mob&Mat Bur Importé - 10'!B828","v":0},{"$f":"'INVENT.Mob&Mat Bur Importé - 10'!F828","v":0},{"$f":"'INVENT.Mob&Mat Bur Importé - 10'!C828","v":0},{"$f":"'INVENT.Mob&Mat Bur Importé - 10'!H828","v":0},null,0,0,0,0,0,0,null,null,0,0,0,0]
[823,{"$f":"'INVENT.Mob&Mat Bur Importé - 10'!B829","v":0},{"$f":"'INVENT.Mob&Mat Bur Importé - 10'!F829","v":0},{"$f":"'INVENT.Mob&Mat Bur Importé - 10'!C829","v":0},{"$f":"'INVENT.Mob&Mat Bur Importé - 10'!H829","v":0},null,0,0,0,0,0,0,null,null,0,0,0,0]
[824,{"$f":"'INVENT.Mob&Mat Bur Importé - 10'!B830","v":0},{"$f":"'INVENT.Mob&Mat Bur Importé - 10'!F830","v":0},{"$f":"'INVENT.Mob&Mat Bur Importé - 10'!C830","v":0},{"$f":"'INVENT.Mob&Mat Bur Importé - 10'!H830","v":0},null,0,0,0,0,0,0,null,null,0,0,0,0]
[825,{"$f":"'INVENT.Mob&Mat Bur Importé - 10'!B831","v":0},{"$f":"'INVENT.Mob&Mat Bur Importé - 10'!F831","v":0},{"$f":"'INVENT.Mob&Mat Bur Importé - 10'!C831","v":0},{"$f":"'INVENT.Mob&Mat Bur Importé - 10'!H831","v":0},null,0,0,0,0,0,0,null,null,0,0,0,0]
[826,{"$f":"'INVENT.Mob&Mat Bur Importé - 10'!B832","v":0},{"$f":"'INVENT.Mob&Mat Bur Importé - 10'!F832","v":0},{"$f":"'INVENT.Mob&Mat Bur Importé - 10'!C832","v":0},{"$f":"'INVENT.Mob&Mat Bur Importé - 10'!H832","v":0},null,0,0,0,0,0,0,null,null,0,0,0,0]
[827,{"$f":"'INVENT.Mob&Mat Bur Importé - 10'!B833","v":0},{"$f":"'INVENT.Mob&Mat Bur Importé - 10'!F833","v":0},{"$f":"'INVENT.Mob&Mat Bur Importé - 10'!C833","v":0},{"$f":"'INVENT.Mob&Mat Bur Importé - 10'!H833","v":0},null,0,0,0,0,0,0,null,null,0,0,0,0]
[828,{"$f":"'INVENT.Mob&Mat Bur Importé - 10'!B834","v":0},{"$f":"'INVENT.Mob&Mat Bur Importé - 10'!F834","v":0},{"$f":"'INVENT.Mob&Mat Bur Importé - 10'!C834","v":0},{"$f":"'INVENT.Mob&Mat Bur Importé - 10'!H834","v":0},null,0,0,0,0,0,0,null,null,0,0,0,0]
[829,{"$f":"'INVENT.Mob&Mat Bur Importé - 10'!B835","v":0},{"$f":"'INVENT.Mob&Mat Bur Importé - 10'!F835","v":0},{"$f":"'INVENT.Mob&Mat Bur Importé - 10'!C835","v":0},{"$f":"'INVENT.Mob&Mat Bur Importé - 10'!H835","v":0},null,0,0,0,0,0,0,null,null,0,0,0,0]
[830,{"$f":"'INVENT.Mob&Mat Bur Importé - 10'!B836","v":0},{"$f":"'INVENT.Mob&Mat Bur Importé - 10'!F836","v":0},{"$f":"'INVENT.Mob&Mat Bur Importé - 10'!C836","v":0},{"$f":"'INVENT.Mob&Mat Bur Importé - 10'!H836","v":0},null,0,0,0,0,0,0,null,null,0,0,0,0]
[831,{"$f":"'INVENT.Mob&Mat Bur Importé - 10'!B837","v":0},{"$f":"'INVENT.Mob&Mat Bur Importé - 10'!F837","v":0},{"$f":"'INVENT.Mob&Mat Bur Importé - 10'!C837","v":0},{"$f":"'INVENT.Mob&Mat Bur Importé - 10'!H837","v":0},null,0,0,0,0,0,0,null,null,0,0,0,0]
[832,{"$f":"'INVENT.Mob&Mat Bur Importé - 10'!B838","v":0},{"$f":"'INVENT.Mob&Mat Bur Importé - 10'!F838","v":0},{"$f":"'INVENT.Mob&Mat Bur Importé - 10'!C838","v":0},{"$f":"'INVENT.Mob&Mat Bur Importé - 10'!H838","v":0},null,0,0,0,0,0,0,null,null,0,0,0,0]
[833,{"$f":"'INVENT.Mob&Mat Bur Importé - 10'!B839","v":0},{"$f":"'INVENT.Mob&Mat Bur Importé - 10'!F839","v":0},{"$f":"'INVENT.Mob&Mat Bur Importé - 10'!C839","v":0},{"$f":"'INVENT.Mob&Mat Bur Importé - 10'!H839","v":0},null,0,0,0,0,0,0,null,null,0,0,0,0]
[834,{"$f":"'INVENT.Mob&Mat Bur Importé - 10'!B840","v":0},{"$f":"'INVENT.Mob&Mat Bur Importé - 10'!F840","v":0},{"$f":"'INVENT.Mob&Mat Bur Importé - 10'!C840","v":0},{"$f":"'INVENT.Mob&Mat Bur Importé - 10'!H840","v":0},null,0,0,0,0,0,0,null,null,0,0,0,0]
[{"$f":"+A841+1","v":835},{"$f":"'INVENT.Mob&Mat Bur Importé - 10'!B841","v":0},{"$f":"'INVENT.Mob&Mat Bur Importé - 10'!F841","v":0},{"$f":"'INVENT.Mob&Mat Bur Importé - 10'!C841","v":0},{"$f":"'INVENT.Mob&Mat Bur Importé - 10'!H841","v":0},null,0,0,0,0,0,0,null,null,0,0,0,0]
[836,{"$f":"'INVENT.Mob&Mat Bur Importé - 10'!B842","v":0},{"$f":"'INVENT.Mob&Mat Bur Importé - 10'!F842","v":0},{"$f":"'INVENT.Mob&Mat Bur Importé - 10'!C842","v":0},{"$f":"'INVENT.Mob&Mat Bur Importé - 10'!H842","v":0},null,0,0,0,0,0,0,null,null,0,0,0,0]
[837,{"$f":"'INVENT.Mob&Mat Bur Importé - 10'!B843","v":0},{"$f":"'INVENT.Mob&Mat Bur Importé - 10'!F843","v":0},{"$f":"'INVENT.Mob&Mat Bur Importé - 10'!C843","v":0},{"$f":"'INVENT.Mob&Mat Bur Importé - 10'!H843","v":0},null,0,0,0,0,0,0,null,null,0,0,0,0]
[838,{"$f":"'INVENT.Mob&Mat Bur Importé - 10'!B844","v":0},{"$f":"'INVENT.Mob&Mat Bur Importé - 10'!F844","v":0},{"$f":"'INVENT.Mob&Mat Bur Importé - 10'!C844","v":0},{"$f":"'INVENT.Mob&Mat Bur Importé - 10'!H844","v":0},null,0,0,0,0,0,0,null,null,0,0,0,0]
[839,{"$f":"'INVENT.Mob&Mat Bur Importé - 10'!B845","v":0},{"$f":"'INVENT.Mob&Mat Bur Importé - 10'!F845","v":0},{"$f":"'INVENT.Mob&Mat Bur Importé - 10'!C845","v":0},{"$f":"'INVENT.Mob&Mat Bur Importé - 10'!H845","v":0},null,0,0,0,0,0,0,null,null,0,0,0,0]
[840,{"$f":"'INVENT.Mob&Mat Bur Importé - 10'!B846","v":0},{"$f":"'INVENT.Mob&Mat Bur Importé - 10'!F846","v":0},{"$f":"'INVENT.Mob&Mat Bur Importé - 10'!C846","v":0},{"$f":"'INVENT.Mob&Mat Bur Importé - 10'!H846","v":0},null,0,0,0,0,0,0,null,null,0,0,0,0]
[841,{"$f":"'INVENT.Mob&Mat Bur Importé - 10'!B847","v":0},{"$f":"'INVENT.Mob&Mat Bur Importé - 10'!F847","v":0},{"$f":"'INVENT.Mob&Mat Bur Importé - 10'!C847","v":0},{"$f":"'INVENT.Mob&Mat Bur Importé - 10'!H847","v":0},null,0,0,0,0,0,0,null,null,0,0,0,0]
[842,{"$f":"'INVENT.Mob&Mat Bur Importé - 10'!B848","v":0},{"$f":"'INVENT.Mob&Mat Bur Importé - 10'!F848","v":0},{"$f":"'INVENT.Mob&Mat Bur Importé - 10'!C848","v":0},{"$f":"'INVENT.Mob&Mat Bur Importé - 10'!H848","v":0},null,0,0,0,0,0,0,null,null,0,0,0,0]
[843,{"$f":"'INVENT.Mob&Mat Bur Importé - 10'!B849","v":0},{"$f":"'INVENT.Mob&Mat Bur Importé - 10'!F849","v":0},{"$f":"'INVENT.Mob&Mat Bur Importé - 10'!C849","v":0},{"$f":"'INVENT.Mob&Mat Bur Importé - 10'!H849","v":0},null,0,0,0,0,0,0,null,null,0,0,0,0]
[844,{"$f":"'INVENT.Mob&Mat Bur Importé - 10'!B850","v":0},{"$f":"'INVENT.Mob&Mat Bur Importé - 10'!F850","v":0},{"$f":"'INVENT.Mob&Mat Bur Importé - 10'!C850","v":0},{"$f":"'INVENT.Mob&Mat Bur Importé - 10'!H850","v":0},null,0,0,0,0,0,0,null,null,0,0,0,0]
[845,{"$f":"'INVENT.Mob&Mat Bur Importé - 10'!B851","v":0},{"$f":"'INVENT.Mob&Mat Bur Importé - 10'!F851","v":0},{"$f":"'INVENT.Mob&Mat Bur Importé - 10'!C851","v":0},{"$f":"'INVENT.Mob&Mat Bur Importé - 10'!H851","v":0},null,0,0,0,0,0,0,null,null,0,0,0,0]
[846,{"$f":"'INVENT.Mob&Mat Bur Importé - 10'!B852","v":0},{"$f":"'INVENT.Mob&Mat Bur Importé - 10'!F852","v":0},{"$f":"'INVENT.Mob&Mat Bur Importé - 10'!C852","v":0},{"$f":"'INVENT.Mob&Mat Bur Importé - 10'!H852","v":0},null,0,0,0,0,0,0,null,null,0,0,0,0]
[847,{"$f":"'INVENT.Mob&Mat Bur Importé - 10'!B853","v":0},{"$f":"'INVENT.Mob&Mat Bur Importé - 10'!F853","v":0},{"$f":"'INVENT.Mob&Mat Bur Importé - 10'!C853","v":0},{"$f":"'INVENT.Mob&Mat Bur Importé - 10'!H853","v":0},null,0,0,0,0,0,0,null,null,0,0,0,0]
[848,{"$f":"'INVENT.Mob&Mat Bur Importé - 10'!B854","v":0},{"$f":"'INVENT.Mob&Mat Bur Importé - 10'!F854","v":0},{"$f":"'INVENT.Mob&Mat Bur Importé - 10'!C854","v":0},{"$f":"'INVENT.Mob&Mat Bur Importé - 10'!H854","v":0},null,0,0,0,0,0,0,null,null,0,0,0,0]
[849,{"$f":"'INVENT.Mob&Mat Bur Importé - 10'!B855","v":0},{"$f":"'INVENT.Mob&Mat Bur Importé - 10'!F855","v":0},{"$f":"'INVENT.Mob&Mat Bur Importé - 10'!C855","v":0},{"$f":"'INVENT.Mob&Mat Bur Importé - 10'!H855","v":0},null,0,0,0,0,0,0,null,null,0,0,0,0]
[850,{"$f":"'INVENT.Mob&Mat Bur Importé - 10'!B856","v":0},{"$f":"'INVENT.Mob&Mat Bur Importé - 10'!F856","v":0},{"$f":"'INVENT.Mob&Mat Bur Importé - 10'!C856","v":0},{"$f":"'INVENT.Mob&Mat Bur Importé - 10'!H856","v":0},null,0,0,0,0,0,0,null,null,0,0,0,0]
[851,{"$f":"'INVENT.Mob&Mat Bur Importé - 10'!B857","v":0},{"$f":"'INVENT.Mob&Mat Bur Importé - 10'!F857","v":0},{"$f":"'INVENT.Mob&Mat Bur Importé - 10'!C857","v":0},{"$f":"'INVENT.Mob&Mat Bur Importé - 10'!H857","v":0},null,0,0,0,0,0,0,null,null,0,0,0,0]
[852,{"$f":"'INVENT.Mob&Mat Bur Importé - 10'!B858","v":0},{"$f":"'INVENT.Mob&Mat Bur Importé - 10'!F858","v":0},{"$f":"'INVENT.Mob&Mat Bur Importé - 10'!C858","v":0},{"$f":"'INVENT.Mob&Mat Bur Importé - 10'!H858","v":0},null,0,0,0,0,0,0,null,null,0,0,0,0]
[853,{"$f":"'INVENT.Mob&Mat Bur Importé - 10'!B859","v":0},{"$f":"'INVENT.Mob&Mat Bur Importé - 10'!F859","v":0},{"$f":"'INVENT.Mob&Mat Bur Importé - 10'!C859","v":0},{"$f":"'INVENT.Mob&Mat Bur Importé - 10'!H859","v":0},null,0,0,0,0,0,0,null,null,0,0,0,0]
[854,{"$f":"'INVENT.Mob&Mat Bur Importé - 10'!B860","v":0},{"$f":"'INVENT.Mob&Mat Bur Importé - 10'!F860","v":0},{"$f":"'INVENT.Mob&Mat Bur Importé - 10'!C860","v":0},{"$f":"'INVENT.Mob&Mat Bur Importé - 10'!H860","v":0},null,0,0,0,0,0,0,null,null,0,0,0,0]
[855,{"$f":"'INVENT.Mob&Mat Bur Importé - 10'!B861","v":0},{"$f":"'INVENT.Mob&Mat Bur Importé - 10'!F861","v":0},{"$f":"'INVENT.Mob&Mat Bur Importé - 10'!C861","v":0},{"$f":"'INVENT.Mob&Mat Bur Importé - 10'!H861","v":0},null,0,0,0,0,0,0,null,null,0,0,0,0]
[856,{"$f":"'INVENT.Mob&Mat Bur Importé - 10'!B862","v":0},{"$f":"'INVENT.Mob&Mat Bur Importé - 10'!F862","v":0},{"$f":"'INVENT.Mob&Mat Bur Importé - 10'!C862","v":0},{"$f":"'INVENT.Mob&Mat Bur Importé - 10'!H862","v":0},null,0,0,0,0,0,0,null,null,0,0,0,0]
[857,{"$f":"'INVENT.Mob&Mat Bur Importé - 10'!B863","v":0},{"$f":"'INVENT.Mob&Mat Bur Importé - 10'!F863","v":0},{"$f":"'INVENT.Mob&Mat Bur Importé - 10'!C863","v":0},{"$f":"'INVENT.Mob&Mat Bur Importé - 10'!H863","v":0},null,0,0,0,0,0,0,null,null,0,0,0,0]
[858,{"$f":"'INVENT.Mob&Mat Bur Importé - 10'!B864","v":0},{"$f":"'INVENT.Mob&Mat Bur Importé - 10'!F864","v":0},{"$f":"'INVENT.Mob&Mat Bur Importé - 10'!C864","v":0},{"$f":"'INVENT.Mob&Mat Bur Importé - 10'!H864","v":0},null,0,0,0,0,0,0,null,null,0,0,0,0]
[859,{"$f":"'INVENT.Mob&Mat Bur Importé - 10'!B865","v":0},{"$f":"'INVENT.Mob&Mat Bur Importé - 10'!F865","v":0},{"$f":"'INVENT.Mob&Mat Bur Importé - 10'!C865","v":0},{"$f":"'INVENT.Mob&Mat Bur Importé - 10'!H865","v":0},null,0,0,0,0,0,0,null,null,0,0,0,0]
[860,{"$f":"'INVENT.Mob&Mat Bur Importé - 10'!B866","v":0},{"$f":"'INVENT.Mob&Mat Bur Importé - 10'!F866","v":0},{"$f":"'INVENT.Mob&Mat Bur Importé - 10'!C866","v":0},{"$f":"'INVENT.Mob&Mat Bur Importé - 10'!H866","v":0},null,0,0,0,0,0,0,null,null,0,0,0,0]
[861,{"$f":"'INVENT.Mob&Mat Bur Importé - 10'!B867","v":0},{"$f":"'INVENT.Mob&Mat Bur Importé - 10'!F867","v":0},{"$f":"'INVENT.Mob&Mat Bur Importé - 10'!C867","v":0},{"$f":"'INVENT.Mob&Mat Bur Importé - 10'!H867","v":0},null,0,0,0,0,0,0,null,null,0,0,0,0]
[862,{"$f":"'INVENT.Mob&Mat Bur Importé - 10'!B868","v":0},{"$f":"'INVENT.Mob&Mat Bur Importé - 10'!F868","v":0},{"$f":"'INVENT.Mob&Mat Bur Importé - 10'!C868","v":0},{"$f":"'INVENT.Mob&Mat Bur Importé - 10'!H868","v":0},null,0,0,0,0,0,0,null,null,0,0,0,0]
[863,{"$f":"'INVENT.Mob&Mat Bur Importé - 10'!B869","v":0},{"$f":"'INVENT.Mob&Mat Bur Importé - 10'!F869","v":0},{"$f":"'INVENT.Mob&Mat Bur Importé - 10'!C869","v":0},{"$f":"'INVENT.Mob&Mat Bur Importé - 10'!H869","v":0},null,0,0,0,0,0,0,null,null,0,0,0,0]
[864,{"$f":"'INVENT.Mob&Mat Bur Importé - 10'!B870","v":0},{"$f":"'INVENT.Mob&Mat Bur Importé - 10'!F870","v":0},{"$f":"'INVENT.Mob&Mat Bur Importé - 10'!C870","v":0},{"$f":"'INVENT.Mob&Mat Bur Importé - 10'!H870","v":0},null,0,0,0,0,0,0,null,null,0,0,0,0]
[865,{"$f":"'INVENT.Mob&Mat Bur Importé - 10'!B871","v":0},{"$f":"'INVENT.Mob&Mat Bur Importé - 10'!F871","v":0},{"$f":"'INVENT.Mob&Mat Bur Importé - 10'!C871","v":0},{"$f":"'INVENT.Mob&Mat Bur Importé - 10'!H871","v":0},null,0,0,0,0,0,0,null,null,0,0,0,0]
[866,{"$f":"'INVENT.Mob&Mat Bur Importé - 10'!B872","v":0},{"$f":"'INVENT.Mob&Mat Bur Importé - 10'!F872","v":0},{"$f":"'INVENT.Mob&Mat Bur Importé - 10'!C872","v":0},{"$f":"'INVENT.Mob&Mat Bur Importé - 10'!H872","v":0},null,0,0,0,0,0,0,null,null,0,0,0,0]
[867,{"$f":"'INVENT.Mob&Mat Bur Importé - 10'!B873","v":0},{"$f":"'INVENT.Mob&Mat Bur Importé - 10'!F873","v":0},{"$f":"'INVENT.Mob&Mat Bur Importé - 10'!C873","v":0},{"$f":"'INVENT.Mob&Mat Bur Importé - 10'!H873","v":0},null,0,0,0,0,0,0,null,null,0,0,0,0]
[868,{"$f":"'INVENT.Mob&Mat Bur Importé - 10'!B874","v":0},{"$f":"'INVENT.Mob&Mat Bur Importé - 10'!F874","v":0},{"$f":"'INVENT.Mob&Mat Bur Importé - 10'!C874","v":0},{"$f":"'INVENT.Mob&Mat Bur Importé - 10'!H874","v":0},null,0,0,0,0,0,0,null,null,0,0,0,0]
[869,{"$f":"'INVENT.Mob&Mat Bur Importé - 10'!B875","v":0},{"$f":"'INVENT.Mob&Mat Bur Importé - 10'!F875","v":0},{"$f":"'INVENT.Mob&Mat Bur Importé - 10'!C875","v":0},{"$f":"'INVENT.Mob&Mat Bur Importé - 10'!H875","v":0},null,{"$f":"F876*E876","v":0},{"$f":"E876*1%","v":0},{"$f":"E876*1%","v":0},{"$f":"E876*0.5%","v":0},{"$f":"(E876+G876+H876)*18%","v":0},{"$f":"SUM(G876:K876)+E876","v":0},null,null,{"$f":"(M876+N876)*18%","v":0},{"$f":"O876+N876+M876","v":0},{"$f":"+R876-O876-K876","v":0},{"$f":"P876+L876","v":0}]
[870,{"$f":"'INVENT.Mob&Mat Bur Importé - 10'!B876","v":0},{"$f":"'INVENT.Mob&Mat Bur Importé - 10'!F876","v":0},{"$f":"'INVENT.Mob&Mat Bur Importé - 10'!C876","v":0},{"$f":"'INVENT.Mob&Mat Bur Importé - 10'!H876","v":0},null,0,0,0,0,0,0,null,null,0,0,0,0]
[871,{"$f":"'INVENT.Mob&Mat Bur Importé - 10'!B877","v":0},{"$f":"'INVENT.Mob&Mat Bur Importé - 10'!F877","v":0},{"$f":"'INVENT.Mob&Mat Bur Importé - 10'!C877","v":0},{"$f":"'INVENT.Mob&Mat Bur Importé - 10'!H877","v":0},null,0,0,0,0,0,0,null,null,0,0,0,0]
[872,{"$f":"'INVENT.Mob&Mat Bur Importé - 10'!B878","v":0},{"$f":"'INVENT.Mob&Mat Bur Importé - 10'!F878","v":0},{"$f":"'INVENT.Mob&Mat Bur Importé - 10'!C878","v":0},{"$f":"'INVENT.Mob&Mat Bur Importé - 10'!H878","v":0},null,0,0,0,0,0,0,null,null,0,0,0,0]
[873,{"$f":"'INVENT.Mob&Mat Bur Importé - 10'!B879","v":0},{"$f":"'INVENT.Mob&Mat Bur Importé - 10'!F879","v":0},{"$f":"'INVENT.Mob&Mat Bur Importé - 10'!C879","v":0},{"$f":"'INVENT.Mob&Mat Bur Importé - 10'!H879","v":0},null,0,0,0,0,0,0,null,null,0,0,0,0]
[874,{"$f":"'INVENT.Mob&Mat Bur Importé - 10'!B880","v":0},{"$f":"'INVENT.Mob&Mat Bur Importé - 10'!F880","v":0},{"$f":"'INVENT.Mob&Mat Bur Importé - 10'!C880","v":0},{"$f":"'INVENT.Mob&Mat Bur Importé - 10'!H880","v":0},null,0,0,0,0,0,0,null,null,0,0,0,0]
[875,{"$f":"'INVENT.Mob&Mat Bur Importé - 10'!B881","v":0},{"$f":"'INVENT.Mob&Mat Bur Importé - 10'!F881","v":0},{"$f":"'INVENT.Mob&Mat Bur Importé - 10'!C881","v":0},{"$f":"'INVENT.Mob&Mat Bur Importé - 10'!H881","v":0},null,0,0,0,0,0,0,null,null,0,0,0,0]
[876,{"$f":"'INVENT.Mob&Mat Bur Importé - 10'!B882","v":0},{"$f":"'INVENT.Mob&Mat Bur Importé - 10'!F882","v":0},{"$f":"'INVENT.Mob&Mat Bur Importé - 10'!C882","v":0},{"$f":"'INVENT.Mob&Mat Bur Importé - 10'!H882","v":0},null,0,0,0,0,0,0,null,null,0,0,0,0]
[877,{"$f":"'INVENT.Mob&Mat Bur Importé - 10'!B883","v":0},{"$f":"'INVENT.Mob&Mat Bur Importé - 10'!F883","v":0},{"$f":"'INVENT.Mob&Mat Bur Importé - 10'!C883","v":0},{"$f":"'INVENT.Mob&Mat Bur Importé - 10'!H883","v":0},null,0,0,0,0,0,0,null,null,0,0,0,0]
[878,{"$f":"'INVENT.Mob&Mat Bur Importé - 10'!B884","v":0},{"$f":"'INVENT.Mob&Mat Bur Importé - 10'!F884","v":0},{"$f":"'INVENT.Mob&Mat Bur Importé - 10'!C884","v":0},{"$f":"'INVENT.Mob&Mat Bur Importé - 10'!H884","v":0},null,0,0,0,0,0,0,null,null,0,0,0,0]
[879,{"$f":"'INVENT.Mob&Mat Bur Importé - 10'!B885","v":0},{"$f":"'INVENT.Mob&Mat Bur Importé - 10'!F885","v":0},{"$f":"'INVENT.Mob&Mat Bur Importé - 10'!C885","v":0},{"$f":"'INVENT.Mob&Mat Bur Importé - 10'!H885","v":0},null,0,0,0,0,0,0,null,null,0,0,0,0]
[880,{"$f":"'INVENT.Mob&Mat Bur Importé - 10'!B886","v":0},{"$f":"'INVENT.Mob&Mat Bur Importé - 10'!F886","v":0},{"$f":"'INVENT.Mob&Mat Bur Importé - 10'!C886","v":0},{"$f":"'INVENT.Mob&Mat Bur Importé - 10'!H886","v":0},null,0,0,0,0,0,0,null,null,0,0,0,0]
[881,{"$f":"'INVENT.Mob&Mat Bur Importé - 10'!B887","v":0},{"$f":"'INVENT.Mob&Mat Bur Importé - 10'!F887","v":0},{"$f":"'INVENT.Mob&Mat Bur Importé - 10'!C887","v":0},{"$f":"'INVENT.Mob&Mat Bur Importé - 10'!H887","v":0},null,0,0,0,0,0,0,null,null,0,0,0,0]
[882,{"$f":"'INVENT.Mob&Mat Bur Importé - 10'!B888","v":0},{"$f":"'INVENT.Mob&Mat Bur Importé - 10'!F888","v":0},{"$f":"'INVENT.Mob&Mat Bur Importé - 10'!C888","v":0},{"$f":"'INVENT.Mob&Mat Bur Importé - 10'!H888","v":0},null,0,0,0,0,0,0,null,null,0,0,0,0]
[883,{"$f":"'INVENT.Mob&Mat Bur Importé - 10'!B889","v":0},{"$f":"'INVENT.Mob&Mat Bur Importé - 10'!F889","v":0},{"$f":"'INVENT.Mob&Mat Bur Importé - 10'!C889","v":0},{"$f":"'INVENT.Mob&Mat Bur Importé - 10'!H889","v":0},null,0,0,0,0,0,0,null,null,0,0,0,0]
[884,{"$f":"'INVENT.Mob&Mat Bur Importé - 10'!B890","v":0},{"$f":"'INVENT.Mob&Mat Bur Importé - 10'!F890","v":0},{"$f":"'INVENT.Mob&Mat Bur Importé - 10'!C890","v":0},{"$f":"'INVENT.Mob&Mat Bur Importé - 10'!H890","v":0},null,0,0,0,0,0,0,null,null,0,0,0,0]
[885,{"$f":"'INVENT.Mob&Mat Bur Importé - 10'!B891","v":0},{"$f":"'INVENT.Mob&Mat Bur Importé - 10'!F891","v":0},{"$f":"'INVENT.Mob&Mat Bur Importé - 10'!C891","v":0},{"$f":"'INVENT.Mob&Mat Bur Importé - 10'!H891","v":0},null,0,0,0,0,0,0,null,null,0,0,0,0]
[886,{"$f":"'INVENT.Mob&Mat Bur Importé - 10'!B892","v":0},{"$f":"'INVENT.Mob&Mat Bur Importé - 10'!F892","v":0},{"$f":"'INVENT.Mob&Mat Bur Importé - 10'!C892","v":0},{"$f":"'INVENT.Mob&Mat Bur Importé - 10'!H892","v":0},null,0,0,0,0,0,0,null,null,0,0,0,0]
[887,{"$f":"'INVENT.Mob&Mat Bur Importé - 10'!B893","v":0},{"$f":"'INVENT.Mob&Mat Bur Importé - 10'!F893","v":0},{"$f":"'INVENT.Mob&Mat Bur Importé - 10'!C893","v":0},{"$f":"'INVENT.Mob&Mat Bur Importé - 10'!H893","v":0},null,0,0,0,0,0,0,null,null,0,0,0,0]
[888,{"$f":"'INVENT.Mob&Mat Bur Importé - 10'!B894","v":0},{"$f":"'INVENT.Mob&Mat Bur Importé - 10'!F894","v":0},{"$f":"'INVENT.Mob&Mat Bur Importé - 10'!C894","v":0},{"$f":"'INVENT.Mob&Mat Bur Importé - 10'!H894","v":0},null,0,0,0,0,0,0,null,null,0,0,0,0]
[889,{"$f":"'INVENT.Mob&Mat Bur Importé - 10'!B895","v":0},{"$f":"'INVENT.Mob&Mat Bur Importé - 10'!F895","v":0},{"$f":"'INVENT.Mob&Mat Bur Importé - 10'!C895","v":0},{"$f":"'INVENT.Mob&Mat Bur Importé - 10'!H895","v":0},null,0,0,0,0,0,0,null,null,0,0,0,0]
[890,{"$f":"'INVENT.Mob&Mat Bur Importé - 10'!B896","v":0},{"$f":"'INVENT.Mob&Mat Bur Importé - 10'!F896","v":0},{"$f":"'INVENT.Mob&Mat Bur Importé - 10'!C896","v":0},{"$f":"'INVENT.Mob&Mat Bur Importé - 10'!H896","v":0},null,0,0,0,0,0,0,null,null,0,0,0,0]
[891,{"$f":"'INVENT.Mob&Mat Bur Importé - 10'!B897","v":0},{"$f":"'INVENT.Mob&Mat Bur Importé - 10'!F897","v":0},{"$f":"'INVENT.Mob&Mat Bur Importé - 10'!C897","v":0},{"$f":"'INVENT.Mob&Mat Bur Importé - 10'!H897","v":0},null,0,0,0,0,0,0,null,null,0,0,0,0]
[892,{"$f":"'INVENT.Mob&Mat Bur Importé - 10'!B898","v":0},{"$f":"'INVENT.Mob&Mat Bur Importé - 10'!F898","v":0},{"$f":"'INVENT.Mob&Mat Bur Importé - 10'!C898","v":0},{"$f":"'INVENT.Mob&Mat Bur Importé - 10'!H898","v":0},null,0,0,0,0,0,0,null,null,0,0,0,0]
[893,{"$f":"'INVENT.Mob&Mat Bur Importé - 10'!B899","v":0},{"$f":"'INVENT.Mob&Mat Bur Importé - 10'!F899","v":0},{"$f":"'INVENT.Mob&Mat Bur Importé - 10'!C899","v":0},{"$f":"'INVENT.Mob&Mat Bur Importé - 10'!H899","v":0},null,0,0,0,0,0,0,null,null,0,0,0,0]
[894,{"$f":"'INVENT.Mob&Mat Bur Importé - 10'!B900","v":0},{"$f":"'INVENT.Mob&Mat Bur Importé - 10'!F900","v":0},{"$f":"'INVENT.Mob&Mat Bur Importé - 10'!C900","v":0},{"$f":"'INVENT.Mob&Mat Bur Importé - 10'!H900","v":0},null,0,0,0,0,0,0,null,null,0,0,0,0]
[895,{"$f":"'INVENT.Mob&Mat Bur Importé - 10'!B901","v":0},{"$f":"'INVENT.Mob&Mat Bur Importé - 10'!F901","v":0},{"$f":"'INVENT.Mob&Mat Bur Importé - 10'!C901","v":0},{"$f":"'INVENT.Mob&Mat Bur Importé - 10'!H901","v":0},null,0,0,0,0,0,0,null,null,0,0,0,0]
[896,{"$f":"'INVENT.Mob&Mat Bur Importé - 10'!B902","v":0},{"$f":"'INVENT.Mob&Mat Bur Importé - 10'!F902","v":0},{"$f":"'INVENT.Mob&Mat Bur Importé - 10'!C902","v":0},{"$f":"'INVENT.Mob&Mat Bur Importé - 10'!H902","v":0},null,0,0,0,0,0,0,null,null,0,0,0,0]
[897,{"$f":"'INVENT.Mob&Mat Bur Importé - 10'!B903","v":0},{"$f":"'INVENT.Mob&Mat Bur Importé - 10'!F903","v":0},{"$f":"'INVENT.Mob&Mat Bur Importé - 10'!C903","v":0},{"$f":"'INVENT.Mob&Mat Bur Importé - 10'!H903","v":0},null,0,0,0,0,0,0,null,null,0,0,0,0]
[898,{"$f":"'INVENT.Mob&Mat Bur Importé - 10'!B904","v":0},{"$f":"'INVENT.Mob&Mat Bur Importé - 10'!F904","v":0},{"$f":"'INVENT.Mob&Mat Bur Importé - 10'!C904","v":0},{"$f":"'INVENT.Mob&Mat Bur Importé - 10'!H904","v":0},null,0,0,0,0,0,0,null,null,0,0,0,0]
[{"$f":"+A905+1","v":899},{"$f":"'INVENT.Mob&Mat Bur Importé - 10'!B905","v":0},{"$f":"'INVENT.Mob&Mat Bur Importé - 10'!F905","v":0},{"$f":"'INVENT.Mob&Mat Bur Importé - 10'!C905","v":0},{"$f":"'INVENT.Mob&Mat Bur Importé - 10'!H905","v":0},null,0,0,0,0,0,0,null,null,0,0,0,0]
[900,{"$f":"'INVENT.Mob&Mat Bur Importé - 10'!B906","v":0},{"$f":"'INVENT.Mob&Mat Bur Importé - 10'!F906","v":0},{"$f":"'INVENT.Mob&Mat Bur Importé - 10'!C906","v":0},{"$f":"'INVENT.Mob&Mat Bur Importé - 10'!H906","v":0},null,0,0,0,0,0,0,null,null,0,0,0,0]
[901,{"$f":"'INVENT.Mob&Mat Bur Importé - 10'!B907","v":0},{"$f":"'INVENT.Mob&Mat Bur Importé - 10'!F907","v":0},{"$f":"'INVENT.Mob&Mat Bur Importé - 10'!C907","v":0},{"$f":"'INVENT.Mob&Mat Bur Importé - 10'!H907","v":0},null,0,0,0,0,0,0,null,null,0,0,0,0]
[902,{"$f":"'INVENT.Mob&Mat Bur Importé - 10'!B908","v":0},{"$f":"'INVENT.Mob&Mat Bur Importé - 10'!F908","v":0},{"$f":"'INVENT.Mob&Mat Bur Importé - 10'!C908","v":0},{"$f":"'INVENT.Mob&Mat Bur Importé - 10'!H908","v":0},null,0,0,0,0,0,0,null,null,0,0,0,0]
[903,{"$f":"'INVENT.Mob&Mat Bur Importé - 10'!B909","v":0},{"$f":"'INVENT.Mob&Mat Bur Importé - 10'!F909","v":0},{"$f":"'INVENT.Mob&Mat Bur Importé - 10'!C909","v":0},{"$f":"'INVENT.Mob&Mat Bur Importé - 10'!H909","v":0},null,0,0,0,0,0,0,null,null,0,0,0,0]
[904,{"$f":"'INVENT.Mob&Mat Bur Importé - 10'!B910","v":0},{"$f":"'INVENT.Mob&Mat Bur Importé - 10'!F910","v":0},{"$f":"'INVENT.Mob&Mat Bur Importé - 10'!C910","v":0},{"$f":"'INVENT.Mob&Mat Bur Importé - 10'!H910","v":0},null,0,0,0,0,0,0,null,null,0,0,0,0]
[905,{"$f":"'INVENT.Mob&Mat Bur Importé - 10'!B911","v":0},{"$f":"'INVENT.Mob&Mat Bur Importé - 10'!F911","v":0},{"$f":"'INVENT.Mob&Mat Bur Importé - 10'!C911","v":0},{"$f":"'INVENT.Mob&Mat Bur Importé - 10'!H911","v":0},null,0,0,0,0,0,0,null,null,0,0,0,0]
[906,{"$f":"'INVENT.Mob&Mat Bur Importé - 10'!B912","v":0},{"$f":"'INVENT.Mob&Mat Bur Importé - 10'!F912","v":0},{"$f":"'INVENT.Mob&Mat Bur Importé - 10'!C912","v":0},{"$f":"'INVENT.Mob&Mat Bur Importé - 10'!H912","v":0},null,0,0,0,0,0,0,null,null,0,0,0,0]
[907,{"$f":"'INVENT.Mob&Mat Bur Importé - 10'!B913","v":0},{"$f":"'INVENT.Mob&Mat Bur Importé - 10'!F913","v":0},{"$f":"'INVENT.Mob&Mat Bur Importé - 10'!C913","v":0},{"$f":"'INVENT.Mob&Mat Bur Importé - 10'!H913","v":0},null,0,0,0,0,0,0,null,null,0,0,0,0]
[908,{"$f":"'INVENT.Mob&Mat Bur Importé - 10'!B914","v":0},{"$f":"'INVENT.Mob&Mat Bur Importé - 10'!F914","v":0},{"$f":"'INVENT.Mob&Mat Bur Importé - 10'!C914","v":0},{"$f":"'INVENT.Mob&Mat Bur Importé - 10'!H914","v":0},null,0,0,0,0,0,0,null,null,0,0,0,0]
[909,{"$f":"'INVENT.Mob&Mat Bur Importé - 10'!B915","v":0},{"$f":"'INVENT.Mob&Mat Bur Importé - 10'!F915","v":0},{"$f":"'INVENT.Mob&Mat Bur Importé - 10'!C915","v":0},{"$f":"'INVENT.Mob&Mat Bur Importé - 10'!H915","v":0},null,0,0,0,0,0,0,null,null,0,0,0,0]
[910,{"$f":"'INVENT.Mob&Mat Bur Importé - 10'!B916","v":0},{"$f":"'INVENT.Mob&Mat Bur Importé - 10'!F916","v":0},{"$f":"'INVENT.Mob&Mat Bur Importé - 10'!C916","v":0},{"$f":"'INVENT.Mob&Mat Bur Importé - 10'!H916","v":0},null,0,0,0,0,0,0,null,null,0,0,0,0]
[911,{"$f":"'INVENT.Mob&Mat Bur Importé - 10'!B917","v":0},{"$f":"'INVENT.Mob&Mat Bur Importé - 10'!F917","v":0},{"$f":"'INVENT.Mob&Mat Bur Importé - 10'!C917","v":0},{"$f":"'INVENT.Mob&Mat Bur Importé - 10'!H917","v":0},null,0,0,0,0,0,0,null,null,0,0,0,0]
[912,{"$f":"'INVENT.Mob&Mat Bur Importé - 10'!B918","v":0},{"$f":"'INVENT.Mob&Mat Bur Importé - 10'!F918","v":0},{"$f":"'INVENT.Mob&Mat Bur Importé - 10'!C918","v":0},{"$f":"'INVENT.Mob&Mat Bur Importé - 10'!H918","v":0},null,0,0,0,0,0,0,null,null,0,0,0,0]
[913,{"$f":"'INVENT.Mob&Mat Bur Importé - 10'!B919","v":0},{"$f":"'INVENT.Mob&Mat Bur Importé - 10'!F919","v":0},{"$f":"'INVENT.Mob&Mat Bur Importé - 10'!C919","v":0},{"$f":"'INVENT.Mob&Mat Bur Importé - 10'!H919","v":0},null,0,0,0,0,0,0,null,null,0,0,0,0]
[914,{"$f":"'INVENT.Mob&Mat Bur Importé - 10'!B920","v":0},{"$f":"'INVENT.Mob&Mat Bur Importé - 10'!F920","v":0},{"$f":"'INVENT.Mob&Mat Bur Importé - 10'!C920","v":0},{"$f":"'INVENT.Mob&Mat Bur Importé - 10'!H920","v":0},null,0,0,0,0,0,0,null,null,0,0,0,0]
[915,{"$f":"'INVENT.Mob&Mat Bur Importé - 10'!B921","v":0},{"$f":"'INVENT.Mob&Mat Bur Importé - 10'!F921","v":0},{"$f":"'INVENT.Mob&Mat Bur Importé - 10'!C921","v":0},{"$f":"'INVENT.Mob&Mat Bur Importé - 10'!H921","v":0},null,0,0,0,0,0,0,null,null,0,0,0,0]
[916,{"$f":"'INVENT.Mob&Mat Bur Importé - 10'!B922","v":0},{"$f":"'INVENT.Mob&Mat Bur Importé - 10'!F922","v":0},{"$f":"'INVENT.Mob&Mat Bur Importé - 10'!C922","v":0},{"$f":"'INVENT.Mob&Mat Bur Importé - 10'!H922","v":0},null,0,0,0,0,0,0,null,null,0,0,0,0]
[917,{"$f":"'INVENT.Mob&Mat Bur Importé - 10'!B923","v":0},{"$f":"'INVENT.Mob&Mat Bur Importé - 10'!F923","v":0},{"$f":"'INVENT.Mob&Mat Bur Importé - 10'!C923","v":0},{"$f":"'INVENT.Mob&Mat Bur Importé - 10'!H923","v":0},null,0,0,0,0,0,0,null,null,0,0,0,0]
[918,{"$f":"'INVENT.Mob&Mat Bur Importé - 10'!B924","v":0},{"$f":"'INVENT.Mob&Mat Bur Importé - 10'!F924","v":0},{"$f":"'INVENT.Mob&Mat Bur Importé - 10'!C924","v":0},{"$f":"'INVENT.Mob&Mat Bur Importé - 10'!H924","v":0},null,0,0,0,0,0,0,null,null,0,0,0,0]
[919,{"$f":"'INVENT.Mob&Mat Bur Importé - 10'!B925","v":0},{"$f":"'INVENT.Mob&Mat Bur Importé - 10'!F925","v":0},{"$f":"'INVENT.Mob&Mat Bur Importé - 10'!C925","v":0},{"$f":"'INVENT.Mob&Mat Bur Importé - 10'!H925","v":0},null,0,0,0,0,0,0,null,null,0,0,0,0]
[920,{"$f":"'INVENT.Mob&Mat Bur Importé - 10'!B926","v":0},{"$f":"'INVENT.Mob&Mat Bur Importé - 10'!F926","v":0},{"$f":"'INVENT.Mob&Mat Bur Importé - 10'!C926","v":0},{"$f":"'INVENT.Mob&Mat Bur Importé - 10'!H926","v":0},null,0,0,0,0,0,0,null,null,0,0,0,0]
[921,{"$f":"'INVENT.Mob&Mat Bur Importé - 10'!B927","v":0},{"$f":"'INVENT.Mob&Mat Bur Importé - 10'!F927","v":0},{"$f":"'INVENT.Mob&Mat Bur Importé - 10'!C927","v":0},{"$f":"'INVENT.Mob&Mat Bur Importé - 10'!H927","v":0},null,0,0,0,0,0,0,null,null,0,0,0,0]
[922,{"$f":"'INVENT.Mob&Mat Bur Importé - 10'!B928","v":0},{"$f":"'INVENT.Mob&Mat Bur Importé - 10'!F928","v":0},{"$f":"'INVENT.Mob&Mat Bur Importé - 10'!C928","v":0},{"$f":"'INVENT.Mob&Mat Bur Importé - 10'!H928","v":0},null,0,0,0,0,0,0,null,null,0,0,0,0]
[923,{"$f":"'INVENT.Mob&Mat Bur Importé - 10'!B929","v":0},{"$f":"'INVENT.Mob&Mat Bur Importé - 10'!F929","v":0},{"$f":"'INVENT.Mob&Mat Bur Importé - 10'!C929","v":0},{"$f":"'INVENT.Mob&Mat Bur Importé - 10'!H929","v":0},null,0,0,0,0,0,0,null,null,0,0,0,0]
[924,{"$f":"'INVENT.Mob&Mat Bur Importé - 10'!B930","v":0},{"$f":"'INVENT.Mob&Mat Bur Importé - 10'!F930","v":0},{"$f":"'INVENT.Mob&Mat Bur Importé - 10'!C930","v":0},{"$f":"'INVENT.Mob&Mat Bur Importé - 10'!H930","v":0},null,0,0,0,0,0,0,null,null,0,0,0,0]
[925,{"$f":"'INVENT.Mob&Mat Bur Importé - 10'!B931","v":0},{"$f":"'INVENT.Mob&Mat Bur Importé - 10'!F931","v":0},{"$f":"'INVENT.Mob&Mat Bur Importé - 10'!C931","v":0},{"$f":"'INVENT.Mob&Mat Bur Importé - 10'!H931","v":0},null,0,0,0,0,0,0,null,null,0,0,0,0]
[926,{"$f":"'INVENT.Mob&Mat Bur Importé - 10'!B932","v":0},{"$f":"'INVENT.Mob&Mat Bur Importé - 10'!F932","v":0},{"$f":"'INVENT.Mob&Mat Bur Importé - 10'!C932","v":0},{"$f":"'INVENT.Mob&Mat Bur Importé - 10'!H932","v":0},null,0,0,0,0,0,0,null,null,0,0,0,0]
[927,{"$f":"'INVENT.Mob&Mat Bur Importé - 10'!B933","v":0},{"$f":"'INVENT.Mob&Mat Bur Importé - 10'!F933","v":0},{"$f":"'INVENT.Mob&Mat Bur Importé - 10'!C933","v":0},{"$f":"'INVENT.Mob&Mat Bur Importé - 10'!H933","v":0},null,0,0,0,0,0,0,null,null,0,0,0,0]
[928,{"$f":"'INVENT.Mob&Mat Bur Importé - 10'!B934","v":0},{"$f":"'INVENT.Mob&Mat Bur Importé - 10'!F934","v":0},{"$f":"'INVENT.Mob&Mat Bur Importé - 10'!C934","v":0},{"$f":"'INVENT.Mob&Mat Bur Importé - 10'!H934","v":0},null,0,0,0,0,0,0,null,null,0,0,0,0]
[929,{"$f":"'INVENT.Mob&Mat Bur Importé - 10'!B935","v":0},{"$f":"'INVENT.Mob&Mat Bur Importé - 10'!F935","v":0},{"$f":"'INVENT.Mob&Mat Bur Importé - 10'!C935","v":0},{"$f":"'INVENT.Mob&Mat Bur Importé - 10'!H935","v":0},null,0,0,0,0,0,0,null,null,0,0,0,0]
[930,{"$f":"'INVENT.Mob&Mat Bur Importé - 10'!B936","v":0},{"$f":"'INVENT.Mob&Mat Bur Importé - 10'!F936","v":0},{"$f":"'INVENT.Mob&Mat Bur Importé - 10'!C936","v":0},{"$f":"'INVENT.Mob&Mat Bur Importé - 10'!H936","v":0},null,0,0,0,0,0,0,null,null,0,0,0,0]
[931,{"$f":"'INVENT.Mob&Mat Bur Importé - 10'!B937","v":0},{"$f":"'INVENT.Mob&Mat Bur Importé - 10'!F937","v":0},{"$f":"'INVENT.Mob&Mat Bur Importé - 10'!C937","v":0},{"$f":"'INVENT.Mob&Mat Bur Importé - 10'!H937","v":0},null,0,0,0,0,0,0,null,null,0,0,0,0]
[932,{"$f":"'INVENT.Mob&Mat Bur Importé - 10'!B938","v":0},{"$f":"'INVENT.Mob&Mat Bur Importé - 10'!F938","v":0},{"$f":"'INVENT.Mob&Mat Bur Importé - 10'!C938","v":0},{"$f":"'INVENT.Mob&Mat Bur Importé - 10'!H938","v":0},null,0,0,0,0,0,0,null,null,0,0,0,0]
[933,{"$f":"'INVENT.Mob&Mat Bur Importé - 10'!B939","v":0},{"$f":"'INVENT.Mob&Mat Bur Importé - 10'!F939","v":0},{"$f":"'INVENT.Mob&Mat Bur Importé - 10'!C939","v":0},{"$f":"'INVENT.Mob&Mat Bur Importé - 10'!H939","v":0},null,{"$f":"F940*E940","v":0},{"$f":"E940*1%","v":0},{"$f":"E940*1%","v":0},{"$f":"E940*0.5%","v":0},{"$f":"(E940+G940+H940)*18%","v":0},{"$f":"SUM(G940:K940)+E940","v":0},null,null,{"$f":"(M940+N940)*18%","v":0},{"$f":"O940+N940+M940","v":0},{"$f":"+R940-O940-K940","v":0},{"$f":"P940+L940","v":0}]
[934,{"$f":"'INVENT.Mob&Mat Bur Importé - 10'!B940","v":0},{"$f":"'INVENT.Mob&Mat Bur Importé - 10'!F940","v":0},{"$f":"'INVENT.Mob&Mat Bur Importé - 10'!C940","v":0},{"$f":"'INVENT.Mob&Mat Bur Importé - 10'!H940","v":0},null,0,0,0,0,0,0,null,null,0,0,0,0]
[935,{"$f":"'INVENT.Mob&Mat Bur Importé - 10'!B941","v":0},{"$f":"'INVENT.Mob&Mat Bur Importé - 10'!F941","v":0},{"$f":"'INVENT.Mob&Mat Bur Importé - 10'!C941","v":0},{"$f":"'INVENT.Mob&Mat Bur Importé - 10'!H941","v":0},null,0,0,0,0,0,0,null,null,0,0,0,0]
[936,{"$f":"'INVENT.Mob&Mat Bur Importé - 10'!B942","v":0},{"$f":"'INVENT.Mob&Mat Bur Importé - 10'!F942","v":0},{"$f":"'INVENT.Mob&Mat Bur Importé - 10'!C942","v":0},{"$f":"'INVENT.Mob&Mat Bur Importé - 10'!H942","v":0},null,0,0,0,0,0,0,null,null,0,0,0,0]
[937,{"$f":"'INVENT.Mob&Mat Bur Importé - 10'!B943","v":0},{"$f":"'INVENT.Mob&Mat Bur Importé - 10'!F943","v":0},{"$f":"'INVENT.Mob&Mat Bur Importé - 10'!C943","v":0},{"$f":"'INVENT.Mob&Mat Bur Importé - 10'!H943","v":0},null,0,0,0,0,0,0,null,null,0,0,0,0]
[938,{"$f":"'INVENT.Mob&Mat Bur Importé - 10'!B944","v":0},{"$f":"'INVENT.Mob&Mat Bur Importé - 10'!F944","v":0},{"$f":"'INVENT.Mob&Mat Bur Importé - 10'!C944","v":0},{"$f":"'INVENT.Mob&Mat Bur Importé - 10'!H944","v":0},null,0,0,0,0,0,0,null,null,0,0,0,0]
[939,{"$f":"'INVENT.Mob&Mat Bur Importé - 10'!B945","v":0},{"$f":"'INVENT.Mob&Mat Bur Importé - 10'!F945","v":0},{"$f":"'INVENT.Mob&Mat Bur Importé - 10'!C945","v":0},{"$f":"'INVENT.Mob&Mat Bur Importé - 10'!H945","v":0},null,0,0,0,0,0,0,null,null,0,0,0,0]
[940,{"$f":"'INVENT.Mob&Mat Bur Importé - 10'!B946","v":0},{"$f":"'INVENT.Mob&Mat Bur Importé - 10'!F946","v":0},{"$f":"'INVENT.Mob&Mat Bur Importé - 10'!C946","v":0},{"$f":"'INVENT.Mob&Mat Bur Importé - 10'!H946","v":0},null,0,0,0,0,0,0,null,null,0,0,0,0]
[941,{"$f":"'INVENT.Mob&Mat Bur Importé - 10'!B947","v":0},{"$f":"'INVENT.Mob&Mat Bur Importé - 10'!F947","v":0},{"$f":"'INVENT.Mob&Mat Bur Importé - 10'!C947","v":0},{"$f":"'INVENT.Mob&Mat Bur Importé - 10'!H947","v":0},null,0,0,0,0,0,0,null,null,0,0,0,0]
[942,{"$f":"'INVENT.Mob&Mat Bur Importé - 10'!B948","v":0},{"$f":"'INVENT.Mob&Mat Bur Importé - 10'!F948","v":0},{"$f":"'INVENT.Mob&Mat Bur Importé - 10'!C948","v":0},{"$f":"'INVENT.Mob&Mat Bur Importé - 10'!H948","v":0},null,0,0,0,0,0,0,null,null,0,0,0,0]
[943,{"$f":"'INVENT.Mob&Mat Bur Importé - 10'!B949","v":0},{"$f":"'INVENT.Mob&Mat Bur Importé - 10'!F949","v":0},{"$f":"'INVENT.Mob&Mat Bur Importé - 10'!C949","v":0},{"$f":"'INVENT.Mob&Mat Bur Importé - 10'!H949","v":0},null,0,0,0,0,0,0,null,null,0,0,0,0]
[944,{"$f":"'INVENT.Mob&Mat Bur Importé - 10'!B950","v":0},{"$f":"'INVENT.Mob&Mat Bur Importé - 10'!F950","v":0},{"$f":"'INVENT.Mob&Mat Bur Importé - 10'!C950","v":0},{"$f":"'INVENT.Mob&Mat Bur Importé - 10'!H950","v":0},null,0,0,0,0,0,0,null,null,0,0,0,0]
[945,{"$f":"'INVENT.Mob&Mat Bur Importé - 10'!B951","v":0},{"$f":"'INVENT.Mob&Mat Bur Importé - 10'!F951","v":0},{"$f":"'INVENT.Mob&Mat Bur Importé - 10'!C951","v":0},{"$f":"'INVENT.Mob&Mat Bur Importé - 10'!H951","v":0},null,0,0,0,0,0,0,null,null,0,0,0,0]
[946,{"$f":"'INVENT.Mob&Mat Bur Importé - 10'!B952","v":0},{"$f":"'INVENT.Mob&Mat Bur Importé - 10'!F952","v":0},{"$f":"'INVENT.Mob&Mat Bur Importé - 10'!C952","v":0},{"$f":"'INVENT.Mob&Mat Bur Importé - 10'!H952","v":0},null,0,0,0,0,0,0,null,null,0,0,0,0]
[947,{"$f":"'INVENT.Mob&Mat Bur Importé - 10'!B953","v":0},{"$f":"'INVENT.Mob&Mat Bur Importé - 10'!F953","v":0},{"$f":"'INVENT.Mob&Mat Bur Importé - 10'!C953","v":0},{"$f":"'INVENT.Mob&Mat Bur Importé - 10'!H953","v":0},null,0,0,0,0,0,0,null,null,0,0,0,0]
[948,{"$f":"'INVENT.Mob&Mat Bur Importé - 10'!B954","v":0},{"$f":"'INVENT.Mob&Mat Bur Importé - 10'!F954","v":0},{"$f":"'INVENT.Mob&Mat Bur Importé - 10'!C954","v":0},{"$f":"'INVENT.Mob&Mat Bur Importé - 10'!H954","v":0},null,0,0,0,0,0,0,null,null,0,0,0,0]
[949,{"$f":"'INVENT.Mob&Mat Bur Importé - 10'!B955","v":0},{"$f":"'INVENT.Mob&Mat Bur Importé - 10'!F955","v":0},{"$f":"'INVENT.Mob&Mat Bur Importé - 10'!C955","v":0},{"$f":"'INVENT.Mob&Mat Bur Importé - 10'!H955","v":0},null,0,0,0,0,0,0,null,null,0,0,0,0]
[950,{"$f":"'INVENT.Mob&Mat Bur Importé - 10'!B956","v":0},{"$f":"'INVENT.Mob&Mat Bur Importé - 10'!F956","v":0},{"$f":"'INVENT.Mob&Mat Bur Importé - 10'!C956","v":0},{"$f":"'INVENT.Mob&Mat Bur Importé - 10'!H956","v":0},null,0,0,0,0,0,0,null,null,0,0,0,0]
[951,{"$f":"'INVENT.Mob&Mat Bur Importé - 10'!B957","v":0},{"$f":"'INVENT.Mob&Mat Bur Importé - 10'!F957","v":0},{"$f":"'INVENT.Mob&Mat Bur Importé - 10'!C957","v":0},{"$f":"'INVENT.Mob&Mat Bur Importé - 10'!H957","v":0},null,0,0,0,0,0,0,null,null,0,0,0,0]
[952,{"$f":"'INVENT.Mob&Mat Bur Importé - 10'!B958","v":0},{"$f":"'INVENT.Mob&Mat Bur Importé - 10'!F958","v":0},{"$f":"'INVENT.Mob&Mat Bur Importé - 10'!C958","v":0},{"$f":"'INVENT.Mob&Mat Bur Importé - 10'!H958","v":0},null,0,0,0,0,0,0,null,null,0,0,0,0]
[953,{"$f":"'INVENT.Mob&Mat Bur Importé - 10'!B959","v":0},{"$f":"'INVENT.Mob&Mat Bur Importé - 10'!F959","v":0},{"$f":"'INVENT.Mob&Mat Bur Importé - 10'!C959","v":0},{"$f":"'INVENT.Mob&Mat Bur Importé - 10'!H959","v":0},null,0,0,0,0,0,0,null,null,0,0,0,0]
[954,{"$f":"'INVENT.Mob&Mat Bur Importé - 10'!B960","v":0},{"$f":"'INVENT.Mob&Mat Bur Importé - 10'!F960","v":0},{"$f":"'INVENT.Mob&Mat Bur Importé - 10'!C960","v":0},{"$f":"'INVENT.Mob&Mat Bur Importé - 10'!H960","v":0},null,0,0,0,0,0,0,null,null,0,0,0,0]
[955,{"$f":"'INVENT.Mob&Mat Bur Importé - 10'!B961","v":0},{"$f":"'INVENT.Mob&Mat Bur Importé - 10'!F961","v":0},{"$f":"'INVENT.Mob&Mat Bur Importé - 10'!C961","v":0},{"$f":"'INVENT.Mob&Mat Bur Importé - 10'!H961","v":0},null,0,0,0,0,0,0,null,null,0,0,0,0]
[956,{"$f":"'INVENT.Mob&Mat Bur Importé - 10'!B962","v":0},{"$f":"'INVENT.Mob&Mat Bur Importé - 10'!F962","v":0},{"$f":"'INVENT.Mob&Mat Bur Importé - 10'!C962","v":0},{"$f":"'INVENT.Mob&Mat Bur Importé - 10'!H962","v":0},null,0,0,0,0,0,0,null,null,0,0,0,0]
[957,{"$f":"'INVENT.Mob&Mat Bur Importé - 10'!B963","v":0},{"$f":"'INVENT.Mob&Mat Bur Importé - 10'!F963","v":0},{"$f":"'INVENT.Mob&Mat Bur Importé - 10'!C963","v":0},{"$f":"'INVENT.Mob&Mat Bur Importé - 10'!H963","v":0},null,0,0,0,0,0,0,null,null,0,0,0,0]
[958,{"$f":"'INVENT.Mob&Mat Bur Importé - 10'!B964","v":0},{"$f":"'INVENT.Mob&Mat Bur Importé - 10'!F964","v":0},{"$f":"'INVENT.Mob&Mat Bur Importé - 10'!C964","v":0},{"$f":"'INVENT.Mob&Mat Bur Importé - 10'!H964","v":0},null,0,0,0,0,0,0,null,null,0,0,0,0]
[959,{"$f":"'INVENT.Mob&Mat Bur Importé - 10'!B965","v":0},{"$f":"'INVENT.Mob&Mat Bur Importé - 10'!F965","v":0},{"$f":"'INVENT.Mob&Mat Bur Importé - 10'!C965","v":0},{"$f":"'INVENT.Mob&Mat Bur Importé - 10'!H965","v":0},null,0,0,0,0,0,0,null,null,0,0,0,0]
[960,{"$f":"'INVENT.Mob&Mat Bur Importé - 10'!B966","v":0},{"$f":"'INVENT.Mob&Mat Bur Importé - 10'!F966","v":0},{"$f":"'INVENT.Mob&Mat Bur Importé - 10'!C966","v":0},{"$f":"'INVENT.Mob&Mat Bur Importé - 10'!H966","v":0},null,0,0,0,0,0,0,null,null,0,0,0,0]
[961,{"$f":"'INVENT.Mob&Mat Bur Importé - 10'!B967","v":0},{"$f":"'INVENT.Mob&Mat Bur Importé - 10'!F967","v":0},{"$f":"'INVENT.Mob&Mat Bur Importé - 10'!C967","v":0},{"$f":"'INVENT.Mob&Mat Bur Importé - 10'!H967","v":0},null,0,0,0,0,0,0,null,null,0,0,0,0]
[962,{"$f":"'INVENT.Mob&Mat Bur Importé - 10'!B968","v":0},{"$f":"'INVENT.Mob&Mat Bur Importé - 10'!F968","v":0},{"$f":"'INVENT.Mob&Mat Bur Importé - 10'!C968","v":0},{"$f":"'INVENT.Mob&Mat Bur Importé - 10'!H968","v":0},null,0,0,0,0,0,0,null,null,0,0,0,0]
[{"$f":"+A969+1","v":963},{"$f":"'INVENT.Mob&Mat Bur Importé - 10'!B969","v":0},{"$f":"'INVENT.Mob&Mat Bur Importé - 10'!F969","v":0},{"$f":"'INVENT.Mob&Mat Bur Importé - 10'!C969","v":0},{"$f":"'INVENT.Mob&Mat Bur Importé - 10'!H969","v":0},null,0,0,0,0,0,0,null,null,0,0,0,0]
[964,{"$f":"'INVENT.Mob&Mat Bur Importé - 10'!B970","v":0},{"$f":"'INVENT.Mob&Mat Bur Importé - 10'!F970","v":0},{"$f":"'INVENT.Mob&Mat Bur Importé - 10'!C970","v":0},{"$f":"'INVENT.Mob&Mat Bur Importé - 10'!H970","v":0},null,0,0,0,0,0,0,null,null,0,0,0,0]
[965,{"$f":"'INVENT.Mob&Mat Bur Importé - 10'!B971","v":0},{"$f":"'INVENT.Mob&Mat Bur Importé - 10'!F971","v":0},{"$f":"'INVENT.Mob&Mat Bur Importé - 10'!C971","v":0},{"$f":"'INVENT.Mob&Mat Bur Importé - 10'!H971","v":0},null,0,0,0,0,0,0,null,null,0,0,0,0]
[966,{"$f":"'INVENT.Mob&Mat Bur Importé - 10'!B972","v":0},{"$f":"'INVENT.Mob&Mat Bur Importé - 10'!F972","v":0},{"$f":"'INVENT.Mob&Mat Bur Importé - 10'!C972","v":0},{"$f":"'INVENT.Mob&Mat Bur Importé - 10'!H972","v":0},null,0,0,0,0,0,0,null,null,0,0,0,0]
[967,{"$f":"'INVENT.Mob&Mat Bur Importé - 10'!B973","v":0},{"$f":"'INVENT.Mob&Mat Bur Importé - 10'!F973","v":0},{"$f":"'INVENT.Mob&Mat Bur Importé - 10'!C973","v":0},{"$f":"'INVENT.Mob&Mat Bur Importé - 10'!H973","v":0},null,0,0,0,0,0,0,null,null,0,0,0,0]
[968,{"$f":"'INVENT.Mob&Mat Bur Importé - 10'!B974","v":0},{"$f":"'INVENT.Mob&Mat Bur Importé - 10'!F974","v":0},{"$f":"'INVENT.Mob&Mat Bur Importé - 10'!C974","v":0},{"$f":"'INVENT.Mob&Mat Bur Importé - 10'!H974","v":0},null,0,0,0,0,0,0,null,null,0,0,0,0]
[969,{"$f":"'INVENT.Mob&Mat Bur Importé - 10'!B975","v":0},{"$f":"'INVENT.Mob&Mat Bur Importé - 10'!F975","v":0},{"$f":"'INVENT.Mob&Mat Bur Importé - 10'!C975","v":0},{"$f":"'INVENT.Mob&Mat Bur Importé - 10'!H975","v":0},null,0,0,0,0,0,0,null,null,0,0,0,0]
[970,{"$f":"'INVENT.Mob&Mat Bur Importé - 10'!B976","v":0},{"$f":"'INVENT.Mob&Mat Bur Importé - 10'!F976","v":0},{"$f":"'INVENT.Mob&Mat Bur Importé - 10'!C976","v":0},{"$f":"'INVENT.Mob&Mat Bur Importé - 10'!H976","v":0},null,0,0,0,0,0,0,null,null,0,0,0,0]
[971,{"$f":"'INVENT.Mob&Mat Bur Importé - 10'!B977","v":0},{"$f":"'INVENT.Mob&Mat Bur Importé - 10'!F977","v":0},{"$f":"'INVENT.Mob&Mat Bur Importé - 10'!C977","v":0},{"$f":"'INVENT.Mob&Mat Bur Importé - 10'!H977","v":0},null,0,0,0,0,0,0,null,null,0,0,0,0]
[972,{"$f":"'INVENT.Mob&Mat Bur Importé - 10'!B978","v":0},{"$f":"'INVENT.Mob&Mat Bur Importé - 10'!F978","v":0},{"$f":"'INVENT.Mob&Mat Bur Importé - 10'!C978","v":0},{"$f":"'INVENT.Mob&Mat Bur Importé - 10'!H978","v":0},null,0,0,0,0,0,0,null,null,0,0,0,0]
[973,{"$f":"'INVENT.Mob&Mat Bur Importé - 10'!B979","v":0},{"$f":"'INVENT.Mob&Mat Bur Importé - 10'!F979","v":0},{"$f":"'INVENT.Mob&Mat Bur Importé - 10'!C979","v":0},{"$f":"'INVENT.Mob&Mat Bur Importé - 10'!H979","v":0},null,0,0,0,0,0,0,null,null,0,0,0,0]
[974,{"$f":"'INVENT.Mob&Mat Bur Importé - 10'!B980","v":0},{"$f":"'INVENT.Mob&Mat Bur Importé - 10'!F980","v":0},{"$f":"'INVENT.Mob&Mat Bur Importé - 10'!C980","v":0},{"$f":"'INVENT.Mob&Mat Bur Importé - 10'!H980","v":0},null,0,0,0,0,0,0,null,null,0,0,0,0]
[975,{"$f":"'INVENT.Mob&Mat Bur Importé - 10'!B981","v":0},{"$f":"'INVENT.Mob&Mat Bur Importé - 10'!F981","v":0},{"$f":"'INVENT.Mob&Mat Bur Importé - 10'!C981","v":0},{"$f":"'INVENT.Mob&Mat Bur Importé - 10'!H981","v":0},null,0,0,0,0,0,0,null,null,0,0,0,0]
[976,{"$f":"'INVENT.Mob&Mat Bur Importé - 10'!B982","v":0},{"$f":"'INVENT.Mob&Mat Bur Importé - 10'!F982","v":0},{"$f":"'INVENT.Mob&Mat Bur Importé - 10'!C982","v":0},{"$f":"'INVENT.Mob&Mat Bur Importé - 10'!H982","v":0},null,0,0,0,0,0,0,null,null,0,0,0,0]
[977,{"$f":"'INVENT.Mob&Mat Bur Importé - 10'!B983","v":0},{"$f":"'INVENT.Mob&Mat Bur Importé - 10'!F983","v":0},{"$f":"'INVENT.Mob&Mat Bur Importé - 10'!C983","v":0},{"$f":"'INVENT.Mob&Mat Bur Importé - 10'!H983","v":0},null,0,0,0,0,0,0,null,null,0,0,0,0]
[978,{"$f":"'INVENT.Mob&Mat Bur Importé - 10'!B984","v":0},{"$f":"'INVENT.Mob&Mat Bur Importé - 10'!F984","v":0},{"$f":"'INVENT.Mob&Mat Bur Importé - 10'!C984","v":0},{"$f":"'INVENT.Mob&Mat Bur Importé - 10'!H984","v":0},null,0,0,0,0,0,0,null,null,0,0,0,0]
[979,{"$f":"'INVENT.Mob&Mat Bur Importé - 10'!B985","v":0},{"$f":"'INVENT.Mob&Mat Bur Importé - 10'!F985","v":0},{"$f":"'INVENT.Mob&Mat Bur Importé - 10'!C985","v":0},{"$f":"'INVENT.Mob&Mat Bur Importé - 10'!H985","v":0},null,0,0,0,0,0,0,null,null,0,0,0,0]
[980,{"$f":"'INVENT.Mob&Mat Bur Importé - 10'!B986","v":0},{"$f":"'INVENT.Mob&Mat Bur Importé - 10'!F986","v":0},{"$f":"'INVENT.Mob&Mat Bur Importé - 10'!C986","v":0},{"$f":"'INVENT.Mob&Mat Bur Importé - 10'!H986","v":0},null,0,0,0,0,0,0,null,null,0,0,0,0]
[981,{"$f":"'INVENT.Mob&Mat Bur Importé - 10'!B987","v":0},{"$f":"'INVENT.Mob&Mat Bur Importé - 10'!F987","v":0},{"$f":"'INVENT.Mob&Mat Bur Importé - 10'!C987","v":0},{"$f":"'INVENT.Mob&Mat Bur Importé - 10'!H987","v":0},null,0,0,0,0,0,0,null,null,0,0,0,0]
[982,{"$f":"'INVENT.Mob&Mat Bur Importé - 10'!B988","v":0},{"$f":"'INVENT.Mob&Mat Bur Importé - 10'!F988","v":0},{"$f":"'INVENT.Mob&Mat Bur Importé - 10'!C988","v":0},{"$f":"'INVENT.Mob&Mat Bur Importé - 10'!H988","v":0},null,0,0,0,0,0,0,null,null,0,0,0,0]
[983,{"$f":"'INVENT.Mob&Mat Bur Importé - 10'!B989","v":0},{"$f":"'INVENT.Mob&Mat Bur Importé - 10'!F989","v":0},{"$f":"'INVENT.Mob&Mat Bur Importé - 10'!C989","v":0},{"$f":"'INVENT.Mob&Mat Bur Importé - 10'!H989","v":0},null,0,0,0,0,0,0,null,null,0,0,0,0]
[984,{"$f":"'INVENT.Mob&Mat Bur Importé - 10'!B990","v":0},{"$f":"'INVENT.Mob&Mat Bur Importé - 10'!F990","v":0},{"$f":"'INVENT.Mob&Mat Bur Importé - 10'!C990","v":0},{"$f":"'INVENT.Mob&Mat Bur Importé - 10'!H990","v":0},null,0,0,0,0,0,0,null,null,0,0,0,0]
[985,{"$f":"'INVENT.Mob&Mat Bur Importé - 10'!B991","v":0},{"$f":"'INVENT.Mob&Mat Bur Importé - 10'!F991","v":0},{"$f":"'INVENT.Mob&Mat Bur Importé - 10'!C991","v":0},{"$f":"'INVENT.Mob&Mat Bur Importé - 10'!H991","v":0},null,0,0,0,0,0,0,null,null,0,0,0,0]
[986,{"$f":"'INVENT.Mob&Mat Bur Importé - 10'!B992","v":0},{"$f":"'INVENT.Mob&Mat Bur Importé - 10'!F992","v":0},{"$f":"'INVENT.Mob&Mat Bur Importé - 10'!C992","v":0},{"$f":"'INVENT.Mob&Mat Bur Importé - 10'!H992","v":0},null,0,0,0,0,0,0,null,null,0,0,0,0]
[987,{"$f":"'INVENT.Mob&Mat Bur Importé - 10'!B993","v":0},{"$f":"'INVENT.Mob&Mat Bur Importé - 10'!F993","v":0},{"$f":"'INVENT.Mob&Mat Bur Importé - 10'!C993","v":0},{"$f":"'INVENT.Mob&Mat Bur Importé - 10'!H993","v":0},null,0,0,0,0,0,0,null,null,0,0,0,0]
[988,{"$f":"'INVENT.Mob&Mat Bur Importé - 10'!B994","v":0},{"$f":"'INVENT.Mob&Mat Bur Importé - 10'!F994","v":0},{"$f":"'INVENT.Mob&Mat Bur Importé - 10'!C994","v":0},{"$f":"'INVENT.Mob&Mat Bur Importé - 10'!H994","v":0},null,0,0,0,0,0,0,null,null,0,0,0,0]
[989,{"$f":"'INVENT.Mob&Mat Bur Importé - 10'!B995","v":0},{"$f":"'INVENT.Mob&Mat Bur Importé - 10'!F995","v":0},{"$f":"'INVENT.Mob&Mat Bur Importé - 10'!C995","v":0},{"$f":"'INVENT.Mob&Mat Bur Importé - 10'!H995","v":0},null,0,0,0,0,0,0,null,null,0,0,0,0]
[990,{"$f":"'INVENT.Mob&Mat Bur Importé - 10'!B996","v":0},{"$f":"'INVENT.Mob&Mat Bur Importé - 10'!F996","v":0},{"$f":"'INVENT.Mob&Mat Bur Importé - 10'!C996","v":0},{"$f":"'INVENT.Mob&Mat Bur Importé - 10'!H996","v":0},null,0,0,0,0,0,0,null,null,0,0,0,0]
[991,{"$f":"'INVENT.Mob&Mat Bur Importé - 10'!B997","v":0},{"$f":"'INVENT.Mob&Mat Bur Importé - 10'!F997","v":0},{"$f":"'INVENT.Mob&Mat Bur Importé - 10'!C997","v":0},{"$f":"'INVENT.Mob&Mat Bur Importé - 10'!H997","v":0},null,0,0,0,0,0,0,null,null,0,0,0,0]
[992,{"$f":"'INVENT.Mob&Mat Bur Importé - 10'!B998","v":0},{"$f":"'INVENT.Mob&Mat Bur Importé - 10'!F998","v":0},{"$f":"'INVENT.Mob&Mat Bur Importé - 10'!C998","v":0},{"$f":"'INVENT.Mob&Mat Bur Importé - 10'!H998","v":0},null,0,0,0,0,0,0,null,null,0,0,0,0]
[993,{"$f":"'INVENT.Mob&Mat Bur Importé - 10'!B999","v":0},{"$f":"'INVENT.Mob&Mat Bur Importé - 10'!F999","v":0},{"$f":"'INVENT.Mob&Mat Bur Importé - 10'!C999","v":0},{"$f":"'INVENT.Mob&Mat Bur Importé - 10'!H999","v":0},null,0,0,0,0,0,0,null,null,0,0,0,0]
[994,{"$f":"'INVENT.Mob&Mat Bur Importé - 10'!B1000","v":0},{"$f":"'INVENT.Mob&Mat Bur Importé - 10'!F1000","v":0},{"$f":"'INVENT.Mob&Mat Bur Importé - 10'!C1000","v":0},{"$f":"'INVENT.Mob&Mat Bur Importé - 10'!H1000","v":0},null,0,0,0,0,0,0,null,null,0,0,0,0]
[995,{"$f":"'INVENT.Mob&Mat Bur Importé - 10'!B1001","v":0},{"$f":"'INVENT.Mob&Mat Bur Importé - 10'!F1001","v":0},{"$f":"'INVENT.Mob&Mat Bur Importé - 10'!C1001","v":0},{"$f":"'INVENT.Mob&Mat Bur Importé - 10'!H1001","v":0},null,0,0,0,0,0,0,null,null,0,0,0,0]
[996,{"$f":"'INVENT.Mob&Mat Bur Importé - 10'!B1002","v":0},{"$f":"'INVENT.Mob&Mat Bur Importé - 10'!F1002","v":0},{"$f":"'INVENT.Mob&Mat Bur Importé - 10'!C1002","v":0},{"$f":"'INVENT.Mob&Mat Bur Importé - 10'!H1002","v":0},null,0,0,0,0,0,0,null,null,0,0,0,0]
[997,{"$f":"'INVENT.Mob&Mat Bur Importé - 10'!B1003","v":0},{"$f":"'INVENT.Mob&Mat Bur Importé - 10'!F1003","v":0},{"$f":"'INVENT.Mob&Mat Bur Importé - 10'!C1003","v":0},{"$f":"'INVENT.Mob&Mat Bur Importé - 10'!H1003","v":0},null,{"$f":"F1004*E1004","v":0},{"$f":"E1004*1%","v":0},{"$f":"E1004*1%","v":0},{"$f":"E1004*0.5%","v":0},{"$f":"(E1004+G1004+H1004)*18%","v":0},{"$f":"SUM(G1004:K1004)+E1004","v":0},null,null,{"$f":"(M1004+N1004)*18%","v":0},{"$f":"O1004+N1004+M1004","v":0},{"$f":"+R1004-O1004-K1004","v":0},{"$f":"P1004+L1004","v":0}]
[998,{"$f":"'INVENT.Mob&Mat Bur Importé - 10'!B1004","v":0},{"$f":"'INVENT.Mob&Mat Bur Importé - 10'!F1004","v":0},{"$f":"'INVENT.Mob&Mat Bur Importé - 10'!C1004","v":0},{"$f":"'INVENT.Mob&Mat Bur Importé - 10'!H1004","v":0},null,{"$f":"F1005*E1005","v":0},{"$f":"E1005*1%","v":0},{"$f":"E1005*1%","v":0},{"$f":"E1005*0.5%","v":0},{"$f":"(E1005+G1005+H1005)*18%","v":0},{"$f":"SUM(G1005:K1005)+E1005","v":0},null,null,{"$f":"(M1005+N1005)*18%","v":0},{"$f":"O1005+N1005+M1005","v":0},{"$f":"+R1005-O1005-K1005","v":0},{"$f":"P1005+L1005","v":0}]
[999,{"$f":"'INVENT.Mob&Mat Bur Importé - 10'!B1005","v":0},{"$f":"'INVENT.Mob&Mat Bur Importé - 10'!F1005","v":0},{"$f":"'INVENT.Mob&Mat Bur Importé - 10'!C1005","v":0},{"$f":"'INVENT.Mob&Mat Bur Importé - 10'!H1005","v":0},null,{"$f":"F1006*E1006","v":0},{"$f":"E1006*1%","v":0},{"$f":"E1006*1%","v":0},{"$f":"E1006*0.5%","v":0},{"$f":"(E1006+G1006+H1006)*18%","v":0},{"$f":"SUM(G1006:K1006)+E1006","v":0},null,null,{"$f":"(M1006+N1006)*18%","v":0},{"$f":"O1006+N1006+M1006","v":0},{"$f":"+R1006-O1006-K1006","v":0},{"$f":"P1006+L1006","v":0}]
[1000,{"$f":"'INVENT.Mob&Mat Bur Importé - 10'!B1006","v":0},{"$f":"'INVENT.Mob&Mat Bur Importé - 10'!F1006","v":0},{"$f":"'INVENT.Mob&Mat Bur Importé - 10'!C1006","v":0},{"$f":"'INVENT.Mob&Mat Bur Importé - 10'!H1006","v":0},null,{"$f":"F1007*E1007","v":0},{"$f":"E1007*1%","v":0},{"$f":"E1007*1%","v":0},{"$f":"E1007*0.5%","v":0},{"$f":"(E1007+G1007+H1007)*18%","v":0},{"$f":"SUM(G1007:K1007)+E1007","v":0},null,null,{"$f":"(M1007+N1007)*18%","v":0},{"$f":"O1007+N1007+M1007","v":0},{"$f":"+R1007-O1007-K1007","v":0},{"$f":"P1007+L1007","v":0}]

{"sheet":"INVEST Mat Informatiques - 10","index":36,"n_rows":1007,"n_cols":18,"rows_kept":1007,"cut":false,"hidden":false,"merged":[[3,16,4,16],[2,2,4,2],[2,0,4,0],[3,17,4,17],[2,1,4,1],[2,16,2,17],[3,3,4,3],[3,4,4,4],[3,5,3,6],[3,7,4,7],[3,9,4,9],[3,10,4,10],[3,11,4,11],[3,12,4,12],[3,13,4,13],[3,14,4,14],[3,15,4,15],[3,8,4,8]]}
[null,null,null,{"$f":"'REFERENCES - 10'!D7","v":0},null,{"$f":"'REFERENCES - 10'!D9","v":0}]
[null,"INVESTISSEMENTS PREVUS SUR LA PERIODE DE REALISATION DU PROJET",null,null,null,null,null,null,null,null,null,null,null,null,null,null,null,"(En F. Cfa)"]
["N°","Désignation","Quantité","ACHAT A L'ETRANGER (en F. Cfa)",null,null,null,null,null,null,null,null,"ACHAT EN COTE D'IVOIRE (en F. Cfa)",null,null,null,"Coût total des Investissements "]
[null,null,null,"Position tarifaire","Cout CAF","Droit de douane / Droit fiscaux",null,"RSTAT (1%)","PCS\n(1%)","PCC \n(0,5%)","TVA sur Droit de Douane","Total Achat à l'étranger","Achats HT"," Coûts locaux (Transport, montage,..)","T.V.A","Total Achat en RCI","Coût total HT","Coût total TTC"]
[null,null,null,null,null,"Taux","Montant"]
[]
[null,"MATERIEL INFORMATIQUE",null,null,{"$f":"SUM(E8:E57)","v":0},null,{"$f":"SUM(G8:G57)","v":0},0,0,0,0,0,0,0,0,0,0,0]
[1,{"$f":"'INVENT.Ma Informatiq Importé-10'!B7","v":0},{"$f":"'INVENT.Ma Informatiq Importé-10'!F7","v":0},{"$f":"'INVENT.Ma Informatiq Importé-10'!C7","v":0},{"$f":"'INVENT.Ma Informatiq Importé-10'!H7","v":0},null,{"$f":"F8*E8","v":0},{"$f":"E8*1%","v":0},{"$f":"E8*1%","v":0},{"$f":"E8*0.5%","v":0},{"$f":"(E8+G8+H8)*18%","v":0},{"$f":"SUM(G8:K8)+E8","v":0},null,null,{"$f":"(M8+N8)*18%","v":0},{"$f":"O8+N8+M8","v":0},{"$f":"+R8-O8-K8","v":0},{"$f":"P8+L8","v":0}]
[{"$f":"+A8+1","v":2},{"$f":"'INVENT.Ma Informatiq Importé-10'!B8","v":0},{"$f":"'INVENT.Ma Informatiq Importé-10'!F8","v":0},{"$f":"'INVENT.Ma Informatiq Importé-10'!C8","v":0},{"$f":"'INVENT.Ma Informatiq Importé-10'!H8","v":0},null,{"$f":"F9*E9","v":0},{"$f":"E9*1%","v":0},{"$f":"E9*1%","v":0},{"$f":"E9*0.5%","v":0},{"$f":"(E9+G9+H9)*18%","v":0},0,null,null,{"$f":"(M9+N9)*18%","v":0},{"$f":"O9+N9+M9","v":0},{"$f":"+R9-O9-K9","v":0},{"$f":"P9+L9","v":0}]
[{"$f":"+A9+1","v":3},{"$f":"'INVENT.Ma Informatiq Importé-10'!B9","v":0},{"$f":"'INVENT.Ma Informatiq Importé-10'!F9","v":0},{"$f":"'INVENT.Ma Informatiq Importé-10'!C9","v":0},{"$f":"'INVENT.Ma Informatiq Importé-10'!H9","v":0},null,{"$f":"F10*E10","v":0},0,0,0,{"$f":"(E10+G10+H10)*18%","v":0},0,null,null,{"$f":"(M10+N10)*18%","v":0},{"$f":"O10+N10+M10","v":0},{"$f":"+R10-O10-K10","v":0},{"$f":"P10+L10","v":0}]
[4,{"$f":"'INVENT.Ma Informatiq Importé-10'!B10","v":0},{"$f":"'INVENT.Ma Informatiq Importé-10'!F10","v":0},{"$f":"'INVENT.Ma Informatiq Importé-10'!C10","v":0},{"$f":"'INVENT.Ma Informatiq Importé-10'!H10","v":0},null,0,0,0,0,0,0,null,null,0,0,0,0]
[5,{"$f":"'INVENT.Ma Informatiq Importé-10'!B11","v":0},{"$f":"'INVENT.Ma Informatiq Importé-10'!F11","v":0},{"$f":"'INVENT.Ma Informatiq Importé-10'!C11","v":0},{"$f":"'INVENT.Ma Informatiq Importé-10'!H11","v":0},null,0,0,0,0,0,0,null,null,0,0,0,0]
[6,{"$f":"'INVENT.Ma Informatiq Importé-10'!B12","v":0},{"$f":"'INVENT.Ma Informatiq Importé-10'!F12","v":0},{"$f":"'INVENT.Ma Informatiq Importé-10'!C12","v":0},{"$f":"'INVENT.Ma Informatiq Importé-10'!H12","v":0},null,{"$f":"F13*E13","v":0},0,0,0,{"$f":"(E13+G13+H13)*18%","v":0},0,null,null,{"$f":"(M13+N13)*18%","v":0},{"$f":"O13+N13+M13","v":0},{"$f":"+R13-O13-K13","v":0},{"$f":"P13+L13","v":0}]
[7,{"$f":"'INVENT.Ma Informatiq Importé-10'!B13","v":0},{"$f":"'INVENT.Ma Informatiq Importé-10'!F13","v":0},{"$f":"'INVENT.Ma Informatiq Importé-10'!C13","v":0},{"$f":"'INVENT.Ma Informatiq Importé-10'!H13","v":0},null,0,0,0,0,0,0,null,null,0,0,0,0]
[8,{"$f":"'INVENT.Ma Informatiq Importé-10'!B14","v":0},{"$f":"'INVENT.Ma Informatiq Importé-10'!F14","v":0},{"$f":"'INVENT.Ma Informatiq Importé-10'!C14","v":0},{"$f":"'INVENT.Ma Informatiq Importé-10'!H14","v":0},null,0,0,0,0,0,0,null,null,0,0,0,0]
[9,{"$f":"'INVENT.Ma Informatiq Importé-10'!B15","v":0},{"$f":"'INVENT.Ma Informatiq Importé-10'!F15","v":0},{"$f":"'INVENT.Ma Informatiq Importé-10'!C15","v":0},{"$f":"'INVENT.Ma Informatiq Importé-10'!H15","v":0},null,0,0,0,0,0,0,null,null,0,0,0,0]
[10,{"$f":"'INVENT.Ma Informatiq Importé-10'!B16","v":0},{"$f":"'INVENT.Ma Informatiq Importé-10'!F16","v":0},{"$f":"'INVENT.Ma Informatiq Importé-10'!C16","v":0},{"$f":"'INVENT.Ma Informatiq Importé-10'!H16","v":0},null,0,0,0,0,0,0,null,null,0,0,0,0]
[11,{"$f":"'INVENT.Ma Informatiq Importé-10'!B17","v":0},{"$f":"'INVENT.Ma Informatiq Importé-10'!F17","v":0},{"$f":"'INVENT.Ma Informatiq Importé-10'!C17","v":0},{"$f":"'INVENT.Ma Informatiq Importé-10'!H17","v":0},null,0,0,0,0,0,0,null,null,0,0,0,0]
[12,{"$f":"'INVENT.Ma Informatiq Importé-10'!B18","v":0},{"$f":"'INVENT.Ma Informatiq Importé-10'!F18","v":0},{"$f":"'INVENT.Ma Informatiq Importé-10'!C18","v":0},{"$f":"'INVENT.Ma Informatiq Importé-10'!H18","v":0},null,0,0,0,0,0,0,null,null,0,0,0,0]
[13,{"$f":"'INVENT.Ma Informatiq Importé-10'!B19","v":0},{"$f":"'INVENT.Ma Informatiq Importé-10'!F19","v":0},{"$f":"'INVENT.Ma Informatiq Importé-10'!C19","v":0},{"$f":"'INVENT.Ma Informatiq Importé-10'!H19","v":0},null,0,0,0,0,0,0,null,null,0,0,0,0]
[14,{"$f":"'INVENT.Ma Informatiq Importé-10'!B20","v":0},{"$f":"'INVENT.Ma Informatiq Importé-10'!F20","v":0},{"$f":"'INVENT.Ma Informatiq Importé-10'!C20","v":0},{"$f":"'INVENT.Ma Informatiq Importé-10'!H20","v":0},null,0,0,0,0,0,0,null,null,0,0,0,0]
[15,{"$f":"'INVENT.Ma Informatiq Importé-10'!B21","v":0},{"$f":"'INVENT.Ma Informatiq Importé-10'!F21","v":0},{"$f":"'INVENT.Ma Informatiq Importé-10'!C21","v":0},{"$f":"'INVENT.Ma Informatiq Importé-10'!H21","v":0},null,0,0,0,0,0,0,null,null,0,0,0,0]
[16,{"$f":"'INVENT.Ma Informatiq Importé-10'!B22","v":0},{"$f":"'INVENT.Ma Informatiq Importé-10'!F22","v":0},{"$f":"'INVENT.Ma Informatiq Importé-10'!C22","v":0},{"$f":"'INVENT.Ma Informatiq Importé-10'!H22","v":0},null,0,0,0,0,0,0,null,null,0,0,0,0]
[17,{"$f":"'INVENT.Ma Informatiq Importé-10'!B23","v":0},{"$f":"'INVENT.Ma Informatiq Importé-10'!F23","v":0},{"$f":"'INVENT.Ma Informatiq Importé-10'!C23","v":0},{"$f":"'INVENT.Ma Informatiq Importé-10'!H23","v":0},null,0,0,0,0,0,0,null,null,0,0,0,0]
[18,{"$f":"'INVENT.Ma Informatiq Importé-10'!B24","v":0},{"$f":"'INVENT.Ma Informatiq Importé-10'!F24","v":0},{"$f":"'INVENT.Ma Informatiq Importé-10'!C24","v":0},{"$f":"'INVENT.Ma Informatiq Importé-10'!H24","v":0},null,0,0,0,0,0,0,null,null,0,0,0,0]
[19,{"$f":"'INVENT.Ma Informatiq Importé-10'!B25","v":0},{"$f":"'INVENT.Ma Informatiq Importé-10'!F25","v":0},{"$f":"'INVENT.Ma Informatiq Importé-10'!C25","v":0},{"$f":"'INVENT.Ma Informatiq Importé-10'!H25","v":0},null,0,0,0,0,0,0,null,null,0,0,0,0]
[20,{"$f":"'INVENT.Ma Informatiq Importé-10'!B26","v":0},{"$f":"'INVENT.Ma Informatiq Importé-10'!F26","v":0},{"$f":"'INVENT.Ma Informatiq Importé-10'!C26","v":0},{"$f":"'INVENT.Ma Informatiq Importé-10'!H26","v":0},null,0,0,0,0,0,0,null,null,0,0,0,0]
[21,{"$f":"'INVENT.Ma Informatiq Importé-10'!B27","v":0},{"$f":"'INVENT.Ma Informatiq Importé-10'!F27","v":0},{"$f":"'INVENT.Ma Informatiq Importé-10'!C27","v":0},{"$f":"'INVENT.Ma Informatiq Importé-10'!H27","v":0},null,0,0,0,0,0,0,null,null,0,0,0,0]
[22,{"$f":"'INVENT.Ma Informatiq Importé-10'!B28","v":0},{"$f":"'INVENT.Ma Informatiq Importé-10'!F28","v":0},{"$f":"'INVENT.Ma Informatiq Importé-10'!C28","v":0},{"$f":"'INVENT.Ma Informatiq Importé-10'!H28","v":0},null,0,0,0,0,0,0,null,null,0,0,0,0]
[23,{"$f":"'INVENT.Ma Informatiq Importé-10'!B29","v":0},{"$f":"'INVENT.Ma Informatiq Importé-10'!F29","v":0},{"$f":"'INVENT.Ma Informatiq Importé-10'!C29","v":0},{"$f":"'INVENT.Ma Informatiq Importé-10'!H29","v":0},null,0,0,0,0,0,0,null,null,0,0,0,0]
[24,{"$f":"'INVENT.Ma Informatiq Importé-10'!B30","v":0},{"$f":"'INVENT.Ma Informatiq Importé-10'!F30","v":0},{"$f":"'INVENT.Ma Informatiq Importé-10'!C30","v":0},{"$f":"'INVENT.Ma Informatiq Importé-10'!H30","v":0},null,0,0,0,0,0,0,null,null,0,0,0,0]
[25,{"$f":"'INVENT.Ma Informatiq Importé-10'!B31","v":0},{"$f":"'INVENT.Ma Informatiq Importé-10'!F31","v":0},{"$f":"'INVENT.Ma Informatiq Importé-10'!C31","v":0},{"$f":"'INVENT.Ma Informatiq Importé-10'!H31","v":0},null,0,0,0,0,0,0,null,null,0,0,0,0]
[26,{"$f":"'INVENT.Ma Informatiq Importé-10'!B32","v":0},{"$f":"'INVENT.Ma Informatiq Importé-10'!F32","v":0},{"$f":"'INVENT.Ma Informatiq Importé-10'!C32","v":0},{"$f":"'INVENT.Ma Informatiq Importé-10'!H32","v":0},null,0,0,0,0,0,0,null,null,0,0,0,0]
[27,{"$f":"'INVENT.Ma Informatiq Importé-10'!B33","v":0},{"$f":"'INVENT.Ma Informatiq Importé-10'!F33","v":0},{"$f":"'INVENT.Ma Informatiq Importé-10'!C33","v":0},{"$f":"'INVENT.Ma Informatiq Importé-10'!H33","v":0},null,0,0,0,0,0,0,null,null,0,0,0,0]
[28,{"$f":"'INVENT.Ma Informatiq Importé-10'!B34","v":0},{"$f":"'INVENT.Ma Informatiq Importé-10'!F34","v":0},{"$f":"'INVENT.Ma Informatiq Importé-10'!C34","v":0},{"$f":"'INVENT.Ma Informatiq Importé-10'!H34","v":0},null,0,0,0,0,0,0,null,null,0,0,0,0]
[29,{"$f":"'INVENT.Ma Informatiq Importé-10'!B35","v":0},{"$f":"'INVENT.Ma Informatiq Importé-10'!F35","v":0},{"$f":"'INVENT.Ma Informatiq Importé-10'!C35","v":0},{"$f":"'INVENT.Ma Informatiq Importé-10'!H35","v":0},null,0,0,0,0,0,0,null,null,0,0,0,0]
[30,{"$f":"'INVENT.Ma Informatiq Importé-10'!B36","v":0},{"$f":"'INVENT.Ma Informatiq Importé-10'!F36","v":0},{"$f":"'INVENT.Ma Informatiq Importé-10'!C36","v":0},{"$f":"'INVENT.Ma Informatiq Importé-10'!H36","v":0},null,0,0,0,0,0,0,null,null,0,0,0,0]
[31,{"$f":"'INVENT.Ma Informatiq Importé-10'!B37","v":0},{"$f":"'INVENT.Ma Informatiq Importé-10'!F37","v":0},{"$f":"'INVENT.Ma Informatiq Importé-10'!C37","v":0},{"$f":"'INVENT.Ma Informatiq Importé-10'!H37","v":0},null,0,0,0,0,0,0,null,null,0,0,0,0]
[32,{"$f":"'INVENT.Ma Informatiq Importé-10'!B38","v":0},{"$f":"'INVENT.Ma Informatiq Importé-10'!F38","v":0},{"$f":"'INVENT.Ma Informatiq Importé-10'!C38","v":0},{"$f":"'INVENT.Ma Informatiq Importé-10'!H38","v":0},null,0,0,0,0,0,0,null,null,0,0,0,0]
[33,{"$f":"'INVENT.Ma Informatiq Importé-10'!B39","v":0},{"$f":"'INVENT.Ma Informatiq Importé-10'!F39","v":0},{"$f":"'INVENT.Ma Informatiq Importé-10'!C39","v":0},{"$f":"'INVENT.Ma Informatiq Importé-10'!H39","v":0},null,0,0,0,0,0,0,null,null,0,0,0,0]
[34,{"$f":"'INVENT.Ma Informatiq Importé-10'!B40","v":0},{"$f":"'INVENT.Ma Informatiq Importé-10'!F40","v":0},{"$f":"'INVENT.Ma Informatiq Importé-10'!C40","v":0},{"$f":"'INVENT.Ma Informatiq Importé-10'!H40","v":0},null,0,0,0,0,0,0,null,null,0,0,0,0]
[35,{"$f":"'INVENT.Ma Informatiq Importé-10'!B41","v":0},{"$f":"'INVENT.Ma Informatiq Importé-10'!F41","v":0},{"$f":"'INVENT.Ma Informatiq Importé-10'!C41","v":0},{"$f":"'INVENT.Ma Informatiq Importé-10'!H41","v":0},null,0,0,0,0,0,0,null,null,0,0,0,0]
[36,{"$f":"'INVENT.Ma Informatiq Importé-10'!B42","v":0},{"$f":"'INVENT.Ma Informatiq Importé-10'!F42","v":0},{"$f":"'INVENT.Ma Informatiq Importé-10'!C42","v":0},{"$f":"'INVENT.Ma Informatiq Importé-10'!H42","v":0},null,0,0,0,0,0,0,null,null,0,0,0,0]
[37,{"$f":"'INVENT.Ma Informatiq Importé-10'!B43","v":0},{"$f":"'INVENT.Ma Informatiq Importé-10'!F43","v":0},{"$f":"'INVENT.Ma Informatiq Importé-10'!C43","v":0},{"$f":"'INVENT.Ma Informatiq Importé-10'!H43","v":0},null,0,0,0,0,0,0,null,null,0,0,0,0]
[38,{"$f":"'INVENT.Ma Informatiq Importé-10'!B44","v":0},{"$f":"'INVENT.Ma Informatiq Importé-10'!F44","v":0},{"$f":"'INVENT.Ma Informatiq Importé-10'!C44","v":0},{"$f":"'INVENT.Ma Informatiq Importé-10'!H44","v":0},null,0,0,0,0,0,0,null,null,0,0,0,0]
[39,{"$f":"'INVENT.Ma Informatiq Importé-10'!B45","v":0},{"$f":"'INVENT.Ma Informatiq Importé-10'!F45","v":0},{"$f":"'INVENT.Ma Informatiq Importé-10'!C45","v":0},{"$f":"'INVENT.Ma Informatiq Importé-10'!H45","v":0},null,0,0,0,0,0,0,null,null,0,0,0,0]
[{"$f":"+A46+1","v":40},{"$f":"'INVENT.Ma Informatiq Importé-10'!B46","v":0},{"$f":"'INVENT.Ma Informatiq Importé-10'!F46","v":0},{"$f":"'INVENT.Ma Informatiq Importé-10'!C46","v":0},{"$f":"'INVENT.Ma Informatiq Importé-10'!H46","v":0},null,{"$f":"F47*E47","v":0},0,0,0,{"$f":"(E47+G47+H47)*18%","v":0},0,null,null,{"$f":"(M47+N47)*18%","v":0},{"$f":"O47+N47+M47","v":0},{"$f":"+R47-O47-K47","v":0},{"$f":"P47+L47","v":0}]
[41,{"$f":"'INVENT.Ma Informatiq Importé-10'!B47","v":0},{"$f":"'INVENT.Ma Informatiq Importé-10'!F47","v":0},{"$f":"'INVENT.Ma Informatiq Importé-10'!C47","v":0},{"$f":"'INVENT.Ma Informatiq Importé-10'!H47","v":0},null,0,0,0,0,0,0,null,null,0,0,0,0]
[42,{"$f":"'INVENT.Ma Informatiq Importé-10'!B48","v":0},{"$f":"'INVENT.Ma Informatiq Importé-10'!F48","v":0},{"$f":"'INVENT.Ma Informatiq Importé-10'!C48","v":0},{"$f":"'INVENT.Ma Informatiq Importé-10'!H48","v":0},null,0,0,0,0,0,0,null,null,0,0,0,0]
[43,{"$f":"'INVENT.Ma Informatiq Importé-10'!B49","v":0},{"$f":"'INVENT.Ma Informatiq Importé-10'!F49","v":0},{"$f":"'INVENT.Ma Informatiq Importé-10'!C49","v":0},{"$f":"'INVENT.Ma Informatiq Importé-10'!H49","v":0},null,0,0,0,0,0,0,null,null,0,0,0,0]
[44,{"$f":"'INVENT.Ma Informatiq Importé-10'!B50","v":0},{"$f":"'INVENT.Ma Informatiq Importé-10'!F50","v":0},{"$f":"'INVENT.Ma Informatiq Importé-10'!C50","v":0},{"$f":"'INVENT.Ma Informatiq Importé-10'!H50","v":0},null,0,0,0,0,0,0,null,null,0,0,0,0]
[45,{"$f":"'INVENT.Ma Informatiq Importé-10'!B51","v":0},{"$f":"'INVENT.Ma Informatiq Importé-10'!F51","v":0},{"$f":"'INVENT.Ma Informatiq Importé-10'!C51","v":0},{"$f":"'INVENT.Ma Informatiq Importé-10'!H51","v":0},null,0,0,0,0,0,0,null,null,0,0,0,0]
[46,{"$f":"'INVENT.Ma Informatiq Importé-10'!B52","v":0},{"$f":"'INVENT.Ma Informatiq Importé-10'!F52","v":0},{"$f":"'INVENT.Ma Informatiq Importé-10'!C52","v":0},{"$f":"'INVENT.Ma Informatiq Importé-10'!H52","v":0},null,0,0,0,0,0,0,null,null,0,0,0,0]
[{"$f":"+A53+1","v":47},{"$f":"'INVENT.Ma Informatiq Importé-10'!B53","v":0},{"$f":"'INVENT.Ma Informatiq Importé-10'!F53","v":0},{"$f":"'INVENT.Ma Informatiq Importé-10'!C53","v":0},{"$f":"'INVENT.Ma Informatiq Importé-10'!H53","v":0},null,{"$f":"F54*E54","v":0},0,0,0,{"$f":"(E54+G54+H54)*18%","v":0},0,null,null,{"$f":"(M54+N54)*18%","v":0},{"$f":"O54+N54+M54","v":0},{"$f":"+R54-O54-K54","v":0},{"$f":"P54+L54","v":0}]
[{"$f":"+A54+1","v":48},{"$f":"'INVENT.Ma Informatiq Importé-10'!B54","v":0},{"$f":"'INVENT.Ma Informatiq Importé-10'!F54","v":0},{"$f":"'INVENT.Ma Informatiq Importé-10'!C54","v":0},{"$f":"'INVENT.Ma Informatiq Importé-10'!H54","v":0},null,{"$f":"F55*E55","v":0},0,0,0,{"$f":"(E55+G55+H55)*18%","v":0},{"$f":"SUM(G55:K55)+E55","v":0},null,null,{"$f":"(M55+N55)*18%","v":0},{"$f":"O55+N55+M55","v":0},{"$f":"+R55-O55-K55","v":0},{"$f":"P55+L55","v":0}]
[{"$f":"+A55+1","v":49},{"$f":"'INVENT.Ma Informatiq Importé-10'!B55","v":0},{"$f":"'INVENT.Ma Informatiq Importé-10'!F55","v":0},{"$f":"'INVENT.Ma Informatiq Importé-10'!C55","v":0},{"$f":"'INVENT.Ma Informatiq Importé-10'!H55","v":0},null,{"$f":"F56*E56","v":0},0,0,0,{"$f":"(E56+G56+H56)*18%","v":0},{"$f":"SUM(G56:K56)+E56","v":0},null,null,{"$f":"(M56+N56)*18%","v":0},{"$f":"O56+N56+M56","v":0},{"$f":"+R56-O56-K56","v":0},{"$f":"P56+L56","v":0}]
[{"$f":"+A56+1","v":50},{"$f":"'INVENT.Ma Informatiq Importé-10'!B56","v":0},{"$f":"'INVENT.Ma Informatiq Importé-10'!F56","v":0},{"$f":"'INVENT.Ma Informatiq Importé-10'!C56","v":0},{"$f":"'INVENT.Ma Informatiq Importé-10'!H56","v":0},null,{"$f":"F57*E57","v":0},0,0,0,{"$f":"(E57+G57+H57)*18%","v":0},{"$f":"SUM(G57:K57)+E57","v":0},null,null,{"$f":"(M57+N57)*18%","v":0},{"$f":"O57+N57+M57","v":0},{"$f":"+R57-O57-K57","v":0},{"$f":"P57+L57","v":0}]
[{"$f":"+A57+1","v":51},{"$f":"'INVENT.Ma Informatiq Importé-10'!B57","v":0},{"$f":"'INVENT.Ma Informatiq Importé-10'!F57","v":0},{"$f":"'INVENT.Ma Informatiq Importé-10'!C57","v":0},{"$f":"'INVENT.Ma Informatiq Importé-10'!H57","v":0},null,{"$f":"F58*E58","v":0},0,0,0,{"$f":"(E58+G58+H58)*18%","v":0},{"$f":"SUM(G58:K58)+E58","v":0},null,null,{"$f":"(M58+N58)*18%","v":0},{"$f":"O58+N58+M58","v":0},{"$f":"+R58-O58-K58","v":0},{"$f":"P58+L58","v":0}]
[52,{"$f":"'INVENT.Ma Informatiq Importé-10'!B58","v":0},{"$f":"'INVENT.Ma Informatiq Importé-10'!F58","v":0},{"$f":"'INVENT.Ma Informatiq Importé-10'!C58","v":0},{"$f":"'INVENT.Ma Informatiq Importé-10'!H58","v":0},null,0,{"$f":"E59*1%","v":0},{"$f":"E59*1%","v":0},{"$f":"E59*0.5%","v":0},0,0,null,null,0,0,0,0]
[53,{"$f":"'INVENT.Ma Informatiq Importé-10'!B59","v":0},{"$f":"'INVENT.Ma Informatiq Importé-10'!F59","v":0},{"$f":"'INVENT.Ma Informatiq Importé-10'!C59","v":0},{"$f":"'INVENT.Ma Informatiq Importé-10'!H59","v":0},null,0,0,0,0,0,0,null,null,0,0,0,0]
[54,{"$f":"'INVENT.Ma Informatiq Importé-10'!B60","v":0},{"$f":"'INVENT.Ma Informatiq Importé-10'!F60","v":0},{"$f":"'INVENT.Ma Informatiq Importé-10'!C60","v":0},{"$f":"'INVENT.Ma Informatiq Importé-10'!H60","v":0},null,0,0,0,0,0,0,null,null,0,0,0,0]
[55,{"$f":"'INVENT.Ma Informatiq Importé-10'!B61","v":0},{"$f":"'INVENT.Ma Informatiq Importé-10'!F61","v":0},{"$f":"'INVENT.Ma Informatiq Importé-10'!C61","v":0},{"$f":"'INVENT.Ma Informatiq Importé-10'!H61","v":0},null,0,0,0,0,0,0,null,null,0,0,0,0]
[56,{"$f":"'INVENT.Ma Informatiq Importé-10'!B62","v":0},{"$f":"'INVENT.Ma Informatiq Importé-10'!F62","v":0},{"$f":"'INVENT.Ma Informatiq Importé-10'!C62","v":0},{"$f":"'INVENT.Ma Informatiq Importé-10'!H62","v":0},null,0,0,0,0,0,0,null,null,0,0,0,0]
[57,{"$f":"'INVENT.Ma Informatiq Importé-10'!B63","v":0},{"$f":"'INVENT.Ma Informatiq Importé-10'!F63","v":0},{"$f":"'INVENT.Ma Informatiq Importé-10'!C63","v":0},{"$f":"'INVENT.Ma Informatiq Importé-10'!H63","v":0},null,0,0,0,0,0,0,null,null,0,0,0,0]
[58,{"$f":"'INVENT.Ma Informatiq Importé-10'!B64","v":0},{"$f":"'INVENT.Ma Informatiq Importé-10'!F64","v":0},{"$f":"'INVENT.Ma Informatiq Importé-10'!C64","v":0},{"$f":"'INVENT.Ma Informatiq Importé-10'!H64","v":0},null,0,0,0,0,0,0,null,null,0,0,0,0]
[59,{"$f":"'INVENT.Ma Informatiq Importé-10'!B65","v":0},{"$f":"'INVENT.Ma Informatiq Importé-10'!F65","v":0},{"$f":"'INVENT.Ma Informatiq Importé-10'!C65","v":0},{"$f":"'INVENT.Ma Informatiq Importé-10'!H65","v":0},null,0,0,0,0,0,0,null,null,0,0,0,0]
[60,{"$f":"'INVENT.Ma Informatiq Importé-10'!B66","v":0},{"$f":"'INVENT.Ma Informatiq Importé-10'!F66","v":0},{"$f":"'INVENT.Ma Informatiq Importé-10'!C66","v":0},{"$f":"'INVENT.Ma Informatiq Importé-10'!H66","v":0},null,0,0,0,0,0,0,null,null,0,0,0,0]
[61,{"$f":"'INVENT.Ma Informatiq Importé-10'!B67","v":0},{"$f":"'INVENT.Ma Informatiq Importé-10'!F67","v":0},{"$f":"'INVENT.Ma Informatiq Importé-10'!C67","v":0},{"$f":"'INVENT.Ma Informatiq Importé-10'!H67","v":0},null,0,0,0,0,0,0,null,null,0,0,0,0]
[62,{"$f":"'INVENT.Ma Informatiq Importé-10'!B68","v":0},{"$f":"'INVENT.Ma Informatiq Importé-10'!F68","v":0},{"$f":"'INVENT.Ma Informatiq Importé-10'!C68","v":0},{"$f":"'INVENT.Ma Informatiq Importé-10'!H68","v":0},null,0,0,0,0,0,0,null,null,0,0,0,0]
[63,{"$f":"'INVENT.Ma Informatiq Importé-10'!B69","v":0},{"$f":"'INVENT.Ma Informatiq Importé-10'!F69","v":0},{"$f":"'INVENT.Ma Informatiq Importé-10'!C69","v":0},{"$f":"'INVENT.Ma Informatiq Importé-10'!H69","v":0},null,0,0,0,0,0,0,null,null,0,0,0,0]
[64,{"$f":"'INVENT.Ma Informatiq Importé-10'!B70","v":0},{"$f":"'INVENT.Ma Informatiq Importé-10'!F70","v":0},{"$f":"'INVENT.Ma Informatiq Importé-10'!C70","v":0},{"$f":"'INVENT.Ma Informatiq Importé-10'!H70","v":0},null,0,0,0,0,0,0,null,null,0,0,0,0]
[65,{"$f":"'INVENT.Ma Informatiq Importé-10'!B71","v":0},{"$f":"'INVENT.Ma Informatiq Importé-10'!F71","v":0},{"$f":"'INVENT.Ma Informatiq Importé-10'!C71","v":0},{"$f":"'INVENT.Ma Informatiq Importé-10'!H71","v":0},null,0,0,0,0,0,0,null,null,0,0,0,0]
[66,{"$f":"'INVENT.Ma Informatiq Importé-10'!B72","v":0},{"$f":"'INVENT.Ma Informatiq Importé-10'!F72","v":0},{"$f":"'INVENT.Ma Informatiq Importé-10'!C72","v":0},{"$f":"'INVENT.Ma Informatiq Importé-10'!H72","v":0},null,0,0,0,0,0,0,null,null,0,0,0,0]
[67,{"$f":"'INVENT.Ma Informatiq Importé-10'!B73","v":0},{"$f":"'INVENT.Ma Informatiq Importé-10'!F73","v":0},{"$f":"'INVENT.Ma Informatiq Importé-10'!C73","v":0},{"$f":"'INVENT.Ma Informatiq Importé-10'!H73","v":0},null,0,0,0,0,0,0,null,null,0,0,0,0]
[68,{"$f":"'INVENT.Ma Informatiq Importé-10'!B74","v":0},{"$f":"'INVENT.Ma Informatiq Importé-10'!F74","v":0},{"$f":"'INVENT.Ma Informatiq Importé-10'!C74","v":0},{"$f":"'INVENT.Ma Informatiq Importé-10'!H74","v":0},null,0,0,0,0,0,0,null,null,0,0,0,0]
[69,{"$f":"'INVENT.Ma Informatiq Importé-10'!B75","v":0},{"$f":"'INVENT.Ma Informatiq Importé-10'!F75","v":0},{"$f":"'INVENT.Ma Informatiq Importé-10'!C75","v":0},{"$f":"'INVENT.Ma Informatiq Importé-10'!H75","v":0},null,0,0,0,0,0,0,null,null,0,0,0,0]
[70,{"$f":"'INVENT.Ma Informatiq Importé-10'!B76","v":0},{"$f":"'INVENT.Ma Informatiq Importé-10'!F76","v":0},{"$f":"'INVENT.Ma Informatiq Importé-10'!C76","v":0},{"$f":"'INVENT.Ma Informatiq Importé-10'!H76","v":0},null,0,0,0,0,0,0,null,null,0,0,0,0]
[71,{"$f":"'INVENT.Ma Informatiq Importé-10'!B77","v":0},{"$f":"'INVENT.Ma Informatiq Importé-10'!F77","v":0},{"$f":"'INVENT.Ma Informatiq Importé-10'!C77","v":0},{"$f":"'INVENT.Ma Informatiq Importé-10'!H77","v":0},null,0,0,0,0,0,0,null,null,0,0,0,0]
[72,{"$f":"'INVENT.Ma Informatiq Importé-10'!B78","v":0},{"$f":"'INVENT.Ma Informatiq Importé-10'!F78","v":0},{"$f":"'INVENT.Ma Informatiq Importé-10'!C78","v":0},{"$f":"'INVENT.Ma Informatiq Importé-10'!H78","v":0},null,0,0,0,0,0,0,null,null,0,0,0,0]
[73,{"$f":"'INVENT.Ma Informatiq Importé-10'!B79","v":0},{"$f":"'INVENT.Ma Informatiq Importé-10'!F79","v":0},{"$f":"'INVENT.Ma Informatiq Importé-10'!C79","v":0},{"$f":"'INVENT.Ma Informatiq Importé-10'!H79","v":0},null,0,0,0,0,0,0,null,null,0,0,0,0]
[74,{"$f":"'INVENT.Ma Informatiq Importé-10'!B80","v":0},{"$f":"'INVENT.Ma Informatiq Importé-10'!F80","v":0},{"$f":"'INVENT.Ma Informatiq Importé-10'!C80","v":0},{"$f":"'INVENT.Ma Informatiq Importé-10'!H80","v":0},null,0,0,0,0,0,0,null,null,0,0,0,0]
[75,{"$f":"'INVENT.Ma Informatiq Importé-10'!B81","v":0},{"$f":"'INVENT.Ma Informatiq Importé-10'!F81","v":0},{"$f":"'INVENT.Ma Informatiq Importé-10'!C81","v":0},{"$f":"'INVENT.Ma Informatiq Importé-10'!H81","v":0},null,0,0,0,0,0,0,null,null,0,0,0,0]
[76,{"$f":"'INVENT.Ma Informatiq Importé-10'!B82","v":0},{"$f":"'INVENT.Ma Informatiq Importé-10'!F82","v":0},{"$f":"'INVENT.Ma Informatiq Importé-10'!C82","v":0},{"$f":"'INVENT.Ma Informatiq Importé-10'!H82","v":0},null,0,0,0,0,0,0,null,null,0,0,0,0]
[77,{"$f":"'INVENT.Ma Informatiq Importé-10'!B83","v":0},{"$f":"'INVENT.Ma Informatiq Importé-10'!F83","v":0},{"$f":"'INVENT.Ma Informatiq Importé-10'!C83","v":0},{"$f":"'INVENT.Ma Informatiq Importé-10'!H83","v":0},null,0,0,0,0,0,0,null,null,0,0,0,0]
[78,{"$f":"'INVENT.Ma Informatiq Importé-10'!B84","v":0},{"$f":"'INVENT.Ma Informatiq Importé-10'!F84","v":0},{"$f":"'INVENT.Ma Informatiq Importé-10'!C84","v":0},{"$f":"'INVENT.Ma Informatiq Importé-10'!H84","v":0},null,0,0,0,0,0,0,null,null,0,0,0,0]
[79,{"$f":"'INVENT.Ma Informatiq Importé-10'!B85","v":0},{"$f":"'INVENT.Ma Informatiq Importé-10'!F85","v":0},{"$f":"'INVENT.Ma Informatiq Importé-10'!C85","v":0},{"$f":"'INVENT.Ma Informatiq Importé-10'!H85","v":0},null,0,0,0,0,0,0,null,null,0,0,0,0]
[80,{"$f":"'INVENT.Ma Informatiq Importé-10'!B86","v":0},{"$f":"'INVENT.Ma Informatiq Importé-10'!F86","v":0},{"$f":"'INVENT.Ma Informatiq Importé-10'!C86","v":0},{"$f":"'INVENT.Ma Informatiq Importé-10'!H86","v":0},null,0,0,0,0,0,0,null,null,0,0,0,0]
[81,{"$f":"'INVENT.Ma Informatiq Importé-10'!B87","v":0},{"$f":"'INVENT.Ma Informatiq Importé-10'!F87","v":0},{"$f":"'INVENT.Ma Informatiq Importé-10'!C87","v":0},{"$f":"'INVENT.Ma Informatiq Importé-10'!H87","v":0},null,0,0,0,0,0,0,null,null,0,0,0,0]
[82,{"$f":"'INVENT.Ma Informatiq Importé-10'!B88","v":0},{"$f":"'INVENT.Ma Informatiq Importé-10'!F88","v":0},{"$f":"'INVENT.Ma Informatiq Importé-10'!C88","v":0},{"$f":"'INVENT.Ma Informatiq Importé-10'!H88","v":0},null,0,0,0,0,0,0,null,null,0,0,0,0]
[83,{"$f":"'INVENT.Ma Informatiq Importé-10'!B89","v":0},{"$f":"'INVENT.Ma Informatiq Importé-10'!F89","v":0},{"$f":"'INVENT.Ma Informatiq Importé-10'!C89","v":0},{"$f":"'INVENT.Ma Informatiq Importé-10'!H89","v":0},null,0,0,0,0,0,0,null,null,0,0,0,0]
[84,{"$f":"'INVENT.Ma Informatiq Importé-10'!B90","v":0},{"$f":"'INVENT.Ma Informatiq Importé-10'!F90","v":0},{"$f":"'INVENT.Ma Informatiq Importé-10'!C90","v":0},{"$f":"'INVENT.Ma Informatiq Importé-10'!H90","v":0},null,0,0,0,0,0,0,null,null,0,0,0,0]
[85,{"$f":"'INVENT.Ma Informatiq Importé-10'!B91","v":0},{"$f":"'INVENT.Ma Informatiq Importé-10'!F91","v":0},{"$f":"'INVENT.Ma Informatiq Importé-10'!C91","v":0},{"$f":"'INVENT.Ma Informatiq Importé-10'!H91","v":0},null,0,0,0,0,0,0,null,null,0,0,0,0]
[86,{"$f":"'INVENT.Ma Informatiq Importé-10'!B92","v":0},{"$f":"'INVENT.Ma Informatiq Importé-10'!F92","v":0},{"$f":"'INVENT.Ma Informatiq Importé-10'!C92","v":0},{"$f":"'INVENT.Ma Informatiq Importé-10'!H92","v":0},null,0,0,0,0,0,0,null,null,0,0,0,0]
[87,{"$f":"'INVENT.Ma Informatiq Importé-10'!B93","v":0},{"$f":"'INVENT.Ma Informatiq Importé-10'!F93","v":0},{"$f":"'INVENT.Ma Informatiq Importé-10'!C93","v":0},{"$f":"'INVENT.Ma Informatiq Importé-10'!H93","v":0},null,0,0,0,0,0,0,null,null,0,0,0,0]
[88,{"$f":"'INVENT.Ma Informatiq Importé-10'!B94","v":0},{"$f":"'INVENT.Ma Informatiq Importé-10'!F94","v":0},{"$f":"'INVENT.Ma Informatiq Importé-10'!C94","v":0},{"$f":"'INVENT.Ma Informatiq Importé-10'!H94","v":0},null,0,0,0,0,0,0,null,null,0,0,0,0]
[89,{"$f":"'INVENT.Ma Informatiq Importé-10'!B95","v":0},{"$f":"'INVENT.Ma Informatiq Importé-10'!F95","v":0},{"$f":"'INVENT.Ma Informatiq Importé-10'!C95","v":0},{"$f":"'INVENT.Ma Informatiq Importé-10'!H95","v":0},null,0,0,0,0,0,0,null,null,0,0,0,0]
[90,{"$f":"'INVENT.Ma Informatiq Importé-10'!B96","v":0},{"$f":"'INVENT.Ma Informatiq Importé-10'!F96","v":0},{"$f":"'INVENT.Ma Informatiq Importé-10'!C96","v":0},{"$f":"'INVENT.Ma Informatiq Importé-10'!H96","v":0},null,0,0,0,0,0,0,null,null,0,0,0,0]
[91,{"$f":"'INVENT.Ma Informatiq Importé-10'!B97","v":0},{"$f":"'INVENT.Ma Informatiq Importé-10'!F97","v":0},{"$f":"'INVENT.Ma Informatiq Importé-10'!C97","v":0},{"$f":"'INVENT.Ma Informatiq Importé-10'!H97","v":0},null,0,0,0,0,0,0,null,null,0,0,0,0]
[92,{"$f":"'INVENT.Ma Informatiq Importé-10'!B98","v":0},{"$f":"'INVENT.Ma Informatiq Importé-10'!F98","v":0},{"$f":"'INVENT.Ma Informatiq Importé-10'!C98","v":0},{"$f":"'INVENT.Ma Informatiq Importé-10'!H98","v":0},null,0,0,0,0,0,0,null,null,0,0,0,0]
[93,{"$f":"'INVENT.Ma Informatiq Importé-10'!B99","v":0},{"$f":"'INVENT.Ma Informatiq Importé-10'!F99","v":0},{"$f":"'INVENT.Ma Informatiq Importé-10'!C99","v":0},{"$f":"'INVENT.Ma Informatiq Importé-10'!H99","v":0},null,0,0,0,0,0,0,null,null,0,0,0,0]
[94,{"$f":"'INVENT.Ma Informatiq Importé-10'!B100","v":0},{"$f":"'INVENT.Ma Informatiq Importé-10'!F100","v":0},{"$f":"'INVENT.Ma Informatiq Importé-10'!C100","v":0},{"$f":"'INVENT.Ma Informatiq Importé-10'!H100","v":0},null,0,0,0,0,0,0,null,null,0,0,0,0]
[95,{"$f":"'INVENT.Ma Informatiq Importé-10'!B101","v":0},{"$f":"'INVENT.Ma Informatiq Importé-10'!F101","v":0},{"$f":"'INVENT.Ma Informatiq Importé-10'!C101","v":0},{"$f":"'INVENT.Ma Informatiq Importé-10'!H101","v":0},null,0,0,0,0,0,0,null,null,0,0,0,0]
[96,{"$f":"'INVENT.Ma Informatiq Importé-10'!B102","v":0},{"$f":"'INVENT.Ma Informatiq Importé-10'!F102","v":0},{"$f":"'INVENT.Ma Informatiq Importé-10'!C102","v":0},{"$f":"'INVENT.Ma Informatiq Importé-10'!H102","v":0},null,0,0,0,0,0,0,null,null,0,0,0,0]
[97,{"$f":"'INVENT.Ma Informatiq Importé-10'!B103","v":0},{"$f":"'INVENT.Ma Informatiq Importé-10'!F103","v":0},{"$f":"'INVENT.Ma Informatiq Importé-10'!C103","v":0},{"$f":"'INVENT.Ma Informatiq Importé-10'!H103","v":0},null,0,0,0,0,0,0,null,null,0,0,0,0]
[98,{"$f":"'INVENT.Ma Informatiq Importé-10'!B104","v":0},{"$f":"'INVENT.Ma Informatiq Importé-10'!F104","v":0},{"$f":"'INVENT.Ma Informatiq Importé-10'!C104","v":0},{"$f":"'INVENT.Ma Informatiq Importé-10'!H104","v":0},null,0,0,0,0,0,0,null,null,0,0,0,0]
[99,{"$f":"'INVENT.Ma Informatiq Importé-10'!B105","v":0},{"$f":"'INVENT.Ma Informatiq Importé-10'!F105","v":0},{"$f":"'INVENT.Ma Informatiq Importé-10'!C105","v":0},{"$f":"'INVENT.Ma Informatiq Importé-10'!H105","v":0},null,0,0,0,0,0,0,null,null,0,0,0,0]
[100,{"$f":"'INVENT.Ma Informatiq Importé-10'!B106","v":0},{"$f":"'INVENT.Ma Informatiq Importé-10'!F106","v":0},{"$f":"'INVENT.Ma Informatiq Importé-10'!C106","v":0},{"$f":"'INVENT.Ma Informatiq Importé-10'!H106","v":0},null,0,0,0,0,0,0,null,null,0,0,0,0]
[101,{"$f":"'INVENT.Ma Informatiq Importé-10'!B107","v":0},{"$f":"'INVENT.Ma Informatiq Importé-10'!F107","v":0},{"$f":"'INVENT.Ma Informatiq Importé-10'!C107","v":0},{"$f":"'INVENT.Ma Informatiq Importé-10'!H107","v":0},null,0,0,0,0,0,0,null,null,0,0,0,0]
[102,{"$f":"'INVENT.Ma Informatiq Importé-10'!B108","v":0},{"$f":"'INVENT.Ma Informatiq Importé-10'!F108","v":0},{"$f":"'INVENT.Ma Informatiq Importé-10'!C108","v":0},{"$f":"'INVENT.Ma Informatiq Importé-10'!H108","v":0},null,0,0,0,0,0,0,null,null,0,0,0,0]
[103,{"$f":"'INVENT.Ma Informatiq Importé-10'!B109","v":0},{"$f":"'INVENT.Ma Informatiq Importé-10'!F109","v":0},{"$f":"'INVENT.Ma Informatiq Importé-10'!C109","v":0},{"$f":"'INVENT.Ma Informatiq Importé-10'!H109","v":0},null,0,0,0,0,0,0,null,null,0,0,0,0]
[104,{"$f":"'INVENT.Ma Informatiq Importé-10'!B110","v":0},{"$f":"'INVENT.Ma Informatiq Importé-10'!F110","v":0},{"$f":"'INVENT.Ma Informatiq Importé-10'!C110","v":0},{"$f":"'INVENT.Ma Informatiq Importé-10'!H110","v":0},null,0,0,0,0,0,0,null,null,0,0,0,0]
[105,{"$f":"'INVENT.Ma Informatiq Importé-10'!B111","v":0},{"$f":"'INVENT.Ma Informatiq Importé-10'!F111","v":0},{"$f":"'INVENT.Ma Informatiq Importé-10'!C111","v":0},{"$f":"'INVENT.Ma Informatiq Importé-10'!H111","v":0},null,0,0,0,0,0,0,null,null,0,0,0,0]
[106,{"$f":"'INVENT.Ma Informatiq Importé-10'!B112","v":0},{"$f":"'INVENT.Ma Informatiq Importé-10'!F112","v":0},{"$f":"'INVENT.Ma Informatiq Importé-10'!C112","v":0},{"$f":"'INVENT.Ma Informatiq Importé-10'!H112","v":0},null,0,0,0,0,0,0,null,null,0,0,0,0]
[107,{"$f":"'INVENT.Ma Informatiq Importé-10'!B113","v":0},{"$f":"'INVENT.Ma Informatiq Importé-10'!F113","v":0},{"$f":"'INVENT.Ma Informatiq Importé-10'!C113","v":0},{"$f":"'INVENT.Ma Informatiq Importé-10'!H113","v":0},null,0,0,0,0,0,0,null,null,0,0,0,0]
[108,{"$f":"'INVENT.Ma Informatiq Importé-10'!B114","v":0},{"$f":"'INVENT.Ma Informatiq Importé-10'!F114","v":0},{"$f":"'INVENT.Ma Informatiq Importé-10'!C114","v":0},{"$f":"'INVENT.Ma Informatiq Importé-10'!H114","v":0},null,0,0,0,0,0,0,null,null,0,0,0,0]
[109,{"$f":"'INVENT.Ma Informatiq Importé-10'!B115","v":0},{"$f":"'INVENT.Ma Informatiq Importé-10'!F115","v":0},{"$f":"'INVENT.Ma Informatiq Importé-10'!C115","v":0},{"$f":"'INVENT.Ma Informatiq Importé-10'!H115","v":0},null,0,0,0,0,0,0,null,null,0,0,0,0]
[110,{"$f":"'INVENT.Ma Informatiq Importé-10'!B116","v":0},{"$f":"'INVENT.Ma Informatiq Importé-10'!F116","v":0},{"$f":"'INVENT.Ma Informatiq Importé-10'!C116","v":0},{"$f":"'INVENT.Ma Informatiq Importé-10'!H116","v":0},null,0,0,0,0,0,0,null,null,0,0,0,0]
[111,{"$f":"'INVENT.Ma Informatiq Importé-10'!B117","v":0},{"$f":"'INVENT.Ma Informatiq Importé-10'!F117","v":0},{"$f":"'INVENT.Ma Informatiq Importé-10'!C117","v":0},{"$f":"'INVENT.Ma Informatiq Importé-10'!H117","v":0},null,0,0,0,0,0,0,null,null,0,0,0,0]
[112,{"$f":"'INVENT.Ma Informatiq Importé-10'!B118","v":0},{"$f":"'INVENT.Ma Informatiq Importé-10'!F118","v":0},{"$f":"'INVENT.Ma Informatiq Importé-10'!C118","v":0},{"$f":"'INVENT.Ma Informatiq Importé-10'!H118","v":0},null,0,0,0,0,0,0,null,null,0,0,0,0]
[113,{"$f":"'INVENT.Ma Informatiq Importé-10'!B119","v":0},{"$f":"'INVENT.Ma Informatiq Importé-10'!F119","v":0},{"$f":"'INVENT.Ma Informatiq Importé-10'!C119","v":0},{"$f":"'INVENT.Ma Informatiq Importé-10'!H119","v":0},null,0,0,0,0,0,0,null,null,0,0,0,0]
[114,{"$f":"'INVENT.Ma Informatiq Importé-10'!B120","v":0},{"$f":"'INVENT.Ma Informatiq Importé-10'!F120","v":0},{"$f":"'INVENT.Ma Informatiq Importé-10'!C120","v":0},{"$f":"'INVENT.Ma Informatiq Importé-10'!H120","v":0},null,0,0,0,0,0,0,null,null,0,0,0,0]
[{"$f":"+A121+1","v":115},{"$f":"'INVENT.Ma Informatiq Importé-10'!B121","v":0},{"$f":"'INVENT.Ma Informatiq Importé-10'!F121","v":0},{"$f":"'INVENT.Ma Informatiq Importé-10'!C121","v":0},{"$f":"'INVENT.Ma Informatiq Importé-10'!H121","v":0},null,{"$f":"F122*E122","v":0},0,0,0,{"$f":"(E122+G122+H122)*18%","v":0},{"$f":"SUM(G122:K122)+E122","v":0},null,null,{"$f":"(M122+N122)*18%","v":0},{"$f":"O122+N122+M122","v":0},{"$f":"+R122-O122-K122","v":0},{"$f":"P122+L122","v":0}]
[116,{"$f":"'INVENT.Ma Informatiq Importé-10'!B122","v":0},{"$f":"'INVENT.Ma Informatiq Importé-10'!F122","v":0},{"$f":"'INVENT.Ma Informatiq Importé-10'!C122","v":0},{"$f":"'INVENT.Ma Informatiq Importé-10'!H122","v":0},null,0,{"$f":"E123*1%","v":0},{"$f":"E123*1%","v":0},{"$f":"E123*0.5%","v":0},0,0,null,null,0,0,0,0]
[117,{"$f":"'INVENT.Ma Informatiq Importé-10'!B123","v":0},{"$f":"'INVENT.Ma Informatiq Importé-10'!F123","v":0},{"$f":"'INVENT.Ma Informatiq Importé-10'!C123","v":0},{"$f":"'INVENT.Ma Informatiq Importé-10'!H123","v":0},null,0,0,0,0,0,0,null,null,0,0,0,0]
[118,{"$f":"'INVENT.Ma Informatiq Importé-10'!B124","v":0},{"$f":"'INVENT.Ma Informatiq Importé-10'!F124","v":0},{"$f":"'INVENT.Ma Informatiq Importé-10'!C124","v":0},{"$f":"'INVENT.Ma Informatiq Importé-10'!H124","v":0},null,0,0,0,0,0,0,null,null,0,0,0,0]
[119,{"$f":"'INVENT.Ma Informatiq Importé-10'!B125","v":0},{"$f":"'INVENT.Ma Informatiq Importé-10'!F125","v":0},{"$f":"'INVENT.Ma Informatiq Importé-10'!C125","v":0},{"$f":"'INVENT.Ma Informatiq Importé-10'!H125","v":0},null,0,0,0,0,0,0,null,null,0,0,0,0]
[120,{"$f":"'INVENT.Ma Informatiq Importé-10'!B126","v":0},{"$f":"'INVENT.Ma Informatiq Importé-10'!F126","v":0},{"$f":"'INVENT.Ma Informatiq Importé-10'!C126","v":0},{"$f":"'INVENT.Ma Informatiq Importé-10'!H126","v":0},null,0,0,0,0,0,0,null,null,0,0,0,0]
[121,{"$f":"'INVENT.Ma Informatiq Importé-10'!B127","v":0},{"$f":"'INVENT.Ma Informatiq Importé-10'!F127","v":0},{"$f":"'INVENT.Ma Informatiq Importé-10'!C127","v":0},{"$f":"'INVENT.Ma Informatiq Importé-10'!H127","v":0},null,0,0,0,0,0,0,null,null,0,0,0,0]
[122,{"$f":"'INVENT.Ma Informatiq Importé-10'!B128","v":0},{"$f":"'INVENT.Ma Informatiq Importé-10'!F128","v":0},{"$f":"'INVENT.Ma Informatiq Importé-10'!C128","v":0},{"$f":"'INVENT.Ma Informatiq Importé-10'!H128","v":0},null,0,0,0,0,0,0,null,null,0,0,0,0]
[123,{"$f":"'INVENT.Ma Informatiq Importé-10'!B129","v":0},{"$f":"'INVENT.Ma Informatiq Importé-10'!F129","v":0},{"$f":"'INVENT.Ma Informatiq Importé-10'!C129","v":0},{"$f":"'INVENT.Ma Informatiq Importé-10'!H129","v":0},null,0,0,0,0,0,0,null,null,0,0,0,0]
[124,{"$f":"'INVENT.Ma Informatiq Importé-10'!B130","v":0},{"$f":"'INVENT.Ma Informatiq Importé-10'!F130","v":0},{"$f":"'INVENT.Ma Informatiq Importé-10'!C130","v":0},{"$f":"'INVENT.Ma Informatiq Importé-10'!H130","v":0},null,0,0,0,0,0,0,null,null,0,0,0,0]
[125,{"$f":"'INVENT.Ma Informatiq Importé-10'!B131","v":0},{"$f":"'INVENT.Ma Informatiq Importé-10'!F131","v":0},{"$f":"'INVENT.Ma Informatiq Importé-10'!C131","v":0},{"$f":"'INVENT.Ma Informatiq Importé-10'!H131","v":0},null,0,0,0,0,0,0,null,null,0,0,0,0]
[126,{"$f":"'INVENT.Ma Informatiq Importé-10'!B132","v":0},{"$f":"'INVENT.Ma Informatiq Importé-10'!F132","v":0},{"$f":"'INVENT.Ma Informatiq Importé-10'!C132","v":0},{"$f":"'INVENT.Ma Informatiq Importé-10'!H132","v":0},null,0,0,0,0,0,0,null,null,0,0,0,0]
[127,{"$f":"'INVENT.Ma Informatiq Importé-10'!B133","v":0},{"$f":"'INVENT.Ma Informatiq Importé-10'!F133","v":0},{"$f":"'INVENT.Ma Informatiq Importé-10'!C133","v":0},{"$f":"'INVENT.Ma Informatiq Importé-10'!H133","v":0},null,0,0,0,0,0,0,null,null,0,0,0,0]
[128,{"$f":"'INVENT.Ma Informatiq Importé-10'!B134","v":0},{"$f":"'INVENT.Ma Informatiq Importé-10'!F134","v":0},{"$f":"'INVENT.Ma Informatiq Importé-10'!C134","v":0},{"$f":"'INVENT.Ma Informatiq Importé-10'!H134","v":0},null,0,0,0,0,0,0,null,null,0,0,0,0]
[129,{"$f":"'INVENT.Ma Informatiq Importé-10'!B135","v":0},{"$f":"'INVENT.Ma Informatiq Importé-10'!F135","v":0},{"$f":"'INVENT.Ma Informatiq Importé-10'!C135","v":0},{"$f":"'INVENT.Ma Informatiq Importé-10'!H135","v":0},null,0,0,0,0,0,0,null,null,0,0,0,0]
[130,{"$f":"'INVENT.Ma Informatiq Importé-10'!B136","v":0},{"$f":"'INVENT.Ma Informatiq Importé-10'!F136","v":0},{"$f":"'INVENT.Ma Informatiq Importé-10'!C136","v":0},{"$f":"'INVENT.Ma Informatiq Importé-10'!H136","v":0},null,0,0,0,0,0,0,null,null,0,0,0,0]
[131,{"$f":"'INVENT.Ma Informatiq Importé-10'!B137","v":0},{"$f":"'INVENT.Ma Informatiq Importé-10'!F137","v":0},{"$f":"'INVENT.Ma Informatiq Importé-10'!C137","v":0},{"$f":"'INVENT.Ma Informatiq Importé-10'!H137","v":0},null,0,0,0,0,0,0,null,null,0,0,0,0]
[132,{"$f":"'INVENT.Ma Informatiq Importé-10'!B138","v":0},{"$f":"'INVENT.Ma Informatiq Importé-10'!F138","v":0},{"$f":"'INVENT.Ma Informatiq Importé-10'!C138","v":0},{"$f":"'INVENT.Ma Informatiq Importé-10'!H138","v":0},null,0,0,0,0,0,0,null,null,0,0,0,0]
[133,{"$f":"'INVENT.Ma Informatiq Importé-10'!B139","v":0},{"$f":"'INVENT.Ma Informatiq Importé-10'!F139","v":0},{"$f":"'INVENT.Ma Informatiq Importé-10'!C139","v":0},{"$f":"'INVENT.Ma Informatiq Importé-10'!H139","v":0},null,0,0,0,0,0,0,null,null,0,0,0,0]
[134,{"$f":"'INVENT.Ma Informatiq Importé-10'!B140","v":0},{"$f":"'INVENT.Ma Informatiq Importé-10'!F140","v":0},{"$f":"'INVENT.Ma Informatiq Importé-10'!C140","v":0},{"$f":"'INVENT.Ma Informatiq Importé-10'!H140","v":0},null,0,0,0,0,0,0,null,null,0,0,0,0]
[135,{"$f":"'INVENT.Ma Informatiq Importé-10'!B141","v":0},{"$f":"'INVENT.Ma Informatiq Importé-10'!F141","v":0},{"$f":"'INVENT.Ma Informatiq Importé-10'!C141","v":0},{"$f":"'INVENT.Ma Informatiq Importé-10'!H141","v":0},null,0,0,0,0,0,0,null,null,0,0,0,0]
[136,{"$f":"'INVENT.Ma Informatiq Importé-10'!B142","v":0},{"$f":"'INVENT.Ma Informatiq Importé-10'!F142","v":0},{"$f":"'INVENT.Ma Informatiq Importé-10'!C142","v":0},{"$f":"'INVENT.Ma Informatiq Importé-10'!H142","v":0},null,0,0,0,0,0,0,null,null,0,0,0,0]
[137,{"$f":"'INVENT.Ma Informatiq Importé-10'!B143","v":0},{"$f":"'INVENT.Ma Informatiq Importé-10'!F143","v":0},{"$f":"'INVENT.Ma Informatiq Importé-10'!C143","v":0},{"$f":"'INVENT.Ma Informatiq Importé-10'!H143","v":0},null,0,0,0,0,0,0,null,null,0,0,0,0]
[138,{"$f":"'INVENT.Ma Informatiq Importé-10'!B144","v":0},{"$f":"'INVENT.Ma Informatiq Importé-10'!F144","v":0},{"$f":"'INVENT.Ma Informatiq Importé-10'!C144","v":0},{"$f":"'INVENT.Ma Informatiq Importé-10'!H144","v":0},null,0,0,0,0,0,0,null,null,0,0,0,0]
[139,{"$f":"'INVENT.Ma Informatiq Importé-10'!B145","v":0},{"$f":"'INVENT.Ma Informatiq Importé-10'!F145","v":0},{"$f":"'INVENT.Ma Informatiq Importé-10'!C145","v":0},{"$f":"'INVENT.Ma Informatiq Importé-10'!H145","v":0},null,0,0,0,0,0,0,null,null,0,0,0,0]
[140,{"$f":"'INVENT.Ma Informatiq Importé-10'!B146","v":0},{"$f":"'INVENT.Ma Informatiq Importé-10'!F146","v":0},{"$f":"'INVENT.Ma Informatiq Importé-10'!C146","v":0},{"$f":"'INVENT.Ma Informatiq Importé-10'!H146","v":0},null,0,0,0,0,0,0,null,null,0,0,0,0]
[141,{"$f":"'INVENT.Ma Informatiq Importé-10'!B147","v":0},{"$f":"'INVENT.Ma Informatiq Importé-10'!F147","v":0},{"$f":"'INVENT.Ma Informatiq Importé-10'!C147","v":0},{"$f":"'INVENT.Ma Informatiq Importé-10'!H147","v":0},null,0,0,0,0,0,0,null,null,0,0,0,0]
[142,{"$f":"'INVENT.Ma Informatiq Importé-10'!B148","v":0},{"$f":"'INVENT.Ma Informatiq Importé-10'!F148","v":0},{"$f":"'INVENT.Ma Informatiq Importé-10'!C148","v":0},{"$f":"'INVENT.Ma Informatiq Importé-10'!H148","v":0},null,0,0,0,0,0,0,null,null,0,0,0,0]
[143,{"$f":"'INVENT.Ma Informatiq Importé-10'!B149","v":0},{"$f":"'INVENT.Ma Informatiq Importé-10'!F149","v":0},{"$f":"'INVENT.Ma Informatiq Importé-10'!C149","v":0},{"$f":"'INVENT.Ma Informatiq Importé-10'!H149","v":0},null,0,0,0,0,0,0,null,null,0,0,0,0]
[144,{"$f":"'INVENT.Ma Informatiq Importé-10'!B150","v":0},{"$f":"'INVENT.Ma Informatiq Importé-10'!F150","v":0},{"$f":"'INVENT.Ma Informatiq Importé-10'!C150","v":0},{"$f":"'INVENT.Ma Informatiq Importé-10'!H150","v":0},null,0,0,0,0,0,0,null,null,0,0,0,0]
[145,{"$f":"'INVENT.Ma Informatiq Importé-10'!B151","v":0},{"$f":"'INVENT.Ma Informatiq Importé-10'!F151","v":0},{"$f":"'INVENT.Ma Informatiq Importé-10'!C151","v":0},{"$f":"'INVENT.Ma Informatiq Importé-10'!H151","v":0},null,0,0,0,0,0,0,null,null,0,0,0,0]
[146,{"$f":"'INVENT.Ma Informatiq Importé-10'!B152","v":0},{"$f":"'INVENT.Ma Informatiq Importé-10'!F152","v":0},{"$f":"'INVENT.Ma Informatiq Importé-10'!C152","v":0},{"$f":"'INVENT.Ma Informatiq Importé-10'!H152","v":0},null,0,0,0,0,0,0,null,null,0,0,0,0]
[147,{"$f":"'INVENT.Ma Informatiq Importé-10'!B153","v":0},{"$f":"'INVENT.Ma Informatiq Importé-10'!F153","v":0},{"$f":"'INVENT.Ma Informatiq Importé-10'!C153","v":0},{"$f":"'INVENT.Ma Informatiq Importé-10'!H153","v":0},null,0,0,0,0,0,0,null,null,0,0,0,0]
[148,{"$f":"'INVENT.Ma Informatiq Importé-10'!B154","v":0},{"$f":"'INVENT.Ma Informatiq Importé-10'!F154","v":0},{"$f":"'INVENT.Ma Informatiq Importé-10'!C154","v":0},{"$f":"'INVENT.Ma Informatiq Importé-10'!H154","v":0},null,0,0,0,0,0,0,null,null,0,0,0,0]
[149,{"$f":"'INVENT.Ma Informatiq Importé-10'!B155","v":0},{"$f":"'INVENT.Ma Informatiq Importé-10'!F155","v":0},{"$f":"'INVENT.Ma Informatiq Importé-10'!C155","v":0},{"$f":"'INVENT.Ma Informatiq Importé-10'!H155","v":0},null,0,0,0,0,0,0,null,null,0,0,0,0]
[150,{"$f":"'INVENT.Ma Informatiq Importé-10'!B156","v":0},{"$f":"'INVENT.Ma Informatiq Importé-10'!F156","v":0},{"$f":"'INVENT.Ma Informatiq Importé-10'!C156","v":0},{"$f":"'INVENT.Ma Informatiq Importé-10'!H156","v":0},null,0,0,0,0,0,0,null,null,0,0,0,0]
[151,{"$f":"'INVENT.Ma Informatiq Importé-10'!B157","v":0},{"$f":"'INVENT.Ma Informatiq Importé-10'!F157","v":0},{"$f":"'INVENT.Ma Informatiq Importé-10'!C157","v":0},{"$f":"'INVENT.Ma Informatiq Importé-10'!H157","v":0},null,0,0,0,0,0,0,null,null,0,0,0,0]
[152,{"$f":"'INVENT.Ma Informatiq Importé-10'!B158","v":0},{"$f":"'INVENT.Ma Informatiq Importé-10'!F158","v":0},{"$f":"'INVENT.Ma Informatiq Importé-10'!C158","v":0},{"$f":"'INVENT.Ma Informatiq Importé-10'!H158","v":0},null,0,0,0,0,0,0,null,null,0,0,0,0]
[153,{"$f":"'INVENT.Ma Informatiq Importé-10'!B159","v":0},{"$f":"'INVENT.Ma Informatiq Importé-10'!F159","v":0},{"$f":"'INVENT.Ma Informatiq Importé-10'!C159","v":0},{"$f":"'INVENT.Ma Informatiq Importé-10'!H159","v":0},null,0,0,0,0,0,0,null,null,0,0,0,0]
[154,{"$f":"'INVENT.Ma Informatiq Importé-10'!B160","v":0},{"$f":"'INVENT.Ma Informatiq Importé-10'!F160","v":0},{"$f":"'INVENT.Ma Informatiq Importé-10'!C160","v":0},{"$f":"'INVENT.Ma Informatiq Importé-10'!H160","v":0},null,0,0,0,0,0,0,null,null,0,0,0,0]
[155,{"$f":"'INVENT.Ma Informatiq Importé-10'!B161","v":0},{"$f":"'INVENT.Ma Informatiq Importé-10'!F161","v":0},{"$f":"'INVENT.Ma Informatiq Importé-10'!C161","v":0},{"$f":"'INVENT.Ma Informatiq Importé-10'!H161","v":0},null,0,0,0,0,0,0,null,null,0,0,0,0]
[156,{"$f":"'INVENT.Ma Informatiq Importé-10'!B162","v":0},{"$f":"'INVENT.Ma Informatiq Importé-10'!F162","v":0},{"$f":"'INVENT.Ma Informatiq Importé-10'!C162","v":0},{"$f":"'INVENT.Ma Informatiq Importé-10'!H162","v":0},null,0,0,0,0,0,0,null,null,0,0,0,0]
[157,{"$f":"'INVENT.Ma Informatiq Importé-10'!B163","v":0},{"$f":"'INVENT.Ma Informatiq Importé-10'!F163","v":0},{"$f":"'INVENT.Ma Informatiq Importé-10'!C163","v":0},{"$f":"'INVENT.Ma Informatiq Importé-10'!H163","v":0},null,0,0,0,0,0,0,null,null,0,0,0,0]
[158,{"$f":"'INVENT.Ma Informatiq Importé-10'!B164","v":0},{"$f":"'INVENT.Ma Informatiq Importé-10'!F164","v":0},{"$f":"'INVENT.Ma Informatiq Importé-10'!C164","v":0},{"$f":"'INVENT.Ma Informatiq Importé-10'!H164","v":0},null,0,0,0,0,0,0,null,null,0,0,0,0]
[159,{"$f":"'INVENT.Ma Informatiq Importé-10'!B165","v":0},{"$f":"'INVENT.Ma Informatiq Importé-10'!F165","v":0},{"$f":"'INVENT.Ma Informatiq Importé-10'!C165","v":0},{"$f":"'INVENT.Ma Informatiq Importé-10'!H165","v":0},null,0,0,0,0,0,0,null,null,0,0,0,0]
[160,{"$f":"'INVENT.Ma Informatiq Importé-10'!B166","v":0},{"$f":"'INVENT.Ma Informatiq Importé-10'!F166","v":0},{"$f":"'INVENT.Ma Informatiq Importé-10'!C166","v":0},{"$f":"'INVENT.Ma Informatiq Importé-10'!H166","v":0},null,0,0,0,0,0,0,null,null,0,0,0,0]
[161,{"$f":"'INVENT.Ma Informatiq Importé-10'!B167","v":0},{"$f":"'INVENT.Ma Informatiq Importé-10'!F167","v":0},{"$f":"'INVENT.Ma Informatiq Importé-10'!C167","v":0},{"$f":"'INVENT.Ma Informatiq Importé-10'!H167","v":0},null,0,0,0,0,0,0,null,null,0,0,0,0]
[162,{"$f":"'INVENT.Ma Informatiq Importé-10'!B168","v":0},{"$f":"'INVENT.Ma Informatiq Importé-10'!F168","v":0},{"$f":"'INVENT.Ma Informatiq Importé-10'!C168","v":0},{"$f":"'INVENT.Ma Informatiq Importé-10'!H168","v":0},null,0,0,0,0,0,0,null,null,0,0,0,0]
[163,{"$f":"'INVENT.Ma Informatiq Importé-10'!B169","v":0},{"$f":"'INVENT.Ma Informatiq Importé-10'!F169","v":0},{"$f":"'INVENT.Ma Informatiq Importé-10'!C169","v":0},{"$f":"'INVENT.Ma Informatiq Importé-10'!H169","v":0},null,0,0,0,0,0,0,null,null,0,0,0,0]
[164,{"$f":"'INVENT.Ma Informatiq Importé-10'!B170","v":0},{"$f":"'INVENT.Ma Informatiq Importé-10'!F170","v":0},{"$f":"'INVENT.Ma Informatiq Importé-10'!C170","v":0},{"$f":"'INVENT.Ma Informatiq Importé-10'!H170","v":0},null,0,0,0,0,0,0,null,null,0,0,0,0]
[165,{"$f":"'INVENT.Ma Informatiq Importé-10'!B171","v":0},{"$f":"'INVENT.Ma Informatiq Importé-10'!F171","v":0},{"$f":"'INVENT.Ma Informatiq Importé-10'!C171","v":0},{"$f":"'INVENT.Ma Informatiq Importé-10'!H171","v":0},null,0,0,0,0,0,0,null,null,0,0,0,0]
[166,{"$f":"'INVENT.Ma Informatiq Importé-10'!B172","v":0},{"$f":"'INVENT.Ma Informatiq Importé-10'!F172","v":0},{"$f":"'INVENT.Ma Informatiq Importé-10'!C172","v":0},{"$f":"'INVENT.Ma Informatiq Importé-10'!H172","v":0},null,0,0,0,0,0,0,null,null,0,0,0,0]
[167,{"$f":"'INVENT.Ma Informatiq Importé-10'!B173","v":0},{"$f":"'INVENT.Ma Informatiq Importé-10'!F173","v":0},{"$f":"'INVENT.Ma Informatiq Importé-10'!C173","v":0},{"$f":"'INVENT.Ma Informatiq Importé-10'!H173","v":0},null,0,0,0,0,0,0,null,null,0,0,0,0]
[168,{"$f":"'INVENT.Ma Informatiq Importé-10'!B174","v":0},{"$f":"'INVENT.Ma Informatiq Importé-10'!F174","v":0},{"$f":"'INVENT.Ma Informatiq Importé-10'!C174","v":0},{"$f":"'INVENT.Ma Informatiq Importé-10'!H174","v":0},null,0,0,0,0,0,0,null,null,0,0,0,0]
[169,{"$f":"'INVENT.Ma Informatiq Importé-10'!B175","v":0},{"$f":"'INVENT.Ma Informatiq Importé-10'!F175","v":0},{"$f":"'INVENT.Ma Informatiq Importé-10'!C175","v":0},{"$f":"'INVENT.Ma Informatiq Importé-10'!H175","v":0},null,0,0,0,0,0,0,null,null,0,0,0,0]
[170,{"$f":"'INVENT.Ma Informatiq Importé-10'!B176","v":0},{"$f":"'INVENT.Ma Informatiq Importé-10'!F176","v":0},{"$f":"'INVENT.Ma Informatiq Importé-10'!C176","v":0},{"$f":"'INVENT.Ma Informatiq Importé-10'!H176","v":0},null,0,0,0,0,0,0,null,null,0,0,0,0]
[171,{"$f":"'INVENT.Ma Informatiq Importé-10'!B177","v":0},{"$f":"'INVENT.Ma Informatiq Importé-10'!F177","v":0},{"$f":"'INVENT.Ma Informatiq Importé-10'!C177","v":0},{"$f":"'INVENT.Ma Informatiq Importé-10'!H177","v":0},null,0,0,0,0,0,0,null,null,0,0,0,0]
[172,{"$f":"'INVENT.Ma Informatiq Importé-10'!B178","v":0},{"$f":"'INVENT.Ma Informatiq Importé-10'!F178","v":0},{"$f":"'INVENT.Ma Informatiq Importé-10'!C178","v":0},{"$f":"'INVENT.Ma Informatiq Importé-10'!H178","v":0},null,0,0,0,0,0,0,null,null,0,0,0,0]
[173,{"$f":"'INVENT.Ma Informatiq Importé-10'!B179","v":0},{"$f":"'INVENT.Ma Informatiq Importé-10'!F179","v":0},{"$f":"'INVENT.Ma Informatiq Importé-10'!C179","v":0},{"$f":"'INVENT.Ma Informatiq Importé-10'!H179","v":0},null,0,0,0,0,0,0,null,null,0,0,0,0]
[174,{"$f":"'INVENT.Ma Informatiq Importé-10'!B180","v":0},{"$f":"'INVENT.Ma Informatiq Importé-10'!F180","v":0},{"$f":"'INVENT.Ma Informatiq Importé-10'!C180","v":0},{"$f":"'INVENT.Ma Informatiq Importé-10'!H180","v":0},null,0,0,0,0,0,0,null,null,0,0,0,0]
[175,{"$f":"'INVENT.Ma Informatiq Importé-10'!B181","v":0},{"$f":"'INVENT.Ma Informatiq Importé-10'!F181","v":0},{"$f":"'INVENT.Ma Informatiq Importé-10'!C181","v":0},{"$f":"'INVENT.Ma Informatiq Importé-10'!H181","v":0},null,0,0,0,0,0,0,null,null,0,0,0,0]
[176,{"$f":"'INVENT.Ma Informatiq Importé-10'!B182","v":0},{"$f":"'INVENT.Ma Informatiq Importé-10'!F182","v":0},{"$f":"'INVENT.Ma Informatiq Importé-10'!C182","v":0},{"$f":"'INVENT.Ma Informatiq Importé-10'!H182","v":0},null,0,0,0,0,0,0,null,null,0,0,0,0]
[177,{"$f":"'INVENT.Ma Informatiq Importé-10'!B183","v":0},{"$f":"'INVENT.Ma Informatiq Importé-10'!F183","v":0},{"$f":"'INVENT.Ma Informatiq Importé-10'!C183","v":0},{"$f":"'INVENT.Ma Informatiq Importé-10'!H183","v":0},null,0,0,0,0,0,0,null,null,0,0,0,0]
[178,{"$f":"'INVENT.Ma Informatiq Importé-10'!B184","v":0},{"$f":"'INVENT.Ma Informatiq Importé-10'!F184","v":0},{"$f":"'INVENT.Ma Informatiq Importé-10'!C184","v":0},{"$f":"'INVENT.Ma Informatiq Importé-10'!H184","v":0},null,0,0,0,0,0,0,null,null,0,0,0,0]
[{"$f":"+A185+1","v":179},{"$f":"'INVENT.Ma Informatiq Importé-10'!B185","v":0},{"$f":"'INVENT.Ma Informatiq Importé-10'!F185","v":0},{"$f":"'INVENT.Ma Informatiq Importé-10'!C185","v":0},{"$f":"'INVENT.Ma Informatiq Importé-10'!H185","v":0},null,{"$f":"F186*E186","v":0},0,0,0,{"$f":"(E186+G186+H186)*18%","v":0},{"$f":"SUM(G186:K186)+E186","v":0},null,null,{"$f":"(M186+N186)*18%","v":0},{"$f":"O186+N186+M186","v":0},{"$f":"+R186-O186-K186","v":0},{"$f":"P186+L186","v":0}]
[180,{"$f":"'INVENT.Ma Informatiq Importé-10'!B186","v":0},{"$f":"'INVENT.Ma Informatiq Importé-10'!F186","v":0},{"$f":"'INVENT.Ma Informatiq Importé-10'!C186","v":0},{"$f":"'INVENT.Ma Informatiq Importé-10'!H186","v":0},null,0,{"$f":"E187*1%","v":0},{"$f":"E187*1%","v":0},{"$f":"E187*0.5%","v":0},0,0,null,null,0,0,0,0]
[181,{"$f":"'INVENT.Ma Informatiq Importé-10'!B187","v":0},{"$f":"'INVENT.Ma Informatiq Importé-10'!F187","v":0},{"$f":"'INVENT.Ma Informatiq Importé-10'!C187","v":0},{"$f":"'INVENT.Ma Informatiq Importé-10'!H187","v":0},null,0,0,0,0,0,0,null,null,0,0,0,0]
[182,{"$f":"'INVENT.Ma Informatiq Importé-10'!B188","v":0},{"$f":"'INVENT.Ma Informatiq Importé-10'!F188","v":0},{"$f":"'INVENT.Ma Informatiq Importé-10'!C188","v":0},{"$f":"'INVENT.Ma Informatiq Importé-10'!H188","v":0},null,0,0,0,0,0,0,null,null,0,0,0,0]
[183,{"$f":"'INVENT.Ma Informatiq Importé-10'!B189","v":0},{"$f":"'INVENT.Ma Informatiq Importé-10'!F189","v":0},{"$f":"'INVENT.Ma Informatiq Importé-10'!C189","v":0},{"$f":"'INVENT.Ma Informatiq Importé-10'!H189","v":0},null,0,0,0,0,0,0,null,null,0,0,0,0]
[184,{"$f":"'INVENT.Ma Informatiq Importé-10'!B190","v":0},{"$f":"'INVENT.Ma Informatiq Importé-10'!F190","v":0},{"$f":"'INVENT.Ma Informatiq Importé-10'!C190","v":0},{"$f":"'INVENT.Ma Informatiq Importé-10'!H190","v":0},null,0,0,0,0,0,0,null,null,0,0,0,0]
[185,{"$f":"'INVENT.Ma Informatiq Importé-10'!B191","v":0},{"$f":"'INVENT.Ma Informatiq Importé-10'!F191","v":0},{"$f":"'INVENT.Ma Informatiq Importé-10'!C191","v":0},{"$f":"'INVENT.Ma Informatiq Importé-10'!H191","v":0},null,0,0,0,0,0,0,null,null,0,0,0,0]
[186,{"$f":"'INVENT.Ma Informatiq Importé-10'!B192","v":0},{"$f":"'INVENT.Ma Informatiq Importé-10'!F192","v":0},{"$f":"'INVENT.Ma Informatiq Importé-10'!C192","v":0},{"$f":"'INVENT.Ma Informatiq Importé-10'!H192","v":0},null,0,0,0,0,0,0,null,null,0,0,0,0]
[187,{"$f":"'INVENT.Ma Informatiq Importé-10'!B193","v":0},{"$f":"'INVENT.Ma Informatiq Importé-10'!F193","v":0},{"$f":"'INVENT.Ma Informatiq Importé-10'!C193","v":0},{"$f":"'INVENT.Ma Informatiq Importé-10'!H193","v":0},null,0,0,0,0,0,0,null,null,0,0,0,0]
[188,{"$f":"'INVENT.Ma Informatiq Importé-10'!B194","v":0},{"$f":"'INVENT.Ma Informatiq Importé-10'!F194","v":0},{"$f":"'INVENT.Ma Informatiq Importé-10'!C194","v":0},{"$f":"'INVENT.Ma Informatiq Importé-10'!H194","v":0},null,0,0,0,0,0,0,null,null,0,0,0,0]
[189,{"$f":"'INVENT.Ma Informatiq Importé-10'!B195","v":0},{"$f":"'INVENT.Ma Informatiq Importé-10'!F195","v":0},{"$f":"'INVENT.Ma Informatiq Importé-10'!C195","v":0},{"$f":"'INVENT.Ma Informatiq Importé-10'!H195","v":0},null,0,0,0,0,0,0,null,null,0,0,0,0]
[190,{"$f":"'INVENT.Ma Informatiq Importé-10'!B196","v":0},{"$f":"'INVENT.Ma Informatiq Importé-10'!F196","v":0},{"$f":"'INVENT.Ma Informatiq Importé-10'!C196","v":0},{"$f":"'INVENT.Ma Informatiq Importé-10'!H196","v":0},null,0,0,0,0,0,0,null,null,0,0,0,0]
[191,{"$f":"'INVENT.Ma Informatiq Importé-10'!B197","v":0},{"$f":"'INVENT.Ma Informatiq Importé-10'!F197","v":0},{"$f":"'INVENT.Ma Informatiq Importé-10'!C197","v":0},{"$f":"'INVENT.Ma Informatiq Importé-10'!H197","v":0},null,0,0,0,0,0,0,null,null,0,0,0,0]
[192,{"$f":"'INVENT.Ma Informatiq Importé-10'!B198","v":0},{"$f":"'INVENT.Ma Informatiq Importé-10'!F198","v":0},{"$f":"'INVENT.Ma Informatiq Importé-10'!C198","v":0},{"$f":"'INVENT.Ma Informatiq Importé-10'!H198","v":0},null,0,0,0,0,0,0,null,null,0,0,0,0]
[193,{"$f":"'INVENT.Ma Informatiq Importé-10'!B199","v":0},{"$f":"'INVENT.Ma Informatiq Importé-10'!F199","v":0},{"$f":"'INVENT.Ma Informatiq Importé-10'!C199","v":0},{"$f":"'INVENT.Ma Informatiq Importé-10'!H199","v":0},null,0,0,0,0,0,0,null,null,0,0,0,0]
[194,{"$f":"'INVENT.Ma Informatiq Importé-10'!B200","v":0},{"$f":"'INVENT.Ma Informatiq Importé-10'!F200","v":0},{"$f":"'INVENT.Ma Informatiq Importé-10'!C200","v":0},{"$f":"'INVENT.Ma Informatiq Importé-10'!H200","v":0},null,0,0,0,0,0,0,null,null,0,0,0,0]
[195,{"$f":"'INVENT.Ma Informatiq Importé-10'!B201","v":0},{"$f":"'INVENT.Ma Informatiq Importé-10'!F201","v":0},{"$f":"'INVENT.Ma Informatiq Importé-10'!C201","v":0},{"$f":"'INVENT.Ma Informatiq Importé-10'!H201","v":0},null,0,0,0,0,0,0,null,null,0,0,0,0]
[196,{"$f":"'INVENT.Ma Informatiq Importé-10'!B202","v":0},{"$f":"'INVENT.Ma Informatiq Importé-10'!F202","v":0},{"$f":"'INVENT.Ma Informatiq Importé-10'!C202","v":0},{"$f":"'INVENT.Ma Informatiq Importé-10'!H202","v":0},null,0,0,0,0,0,0,null,null,0,0,0,0]
[197,{"$f":"'INVENT.Ma Informatiq Importé-10'!B203","v":0},{"$f":"'INVENT.Ma Informatiq Importé-10'!F203","v":0},{"$f":"'INVENT.Ma Informatiq Importé-10'!C203","v":0},{"$f":"'INVENT.Ma Informatiq Importé-10'!H203","v":0},null,0,0,0,0,0,0,null,null,0,0,0,0]
[198,{"$f":"'INVENT.Ma Informatiq Importé-10'!B204","v":0},{"$f":"'INVENT.Ma Informatiq Importé-10'!F204","v":0},{"$f":"'INVENT.Ma Informatiq Importé-10'!C204","v":0},{"$f":"'INVENT.Ma Informatiq Importé-10'!H204","v":0},null,0,0,0,0,0,0,null,null,0,0,0,0]
[199,{"$f":"'INVENT.Ma Informatiq Importé-10'!B205","v":0},{"$f":"'INVENT.Ma Informatiq Importé-10'!F205","v":0},{"$f":"'INVENT.Ma Informatiq Importé-10'!C205","v":0},{"$f":"'INVENT.Ma Informatiq Importé-10'!H205","v":0},null,0,0,0,0,0,0,null,null,0,0,0,0]
[200,{"$f":"'INVENT.Ma Informatiq Importé-10'!B206","v":0},{"$f":"'INVENT.Ma Informatiq Importé-10'!F206","v":0},{"$f":"'INVENT.Ma Informatiq Importé-10'!C206","v":0},{"$f":"'INVENT.Ma Informatiq Importé-10'!H206","v":0},null,0,0,0,0,0,0,null,null,0,0,0,0]
[201,{"$f":"'INVENT.Ma Informatiq Importé-10'!B207","v":0},{"$f":"'INVENT.Ma Informatiq Importé-10'!F207","v":0},{"$f":"'INVENT.Ma Informatiq Importé-10'!C207","v":0},{"$f":"'INVENT.Ma Informatiq Importé-10'!H207","v":0},null,0,0,0,0,0,0,null,null,0,0,0,0]
[202,{"$f":"'INVENT.Ma Informatiq Importé-10'!B208","v":0},{"$f":"'INVENT.Ma Informatiq Importé-10'!F208","v":0},{"$f":"'INVENT.Ma Informatiq Importé-10'!C208","v":0},{"$f":"'INVENT.Ma Informatiq Importé-10'!H208","v":0},null,0,0,0,0,0,0,null,null,0,0,0,0]
[203,{"$f":"'INVENT.Ma Informatiq Importé-10'!B209","v":0},{"$f":"'INVENT.Ma Informatiq Importé-10'!F209","v":0},{"$f":"'INVENT.Ma Informatiq Importé-10'!C209","v":0},{"$f":"'INVENT.Ma Informatiq Importé-10'!H209","v":0},null,0,0,0,0,0,0,null,null,0,0,0,0]
[204,{"$f":"'INVENT.Ma Informatiq Importé-10'!B210","v":0},{"$f":"'INVENT.Ma Informatiq Importé-10'!F210","v":0},{"$f":"'INVENT.Ma Informatiq Importé-10'!C210","v":0},{"$f":"'INVENT.Ma Informatiq Importé-10'!H210","v":0},null,0,0,0,0,0,0,null,null,0,0,0,0]
[205,{"$f":"'INVENT.Ma Informatiq Importé-10'!B211","v":0},{"$f":"'INVENT.Ma Informatiq Importé-10'!F211","v":0},{"$f":"'INVENT.Ma Informatiq Importé-10'!C211","v":0},{"$f":"'INVENT.Ma Informatiq Importé-10'!H211","v":0},null,0,0,0,0,0,0,null,null,0,0,0,0]
[206,{"$f":"'INVENT.Ma Informatiq Importé-10'!B212","v":0},{"$f":"'INVENT.Ma Informatiq Importé-10'!F212","v":0},{"$f":"'INVENT.Ma Informatiq Importé-10'!C212","v":0},{"$f":"'INVENT.Ma Informatiq Importé-10'!H212","v":0},null,0,0,0,0,0,0,null,null,0,0,0,0]
[207,{"$f":"'INVENT.Ma Informatiq Importé-10'!B213","v":0},{"$f":"'INVENT.Ma Informatiq Importé-10'!F213","v":0},{"$f":"'INVENT.Ma Informatiq Importé-10'!C213","v":0},{"$f":"'INVENT.Ma Informatiq Importé-10'!H213","v":0},null,0,0,0,0,0,0,null,null,0,0,0,0]
[208,{"$f":"'INVENT.Ma Informatiq Importé-10'!B214","v":0},{"$f":"'INVENT.Ma Informatiq Importé-10'!F214","v":0},{"$f":"'INVENT.Ma Informatiq Importé-10'!C214","v":0},{"$f":"'INVENT.Ma Informatiq Importé-10'!H214","v":0},null,0,0,0,0,0,0,null,null,0,0,0,0]
[209,{"$f":"'INVENT.Ma Informatiq Importé-10'!B215","v":0},{"$f":"'INVENT.Ma Informatiq Importé-10'!F215","v":0},{"$f":"'INVENT.Ma Informatiq Importé-10'!C215","v":0},{"$f":"'INVENT.Ma Informatiq Importé-10'!H215","v":0},null,0,0,0,0,0,0,null,null,0,0,0,0]
[210,{"$f":"'INVENT.Ma Informatiq Importé-10'!B216","v":0},{"$f":"'INVENT.Ma Informatiq Importé-10'!F216","v":0},{"$f":"'INVENT.Ma Informatiq Importé-10'!C216","v":0},{"$f":"'INVENT.Ma Informatiq Importé-10'!H216","v":0},null,0,0,0,0,0,0,null,null,0,0,0,0]
[211,{"$f":"'INVENT.Ma Informatiq Importé-10'!B217","v":0},{"$f":"'INVENT.Ma Informatiq Importé-10'!F217","v":0},{"$f":"'INVENT.Ma Informatiq Importé-10'!C217","v":0},{"$f":"'INVENT.Ma Informatiq Importé-10'!H217","v":0},null,0,0,0,0,0,0,null,null,0,0,0,0]
[212,{"$f":"'INVENT.Ma Informatiq Importé-10'!B218","v":0},{"$f":"'INVENT.Ma Informatiq Importé-10'!F218","v":0},{"$f":"'INVENT.Ma Informatiq Importé-10'!C218","v":0},{"$f":"'INVENT.Ma Informatiq Importé-10'!H218","v":0},null,0,0,0,0,0,0,null,null,0,0,0,0]
[213,{"$f":"'INVENT.Ma Informatiq Importé-10'!B219","v":0},{"$f":"'INVENT.Ma Informatiq Importé-10'!F219","v":0},{"$f":"'INVENT.Ma Informatiq Importé-10'!C219","v":0},{"$f":"'INVENT.Ma Informatiq Importé-10'!H219","v":0},null,0,0,0,0,0,0,null,null,0,0,0,0]
[214,{"$f":"'INVENT.Ma Informatiq Importé-10'!B220","v":0},{"$f":"'INVENT.Ma Informatiq Importé-10'!F220","v":0},{"$f":"'INVENT.Ma Informatiq Importé-10'!C220","v":0},{"$f":"'INVENT.Ma Informatiq Importé-10'!H220","v":0},null,0,0,0,0,0,0,null,null,0,0,0,0]
[215,{"$f":"'INVENT.Ma Informatiq Importé-10'!B221","v":0},{"$f":"'INVENT.Ma Informatiq Importé-10'!F221","v":0},{"$f":"'INVENT.Ma Informatiq Importé-10'!C221","v":0},{"$f":"'INVENT.Ma Informatiq Importé-10'!H221","v":0},null,0,0,0,0,0,0,null,null,0,0,0,0]
[216,{"$f":"'INVENT.Ma Informatiq Importé-10'!B222","v":0},{"$f":"'INVENT.Ma Informatiq Importé-10'!F222","v":0},{"$f":"'INVENT.Ma Informatiq Importé-10'!C222","v":0},{"$f":"'INVENT.Ma Informatiq Importé-10'!H222","v":0},null,0,0,0,0,0,0,null,null,0,0,0,0]
[217,{"$f":"'INVENT.Ma Informatiq Importé-10'!B223","v":0},{"$f":"'INVENT.Ma Informatiq Importé-10'!F223","v":0},{"$f":"'INVENT.Ma Informatiq Importé-10'!C223","v":0},{"$f":"'INVENT.Ma Informatiq Importé-10'!H223","v":0},null,0,0,0,0,0,0,null,null,0,0,0,0]
[218,{"$f":"'INVENT.Ma Informatiq Importé-10'!B224","v":0},{"$f":"'INVENT.Ma Informatiq Importé-10'!F224","v":0},{"$f":"'INVENT.Ma Informatiq Importé-10'!C224","v":0},{"$f":"'INVENT.Ma Informatiq Importé-10'!H224","v":0},null,0,0,0,0,0,0,null,null,0,0,0,0]
[219,{"$f":"'INVENT.Ma Informatiq Importé-10'!B225","v":0},{"$f":"'INVENT.Ma Informatiq Importé-10'!F225","v":0},{"$f":"'INVENT.Ma Informatiq Importé-10'!C225","v":0},{"$f":"'INVENT.Ma Informatiq Importé-10'!H225","v":0},null,0,0,0,0,0,0,null,null,0,0,0,0]
[220,{"$f":"'INVENT.Ma Informatiq Importé-10'!B226","v":0},{"$f":"'INVENT.Ma Informatiq Importé-10'!F226","v":0},{"$f":"'INVENT.Ma Informatiq Importé-10'!C226","v":0},{"$f":"'INVENT.Ma Informatiq Importé-10'!H226","v":0},null,0,0,0,0,0,0,null,null,0,0,0,0]
[221,{"$f":"'INVENT.Ma Informatiq Importé-10'!B227","v":0},{"$f":"'INVENT.Ma Informatiq Importé-10'!F227","v":0},{"$f":"'INVENT.Ma Informatiq Importé-10'!C227","v":0},{"$f":"'INVENT.Ma Informatiq Importé-10'!H227","v":0},null,0,0,0,0,0,0,null,null,0,0,0,0]
[222,{"$f":"'INVENT.Ma Informatiq Importé-10'!B228","v":0},{"$f":"'INVENT.Ma Informatiq Importé-10'!F228","v":0},{"$f":"'INVENT.Ma Informatiq Importé-10'!C228","v":0},{"$f":"'INVENT.Ma Informatiq Importé-10'!H228","v":0},null,0,0,0,0,0,0,null,null,0,0,0,0]
[223,{"$f":"'INVENT.Ma Informatiq Importé-10'!B229","v":0},{"$f":"'INVENT.Ma Informatiq Importé-10'!F229","v":0},{"$f":"'INVENT.Ma Informatiq Importé-10'!C229","v":0},{"$f":"'INVENT.Ma Informatiq Importé-10'!H229","v":0},null,0,0,0,0,0,0,null,null,0,0,0,0]
[224,{"$f":"'INVENT.Ma Informatiq Importé-10'!B230","v":0},{"$f":"'INVENT.Ma Informatiq Importé-10'!F230","v":0},{"$f":"'INVENT.Ma Informatiq Importé-10'!C230","v":0},{"$f":"'INVENT.Ma Informatiq Importé-10'!H230","v":0},null,0,0,0,0,0,0,null,null,0,0,0,0]
[225,{"$f":"'INVENT.Ma Informatiq Importé-10'!B231","v":0},{"$f":"'INVENT.Ma Informatiq Importé-10'!F231","v":0},{"$f":"'INVENT.Ma Informatiq Importé-10'!C231","v":0},{"$f":"'INVENT.Ma Informatiq Importé-10'!H231","v":0},null,0,0,0,0,0,0,null,null,0,0,0,0]
[226,{"$f":"'INVENT.Ma Informatiq Importé-10'!B232","v":0},{"$f":"'INVENT.Ma Informatiq Importé-10'!F232","v":0},{"$f":"'INVENT.Ma Informatiq Importé-10'!C232","v":0},{"$f":"'INVENT.Ma Informatiq Importé-10'!H232","v":0},null,0,0,0,0,0,0,null,null,0,0,0,0]
[227,{"$f":"'INVENT.Ma Informatiq Importé-10'!B233","v":0},{"$f":"'INVENT.Ma Informatiq Importé-10'!F233","v":0},{"$f":"'INVENT.Ma Informatiq Importé-10'!C233","v":0},{"$f":"'INVENT.Ma Informatiq Importé-10'!H233","v":0},null,0,0,0,0,0,0,null,null,0,0,0,0]
[228,{"$f":"'INVENT.Ma Informatiq Importé-10'!B234","v":0},{"$f":"'INVENT.Ma Informatiq Importé-10'!F234","v":0},{"$f":"'INVENT.Ma Informatiq Importé-10'!C234","v":0},{"$f":"'INVENT.Ma Informatiq Importé-10'!H234","v":0},null,0,0,0,0,0,0,null,null,0,0,0,0]
[229,{"$f":"'INVENT.Ma Informatiq Importé-10'!B235","v":0},{"$f":"'INVENT.Ma Informatiq Importé-10'!F235","v":0},{"$f":"'INVENT.Ma Informatiq Importé-10'!C235","v":0},{"$f":"'INVENT.Ma Informatiq Importé-10'!H235","v":0},null,0,0,0,0,0,0,null,null,0,0,0,0]
[230,{"$f":"'INVENT.Ma Informatiq Importé-10'!B236","v":0},{"$f":"'INVENT.Ma Informatiq Importé-10'!F236","v":0},{"$f":"'INVENT.Ma Informatiq Importé-10'!C236","v":0},{"$f":"'INVENT.Ma Informatiq Importé-10'!H236","v":0},null,0,0,0,0,0,0,null,null,0,0,0,0]
[231,{"$f":"'INVENT.Ma Informatiq Importé-10'!B237","v":0},{"$f":"'INVENT.Ma Informatiq Importé-10'!F237","v":0},{"$f":"'INVENT.Ma Informatiq Importé-10'!C237","v":0},{"$f":"'INVENT.Ma Informatiq Importé-10'!H237","v":0},null,0,0,0,0,0,0,null,null,0,0,0,0]
[232,{"$f":"'INVENT.Ma Informatiq Importé-10'!B238","v":0},{"$f":"'INVENT.Ma Informatiq Importé-10'!F238","v":0},{"$f":"'INVENT.Ma Informatiq Importé-10'!C238","v":0},{"$f":"'INVENT.Ma Informatiq Importé-10'!H238","v":0},null,0,0,0,0,0,0,null,null,0,0,0,0]
[233,{"$f":"'INVENT.Ma Informatiq Importé-10'!B239","v":0},{"$f":"'INVENT.Ma Informatiq Importé-10'!F239","v":0},{"$f":"'INVENT.Ma Informatiq Importé-10'!C239","v":0},{"$f":"'INVENT.Ma Informatiq Importé-10'!H239","v":0},null,0,0,0,0,0,0,null,null,0,0,0,0]
[234,{"$f":"'INVENT.Ma Informatiq Importé-10'!B240","v":0},{"$f":"'INVENT.Ma Informatiq Importé-10'!F240","v":0},{"$f":"'INVENT.Ma Informatiq Importé-10'!C240","v":0},{"$f":"'INVENT.Ma Informatiq Importé-10'!H240","v":0},null,0,0,0,0,0,0,null,null,0,0,0,0]
[235,{"$f":"'INVENT.Ma Informatiq Importé-10'!B241","v":0},{"$f":"'INVENT.Ma Informatiq Importé-10'!F241","v":0},{"$f":"'INVENT.Ma Informatiq Importé-10'!C241","v":0},{"$f":"'INVENT.Ma Informatiq Importé-10'!H241","v":0},null,0,0,0,0,0,0,null,null,0,0,0,0]
[236,{"$f":"'INVENT.Ma Informatiq Importé-10'!B242","v":0},{"$f":"'INVENT.Ma Informatiq Importé-10'!F242","v":0},{"$f":"'INVENT.Ma Informatiq Importé-10'!C242","v":0},{"$f":"'INVENT.Ma Informatiq Importé-10'!H242","v":0},null,0,0,0,0,0,0,null,null,0,0,0,0]
[237,{"$f":"'INVENT.Ma Informatiq Importé-10'!B243","v":0},{"$f":"'INVENT.Ma Informatiq Importé-10'!F243","v":0},{"$f":"'INVENT.Ma Informatiq Importé-10'!C243","v":0},{"$f":"'INVENT.Ma Informatiq Importé-10'!H243","v":0},null,0,0,0,0,0,0,null,null,0,0,0,0]
[238,{"$f":"'INVENT.Ma Informatiq Importé-10'!B244","v":0},{"$f":"'INVENT.Ma Informatiq Importé-10'!F244","v":0},{"$f":"'INVENT.Ma Informatiq Importé-10'!C244","v":0},{"$f":"'INVENT.Ma Informatiq Importé-10'!H244","v":0},null,0,0,0,0,0,0,null,null,0,0,0,0]
[239,{"$f":"'INVENT.Ma Informatiq Importé-10'!B245","v":0},{"$f":"'INVENT.Ma Informatiq Importé-10'!F245","v":0},{"$f":"'INVENT.Ma Informatiq Importé-10'!C245","v":0},{"$f":"'INVENT.Ma Informatiq Importé-10'!H245","v":0},null,0,0,0,0,0,0,null,null,0,0,0,0]
[240,{"$f":"'INVENT.Ma Informatiq Importé-10'!B246","v":0},{"$f":"'INVENT.Ma Informatiq Importé-10'!F246","v":0},{"$f":"'INVENT.Ma Informatiq Importé-10'!C246","v":0},{"$f":"'INVENT.Ma Informatiq Importé-10'!H246","v":0},null,0,0,0,0,0,0,null,null,0,0,0,0]
[241,{"$f":"'INVENT.Ma Informatiq Importé-10'!B247","v":0},{"$f":"'INVENT.Ma Informatiq Importé-10'!F247","v":0},{"$f":"'INVENT.Ma Informatiq Importé-10'!C247","v":0},{"$f":"'INVENT.Ma Informatiq Importé-10'!H247","v":0},null,0,0,0,0,0,0,null,null,0,0,0,0]
[242,{"$f":"'INVENT.Ma Informatiq Importé-10'!B248","v":0},{"$f":"'INVENT.Ma Informatiq Importé-10'!F248","v":0},{"$f":"'INVENT.Ma Informatiq Importé-10'!C248","v":0},{"$f":"'INVENT.Ma Informatiq Importé-10'!H248","v":0},null,0,0,0,0,0,0,null,null,0,0,0,0]
[{"$f":"+A249+1","v":243},{"$f":"'INVENT.Ma Informatiq Importé-10'!B249","v":0},{"$f":"'INVENT.Ma Informatiq Importé-10'!F249","v":0},{"$f":"'INVENT.Ma Informatiq Importé-10'!C249","v":0},{"$f":"'INVENT.Ma Informatiq Importé-10'!H249","v":0},null,{"$f":"F250*E250","v":0},0,0,0,{"$f":"(E250+G250+H250)*18%","v":0},{"$f":"SUM(G250:K250)+E250","v":0},null,null,{"$f":"(M250+N250)*18%","v":0},{"$f":"O250+N250+M250","v":0},{"$f":"+R250-O250-K250","v":0},{"$f":"P250+L250","v":0}]
[244,{"$f":"'INVENT.Ma Informatiq Importé-10'!B250","v":0},{"$f":"'INVENT.Ma Informatiq Importé-10'!F250","v":0},{"$f":"'INVENT.Ma Informatiq Importé-10'!C250","v":0},{"$f":"'INVENT.Ma Informatiq Importé-10'!H250","v":0},null,0,{"$f":"E251*1%","v":0},{"$f":"E251*1%","v":0},{"$f":"E251*0.5%","v":0},0,0,null,null,0,0,0,0]
[245,{"$f":"'INVENT.Ma Informatiq Importé-10'!B251","v":0},{"$f":"'INVENT.Ma Informatiq Importé-10'!F251","v":0},{"$f":"'INVENT.Ma Informatiq Importé-10'!C251","v":0},{"$f":"'INVENT.Ma Informatiq Importé-10'!H251","v":0},null,0,0,0,0,0,0,null,null,0,0,0,0]
[246,{"$f":"'INVENT.Ma Informatiq Importé-10'!B252","v":0},{"$f":"'INVENT.Ma Informatiq Importé-10'!F252","v":0},{"$f":"'INVENT.Ma Informatiq Importé-10'!C252","v":0},{"$f":"'INVENT.Ma Informatiq Importé-10'!H252","v":0},null,0,0,0,0,0,0,null,null,0,0,0,0]
[247,{"$f":"'INVENT.Ma Informatiq Importé-10'!B253","v":0},{"$f":"'INVENT.Ma Informatiq Importé-10'!F253","v":0},{"$f":"'INVENT.Ma Informatiq Importé-10'!C253","v":0},{"$f":"'INVENT.Ma Informatiq Importé-10'!H253","v":0},null,0,0,0,0,0,0,null,null,0,0,0,0]
[248,{"$f":"'INVENT.Ma Informatiq Importé-10'!B254","v":0},{"$f":"'INVENT.Ma Informatiq Importé-10'!F254","v":0},{"$f":"'INVENT.Ma Informatiq Importé-10'!C254","v":0},{"$f":"'INVENT.Ma Informatiq Importé-10'!H254","v":0},null,0,0,0,0,0,0,null,null,0,0,0,0]
[249,{"$f":"'INVENT.Ma Informatiq Importé-10'!B255","v":0},{"$f":"'INVENT.Ma Informatiq Importé-10'!F255","v":0},{"$f":"'INVENT.Ma Informatiq Importé-10'!C255","v":0},{"$f":"'INVENT.Ma Informatiq Importé-10'!H255","v":0},null,0,0,0,0,0,0,null,null,0,0,0,0]
[250,{"$f":"'INVENT.Ma Informatiq Importé-10'!B256","v":0},{"$f":"'INVENT.Ma Informatiq Importé-10'!F256","v":0},{"$f":"'INVENT.Ma Informatiq Importé-10'!C256","v":0},{"$f":"'INVENT.Ma Informatiq Importé-10'!H256","v":0},null,0,0,0,0,0,0,null,null,0,0,0,0]
[251,{"$f":"'INVENT.Ma Informatiq Importé-10'!B257","v":0},{"$f":"'INVENT.Ma Informatiq Importé-10'!F257","v":0},{"$f":"'INVENT.Ma Informatiq Importé-10'!C257","v":0},{"$f":"'INVENT.Ma Informatiq Importé-10'!H257","v":0},null,0,0,0,0,0,0,null,null,0,0,0,0]
[252,{"$f":"'INVENT.Ma Informatiq Importé-10'!B258","v":0},{"$f":"'INVENT.Ma Informatiq Importé-10'!F258","v":0},{"$f":"'INVENT.Ma Informatiq Importé-10'!C258","v":0},{"$f":"'INVENT.Ma Informatiq Importé-10'!H258","v":0},null,0,0,0,0,0,0,null,null,0,0,0,0]
[253,{"$f":"'INVENT.Ma Informatiq Importé-10'!B259","v":0},{"$f":"'INVENT.Ma Informatiq Importé-10'!F259","v":0},{"$f":"'INVENT.Ma Informatiq Importé-10'!C259","v":0},{"$f":"'INVENT.Ma Informatiq Importé-10'!H259","v":0},null,0,0,0,0,0,0,null,null,0,0,0,0]
[254,{"$f":"'INVENT.Ma Informatiq Importé-10'!B260","v":0},{"$f":"'INVENT.Ma Informatiq Importé-10'!F260","v":0},{"$f":"'INVENT.Ma Informatiq Importé-10'!C260","v":0},{"$f":"'INVENT.Ma Informatiq Importé-10'!H260","v":0},null,0,0,0,0,0,0,null,null,0,0,0,0]
[255,{"$f":"'INVENT.Ma Informatiq Importé-10'!B261","v":0},{"$f":"'INVENT.Ma Informatiq Importé-10'!F261","v":0},{"$f":"'INVENT.Ma Informatiq Importé-10'!C261","v":0},{"$f":"'INVENT.Ma Informatiq Importé-10'!H261","v":0},null,0,0,0,0,0,0,null,null,0,0,0,0]
[256,{"$f":"'INVENT.Ma Informatiq Importé-10'!B262","v":0},{"$f":"'INVENT.Ma Informatiq Importé-10'!F262","v":0},{"$f":"'INVENT.Ma Informatiq Importé-10'!C262","v":0},{"$f":"'INVENT.Ma Informatiq Importé-10'!H262","v":0},null,0,0,0,0,0,0,null,null,0,0,0,0]
[257,{"$f":"'INVENT.Ma Informatiq Importé-10'!B263","v":0},{"$f":"'INVENT.Ma Informatiq Importé-10'!F263","v":0},{"$f":"'INVENT.Ma Informatiq Importé-10'!C263","v":0},{"$f":"'INVENT.Ma Informatiq Importé-10'!H263","v":0},null,0,0,0,0,0,0,null,null,0,0,0,0]
[258,{"$f":"'INVENT.Ma Informatiq Importé-10'!B264","v":0},{"$f":"'INVENT.Ma Informatiq Importé-10'!F264","v":0},{"$f":"'INVENT.Ma Informatiq Importé-10'!C264","v":0},{"$f":"'INVENT.Ma Informatiq Importé-10'!H264","v":0},null,0,0,0,0,0,0,null,null,0,0,0,0]
[259,{"$f":"'INVENT.Ma Informatiq Importé-10'!B265","v":0},{"$f":"'INVENT.Ma Informatiq Importé-10'!F265","v":0},{"$f":"'INVENT.Ma Informatiq Importé-10'!C265","v":0},{"$f":"'INVENT.Ma Informatiq Importé-10'!H265","v":0},null,0,0,0,0,0,0,null,null,0,0,0,0]
[260,{"$f":"'INVENT.Ma Informatiq Importé-10'!B266","v":0},{"$f":"'INVENT.Ma Informatiq Importé-10'!F266","v":0},{"$f":"'INVENT.Ma Informatiq Importé-10'!C266","v":0},{"$f":"'INVENT.Ma Informatiq Importé-10'!H266","v":0},null,0,0,0,0,0,0,null,null,0,0,0,0]
[261,{"$f":"'INVENT.Ma Informatiq Importé-10'!B267","v":0},{"$f":"'INVENT.Ma Informatiq Importé-10'!F267","v":0},{"$f":"'INVENT.Ma Informatiq Importé-10'!C267","v":0},{"$f":"'INVENT.Ma Informatiq Importé-10'!H267","v":0},null,0,0,0,0,0,0,null,null,0,0,0,0]
[262,{"$f":"'INVENT.Ma Informatiq Importé-10'!B268","v":0},{"$f":"'INVENT.Ma Informatiq Importé-10'!F268","v":0},{"$f":"'INVENT.Ma Informatiq Importé-10'!C268","v":0},{"$f":"'INVENT.Ma Informatiq Importé-10'!H268","v":0},null,0,0,0,0,0,0,null,null,0,0,0,0]
[263,{"$f":"'INVENT.Ma Informatiq Importé-10'!B269","v":0},{"$f":"'INVENT.Ma Informatiq Importé-10'!F269","v":0},{"$f":"'INVENT.Ma Informatiq Importé-10'!C269","v":0},{"$f":"'INVENT.Ma Informatiq Importé-10'!H269","v":0},null,0,0,0,0,0,0,null,null,0,0,0,0]
[264,{"$f":"'INVENT.Ma Informatiq Importé-10'!B270","v":0},{"$f":"'INVENT.Ma Informatiq Importé-10'!F270","v":0},{"$f":"'INVENT.Ma Informatiq Importé-10'!C270","v":0},{"$f":"'INVENT.Ma Informatiq Importé-10'!H270","v":0},null,0,0,0,0,0,0,null,null,0,0,0,0]
[265,{"$f":"'INVENT.Ma Informatiq Importé-10'!B271","v":0},{"$f":"'INVENT.Ma Informatiq Importé-10'!F271","v":0},{"$f":"'INVENT.Ma Informatiq Importé-10'!C271","v":0},{"$f":"'INVENT.Ma Informatiq Importé-10'!H271","v":0},null,0,0,0,0,0,0,null,null,0,0,0,0]
[266,{"$f":"'INVENT.Ma Informatiq Importé-10'!B272","v":0},{"$f":"'INVENT.Ma Informatiq Importé-10'!F272","v":0},{"$f":"'INVENT.Ma Informatiq Importé-10'!C272","v":0},{"$f":"'INVENT.Ma Informatiq Importé-10'!H272","v":0},null,0,0,0,0,0,0,null,null,0,0,0,0]
[267,{"$f":"'INVENT.Ma Informatiq Importé-10'!B273","v":0},{"$f":"'INVENT.Ma Informatiq Importé-10'!F273","v":0},{"$f":"'INVENT.Ma Informatiq Importé-10'!C273","v":0},{"$f":"'INVENT.Ma Informatiq Importé-10'!H273","v":0},null,0,0,0,0,0,0,null,null,0,0,0,0]
[268,{"$f":"'INVENT.Ma Informatiq Importé-10'!B274","v":0},{"$f":"'INVENT.Ma Informatiq Importé-10'!F274","v":0},{"$f":"'INVENT.Ma Informatiq Importé-10'!C274","v":0},{"$f":"'INVENT.Ma Informatiq Importé-10'!H274","v":0},null,0,0,0,0,0,0,null,null,0,0,0,0]
[269,{"$f":"'INVENT.Ma Informatiq Importé-10'!B275","v":0},{"$f":"'INVENT.Ma Informatiq Importé-10'!F275","v":0},{"$f":"'INVENT.Ma Informatiq Importé-10'!C275","v":0},{"$f":"'INVENT.Ma Informatiq Importé-10'!H275","v":0},null,0,0,0,0,0,0,null,null,0,0,0,0]
[270,{"$f":"'INVENT.Ma Informatiq Importé-10'!B276","v":0},{"$f":"'INVENT.Ma Informatiq Importé-10'!F276","v":0},{"$f":"'INVENT.Ma Informatiq Importé-10'!C276","v":0},{"$f":"'INVENT.Ma Informatiq Importé-10'!H276","v":0},null,0,0,0,0,0,0,null,null,0,0,0,0]
[271,{"$f":"'INVENT.Ma Informatiq Importé-10'!B277","v":0},{"$f":"'INVENT.Ma Informatiq Importé-10'!F277","v":0},{"$f":"'INVENT.Ma Informatiq Importé-10'!C277","v":0},{"$f":"'INVENT.Ma Informatiq Importé-10'!H277","v":0},null,0,0,0,0,0,0,null,null,0,0,0,0]
[272,{"$f":"'INVENT.Ma Informatiq Importé-10'!B278","v":0},{"$f":"'INVENT.Ma Informatiq Importé-10'!F278","v":0},{"$f":"'INVENT.Ma Informatiq Importé-10'!C278","v":0},{"$f":"'INVENT.Ma Informatiq Importé-10'!H278","v":0},null,0,0,0,0,0,0,null,null,0,0,0,0]
[273,{"$f":"'INVENT.Ma Informatiq Importé-10'!B279","v":0},{"$f":"'INVENT.Ma Informatiq Importé-10'!F279","v":0},{"$f":"'INVENT.Ma Informatiq Importé-10'!C279","v":0},{"$f":"'INVENT.Ma Informatiq Importé-10'!H279","v":0},null,0,0,0,0,0,0,null,null,0,0,0,0]
[274,{"$f":"'INVENT.Ma Informatiq Importé-10'!B280","v":0},{"$f":"'INVENT.Ma Informatiq Importé-10'!F280","v":0},{"$f":"'INVENT.Ma Informatiq Importé-10'!C280","v":0},{"$f":"'INVENT.Ma Informatiq Importé-10'!H280","v":0},null,0,0,0,0,0,0,null,null,0,0,0,0]
[275,{"$f":"'INVENT.Ma Informatiq Importé-10'!B281","v":0},{"$f":"'INVENT.Ma Informatiq Importé-10'!F281","v":0},{"$f":"'INVENT.Ma Informatiq Importé-10'!C281","v":0},{"$f":"'INVENT.Ma Informatiq Importé-10'!H281","v":0},null,0,0,0,0,0,0,null,null,0,0,0,0]
[276,{"$f":"'INVENT.Ma Informatiq Importé-10'!B282","v":0},{"$f":"'INVENT.Ma Informatiq Importé-10'!F282","v":0},{"$f":"'INVENT.Ma Informatiq Importé-10'!C282","v":0},{"$f":"'INVENT.Ma Informatiq Importé-10'!H282","v":0},null,0,0,0,0,0,0,null,null,0,0,0,0]
[277,{"$f":"'INVENT.Ma Informatiq Importé-10'!B283","v":0},{"$f":"'INVENT.Ma Informatiq Importé-10'!F283","v":0},{"$f":"'INVENT.Ma Informatiq Importé-10'!C283","v":0},{"$f":"'INVENT.Ma Informatiq Importé-10'!H283","v":0},null,0,0,0,0,0,0,null,null,0,0,0,0]
[278,{"$f":"'INVENT.Ma Informatiq Importé-10'!B284","v":0},{"$f":"'INVENT.Ma Informatiq Importé-10'!F284","v":0},{"$f":"'INVENT.Ma Informatiq Importé-10'!C284","v":0},{"$f":"'INVENT.Ma Informatiq Importé-10'!H284","v":0},null,0,0,0,0,0,0,null,null,0,0,0,0]
[279,{"$f":"'INVENT.Ma Informatiq Importé-10'!B285","v":0},{"$f":"'INVENT.Ma Informatiq Importé-10'!F285","v":0},{"$f":"'INVENT.Ma Informatiq Importé-10'!C285","v":0},{"$f":"'INVENT.Ma Informatiq Importé-10'!H285","v":0},null,0,0,0,0,0,0,null,null,0,0,0,0]
[280,{"$f":"'INVENT.Ma Informatiq Importé-10'!B286","v":0},{"$f":"'INVENT.Ma Informatiq Importé-10'!F286","v":0},{"$f":"'INVENT.Ma Informatiq Importé-10'!C286","v":0},{"$f":"'INVENT.Ma Informatiq Importé-10'!H286","v":0},null,0,0,0,0,0,0,null,null,0,0,0,0]
[281,{"$f":"'INVENT.Ma Informatiq Importé-10'!B287","v":0},{"$f":"'INVENT.Ma Informatiq Importé-10'!F287","v":0},{"$f":"'INVENT.Ma Informatiq Importé-10'!C287","v":0},{"$f":"'INVENT.Ma Informatiq Importé-10'!H287","v":0},null,0,0,0,0,0,0,null,null,0,0,0,0]
[282,{"$f":"'INVENT.Ma Informatiq Importé-10'!B288","v":0},{"$f":"'INVENT.Ma Informatiq Importé-10'!F288","v":0},{"$f":"'INVENT.Ma Informatiq Importé-10'!C288","v":0},{"$f":"'INVENT.Ma Informatiq Importé-10'!H288","v":0},null,0,0,0,0,0,0,null,null,0,0,0,0]
[283,{"$f":"'INVENT.Ma Informatiq Importé-10'!B289","v":0},{"$f":"'INVENT.Ma Informatiq Importé-10'!F289","v":0},{"$f":"'INVENT.Ma Informatiq Importé-10'!C289","v":0},{"$f":"'INVENT.Ma Informatiq Importé-10'!H289","v":0},null,0,0,0,0,0,0,null,null,0,0,0,0]
[284,{"$f":"'INVENT.Ma Informatiq Importé-10'!B290","v":0},{"$f":"'INVENT.Ma Informatiq Importé-10'!F290","v":0},{"$f":"'INVENT.Ma Informatiq Importé-10'!C290","v":0},{"$f":"'INVENT.Ma Informatiq Importé-10'!H290","v":0},null,0,0,0,0,0,0,null,null,0,0,0,0]
[285,{"$f":"'INVENT.Ma Informatiq Importé-10'!B291","v":0},{"$f":"'INVENT.Ma Informatiq Importé-10'!F291","v":0},{"$f":"'INVENT.Ma Informatiq Importé-10'!C291","v":0},{"$f":"'INVENT.Ma Informatiq Importé-10'!H291","v":0},null,0,0,0,0,0,0,null,null,0,0,0,0]
[286,{"$f":"'INVENT.Ma Informatiq Importé-10'!B292","v":0},{"$f":"'INVENT.Ma Informatiq Importé-10'!F292","v":0},{"$f":"'INVENT.Ma Informatiq Importé-10'!C292","v":0},{"$f":"'INVENT.Ma Informatiq Importé-10'!H292","v":0},null,0,0,0,0,0,0,null,null,0,0,0,0]
[287,{"$f":"'INVENT.Ma Informatiq Importé-10'!B293","v":0},{"$f":"'INVENT.Ma Informatiq Importé-10'!F293","v":0},{"$f":"'INVENT.Ma Informatiq Importé-10'!C293","v":0},{"$f":"'INVENT.Ma Informatiq Importé-10'!H293","v":0},null,0,0,0,0,0,0,null,null,0,0,0,0]
[288,{"$f":"'INVENT.Ma Informatiq Importé-10'!B294","v":0},{"$f":"'INVENT.Ma Informatiq Importé-10'!F294","v":0},{"$f":"'INVENT.Ma Informatiq Importé-10'!C294","v":0},{"$f":"'INVENT.Ma Informatiq Importé-10'!H294","v":0},null,0,0,0,0,0,0,null,null,0,0,0,0]
[289,{"$f":"'INVENT.Ma Informatiq Importé-10'!B295","v":0},{"$f":"'INVENT.Ma Informatiq Importé-10'!F295","v":0},{"$f":"'INVENT.Ma Informatiq Importé-10'!C295","v":0},{"$f":"'INVENT.Ma Informatiq Importé-10'!H295","v":0},null,0,0,0,0,0,0,null,null,0,0,0,0]
[290,{"$f":"'INVENT.Ma Informatiq Importé-10'!B296","v":0},{"$f":"'INVENT.Ma Informatiq Importé-10'!F296","v":0},{"$f":"'INVENT.Ma Informatiq Importé-10'!C296","v":0},{"$f":"'INVENT.Ma Informatiq Importé-10'!H296","v":0},null,0,0,0,0,0,0,null,null,0,0,0,0]
[291,{"$f":"'INVENT.Ma Informatiq Importé-10'!B297","v":0},{"$f":"'INVENT.Ma Informatiq Importé-10'!F297","v":0},{"$f":"'INVENT.Ma Informatiq Importé-10'!C297","v":0},{"$f":"'INVENT.Ma Informatiq Importé-10'!H297","v":0},null,0,0,0,0,0,0,null,null,0,0,0,0]
[292,{"$f":"'INVENT.Ma Informatiq Importé-10'!B298","v":0},{"$f":"'INVENT.Ma Informatiq Importé-10'!F298","v":0},{"$f":"'INVENT.Ma Informatiq Importé-10'!C298","v":0},{"$f":"'INVENT.Ma Informatiq Importé-10'!H298","v":0},null,0,0,0,0,0,0,null,null,0,0,0,0]
[293,{"$f":"'INVENT.Ma Informatiq Importé-10'!B299","v":0},{"$f":"'INVENT.Ma Informatiq Importé-10'!F299","v":0},{"$f":"'INVENT.Ma Informatiq Importé-10'!C299","v":0},{"$f":"'INVENT.Ma Informatiq Importé-10'!H299","v":0},null,0,0,0,0,0,0,null,null,0,0,0,0]
[294,{"$f":"'INVENT.Ma Informatiq Importé-10'!B300","v":0},{"$f":"'INVENT.Ma Informatiq Importé-10'!F300","v":0},{"$f":"'INVENT.Ma Informatiq Importé-10'!C300","v":0},{"$f":"'INVENT.Ma Informatiq Importé-10'!H300","v":0},null,0,0,0,0,0,0,null,null,0,0,0,0]
[295,{"$f":"'INVENT.Ma Informatiq Importé-10'!B301","v":0},{"$f":"'INVENT.Ma Informatiq Importé-10'!F301","v":0},{"$f":"'INVENT.Ma Informatiq Importé-10'!C301","v":0},{"$f":"'INVENT.Ma Informatiq Importé-10'!H301","v":0},null,0,0,0,0,0,0,null,null,0,0,0,0]
[296,{"$f":"'INVENT.Ma Informatiq Importé-10'!B302","v":0},{"$f":"'INVENT.Ma Informatiq Importé-10'!F302","v":0},{"$f":"'INVENT.Ma Informatiq Importé-10'!C302","v":0},{"$f":"'INVENT.Ma Informatiq Importé-10'!H302","v":0},null,0,0,0,0,0,0,null,null,0,0,0,0]
[297,{"$f":"'INVENT.Ma Informatiq Importé-10'!B303","v":0},{"$f":"'INVENT.Ma Informatiq Importé-10'!F303","v":0},{"$f":"'INVENT.Ma Informatiq Importé-10'!C303","v":0},{"$f":"'INVENT.Ma Informatiq Importé-10'!H303","v":0},null,0,0,0,0,0,0,null,null,0,0,0,0]
[298,{"$f":"'INVENT.Ma Informatiq Importé-10'!B304","v":0},{"$f":"'INVENT.Ma Informatiq Importé-10'!F304","v":0},{"$f":"'INVENT.Ma Informatiq Importé-10'!C304","v":0},{"$f":"'INVENT.Ma Informatiq Importé-10'!H304","v":0},null,0,0,0,0,0,0,null,null,0,0,0,0]
[299,{"$f":"'INVENT.Ma Informatiq Importé-10'!B305","v":0},{"$f":"'INVENT.Ma Informatiq Importé-10'!F305","v":0},{"$f":"'INVENT.Ma Informatiq Importé-10'!C305","v":0},{"$f":"'INVENT.Ma Informatiq Importé-10'!H305","v":0},null,0,0,0,0,0,0,null,null,0,0,0,0]
[300,{"$f":"'INVENT.Ma Informatiq Importé-10'!B306","v":0},{"$f":"'INVENT.Ma Informatiq Importé-10'!F306","v":0},{"$f":"'INVENT.Ma Informatiq Importé-10'!C306","v":0},{"$f":"'INVENT.Ma Informatiq Importé-10'!H306","v":0},null,0,0,0,0,0,0,null,null,0,0,0,0]
[301,{"$f":"'INVENT.Ma Informatiq Importé-10'!B307","v":0},{"$f":"'INVENT.Ma Informatiq Importé-10'!F307","v":0},{"$f":"'INVENT.Ma Informatiq Importé-10'!C307","v":0},{"$f":"'INVENT.Ma Informatiq Importé-10'!H307","v":0},null,0,0,0,0,0,0,null,null,0,0,0,0]
[302,{"$f":"'INVENT.Ma Informatiq Importé-10'!B308","v":0},{"$f":"'INVENT.Ma Informatiq Importé-10'!F308","v":0},{"$f":"'INVENT.Ma Informatiq Importé-10'!C308","v":0},{"$f":"'INVENT.Ma Informatiq Importé-10'!H308","v":0},null,0,0,0,0,0,0,null,null,0,0,0,0]
[303,{"$f":"'INVENT.Ma Informatiq Importé-10'!B309","v":0},{"$f":"'INVENT.Ma Informatiq Importé-10'!F309","v":0},{"$f":"'INVENT.Ma Informatiq Importé-10'!C309","v":0},{"$f":"'INVENT.Ma Informatiq Importé-10'!H309","v":0},null,0,0,0,0,0,0,null,null,0,0,0,0]
[304,{"$f":"'INVENT.Ma Informatiq Importé-10'!B310","v":0},{"$f":"'INVENT.Ma Informatiq Importé-10'!F310","v":0},{"$f":"'INVENT.Ma Informatiq Importé-10'!C310","v":0},{"$f":"'INVENT.Ma Informatiq Importé-10'!H310","v":0},null,0,0,0,0,0,0,null,null,0,0,0,0]
[305,{"$f":"'INVENT.Ma Informatiq Importé-10'!B311","v":0},{"$f":"'INVENT.Ma Informatiq Importé-10'!F311","v":0},{"$f":"'INVENT.Ma Informatiq Importé-10'!C311","v":0},{"$f":"'INVENT.Ma Informatiq Importé-10'!H311","v":0},null,0,0,0,0,0,0,null,null,0,0,0,0]
[306,{"$f":"'INVENT.Ma Informatiq Importé-10'!B312","v":0},{"$f":"'INVENT.Ma Informatiq Importé-10'!F312","v":0},{"$f":"'INVENT.Ma Informatiq Importé-10'!C312","v":0},{"$f":"'INVENT.Ma Informatiq Importé-10'!H312","v":0},null,0,0,0,0,0,0,null,null,0,0,0,0]
[{"$f":"+A313+1","v":307},{"$f":"'INVENT.Ma Informatiq Importé-10'!B313","v":0},{"$f":"'INVENT.Ma Informatiq Importé-10'!F313","v":0},{"$f":"'INVENT.Ma Informatiq Importé-10'!C313","v":0},{"$f":"'INVENT.Ma Informatiq Importé-10'!H313","v":0},null,{"$f":"F314*E314","v":0},0,0,0,{"$f":"(E314+G314+H314)*18%","v":0},{"$f":"SUM(G314:K314)+E314","v":0},null,null,{"$f":"(M314+N314)*18%","v":0},{"$f":"O314+N314+M314","v":0},{"$f":"+R314-O314-K314","v":0},{"$f":"P314+L314","v":0}]
[308,{"$f":"'INVENT.Ma Informatiq Importé-10'!B314","v":0},{"$f":"'INVENT.Ma Informatiq Importé-10'!F314","v":0},{"$f":"'INVENT.Ma Informatiq Importé-10'!C314","v":0},{"$f":"'INVENT.Ma Informatiq Importé-10'!H314","v":0},null,0,{"$f":"E315*1%","v":0},{"$f":"E315*1%","v":0},{"$f":"E315*0.5%","v":0},0,0,null,null,0,0,0,0]
[309,{"$f":"'INVENT.Ma Informatiq Importé-10'!B315","v":0},{"$f":"'INVENT.Ma Informatiq Importé-10'!F315","v":0},{"$f":"'INVENT.Ma Informatiq Importé-10'!C315","v":0},{"$f":"'INVENT.Ma Informatiq Importé-10'!H315","v":0},null,0,0,0,0,0,0,null,null,0,0,0,0]
[310,{"$f":"'INVENT.Ma Informatiq Importé-10'!B316","v":0},{"$f":"'INVENT.Ma Informatiq Importé-10'!F316","v":0},{"$f":"'INVENT.Ma Informatiq Importé-10'!C316","v":0},{"$f":"'INVENT.Ma Informatiq Importé-10'!H316","v":0},null,0,0,0,0,0,0,null,null,0,0,0,0]
[311,{"$f":"'INVENT.Ma Informatiq Importé-10'!B317","v":0},{"$f":"'INVENT.Ma Informatiq Importé-10'!F317","v":0},{"$f":"'INVENT.Ma Informatiq Importé-10'!C317","v":0},{"$f":"'INVENT.Ma Informatiq Importé-10'!H317","v":0},null,0,0,0,0,0,0,null,null,0,0,0,0]
[312,{"$f":"'INVENT.Ma Informatiq Importé-10'!B318","v":0},{"$f":"'INVENT.Ma Informatiq Importé-10'!F318","v":0},{"$f":"'INVENT.Ma Informatiq Importé-10'!C318","v":0},{"$f":"'INVENT.Ma Informatiq Importé-10'!H318","v":0},null,0,0,0,0,0,0,null,null,0,0,0,0]
[313,{"$f":"'INVENT.Ma Informatiq Importé-10'!B319","v":0},{"$f":"'INVENT.Ma Informatiq Importé-10'!F319","v":0},{"$f":"'INVENT.Ma Informatiq Importé-10'!C319","v":0},{"$f":"'INVENT.Ma Informatiq Importé-10'!H319","v":0},null,0,0,0,0,0,0,null,null,0,0,0,0]
[314,{"$f":"'INVENT.Ma Informatiq Importé-10'!B320","v":0},{"$f":"'INVENT.Ma Informatiq Importé-10'!F320","v":0},{"$f":"'INVENT.Ma Informatiq Importé-10'!C320","v":0},{"$f":"'INVENT.Ma Informatiq Importé-10'!H320","v":0},null,0,0,0,0,0,0,null,null,0,0,0,0]
[315,{"$f":"'INVENT.Ma Informatiq Importé-10'!B321","v":0},{"$f":"'INVENT.Ma Informatiq Importé-10'!F321","v":0},{"$f":"'INVENT.Ma Informatiq Importé-10'!C321","v":0},{"$f":"'INVENT.Ma Informatiq Importé-10'!H321","v":0},null,0,0,0,0,0,0,null,null,0,0,0,0]
[316,{"$f":"'INVENT.Ma Informatiq Importé-10'!B322","v":0},{"$f":"'INVENT.Ma Informatiq Importé-10'!F322","v":0},{"$f":"'INVENT.Ma Informatiq Importé-10'!C322","v":0},{"$f":"'INVENT.Ma Informatiq Importé-10'!H322","v":0},null,0,0,0,0,0,0,null,null,0,0,0,0]
[317,{"$f":"'INVENT.Ma Informatiq Importé-10'!B323","v":0},{"$f":"'INVENT.Ma Informatiq Importé-10'!F323","v":0},{"$f":"'INVENT.Ma Informatiq Importé-10'!C323","v":0},{"$f":"'INVENT.Ma Informatiq Importé-10'!H323","v":0},null,0,0,0,0,0,0,null,null,0,0,0,0]
[318,{"$f":"'INVENT.Ma Informatiq Importé-10'!B324","v":0},{"$f":"'INVENT.Ma Informatiq Importé-10'!F324","v":0},{"$f":"'INVENT.Ma Informatiq Importé-10'!C324","v":0},{"$f":"'INVENT.Ma Informatiq Importé-10'!H324","v":0},null,0,0,0,0,0,0,null,null,0,0,0,0]
[319,{"$f":"'INVENT.Ma Informatiq Importé-10'!B325","v":0},{"$f":"'INVENT.Ma Informatiq Importé-10'!F325","v":0},{"$f":"'INVENT.Ma Informatiq Importé-10'!C325","v":0},{"$f":"'INVENT.Ma Informatiq Importé-10'!H325","v":0},null,0,0,0,0,0,0,null,null,0,0,0,0]
[320,{"$f":"'INVENT.Ma Informatiq Importé-10'!B326","v":0},{"$f":"'INVENT.Ma Informatiq Importé-10'!F326","v":0},{"$f":"'INVENT.Ma Informatiq Importé-10'!C326","v":0},{"$f":"'INVENT.Ma Informatiq Importé-10'!H326","v":0},null,0,0,0,0,0,0,null,null,0,0,0,0]
[321,{"$f":"'INVENT.Ma Informatiq Importé-10'!B327","v":0},{"$f":"'INVENT.Ma Informatiq Importé-10'!F327","v":0},{"$f":"'INVENT.Ma Informatiq Importé-10'!C327","v":0},{"$f":"'INVENT.Ma Informatiq Importé-10'!H327","v":0},null,0,0,0,0,0,0,null,null,0,0,0,0]
[322,{"$f":"'INVENT.Ma Informatiq Importé-10'!B328","v":0},{"$f":"'INVENT.Ma Informatiq Importé-10'!F328","v":0},{"$f":"'INVENT.Ma Informatiq Importé-10'!C328","v":0},{"$f":"'INVENT.Ma Informatiq Importé-10'!H328","v":0},null,0,0,0,0,0,0,null,null,0,0,0,0]
[323,{"$f":"'INVENT.Ma Informatiq Importé-10'!B329","v":0},{"$f":"'INVENT.Ma Informatiq Importé-10'!F329","v":0},{"$f":"'INVENT.Ma Informatiq Importé-10'!C329","v":0},{"$f":"'INVENT.Ma Informatiq Importé-10'!H329","v":0},null,0,0,0,0,0,0,null,null,0,0,0,0]
[324,{"$f":"'INVENT.Ma Informatiq Importé-10'!B330","v":0},{"$f":"'INVENT.Ma Informatiq Importé-10'!F330","v":0},{"$f":"'INVENT.Ma Informatiq Importé-10'!C330","v":0},{"$f":"'INVENT.Ma Informatiq Importé-10'!H330","v":0},null,0,0,0,0,0,0,null,null,0,0,0,0]
[325,{"$f":"'INVENT.Ma Informatiq Importé-10'!B331","v":0},{"$f":"'INVENT.Ma Informatiq Importé-10'!F331","v":0},{"$f":"'INVENT.Ma Informatiq Importé-10'!C331","v":0},{"$f":"'INVENT.Ma Informatiq Importé-10'!H331","v":0},null,0,0,0,0,0,0,null,null,0,0,0,0]
[326,{"$f":"'INVENT.Ma Informatiq Importé-10'!B332","v":0},{"$f":"'INVENT.Ma Informatiq Importé-10'!F332","v":0},{"$f":"'INVENT.Ma Informatiq Importé-10'!C332","v":0},{"$f":"'INVENT.Ma Informatiq Importé-10'!H332","v":0},null,0,0,0,0,0,0,null,null,0,0,0,0]
[327,{"$f":"'INVENT.Ma Informatiq Importé-10'!B333","v":0},{"$f":"'INVENT.Ma Informatiq Importé-10'!F333","v":0},{"$f":"'INVENT.Ma Informatiq Importé-10'!C333","v":0},{"$f":"'INVENT.Ma Informatiq Importé-10'!H333","v":0},null,0,0,0,0,0,0,null,null,0,0,0,0]
[328,{"$f":"'INVENT.Ma Informatiq Importé-10'!B334","v":0},{"$f":"'INVENT.Ma Informatiq Importé-10'!F334","v":0},{"$f":"'INVENT.Ma Informatiq Importé-10'!C334","v":0},{"$f":"'INVENT.Ma Informatiq Importé-10'!H334","v":0},null,0,0,0,0,0,0,null,null,0,0,0,0]
[329,{"$f":"'INVENT.Ma Informatiq Importé-10'!B335","v":0},{"$f":"'INVENT.Ma Informatiq Importé-10'!F335","v":0},{"$f":"'INVENT.Ma Informatiq Importé-10'!C335","v":0},{"$f":"'INVENT.Ma Informatiq Importé-10'!H335","v":0},null,0,0,0,0,0,0,null,null,0,0,0,0]
[330,{"$f":"'INVENT.Ma Informatiq Importé-10'!B336","v":0},{"$f":"'INVENT.Ma Informatiq Importé-10'!F336","v":0},{"$f":"'INVENT.Ma Informatiq Importé-10'!C336","v":0},{"$f":"'INVENT.Ma Informatiq Importé-10'!H336","v":0},null,0,0,0,0,0,0,null,null,0,0,0,0]
[331,{"$f":"'INVENT.Ma Informatiq Importé-10'!B337","v":0},{"$f":"'INVENT.Ma Informatiq Importé-10'!F337","v":0},{"$f":"'INVENT.Ma Informatiq Importé-10'!C337","v":0},{"$f":"'INVENT.Ma Informatiq Importé-10'!H337","v":0},null,0,0,0,0,0,0,null,null,0,0,0,0]
[332,{"$f":"'INVENT.Ma Informatiq Importé-10'!B338","v":0},{"$f":"'INVENT.Ma Informatiq Importé-10'!F338","v":0},{"$f":"'INVENT.Ma Informatiq Importé-10'!C338","v":0},{"$f":"'INVENT.Ma Informatiq Importé-10'!H338","v":0},null,0,0,0,0,0,0,null,null,0,0,0,0]
[333,{"$f":"'INVENT.Ma Informatiq Importé-10'!B339","v":0},{"$f":"'INVENT.Ma Informatiq Importé-10'!F339","v":0},{"$f":"'INVENT.Ma Informatiq Importé-10'!C339","v":0},{"$f":"'INVENT.Ma Informatiq Importé-10'!H339","v":0},null,0,0,0,0,0,0,null,null,0,0,0,0]
[334,{"$f":"'INVENT.Ma Informatiq Importé-10'!B340","v":0},{"$f":"'INVENT.Ma Informatiq Importé-10'!F340","v":0},{"$f":"'INVENT.Ma Informatiq Importé-10'!C340","v":0},{"$f":"'INVENT.Ma Informatiq Importé-10'!H340","v":0},null,0,0,0,0,0,0,null,null,0,0,0,0]
[335,{"$f":"'INVENT.Ma Informatiq Importé-10'!B341","v":0},{"$f":"'INVENT.Ma Informatiq Importé-10'!F341","v":0},{"$f":"'INVENT.Ma Informatiq Importé-10'!C341","v":0},{"$f":"'INVENT.Ma Informatiq Importé-10'!H341","v":0},null,0,0,0,0,0,0,null,null,0,0,0,0]
[336,{"$f":"'INVENT.Ma Informatiq Importé-10'!B342","v":0},{"$f":"'INVENT.Ma Informatiq Importé-10'!F342","v":0},{"$f":"'INVENT.Ma Informatiq Importé-10'!C342","v":0},{"$f":"'INVENT.Ma Informatiq Importé-10'!H342","v":0},null,0,0,0,0,0,0,null,null,0,0,0,0]
[337,{"$f":"'INVENT.Ma Informatiq Importé-10'!B343","v":0},{"$f":"'INVENT.Ma Informatiq Importé-10'!F343","v":0},{"$f":"'INVENT.Ma Informatiq Importé-10'!C343","v":0},{"$f":"'INVENT.Ma Informatiq Importé-10'!H343","v":0},null,0,0,0,0,0,0,null,null,0,0,0,0]
[338,{"$f":"'INVENT.Ma Informatiq Importé-10'!B344","v":0},{"$f":"'INVENT.Ma Informatiq Importé-10'!F344","v":0},{"$f":"'INVENT.Ma Informatiq Importé-10'!C344","v":0},{"$f":"'INVENT.Ma Informatiq Importé-10'!H344","v":0},null,0,0,0,0,0,0,null,null,0,0,0,0]
[339,{"$f":"'INVENT.Ma Informatiq Importé-10'!B345","v":0},{"$f":"'INVENT.Ma Informatiq Importé-10'!F345","v":0},{"$f":"'INVENT.Ma Informatiq Importé-10'!C345","v":0},{"$f":"'INVENT.Ma Informatiq Importé-10'!H345","v":0},null,0,0,0,0,0,0,null,null,0,0,0,0]
[340,{"$f":"'INVENT.Ma Informatiq Importé-10'!B346","v":0},{"$f":"'INVENT.Ma Informatiq Importé-10'!F346","v":0},{"$f":"'INVENT.Ma Informatiq Importé-10'!C346","v":0},{"$f":"'INVENT.Ma Informatiq Importé-10'!H346","v":0},null,0,0,0,0,0,0,null,null,0,0,0,0]
[341,{"$f":"'INVENT.Ma Informatiq Importé-10'!B347","v":0},{"$f":"'INVENT.Ma Informatiq Importé-10'!F347","v":0},{"$f":"'INVENT.Ma Informatiq Importé-10'!C347","v":0},{"$f":"'INVENT.Ma Informatiq Importé-10'!H347","v":0},null,0,0,0,0,0,0,null,null,0,0,0,0]
[342,{"$f":"'INVENT.Ma Informatiq Importé-10'!B348","v":0},{"$f":"'INVENT.Ma Informatiq Importé-10'!F348","v":0},{"$f":"'INVENT.Ma Informatiq Importé-10'!C348","v":0},{"$f":"'INVENT.Ma Informatiq Importé-10'!H348","v":0},null,0,0,0,0,0,0,null,null,0,0,0,0]
[343,{"$f":"'INVENT.Ma Informatiq Importé-10'!B349","v":0},{"$f":"'INVENT.Ma Informatiq Importé-10'!F349","v":0},{"$f":"'INVENT.Ma Informatiq Importé-10'!C349","v":0},{"$f":"'INVENT.Ma Informatiq Importé-10'!H349","v":0},null,0,0,0,0,0,0,null,null,0,0,0,0]
[344,{"$f":"'INVENT.Ma Informatiq Importé-10'!B350","v":0},{"$f":"'INVENT.Ma Informatiq Importé-10'!F350","v":0},{"$f":"'INVENT.Ma Informatiq Importé-10'!C350","v":0},{"$f":"'INVENT.Ma Informatiq Importé-10'!H350","v":0},null,0,0,0,0,0,0,null,null,0,0,0,0]
[345,{"$f":"'INVENT.Ma Informatiq Importé-10'!B351","v":0},{"$f":"'INVENT.Ma Informatiq Importé-10'!F351","v":0},{"$f":"'INVENT.Ma Informatiq Importé-10'!C351","v":0},{"$f":"'INVENT.Ma Informatiq Importé-10'!H351","v":0},null,0,0,0,0,0,0,null,null,0,0,0,0]
[346,{"$f":"'INVENT.Ma Informatiq Importé-10'!B352","v":0},{"$f":"'INVENT.Ma Informatiq Importé-10'!F352","v":0},{"$f":"'INVENT.Ma Informatiq Importé-10'!C352","v":0},{"$f":"'INVENT.Ma Informatiq Importé-10'!H352","v":0},null,0,0,0,0,0,0,null,null,0,0,0,0]
[347,{"$f":"'INVENT.Ma Informatiq Importé-10'!B353","v":0},{"$f":"'INVENT.Ma Informatiq Importé-10'!F353","v":0},{"$f":"'INVENT.Ma Informatiq Importé-10'!C353","v":0},{"$f":"'INVENT.Ma Informatiq Importé-10'!H353","v":0},null,0,0,0,0,0,0,null,null,0,0,0,0]
[348,{"$f":"'INVENT.Ma Informatiq Importé-10'!B354","v":0},{"$f":"'INVENT.Ma Informatiq Importé-10'!F354","v":0},{"$f":"'INVENT.Ma Informatiq Importé-10'!C354","v":0},{"$f":"'INVENT.Ma Informatiq Importé-10'!H354","v":0},null,0,0,0,0,0,0,null,null,0,0,0,0]
[349,{"$f":"'INVENT.Ma Informatiq Importé-10'!B355","v":0},{"$f":"'INVENT.Ma Informatiq Importé-10'!F355","v":0},{"$f":"'INVENT.Ma Informatiq Importé-10'!C355","v":0},{"$f":"'INVENT.Ma Informatiq Importé-10'!H355","v":0},null,0,0,0,0,0,0,null,null,0,0,0,0]
[350,{"$f":"'INVENT.Ma Informatiq Importé-10'!B356","v":0},{"$f":"'INVENT.Ma Informatiq Importé-10'!F356","v":0},{"$f":"'INVENT.Ma Informatiq Importé-10'!C356","v":0},{"$f":"'INVENT.Ma Informatiq Importé-10'!H356","v":0},null,0,0,0,0,0,0,null,null,0,0,0,0]
[351,{"$f":"'INVENT.Ma Informatiq Importé-10'!B357","v":0},{"$f":"'INVENT.Ma Informatiq Importé-10'!F357","v":0},{"$f":"'INVENT.Ma Informatiq Importé-10'!C357","v":0},{"$f":"'INVENT.Ma Informatiq Importé-10'!H357","v":0},null,0,0,0,0,0,0,null,null,0,0,0,0]
[352,{"$f":"'INVENT.Ma Informatiq Importé-10'!B358","v":0},{"$f":"'INVENT.Ma Informatiq Importé-10'!F358","v":0},{"$f":"'INVENT.Ma Informatiq Importé-10'!C358","v":0},{"$f":"'INVENT.Ma Informatiq Importé-10'!H358","v":0},null,0,0,0,0,0,0,null,null,0,0,0,0]
[353,{"$f":"'INVENT.Ma Informatiq Importé-10'!B359","v":0},{"$f":"'INVENT.Ma Informatiq Importé-10'!F359","v":0},{"$f":"'INVENT.Ma Informatiq Importé-10'!C359","v":0},{"$f":"'INVENT.Ma Informatiq Importé-10'!H359","v":0},null,0,0,0,0,0,0,null,null,0,0,0,0]
[354,{"$f":"'INVENT.Ma Informatiq Importé-10'!B360","v":0},{"$f":"'INVENT.Ma Informatiq Importé-10'!F360","v":0},{"$f":"'INVENT.Ma Informatiq Importé-10'!C360","v":0},{"$f":"'INVENT.Ma Informatiq Importé-10'!H360","v":0},null,0,0,0,0,0,0,null,null,0,0,0,0]
[355,{"$f":"'INVENT.Ma Informatiq Importé-10'!B361","v":0},{"$f":"'INVENT.Ma Informatiq Importé-10'!F361","v":0},{"$f":"'INVENT.Ma Informatiq Importé-10'!C361","v":0},{"$f":"'INVENT.Ma Informatiq Importé-10'!H361","v":0},null,0,0,0,0,0,0,null,null,0,0,0,0]
[356,{"$f":"'INVENT.Ma Informatiq Importé-10'!B362","v":0},{"$f":"'INVENT.Ma Informatiq Importé-10'!F362","v":0},{"$f":"'INVENT.Ma Informatiq Importé-10'!C362","v":0},{"$f":"'INVENT.Ma Informatiq Importé-10'!H362","v":0},null,0,0,0,0,0,0,null,null,0,0,0,0]
[357,{"$f":"'INVENT.Ma Informatiq Importé-10'!B363","v":0},{"$f":"'INVENT.Ma Informatiq Importé-10'!F363","v":0},{"$f":"'INVENT.Ma Informatiq Importé-10'!C363","v":0},{"$f":"'INVENT.Ma Informatiq Importé-10'!H363","v":0},null,0,0,0,0,0,0,null,null,0,0,0,0]
[358,{"$f":"'INVENT.Ma Informatiq Importé-10'!B364","v":0},{"$f":"'INVENT.Ma Informatiq Importé-10'!F364","v":0},{"$f":"'INVENT.Ma Informatiq Importé-10'!C364","v":0},{"$f":"'INVENT.Ma Informatiq Importé-10'!H364","v":0},null,0,0,0,0,0,0,null,null,0,0,0,0]
[359,{"$f":"'INVENT.Ma Informatiq Importé-10'!B365","v":0},{"$f":"'INVENT.Ma Informatiq Importé-10'!F365","v":0},{"$f":"'INVENT.Ma Informatiq Importé-10'!C365","v":0},{"$f":"'INVENT.Ma Informatiq Importé-10'!H365","v":0},null,0,0,0,0,0,0,null,null,0,0,0,0]
[360,{"$f":"'INVENT.Ma Informatiq Importé-10'!B366","v":0},{"$f":"'INVENT.Ma Informatiq Importé-10'!F366","v":0},{"$f":"'INVENT.Ma Informatiq Importé-10'!C366","v":0},{"$f":"'INVENT.Ma Informatiq Importé-10'!H366","v":0},null,0,0,0,0,0,0,null,null,0,0,0,0]
[361,{"$f":"'INVENT.Ma Informatiq Importé-10'!B367","v":0},{"$f":"'INVENT.Ma Informatiq Importé-10'!F367","v":0},{"$f":"'INVENT.Ma Informatiq Importé-10'!C367","v":0},{"$f":"'INVENT.Ma Informatiq Importé-10'!H367","v":0},null,0,0,0,0,0,0,null,null,0,0,0,0]
[362,{"$f":"'INVENT.Ma Informatiq Importé-10'!B368","v":0},{"$f":"'INVENT.Ma Informatiq Importé-10'!F368","v":0},{"$f":"'INVENT.Ma Informatiq Importé-10'!C368","v":0},{"$f":"'INVENT.Ma Informatiq Importé-10'!H368","v":0},null,0,0,0,0,0,0,null,null,0,0,0,0]
[363,{"$f":"'INVENT.Ma Informatiq Importé-10'!B369","v":0},{"$f":"'INVENT.Ma Informatiq Importé-10'!F369","v":0},{"$f":"'INVENT.Ma Informatiq Importé-10'!C369","v":0},{"$f":"'INVENT.Ma Informatiq Importé-10'!H369","v":0},null,0,0,0,0,0,0,null,null,0,0,0,0]
[364,{"$f":"'INVENT.Ma Informatiq Importé-10'!B370","v":0},{"$f":"'INVENT.Ma Informatiq Importé-10'!F370","v":0},{"$f":"'INVENT.Ma Informatiq Importé-10'!C370","v":0},{"$f":"'INVENT.Ma Informatiq Importé-10'!H370","v":0},null,0,0,0,0,0,0,null,null,0,0,0,0]
[365,{"$f":"'INVENT.Ma Informatiq Importé-10'!B371","v":0},{"$f":"'INVENT.Ma Informatiq Importé-10'!F371","v":0},{"$f":"'INVENT.Ma Informatiq Importé-10'!C371","v":0},{"$f":"'INVENT.Ma Informatiq Importé-10'!H371","v":0},null,0,0,0,0,0,0,null,null,0,0,0,0]
[366,{"$f":"'INVENT.Ma Informatiq Importé-10'!B372","v":0},{"$f":"'INVENT.Ma Informatiq Importé-10'!F372","v":0},{"$f":"'INVENT.Ma Informatiq Importé-10'!C372","v":0},{"$f":"'INVENT.Ma Informatiq Importé-10'!H372","v":0},null,0,0,0,0,0,0,null,null,0,0,0,0]
[367,{"$f":"'INVENT.Ma Informatiq Importé-10'!B373","v":0},{"$f":"'INVENT.Ma Informatiq Importé-10'!F373","v":0},{"$f":"'INVENT.Ma Informatiq Importé-10'!C373","v":0},{"$f":"'INVENT.Ma Informatiq Importé-10'!H373","v":0},null,0,0,0,0,0,0,null,null,0,0,0,0]
[368,{"$f":"'INVENT.Ma Informatiq Importé-10'!B374","v":0},{"$f":"'INVENT.Ma Informatiq Importé-10'!F374","v":0},{"$f":"'INVENT.Ma Informatiq Importé-10'!C374","v":0},{"$f":"'INVENT.Ma Informatiq Importé-10'!H374","v":0},null,0,0,0,0,0,0,null,null,0,0,0,0]
[369,{"$f":"'INVENT.Ma Informatiq Importé-10'!B375","v":0},{"$f":"'INVENT.Ma Informatiq Importé-10'!F375","v":0},{"$f":"'INVENT.Ma Informatiq Importé-10'!C375","v":0},{"$f":"'INVENT.Ma Informatiq Importé-10'!H375","v":0},null,0,0,0,0,0,0,null,null,0,0,0,0]
[370,{"$f":"'INVENT.Ma Informatiq Importé-10'!B376","v":0},{"$f":"'INVENT.Ma Informatiq Importé-10'!F376","v":0},{"$f":"'INVENT.Ma Informatiq Importé-10'!C376","v":0},{"$f":"'INVENT.Ma Informatiq Importé-10'!H376","v":0},null,0,0,0,0,0,0,null,null,0,0,0,0]
[{"$f":"+A377+1","v":371},{"$f":"'INVENT.Ma Informatiq Importé-10'!B377","v":0},{"$f":"'INVENT.Ma Informatiq Importé-10'!F377","v":0},{"$f":"'INVENT.Ma Informatiq Importé-10'!C377","v":0},{"$f":"'INVENT.Ma Informatiq Importé-10'!H377","v":0},null,{"$f":"F378*E378","v":0},0,0,0,{"$f":"(E378+G378+H378)*18%","v":0},{"$f":"SUM(G378:K378)+E378","v":0},null,null,{"$f":"(M378+N378)*18%","v":0},{"$f":"O378+N378+M378","v":0},{"$f":"+R378-O378-K378","v":0},{"$f":"P378+L378","v":0}]
[372,{"$f":"'INVENT.Ma Informatiq Importé-10'!B378","v":0},{"$f":"'INVENT.Ma Informatiq Importé-10'!F378","v":0},{"$f":"'INVENT.Ma Informatiq Importé-10'!C378","v":0},{"$f":"'INVENT.Ma Informatiq Importé-10'!H378","v":0},null,0,{"$f":"E379*1%","v":0},{"$f":"E379*1%","v":0},{"$f":"E379*0.5%","v":0},0,0,null,null,0,0,0,0]
[373,{"$f":"'INVENT.Ma Informatiq Importé-10'!B379","v":0},{"$f":"'INVENT.Ma Informatiq Importé-10'!F379","v":0},{"$f":"'INVENT.Ma Informatiq Importé-10'!C379","v":0},{"$f":"'INVENT.Ma Informatiq Importé-10'!H379","v":0},null,0,0,0,0,0,0,null,null,0,0,0,0]
[374,{"$f":"'INVENT.Ma Informatiq Importé-10'!B380","v":0},{"$f":"'INVENT.Ma Informatiq Importé-10'!F380","v":0},{"$f":"'INVENT.Ma Informatiq Importé-10'!C380","v":0},{"$f":"'INVENT.Ma Informatiq Importé-10'!H380","v":0},null,0,0,0,0,0,0,null,null,0,0,0,0]
[375,{"$f":"'INVENT.Ma Informatiq Importé-10'!B381","v":0},{"$f":"'INVENT.Ma Informatiq Importé-10'!F381","v":0},{"$f":"'INVENT.Ma Informatiq Importé-10'!C381","v":0},{"$f":"'INVENT.Ma Informatiq Importé-10'!H381","v":0},null,0,0,0,0,0,0,null,null,0,0,0,0]
[376,{"$f":"'INVENT.Ma Informatiq Importé-10'!B382","v":0},{"$f":"'INVENT.Ma Informatiq Importé-10'!F382","v":0},{"$f":"'INVENT.Ma Informatiq Importé-10'!C382","v":0},{"$f":"'INVENT.Ma Informatiq Importé-10'!H382","v":0},null,0,0,0,0,0,0,null,null,0,0,0,0]
[377,{"$f":"'INVENT.Ma Informatiq Importé-10'!B383","v":0},{"$f":"'INVENT.Ma Informatiq Importé-10'!F383","v":0},{"$f":"'INVENT.Ma Informatiq Importé-10'!C383","v":0},{"$f":"'INVENT.Ma Informatiq Importé-10'!H383","v":0},null,0,0,0,0,0,0,null,null,0,0,0,0]
[378,{"$f":"'INVENT.Ma Informatiq Importé-10'!B384","v":0},{"$f":"'INVENT.Ma Informatiq Importé-10'!F384","v":0},{"$f":"'INVENT.Ma Informatiq Importé-10'!C384","v":0},{"$f":"'INVENT.Ma Informatiq Importé-10'!H384","v":0},null,0,0,0,0,0,0,null,null,0,0,0,0]
[379,{"$f":"'INVENT.Ma Informatiq Importé-10'!B385","v":0},{"$f":"'INVENT.Ma Informatiq Importé-10'!F385","v":0},{"$f":"'INVENT.Ma Informatiq Importé-10'!C385","v":0},{"$f":"'INVENT.Ma Informatiq Importé-10'!H385","v":0},null,0,0,0,0,0,0,null,null,0,0,0,0]
[380,{"$f":"'INVENT.Ma Informatiq Importé-10'!B386","v":0},{"$f":"'INVENT.Ma Informatiq Importé-10'!F386","v":0},{"$f":"'INVENT.Ma Informatiq Importé-10'!C386","v":0},{"$f":"'INVENT.Ma Informatiq Importé-10'!H386","v":0},null,0,0,0,0,0,0,null,null,0,0,0,0]
[381,{"$f":"'INVENT.Ma Informatiq Importé-10'!B387","v":0},{"$f":"'INVENT.Ma Informatiq Importé-10'!F387","v":0},{"$f":"'INVENT.Ma Informatiq Importé-10'!C387","v":0},{"$f":"'INVENT.Ma Informatiq Importé-10'!H387","v":0},null,0,0,0,0,0,0,null,null,0,0,0,0]
[382,{"$f":"'INVENT.Ma Informatiq Importé-10'!B388","v":0},{"$f":"'INVENT.Ma Informatiq Importé-10'!F388","v":0},{"$f":"'INVENT.Ma Informatiq Importé-10'!C388","v":0},{"$f":"'INVENT.Ma Informatiq Importé-10'!H388","v":0},null,0,0,0,0,0,0,null,null,0,0,0,0]
[383,{"$f":"'INVENT.Ma Informatiq Importé-10'!B389","v":0},{"$f":"'INVENT.Ma Informatiq Importé-10'!F389","v":0},{"$f":"'INVENT.Ma Informatiq Importé-10'!C389","v":0},{"$f":"'INVENT.Ma Informatiq Importé-10'!H389","v":0},null,0,0,0,0,0,0,null,null,0,0,0,0]
[384,{"$f":"'INVENT.Ma Informatiq Importé-10'!B390","v":0},{"$f":"'INVENT.Ma Informatiq Importé-10'!F390","v":0},{"$f":"'INVENT.Ma Informatiq Importé-10'!C390","v":0},{"$f":"'INVENT.Ma Informatiq Importé-10'!H390","v":0},null,0,0,0,0,0,0,null,null,0,0,0,0]
[385,{"$f":"'INVENT.Ma Informatiq Importé-10'!B391","v":0},{"$f":"'INVENT.Ma Informatiq Importé-10'!F391","v":0},{"$f":"'INVENT.Ma Informatiq Importé-10'!C391","v":0},{"$f":"'INVENT.Ma Informatiq Importé-10'!H391","v":0},null,0,0,0,0,0,0,null,null,0,0,0,0]
[386,{"$f":"'INVENT.Ma Informatiq Importé-10'!B392","v":0},{"$f":"'INVENT.Ma Informatiq Importé-10'!F392","v":0},{"$f":"'INVENT.Ma Informatiq Importé-10'!C392","v":0},{"$f":"'INVENT.Ma Informatiq Importé-10'!H392","v":0},null,0,0,0,0,0,0,null,null,0,0,0,0]
[387,{"$f":"'INVENT.Ma Informatiq Importé-10'!B393","v":0},{"$f":"'INVENT.Ma Informatiq Importé-10'!F393","v":0},{"$f":"'INVENT.Ma Informatiq Importé-10'!C393","v":0},{"$f":"'INVENT.Ma Informatiq Importé-10'!H393","v":0},null,0,0,0,0,0,0,null,null,0,0,0,0]
[388,{"$f":"'INVENT.Ma Informatiq Importé-10'!B394","v":0},{"$f":"'INVENT.Ma Informatiq Importé-10'!F394","v":0},{"$f":"'INVENT.Ma Informatiq Importé-10'!C394","v":0},{"$f":"'INVENT.Ma Informatiq Importé-10'!H394","v":0},null,0,0,0,0,0,0,null,null,0,0,0,0]
[389,{"$f":"'INVENT.Ma Informatiq Importé-10'!B395","v":0},{"$f":"'INVENT.Ma Informatiq Importé-10'!F395","v":0},{"$f":"'INVENT.Ma Informatiq Importé-10'!C395","v":0},{"$f":"'INVENT.Ma Informatiq Importé-10'!H395","v":0},null,0,0,0,0,0,0,null,null,0,0,0,0]
[390,{"$f":"'INVENT.Ma Informatiq Importé-10'!B396","v":0},{"$f":"'INVENT.Ma Informatiq Importé-10'!F396","v":0},{"$f":"'INVENT.Ma Informatiq Importé-10'!C396","v":0},{"$f":"'INVENT.Ma Informatiq Importé-10'!H396","v":0},null,0,0,0,0,0,0,null,null,0,0,0,0]
[391,{"$f":"'INVENT.Ma Informatiq Importé-10'!B397","v":0},{"$f":"'INVENT.Ma Informatiq Importé-10'!F397","v":0},{"$f":"'INVENT.Ma Informatiq Importé-10'!C397","v":0},{"$f":"'INVENT.Ma Informatiq Importé-10'!H397","v":0},null,0,0,0,0,0,0,null,null,0,0,0,0]
[392,{"$f":"'INVENT.Ma Informatiq Importé-10'!B398","v":0},{"$f":"'INVENT.Ma Informatiq Importé-10'!F398","v":0},{"$f":"'INVENT.Ma Informatiq Importé-10'!C398","v":0},{"$f":"'INVENT.Ma Informatiq Importé-10'!H398","v":0},null,0,0,0,0,0,0,null,null,0,0,0,0]
[393,{"$f":"'INVENT.Ma Informatiq Importé-10'!B399","v":0},{"$f":"'INVENT.Ma Informatiq Importé-10'!F399","v":0},{"$f":"'INVENT.Ma Informatiq Importé-10'!C399","v":0},{"$f":"'INVENT.Ma Informatiq Importé-10'!H399","v":0},null,0,0,0,0,0,0,null,null,0,0,0,0]
[394,{"$f":"'INVENT.Ma Informatiq Importé-10'!B400","v":0},{"$f":"'INVENT.Ma Informatiq Importé-10'!F400","v":0},{"$f":"'INVENT.Ma Informatiq Importé-10'!C400","v":0},{"$f":"'INVENT.Ma Informatiq Importé-10'!H400","v":0},null,0,0,0,0,0,0,null,null,0,0,0,0]
[395,{"$f":"'INVENT.Ma Informatiq Importé-10'!B401","v":0},{"$f":"'INVENT.Ma Informatiq Importé-10'!F401","v":0},{"$f":"'INVENT.Ma Informatiq Importé-10'!C401","v":0},{"$f":"'INVENT.Ma Informatiq Importé-10'!H401","v":0},null,0,0,0,0,0,0,null,null,0,0,0,0]
[396,{"$f":"'INVENT.Ma Informatiq Importé-10'!B402","v":0},{"$f":"'INVENT.Ma Informatiq Importé-10'!F402","v":0},{"$f":"'INVENT.Ma Informatiq Importé-10'!C402","v":0},{"$f":"'INVENT.Ma Informatiq Importé-10'!H402","v":0},null,0,0,0,0,0,0,null,null,0,0,0,0]
[397,{"$f":"'INVENT.Ma Informatiq Importé-10'!B403","v":0},{"$f":"'INVENT.Ma Informatiq Importé-10'!F403","v":0},{"$f":"'INVENT.Ma Informatiq Importé-10'!C403","v":0},{"$f":"'INVENT.Ma Informatiq Importé-10'!H403","v":0},null,0,0,0,0,0,0,null,null,0,0,0,0]
[398,{"$f":"'INVENT.Ma Informatiq Importé-10'!B404","v":0},{"$f":"'INVENT.Ma Informatiq Importé-10'!F404","v":0},{"$f":"'INVENT.Ma Informatiq Importé-10'!C404","v":0},{"$f":"'INVENT.Ma Informatiq Importé-10'!H404","v":0},null,0,0,0,0,0,0,null,null,0,0,0,0]
[399,{"$f":"'INVENT.Ma Informatiq Importé-10'!B405","v":0},{"$f":"'INVENT.Ma Informatiq Importé-10'!F405","v":0},{"$f":"'INVENT.Ma Informatiq Importé-10'!C405","v":0},{"$f":"'INVENT.Ma Informatiq Importé-10'!H405","v":0},null,0,0,0,0,0,0,null,null,0,0,0,0]
[400,{"$f":"'INVENT.Ma Informatiq Importé-10'!B406","v":0},{"$f":"'INVENT.Ma Informatiq Importé-10'!F406","v":0},{"$f":"'INVENT.Ma Informatiq Importé-10'!C406","v":0},{"$f":"'INVENT.Ma Informatiq Importé-10'!H406","v":0},null,0,0,0,0,0,0,null,null,0,0,0,0]
[401,{"$f":"'INVENT.Ma Informatiq Importé-10'!B407","v":0},{"$f":"'INVENT.Ma Informatiq Importé-10'!F407","v":0},{"$f":"'INVENT.Ma Informatiq Importé-10'!C407","v":0},{"$f":"'INVENT.Ma Informatiq Importé-10'!H407","v":0},null,0,0,0,0,0,0,null,null,0,0,0,0]
[402,{"$f":"'INVENT.Ma Informatiq Importé-10'!B408","v":0},{"$f":"'INVENT.Ma Informatiq Importé-10'!F408","v":0},{"$f":"'INVENT.Ma Informatiq Importé-10'!C408","v":0},{"$f":"'INVENT.Ma Informatiq Importé-10'!H408","v":0},null,0,0,0,0,0,0,null,null,0,0,0,0]
[403,{"$f":"'INVENT.Ma Informatiq Importé-10'!B409","v":0},{"$f":"'INVENT.Ma Informatiq Importé-10'!F409","v":0},{"$f":"'INVENT.Ma Informatiq Importé-10'!C409","v":0},{"$f":"'INVENT.Ma Informatiq Importé-10'!H409","v":0},null,0,0,0,0,0,0,null,null,0,0,0,0]
[404,{"$f":"'INVENT.Ma Informatiq Importé-10'!B410","v":0},{"$f":"'INVENT.Ma Informatiq Importé-10'!F410","v":0},{"$f":"'INVENT.Ma Informatiq Importé-10'!C410","v":0},{"$f":"'INVENT.Ma Informatiq Importé-10'!H410","v":0},null,0,0,0,0,0,0,null,null,0,0,0,0]
[405,{"$f":"'INVENT.Ma Informatiq Importé-10'!B411","v":0},{"$f":"'INVENT.Ma Informatiq Importé-10'!F411","v":0},{"$f":"'INVENT.Ma Informatiq Importé-10'!C411","v":0},{"$f":"'INVENT.Ma Informatiq Importé-10'!H411","v":0},null,0,0,0,0,0,0,null,null,0,0,0,0]
[406,{"$f":"'INVENT.Ma Informatiq Importé-10'!B412","v":0},{"$f":"'INVENT.Ma Informatiq Importé-10'!F412","v":0},{"$f":"'INVENT.Ma Informatiq Importé-10'!C412","v":0},{"$f":"'INVENT.Ma Informatiq Importé-10'!H412","v":0},null,0,0,0,0,0,0,null,null,0,0,0,0]
[407,{"$f":"'INVENT.Ma Informatiq Importé-10'!B413","v":0},{"$f":"'INVENT.Ma Informatiq Importé-10'!F413","v":0},{"$f":"'INVENT.Ma Informatiq Importé-10'!C413","v":0},{"$f":"'INVENT.Ma Informatiq Importé-10'!H413","v":0},null,0,0,0,0,0,0,null,null,0,0,0,0]
[408,{"$f":"'INVENT.Ma Informatiq Importé-10'!B414","v":0},{"$f":"'INVENT.Ma Informatiq Importé-10'!F414","v":0},{"$f":"'INVENT.Ma Informatiq Importé-10'!C414","v":0},{"$f":"'INVENT.Ma Informatiq Importé-10'!H414","v":0},null,0,0,0,0,0,0,null,null,0,0,0,0]
[409,{"$f":"'INVENT.Ma Informatiq Importé-10'!B415","v":0},{"$f":"'INVENT.Ma Informatiq Importé-10'!F415","v":0},{"$f":"'INVENT.Ma Informatiq Importé-10'!C415","v":0},{"$f":"'INVENT.Ma Informatiq Importé-10'!H415","v":0},null,0,0,0,0,0,0,null,null,0,0,0,0]
[410,{"$f":"'INVENT.Ma Informatiq Importé-10'!B416","v":0},{"$f":"'INVENT.Ma Informatiq Importé-10'!F416","v":0},{"$f":"'INVENT.Ma Informatiq Importé-10'!C416","v":0},{"$f":"'INVENT.Ma Informatiq Importé-10'!H416","v":0},null,0,0,0,0,0,0,null,null,0,0,0,0]
[411,{"$f":"'INVENT.Ma Informatiq Importé-10'!B417","v":0},{"$f":"'INVENT.Ma Informatiq Importé-10'!F417","v":0},{"$f":"'INVENT.Ma Informatiq Importé-10'!C417","v":0},{"$f":"'INVENT.Ma Informatiq Importé-10'!H417","v":0},null,0,0,0,0,0,0,null,null,0,0,0,0]
[412,{"$f":"'INVENT.Ma Informatiq Importé-10'!B418","v":0},{"$f":"'INVENT.Ma Informatiq Importé-10'!F418","v":0},{"$f":"'INVENT.Ma Informatiq Importé-10'!C418","v":0},{"$f":"'INVENT.Ma Informatiq Importé-10'!H418","v":0},null,0,0,0,0,0,0,null,null,0,0,0,0]
[413,{"$f":"'INVENT.Ma Informatiq Importé-10'!B419","v":0},{"$f":"'INVENT.Ma Informatiq Importé-10'!F419","v":0},{"$f":"'INVENT.Ma Informatiq Importé-10'!C419","v":0},{"$f":"'INVENT.Ma Informatiq Importé-10'!H419","v":0},null,0,0,0,0,0,0,null,null,0,0,0,0]
[414,{"$f":"'INVENT.Ma Informatiq Importé-10'!B420","v":0},{"$f":"'INVENT.Ma Informatiq Importé-10'!F420","v":0},{"$f":"'INVENT.Ma Informatiq Importé-10'!C420","v":0},{"$f":"'INVENT.Ma Informatiq Importé-10'!H420","v":0},null,0,0,0,0,0,0,null,null,0,0,0,0]
[415,{"$f":"'INVENT.Ma Informatiq Importé-10'!B421","v":0},{"$f":"'INVENT.Ma Informatiq Importé-10'!F421","v":0},{"$f":"'INVENT.Ma Informatiq Importé-10'!C421","v":0},{"$f":"'INVENT.Ma Informatiq Importé-10'!H421","v":0},null,0,0,0,0,0,0,null,null,0,0,0,0]
[416,{"$f":"'INVENT.Ma Informatiq Importé-10'!B422","v":0},{"$f":"'INVENT.Ma Informatiq Importé-10'!F422","v":0},{"$f":"'INVENT.Ma Informatiq Importé-10'!C422","v":0},{"$f":"'INVENT.Ma Informatiq Importé-10'!H422","v":0},null,0,0,0,0,0,0,null,null,0,0,0,0]
[417,{"$f":"'INVENT.Ma Informatiq Importé-10'!B423","v":0},{"$f":"'INVENT.Ma Informatiq Importé-10'!F423","v":0},{"$f":"'INVENT.Ma Informatiq Importé-10'!C423","v":0},{"$f":"'INVENT.Ma Informatiq Importé-10'!H423","v":0},null,0,0,0,0,0,0,null,null,0,0,0,0]
[418,{"$f":"'INVENT.Ma Informatiq Importé-10'!B424","v":0},{"$f":"'INVENT.Ma Informatiq Importé-10'!F424","v":0},{"$f":"'INVENT.Ma Informatiq Importé-10'!C424","v":0},{"$f":"'INVENT.Ma Informatiq Importé-10'!H424","v":0},null,0,0,0,0,0,0,null,null,0,0,0,0]
[419,{"$f":"'INVENT.Ma Informatiq Importé-10'!B425","v":0},{"$f":"'INVENT.Ma Informatiq Importé-10'!F425","v":0},{"$f":"'INVENT.Ma Informatiq Importé-10'!C425","v":0},{"$f":"'INVENT.Ma Informatiq Importé-10'!H425","v":0},null,0,0,0,0,0,0,null,null,0,0,0,0]
[420,{"$f":"'INVENT.Ma Informatiq Importé-10'!B426","v":0},{"$f":"'INVENT.Ma Informatiq Importé-10'!F426","v":0},{"$f":"'INVENT.Ma Informatiq Importé-10'!C426","v":0},{"$f":"'INVENT.Ma Informatiq Importé-10'!H426","v":0},null,0,0,0,0,0,0,null,null,0,0,0,0]
[421,{"$f":"'INVENT.Ma Informatiq Importé-10'!B427","v":0},{"$f":"'INVENT.Ma Informatiq Importé-10'!F427","v":0},{"$f":"'INVENT.Ma Informatiq Importé-10'!C427","v":0},{"$f":"'INVENT.Ma Informatiq Importé-10'!H427","v":0},null,0,0,0,0,0,0,null,null,0,0,0,0]
[422,{"$f":"'INVENT.Ma Informatiq Importé-10'!B428","v":0},{"$f":"'INVENT.Ma Informatiq Importé-10'!F428","v":0},{"$f":"'INVENT.Ma Informatiq Importé-10'!C428","v":0},{"$f":"'INVENT.Ma Informatiq Importé-10'!H428","v":0},null,0,0,0,0,0,0,null,null,0,0,0,0]
[423,{"$f":"'INVENT.Ma Informatiq Importé-10'!B429","v":0},{"$f":"'INVENT.Ma Informatiq Importé-10'!F429","v":0},{"$f":"'INVENT.Ma Informatiq Importé-10'!C429","v":0},{"$f":"'INVENT.Ma Informatiq Importé-10'!H429","v":0},null,0,0,0,0,0,0,null,null,0,0,0,0]
[424,{"$f":"'INVENT.Ma Informatiq Importé-10'!B430","v":0},{"$f":"'INVENT.Ma Informatiq Importé-10'!F430","v":0},{"$f":"'INVENT.Ma Informatiq Importé-10'!C430","v":0},{"$f":"'INVENT.Ma Informatiq Importé-10'!H430","v":0},null,0,0,0,0,0,0,null,null,0,0,0,0]
[425,{"$f":"'INVENT.Ma Informatiq Importé-10'!B431","v":0},{"$f":"'INVENT.Ma Informatiq Importé-10'!F431","v":0},{"$f":"'INVENT.Ma Informatiq Importé-10'!C431","v":0},{"$f":"'INVENT.Ma Informatiq Importé-10'!H431","v":0},null,0,0,0,0,0,0,null,null,0,0,0,0]
[426,{"$f":"'INVENT.Ma Informatiq Importé-10'!B432","v":0},{"$f":"'INVENT.Ma Informatiq Importé-10'!F432","v":0},{"$f":"'INVENT.Ma Informatiq Importé-10'!C432","v":0},{"$f":"'INVENT.Ma Informatiq Importé-10'!H432","v":0},null,0,0,0,0,0,0,null,null,0,0,0,0]
[427,{"$f":"'INVENT.Ma Informatiq Importé-10'!B433","v":0},{"$f":"'INVENT.Ma Informatiq Importé-10'!F433","v":0},{"$f":"'INVENT.Ma Informatiq Importé-10'!C433","v":0},{"$f":"'INVENT.Ma Informatiq Importé-10'!H433","v":0},null,0,0,0,0,0,0,null,null,0,0,0,0]
[428,{"$f":"'INVENT.Ma Informatiq Importé-10'!B434","v":0},{"$f":"'INVENT.Ma Informatiq Importé-10'!F434","v":0},{"$f":"'INVENT.Ma Informatiq Importé-10'!C434","v":0},{"$f":"'INVENT.Ma Informatiq Importé-10'!H434","v":0},null,0,0,0,0,0,0,null,null,0,0,0,0]
[429,{"$f":"'INVENT.Ma Informatiq Importé-10'!B435","v":0},{"$f":"'INVENT.Ma Informatiq Importé-10'!F435","v":0},{"$f":"'INVENT.Ma Informatiq Importé-10'!C435","v":0},{"$f":"'INVENT.Ma Informatiq Importé-10'!H435","v":0},null,0,0,0,0,0,0,null,null,0,0,0,0]
[430,{"$f":"'INVENT.Ma Informatiq Importé-10'!B436","v":0},{"$f":"'INVENT.Ma Informatiq Importé-10'!F436","v":0},{"$f":"'INVENT.Ma Informatiq Importé-10'!C436","v":0},{"$f":"'INVENT.Ma Informatiq Importé-10'!H436","v":0},null,0,0,0,0,0,0,null,null,0,0,0,0]
[431,{"$f":"'INVENT.Ma Informatiq Importé-10'!B437","v":0},{"$f":"'INVENT.Ma Informatiq Importé-10'!F437","v":0},{"$f":"'INVENT.Ma Informatiq Importé-10'!C437","v":0},{"$f":"'INVENT.Ma Informatiq Importé-10'!H437","v":0},null,0,0,0,0,0,0,null,null,0,0,0,0]
[432,{"$f":"'INVENT.Ma Informatiq Importé-10'!B438","v":0},{"$f":"'INVENT.Ma Informatiq Importé-10'!F438","v":0},{"$f":"'INVENT.Ma Informatiq Importé-10'!C438","v":0},{"$f":"'INVENT.Ma Informatiq Importé-10'!H438","v":0},null,0,0,0,0,0,0,null,null,0,0,0,0]
[433,{"$f":"'INVENT.Ma Informatiq Importé-10'!B439","v":0},{"$f":"'INVENT.Ma Informatiq Importé-10'!F439","v":0},{"$f":"'INVENT.Ma Informatiq Importé-10'!C439","v":0},{"$f":"'INVENT.Ma Informatiq Importé-10'!H439","v":0},null,0,0,0,0,0,0,null,null,0,0,0,0]
[434,{"$f":"'INVENT.Ma Informatiq Importé-10'!B440","v":0},{"$f":"'INVENT.Ma Informatiq Importé-10'!F440","v":0},{"$f":"'INVENT.Ma Informatiq Importé-10'!C440","v":0},{"$f":"'INVENT.Ma Informatiq Importé-10'!H440","v":0},null,0,0,0,0,0,0,null,null,0,0,0,0]
[{"$f":"+A441+1","v":435},{"$f":"'INVENT.Ma Informatiq Importé-10'!B441","v":0},{"$f":"'INVENT.Ma Informatiq Importé-10'!F441","v":0},{"$f":"'INVENT.Ma Informatiq Importé-10'!C441","v":0},{"$f":"'INVENT.Ma Informatiq Importé-10'!H441","v":0},null,{"$f":"F442*E442","v":0},0,0,0,{"$f":"(E442+G442+H442)*18%","v":0},{"$f":"SUM(G442:K442)+E442","v":0},null,null,{"$f":"(M442+N442)*18%","v":0},{"$f":"O442+N442+M442","v":0},{"$f":"+R442-O442-K442","v":0},{"$f":"P442+L442","v":0}]
[436,{"$f":"'INVENT.Ma Informatiq Importé-10'!B442","v":0},{"$f":"'INVENT.Ma Informatiq Importé-10'!F442","v":0},{"$f":"'INVENT.Ma Informatiq Importé-10'!C442","v":0},{"$f":"'INVENT.Ma Informatiq Importé-10'!H442","v":0},null,0,{"$f":"E443*1%","v":0},{"$f":"E443*1%","v":0},{"$f":"E443*0.5%","v":0},0,0,null,null,0,0,0,0]
[437,{"$f":"'INVENT.Ma Informatiq Importé-10'!B443","v":0},{"$f":"'INVENT.Ma Informatiq Importé-10'!F443","v":0},{"$f":"'INVENT.Ma Informatiq Importé-10'!C443","v":0},{"$f":"'INVENT.Ma Informatiq Importé-10'!H443","v":0},null,0,0,0,0,0,0,null,null,0,0,0,0]
[438,{"$f":"'INVENT.Ma Informatiq Importé-10'!B444","v":0},{"$f":"'INVENT.Ma Informatiq Importé-10'!F444","v":0},{"$f":"'INVENT.Ma Informatiq Importé-10'!C444","v":0},{"$f":"'INVENT.Ma Informatiq Importé-10'!H444","v":0},null,0,0,0,0,0,0,null,null,0,0,0,0]
[439,{"$f":"'INVENT.Ma Informatiq Importé-10'!B445","v":0},{"$f":"'INVENT.Ma Informatiq Importé-10'!F445","v":0},{"$f":"'INVENT.Ma Informatiq Importé-10'!C445","v":0},{"$f":"'INVENT.Ma Informatiq Importé-10'!H445","v":0},null,0,0,0,0,0,0,null,null,0,0,0,0]
[440,{"$f":"'INVENT.Ma Informatiq Importé-10'!B446","v":0},{"$f":"'INVENT.Ma Informatiq Importé-10'!F446","v":0},{"$f":"'INVENT.Ma Informatiq Importé-10'!C446","v":0},{"$f":"'INVENT.Ma Informatiq Importé-10'!H446","v":0},null,0,0,0,0,0,0,null,null,0,0,0,0]
[441,{"$f":"'INVENT.Ma Informatiq Importé-10'!B447","v":0},{"$f":"'INVENT.Ma Informatiq Importé-10'!F447","v":0},{"$f":"'INVENT.Ma Informatiq Importé-10'!C447","v":0},{"$f":"'INVENT.Ma Informatiq Importé-10'!H447","v":0},null,0,0,0,0,0,0,null,null,0,0,0,0]
[442,{"$f":"'INVENT.Ma Informatiq Importé-10'!B448","v":0},{"$f":"'INVENT.Ma Informatiq Importé-10'!F448","v":0},{"$f":"'INVENT.Ma Informatiq Importé-10'!C448","v":0},{"$f":"'INVENT.Ma Informatiq Importé-10'!H448","v":0},null,0,0,0,0,0,0,null,null,0,0,0,0]
[443,{"$f":"'INVENT.Ma Informatiq Importé-10'!B449","v":0},{"$f":"'INVENT.Ma Informatiq Importé-10'!F449","v":0},{"$f":"'INVENT.Ma Informatiq Importé-10'!C449","v":0},{"$f":"'INVENT.Ma Informatiq Importé-10'!H449","v":0},null,0,0,0,0,0,0,null,null,0,0,0,0]
[444,{"$f":"'INVENT.Ma Informatiq Importé-10'!B450","v":0},{"$f":"'INVENT.Ma Informatiq Importé-10'!F450","v":0},{"$f":"'INVENT.Ma Informatiq Importé-10'!C450","v":0},{"$f":"'INVENT.Ma Informatiq Importé-10'!H450","v":0},null,0,0,0,0,0,0,null,null,0,0,0,0]
[445,{"$f":"'INVENT.Ma Informatiq Importé-10'!B451","v":0},{"$f":"'INVENT.Ma Informatiq Importé-10'!F451","v":0},{"$f":"'INVENT.Ma Informatiq Importé-10'!C451","v":0},{"$f":"'INVENT.Ma Informatiq Importé-10'!H451","v":0},null,0,0,0,0,0,0,null,null,0,0,0,0]
[446,{"$f":"'INVENT.Ma Informatiq Importé-10'!B452","v":0},{"$f":"'INVENT.Ma Informatiq Importé-10'!F452","v":0},{"$f":"'INVENT.Ma Informatiq Importé-10'!C452","v":0},{"$f":"'INVENT.Ma Informatiq Importé-10'!H452","v":0},null,0,0,0,0,0,0,null,null,0,0,0,0]
[447,{"$f":"'INVENT.Ma Informatiq Importé-10'!B453","v":0},{"$f":"'INVENT.Ma Informatiq Importé-10'!F453","v":0},{"$f":"'INVENT.Ma Informatiq Importé-10'!C453","v":0},{"$f":"'INVENT.Ma Informatiq Importé-10'!H453","v":0},null,0,0,0,0,0,0,null,null,0,0,0,0]
[448,{"$f":"'INVENT.Ma Informatiq Importé-10'!B454","v":0},{"$f":"'INVENT.Ma Informatiq Importé-10'!F454","v":0},{"$f":"'INVENT.Ma Informatiq Importé-10'!C454","v":0},{"$f":"'INVENT.Ma Informatiq Importé-10'!H454","v":0},null,0,0,0,0,0,0,null,null,0,0,0,0]
[449,{"$f":"'INVENT.Ma Informatiq Importé-10'!B455","v":0},{"$f":"'INVENT.Ma Informatiq Importé-10'!F455","v":0},{"$f":"'INVENT.Ma Informatiq Importé-10'!C455","v":0},{"$f":"'INVENT.Ma Informatiq Importé-10'!H455","v":0},null,0,0,0,0,0,0,null,null,0,0,0,0]
[450,{"$f":"'INVENT.Ma Informatiq Importé-10'!B456","v":0},{"$f":"'INVENT.Ma Informatiq Importé-10'!F456","v":0},{"$f":"'INVENT.Ma Informatiq Importé-10'!C456","v":0},{"$f":"'INVENT.Ma Informatiq Importé-10'!H456","v":0},null,0,0,0,0,0,0,null,null,0,0,0,0]
[451,{"$f":"'INVENT.Ma Informatiq Importé-10'!B457","v":0},{"$f":"'INVENT.Ma Informatiq Importé-10'!F457","v":0},{"$f":"'INVENT.Ma Informatiq Importé-10'!C457","v":0},{"$f":"'INVENT.Ma Informatiq Importé-10'!H457","v":0},null,0,0,0,0,0,0,null,null,0,0,0,0]
[452,{"$f":"'INVENT.Ma Informatiq Importé-10'!B458","v":0},{"$f":"'INVENT.Ma Informatiq Importé-10'!F458","v":0},{"$f":"'INVENT.Ma Informatiq Importé-10'!C458","v":0},{"$f":"'INVENT.Ma Informatiq Importé-10'!H458","v":0},null,0,0,0,0,0,0,null,null,0,0,0,0]
[453,{"$f":"'INVENT.Ma Informatiq Importé-10'!B459","v":0},{"$f":"'INVENT.Ma Informatiq Importé-10'!F459","v":0},{"$f":"'INVENT.Ma Informatiq Importé-10'!C459","v":0},{"$f":"'INVENT.Ma Informatiq Importé-10'!H459","v":0},null,0,0,0,0,0,0,null,null,0,0,0,0]
[454,{"$f":"'INVENT.Ma Informatiq Importé-10'!B460","v":0},{"$f":"'INVENT.Ma Informatiq Importé-10'!F460","v":0},{"$f":"'INVENT.Ma Informatiq Importé-10'!C460","v":0},{"$f":"'INVENT.Ma Informatiq Importé-10'!H460","v":0},null,0,0,0,0,0,0,null,null,0,0,0,0]
[455,{"$f":"'INVENT.Ma Informatiq Importé-10'!B461","v":0},{"$f":"'INVENT.Ma Informatiq Importé-10'!F461","v":0},{"$f":"'INVENT.Ma Informatiq Importé-10'!C461","v":0},{"$f":"'INVENT.Ma Informatiq Importé-10'!H461","v":0},null,0,0,0,0,0,0,null,null,0,0,0,0]
[456,{"$f":"'INVENT.Ma Informatiq Importé-10'!B462","v":0},{"$f":"'INVENT.Ma Informatiq Importé-10'!F462","v":0},{"$f":"'INVENT.Ma Informatiq Importé-10'!C462","v":0},{"$f":"'INVENT.Ma Informatiq Importé-10'!H462","v":0},null,0,0,0,0,0,0,null,null,0,0,0,0]
[457,{"$f":"'INVENT.Ma Informatiq Importé-10'!B463","v":0},{"$f":"'INVENT.Ma Informatiq Importé-10'!F463","v":0},{"$f":"'INVENT.Ma Informatiq Importé-10'!C463","v":0},{"$f":"'INVENT.Ma Informatiq Importé-10'!H463","v":0},null,0,0,0,0,0,0,null,null,0,0,0,0]
[458,{"$f":"'INVENT.Ma Informatiq Importé-10'!B464","v":0},{"$f":"'INVENT.Ma Informatiq Importé-10'!F464","v":0},{"$f":"'INVENT.Ma Informatiq Importé-10'!C464","v":0},{"$f":"'INVENT.Ma Informatiq Importé-10'!H464","v":0},null,0,0,0,0,0,0,null,null,0,0,0,0]
[459,{"$f":"'INVENT.Ma Informatiq Importé-10'!B465","v":0},{"$f":"'INVENT.Ma Informatiq Importé-10'!F465","v":0},{"$f":"'INVENT.Ma Informatiq Importé-10'!C465","v":0},{"$f":"'INVENT.Ma Informatiq Importé-10'!H465","v":0},null,0,0,0,0,0,0,null,null,0,0,0,0]
[460,{"$f":"'INVENT.Ma Informatiq Importé-10'!B466","v":0},{"$f":"'INVENT.Ma Informatiq Importé-10'!F466","v":0},{"$f":"'INVENT.Ma Informatiq Importé-10'!C466","v":0},{"$f":"'INVENT.Ma Informatiq Importé-10'!H466","v":0},null,0,0,0,0,0,0,null,null,0,0,0,0]
[461,{"$f":"'INVENT.Ma Informatiq Importé-10'!B467","v":0},{"$f":"'INVENT.Ma Informatiq Importé-10'!F467","v":0},{"$f":"'INVENT.Ma Informatiq Importé-10'!C467","v":0},{"$f":"'INVENT.Ma Informatiq Importé-10'!H467","v":0},null,0,0,0,0,0,0,null,null,0,0,0,0]
[462,{"$f":"'INVENT.Ma Informatiq Importé-10'!B468","v":0},{"$f":"'INVENT.Ma Informatiq Importé-10'!F468","v":0},{"$f":"'INVENT.Ma Informatiq Importé-10'!C468","v":0},{"$f":"'INVENT.Ma Informatiq Importé-10'!H468","v":0},null,0,0,0,0,0,0,null,null,0,0,0,0]
[463,{"$f":"'INVENT.Ma Informatiq Importé-10'!B469","v":0},{"$f":"'INVENT.Ma Informatiq Importé-10'!F469","v":0},{"$f":"'INVENT.Ma Informatiq Importé-10'!C469","v":0},{"$f":"'INVENT.Ma Informatiq Importé-10'!H469","v":0},null,0,0,0,0,0,0,null,null,0,0,0,0]
[464,{"$f":"'INVENT.Ma Informatiq Importé-10'!B470","v":0},{"$f":"'INVENT.Ma Informatiq Importé-10'!F470","v":0},{"$f":"'INVENT.Ma Informatiq Importé-10'!C470","v":0},{"$f":"'INVENT.Ma Informatiq Importé-10'!H470","v":0},null,0,0,0,0,0,0,null,null,0,0,0,0]
[465,{"$f":"'INVENT.Ma Informatiq Importé-10'!B471","v":0},{"$f":"'INVENT.Ma Informatiq Importé-10'!F471","v":0},{"$f":"'INVENT.Ma Informatiq Importé-10'!C471","v":0},{"$f":"'INVENT.Ma Informatiq Importé-10'!H471","v":0},null,0,0,0,0,0,0,null,null,0,0,0,0]
[466,{"$f":"'INVENT.Ma Informatiq Importé-10'!B472","v":0},{"$f":"'INVENT.Ma Informatiq Importé-10'!F472","v":0},{"$f":"'INVENT.Ma Informatiq Importé-10'!C472","v":0},{"$f":"'INVENT.Ma Informatiq Importé-10'!H472","v":0},null,0,0,0,0,0,0,null,null,0,0,0,0]
[467,{"$f":"'INVENT.Ma Informatiq Importé-10'!B473","v":0},{"$f":"'INVENT.Ma Informatiq Importé-10'!F473","v":0},{"$f":"'INVENT.Ma Informatiq Importé-10'!C473","v":0},{"$f":"'INVENT.Ma Informatiq Importé-10'!H473","v":0},null,0,0,0,0,0,0,null,null,0,0,0,0]
[468,{"$f":"'INVENT.Ma Informatiq Importé-10'!B474","v":0},{"$f":"'INVENT.Ma Informatiq Importé-10'!F474","v":0},{"$f":"'INVENT.Ma Informatiq Importé-10'!C474","v":0},{"$f":"'INVENT.Ma Informatiq Importé-10'!H474","v":0},null,0,0,0,0,0,0,null,null,0,0,0,0]
[469,{"$f":"'INVENT.Ma Informatiq Importé-10'!B475","v":0},{"$f":"'INVENT.Ma Informatiq Importé-10'!F475","v":0},{"$f":"'INVENT.Ma Informatiq Importé-10'!C475","v":0},{"$f":"'INVENT.Ma Informatiq Importé-10'!H475","v":0},null,0,0,0,0,0,0,null,null,0,0,0,0]
[470,{"$f":"'INVENT.Ma Informatiq Importé-10'!B476","v":0},{"$f":"'INVENT.Ma Informatiq Importé-10'!F476","v":0},{"$f":"'INVENT.Ma Informatiq Importé-10'!C476","v":0},{"$f":"'INVENT.Ma Informatiq Importé-10'!H476","v":0},null,0,0,0,0,0,0,null,null,0,0,0,0]
[471,{"$f":"'INVENT.Ma Informatiq Importé-10'!B477","v":0},{"$f":"'INVENT.Ma Informatiq Importé-10'!F477","v":0},{"$f":"'INVENT.Ma Informatiq Importé-10'!C477","v":0},{"$f":"'INVENT.Ma Informatiq Importé-10'!H477","v":0},null,0,0,0,0,0,0,null,null,0,0,0,0]
[472,{"$f":"'INVENT.Ma Informatiq Importé-10'!B478","v":0},{"$f":"'INVENT.Ma Informatiq Importé-10'!F478","v":0},{"$f":"'INVENT.Ma Informatiq Importé-10'!C478","v":0},{"$f":"'INVENT.Ma Informatiq Importé-10'!H478","v":0},null,0,0,0,0,0,0,null,null,0,0,0,0]
[473,{"$f":"'INVENT.Ma Informatiq Importé-10'!B479","v":0},{"$f":"'INVENT.Ma Informatiq Importé-10'!F479","v":0},{"$f":"'INVENT.Ma Informatiq Importé-10'!C479","v":0},{"$f":"'INVENT.Ma Informatiq Importé-10'!H479","v":0},null,0,0,0,0,0,0,null,null,0,0,0,0]
[474,{"$f":"'INVENT.Ma Informatiq Importé-10'!B480","v":0},{"$f":"'INVENT.Ma Informatiq Importé-10'!F480","v":0},{"$f":"'INVENT.Ma Informatiq Importé-10'!C480","v":0},{"$f":"'INVENT.Ma Informatiq Importé-10'!H480","v":0},null,0,0,0,0,0,0,null,null,0,0,0,0]
[475,{"$f":"'INVENT.Ma Informatiq Importé-10'!B481","v":0},{"$f":"'INVENT.Ma Informatiq Importé-10'!F481","v":0},{"$f":"'INVENT.Ma Informatiq Importé-10'!C481","v":0},{"$f":"'INVENT.Ma Informatiq Importé-10'!H481","v":0},null,0,0,0,0,0,0,null,null,0,0,0,0]
[476,{"$f":"'INVENT.Ma Informatiq Importé-10'!B482","v":0},{"$f":"'INVENT.Ma Informatiq Importé-10'!F482","v":0},{"$f":"'INVENT.Ma Informatiq Importé-10'!C482","v":0},{"$f":"'INVENT.Ma Informatiq Importé-10'!H482","v":0},null,0,0,0,0,0,0,null,null,0,0,0,0]
[477,{"$f":"'INVENT.Ma Informatiq Importé-10'!B483","v":0},{"$f":"'INVENT.Ma Informatiq Importé-10'!F483","v":0},{"$f":"'INVENT.Ma Informatiq Importé-10'!C483","v":0},{"$f":"'INVENT.Ma Informatiq Importé-10'!H483","v":0},null,0,0,0,0,0,0,null,null,0,0,0,0]
[478,{"$f":"'INVENT.Ma Informatiq Importé-10'!B484","v":0},{"$f":"'INVENT.Ma Informatiq Importé-10'!F484","v":0},{"$f":"'INVENT.Ma Informatiq Importé-10'!C484","v":0},{"$f":"'INVENT.Ma Informatiq Importé-10'!H484","v":0},null,0,0,0,0,0,0,null,null,0,0,0,0]
[479,{"$f":"'INVENT.Ma Informatiq Importé-10'!B485","v":0},{"$f":"'INVENT.Ma Informatiq Importé-10'!F485","v":0},{"$f":"'INVENT.Ma Informatiq Importé-10'!C485","v":0},{"$f":"'INVENT.Ma Informatiq Importé-10'!H485","v":0},null,0,0,0,0,0,0,null,null,0,0,0,0]
[480,{"$f":"'INVENT.Ma Informatiq Importé-10'!B486","v":0},{"$f":"'INVENT.Ma Informatiq Importé-10'!F486","v":0},{"$f":"'INVENT.Ma Informatiq Importé-10'!C486","v":0},{"$f":"'INVENT.Ma Informatiq Importé-10'!H486","v":0},null,0,0,0,0,0,0,null,null,0,0,0,0]
[481,{"$f":"'INVENT.Ma Informatiq Importé-10'!B487","v":0},{"$f":"'INVENT.Ma Informatiq Importé-10'!F487","v":0},{"$f":"'INVENT.Ma Informatiq Importé-10'!C487","v":0},{"$f":"'INVENT.Ma Informatiq Importé-10'!H487","v":0},null,0,0,0,0,0,0,null,null,0,0,0,0]
[482,{"$f":"'INVENT.Ma Informatiq Importé-10'!B488","v":0},{"$f":"'INVENT.Ma Informatiq Importé-10'!F488","v":0},{"$f":"'INVENT.Ma Informatiq Importé-10'!C488","v":0},{"$f":"'INVENT.Ma Informatiq Importé-10'!H488","v":0},null,0,0,0,0,0,0,null,null,0,0,0,0]
[483,{"$f":"'INVENT.Ma Informatiq Importé-10'!B489","v":0},{"$f":"'INVENT.Ma Informatiq Importé-10'!F489","v":0},{"$f":"'INVENT.Ma Informatiq Importé-10'!C489","v":0},{"$f":"'INVENT.Ma Informatiq Importé-10'!H489","v":0},null,0,0,0,0,0,0,null,null,0,0,0,0]
[484,{"$f":"'INVENT.Ma Informatiq Importé-10'!B490","v":0},{"$f":"'INVENT.Ma Informatiq Importé-10'!F490","v":0},{"$f":"'INVENT.Ma Informatiq Importé-10'!C490","v":0},{"$f":"'INVENT.Ma Informatiq Importé-10'!H490","v":0},null,0,0,0,0,0,0,null,null,0,0,0,0]
[485,{"$f":"'INVENT.Ma Informatiq Importé-10'!B491","v":0},{"$f":"'INVENT.Ma Informatiq Importé-10'!F491","v":0},{"$f":"'INVENT.Ma Informatiq Importé-10'!C491","v":0},{"$f":"'INVENT.Ma Informatiq Importé-10'!H491","v":0},null,0,0,0,0,0,0,null,null,0,0,0,0]
[486,{"$f":"'INVENT.Ma Informatiq Importé-10'!B492","v":0},{"$f":"'INVENT.Ma Informatiq Importé-10'!F492","v":0},{"$f":"'INVENT.Ma Informatiq Importé-10'!C492","v":0},{"$f":"'INVENT.Ma Informatiq Importé-10'!H492","v":0},null,0,0,0,0,0,0,null,null,0,0,0,0]
[487,{"$f":"'INVENT.Ma Informatiq Importé-10'!B493","v":0},{"$f":"'INVENT.Ma Informatiq Importé-10'!F493","v":0},{"$f":"'INVENT.Ma Informatiq Importé-10'!C493","v":0},{"$f":"'INVENT.Ma Informatiq Importé-10'!H493","v":0},null,0,0,0,0,0,0,null,null,0,0,0,0]
[488,{"$f":"'INVENT.Ma Informatiq Importé-10'!B494","v":0},{"$f":"'INVENT.Ma Informatiq Importé-10'!F494","v":0},{"$f":"'INVENT.Ma Informatiq Importé-10'!C494","v":0},{"$f":"'INVENT.Ma Informatiq Importé-10'!H494","v":0},null,0,0,0,0,0,0,null,null,0,0,0,0]
[489,{"$f":"'INVENT.Ma Informatiq Importé-10'!B495","v":0},{"$f":"'INVENT.Ma Informatiq Importé-10'!F495","v":0},{"$f":"'INVENT.Ma Informatiq Importé-10'!C495","v":0},{"$f":"'INVENT.Ma Informatiq Importé-10'!H495","v":0},null,0,0,0,0,0,0,null,null,0,0,0,0]
[490,{"$f":"'INVENT.Ma Informatiq Importé-10'!B496","v":0},{"$f":"'INVENT.Ma Informatiq Importé-10'!F496","v":0},{"$f":"'INVENT.Ma Informatiq Importé-10'!C496","v":0},{"$f":"'INVENT.Ma Informatiq Importé-10'!H496","v":0},null,0,0,0,0,0,0,null,null,0,0,0,0]
[491,{"$f":"'INVENT.Ma Informatiq Importé-10'!B497","v":0},{"$f":"'INVENT.Ma Informatiq Importé-10'!F497","v":0},{"$f":"'INVENT.Ma Informatiq Importé-10'!C497","v":0},{"$f":"'INVENT.Ma Informatiq Importé-10'!H497","v":0},null,0,0,0,0,0,0,null,null,0,0,0,0]
[492,{"$f":"'INVENT.Ma Informatiq Importé-10'!B498","v":0},{"$f":"'INVENT.Ma Informatiq Importé-10'!F498","v":0},{"$f":"'INVENT.Ma Informatiq Importé-10'!C498","v":0},{"$f":"'INVENT.Ma Informatiq Importé-10'!H498","v":0},null,0,0,0,0,0,0,null,null,0,0,0,0]
[493,{"$f":"'INVENT.Ma Informatiq Importé-10'!B499","v":0},{"$f":"'INVENT.Ma Informatiq Importé-10'!F499","v":0},{"$f":"'INVENT.Ma Informatiq Importé-10'!C499","v":0},{"$f":"'INVENT.Ma Informatiq Importé-10'!H499","v":0},null,0,0,0,0,0,0,null,null,0,0,0,0]
[494,{"$f":"'INVENT.Ma Informatiq Importé-10'!B500","v":0},{"$f":"'INVENT.Ma Informatiq Importé-10'!F500","v":0},{"$f":"'INVENT.Ma Informatiq Importé-10'!C500","v":0},{"$f":"'INVENT.Ma Informatiq Importé-10'!H500","v":0},null,0,0,0,0,0,0,null,null,0,0,0,0]
[495,{"$f":"'INVENT.Ma Informatiq Importé-10'!B501","v":0},{"$f":"'INVENT.Ma Informatiq Importé-10'!F501","v":0},{"$f":"'INVENT.Ma Informatiq Importé-10'!C501","v":0},{"$f":"'INVENT.Ma Informatiq Importé-10'!H501","v":0},null,0,0,0,0,0,0,null,null,0,0,0,0]
[496,{"$f":"'INVENT.Ma Informatiq Importé-10'!B502","v":0},{"$f":"'INVENT.Ma Informatiq Importé-10'!F502","v":0},{"$f":"'INVENT.Ma Informatiq Importé-10'!C502","v":0},{"$f":"'INVENT.Ma Informatiq Importé-10'!H502","v":0},null,0,0,0,0,0,0,null,null,0,0,0,0]
[497,{"$f":"'INVENT.Ma Informatiq Importé-10'!B503","v":0},{"$f":"'INVENT.Ma Informatiq Importé-10'!F503","v":0},{"$f":"'INVENT.Ma Informatiq Importé-10'!C503","v":0},{"$f":"'INVENT.Ma Informatiq Importé-10'!H503","v":0},null,0,0,0,0,0,0,null,null,0,0,0,0]
[498,{"$f":"'INVENT.Ma Informatiq Importé-10'!B504","v":0},{"$f":"'INVENT.Ma Informatiq Importé-10'!F504","v":0},{"$f":"'INVENT.Ma Informatiq Importé-10'!C504","v":0},{"$f":"'INVENT.Ma Informatiq Importé-10'!H504","v":0},null,0,0,0,0,0,0,null,null,0,0,0,0]
[{"$f":"+A505+1","v":499},{"$f":"'INVENT.Ma Informatiq Importé-10'!B505","v":0},{"$f":"'INVENT.Ma Informatiq Importé-10'!F505","v":0},{"$f":"'INVENT.Ma Informatiq Importé-10'!C505","v":0},{"$f":"'INVENT.Ma Informatiq Importé-10'!H505","v":0},null,{"$f":"F506*E506","v":0},0,0,0,{"$f":"(E506+G506+H506)*18%","v":0},{"$f":"SUM(G506:K506)+E506","v":0},null,null,{"$f":"(M506+N506)*18%","v":0},{"$f":"O506+N506+M506","v":0},{"$f":"+R506-O506-K506","v":0},{"$f":"P506+L506","v":0}]
[500,{"$f":"'INVENT.Ma Informatiq Importé-10'!B506","v":0},{"$f":"'INVENT.Ma Informatiq Importé-10'!F506","v":0},{"$f":"'INVENT.Ma Informatiq Importé-10'!C506","v":0},{"$f":"'INVENT.Ma Informatiq Importé-10'!H506","v":0},null,0,{"$f":"E507*1%","v":0},{"$f":"E507*1%","v":0},{"$f":"E507*0.5%","v":0},0,{"$f":"SUM(G507:K507)+E507","v":0},null,null,0,0,0,0]
[501,{"$f":"'INVENT.Ma Informatiq Importé-10'!B507","v":0},{"$f":"'INVENT.Ma Informatiq Importé-10'!F507","v":0},{"$f":"'INVENT.Ma Informatiq Importé-10'!C507","v":0},{"$f":"'INVENT.Ma Informatiq Importé-10'!H507","v":0},null,0,0,0,0,0,{"$f":"SUM(G508:K508)+E508","v":0},null,null,0,0,0,0]
[502,{"$f":"'INVENT.Ma Informatiq Importé-10'!B508","v":0},{"$f":"'INVENT.Ma Informatiq Importé-10'!F508","v":0},{"$f":"'INVENT.Ma Informatiq Importé-10'!C508","v":0},{"$f":"'INVENT.Ma Informatiq Importé-10'!H508","v":0},null,0,0,0,0,0,0,null,null,0,0,0,0]
[503,{"$f":"'INVENT.Ma Informatiq Importé-10'!B509","v":0},{"$f":"'INVENT.Ma Informatiq Importé-10'!F509","v":0},{"$f":"'INVENT.Ma Informatiq Importé-10'!C509","v":0},{"$f":"'INVENT.Ma Informatiq Importé-10'!H509","v":0},null,0,0,0,0,0,0,null,null,0,0,0,0]
[504,{"$f":"'INVENT.Ma Informatiq Importé-10'!B510","v":0},{"$f":"'INVENT.Ma Informatiq Importé-10'!F510","v":0},{"$f":"'INVENT.Ma Informatiq Importé-10'!C510","v":0},{"$f":"'INVENT.Ma Informatiq Importé-10'!H510","v":0},null,0,0,0,0,0,0,null,null,0,0,0,0]
[505,{"$f":"'INVENT.Ma Informatiq Importé-10'!B511","v":0},{"$f":"'INVENT.Ma Informatiq Importé-10'!F511","v":0},{"$f":"'INVENT.Ma Informatiq Importé-10'!C511","v":0},{"$f":"'INVENT.Ma Informatiq Importé-10'!H511","v":0},null,0,0,0,0,0,0,null,null,0,0,0,0]
[506,{"$f":"'INVENT.Ma Informatiq Importé-10'!B512","v":0},{"$f":"'INVENT.Ma Informatiq Importé-10'!F512","v":0},{"$f":"'INVENT.Ma Informatiq Importé-10'!C512","v":0},{"$f":"'INVENT.Ma Informatiq Importé-10'!H512","v":0},null,0,0,0,0,0,0,null,null,0,0,0,0]
[507,{"$f":"'INVENT.Ma Informatiq Importé-10'!B513","v":0},{"$f":"'INVENT.Ma Informatiq Importé-10'!F513","v":0},{"$f":"'INVENT.Ma Informatiq Importé-10'!C513","v":0},{"$f":"'INVENT.Ma Informatiq Importé-10'!H513","v":0},null,0,0,0,0,0,0,null,null,0,0,0,0]
[508,{"$f":"'INVENT.Ma Informatiq Importé-10'!B514","v":0},{"$f":"'INVENT.Ma Informatiq Importé-10'!F514","v":0},{"$f":"'INVENT.Ma Informatiq Importé-10'!C514","v":0},{"$f":"'INVENT.Ma Informatiq Importé-10'!H514","v":0},null,0,0,0,0,0,0,null,null,0,0,0,0]
[509,{"$f":"'INVENT.Ma Informatiq Importé-10'!B515","v":0},{"$f":"'INVENT.Ma Informatiq Importé-10'!F515","v":0},{"$f":"'INVENT.Ma Informatiq Importé-10'!C515","v":0},{"$f":"'INVENT.Ma Informatiq Importé-10'!H515","v":0},null,0,0,0,0,0,0,null,null,0,0,0,0]
[510,{"$f":"'INVENT.Ma Informatiq Importé-10'!B516","v":0},{"$f":"'INVENT.Ma Informatiq Importé-10'!F516","v":0},{"$f":"'INVENT.Ma Informatiq Importé-10'!C516","v":0},{"$f":"'INVENT.Ma Informatiq Importé-10'!H516","v":0},null,0,0,0,0,0,0,null,null,0,0,0,0]
[511,{"$f":"'INVENT.Ma Informatiq Importé-10'!B517","v":0},{"$f":"'INVENT.Ma Informatiq Importé-10'!F517","v":0},{"$f":"'INVENT.Ma Informatiq Importé-10'!C517","v":0},{"$f":"'INVENT.Ma Informatiq Importé-10'!H517","v":0},null,0,0,0,0,0,0,null,null,0,0,0,0]
[512,{"$f":"'INVENT.Ma Informatiq Importé-10'!B518","v":0},{"$f":"'INVENT.Ma Informatiq Importé-10'!F518","v":0},{"$f":"'INVENT.Ma Informatiq Importé-10'!C518","v":0},{"$f":"'INVENT.Ma Informatiq Importé-10'!H518","v":0},null,0,0,0,0,0,0,null,null,0,0,0,0]
[513,{"$f":"'INVENT.Ma Informatiq Importé-10'!B519","v":0},{"$f":"'INVENT.Ma Informatiq Importé-10'!F519","v":0},{"$f":"'INVENT.Ma Informatiq Importé-10'!C519","v":0},{"$f":"'INVENT.Ma Informatiq Importé-10'!H519","v":0},null,0,0,0,0,0,0,null,null,0,0,0,0]
[514,{"$f":"'INVENT.Ma Informatiq Importé-10'!B520","v":0},{"$f":"'INVENT.Ma Informatiq Importé-10'!F520","v":0},{"$f":"'INVENT.Ma Informatiq Importé-10'!C520","v":0},{"$f":"'INVENT.Ma Informatiq Importé-10'!H520","v":0},null,0,0,0,0,0,0,null,null,0,0,0,0]
[515,{"$f":"'INVENT.Ma Informatiq Importé-10'!B521","v":0},{"$f":"'INVENT.Ma Informatiq Importé-10'!F521","v":0},{"$f":"'INVENT.Ma Informatiq Importé-10'!C521","v":0},{"$f":"'INVENT.Ma Informatiq Importé-10'!H521","v":0},null,0,0,0,0,0,0,null,null,0,0,0,0]
[516,{"$f":"'INVENT.Ma Informatiq Importé-10'!B522","v":0},{"$f":"'INVENT.Ma Informatiq Importé-10'!F522","v":0},{"$f":"'INVENT.Ma Informatiq Importé-10'!C522","v":0},{"$f":"'INVENT.Ma Informatiq Importé-10'!H522","v":0},null,0,0,0,0,0,0,null,null,0,0,0,0]
[517,{"$f":"'INVENT.Ma Informatiq Importé-10'!B523","v":0},{"$f":"'INVENT.Ma Informatiq Importé-10'!F523","v":0},{"$f":"'INVENT.Ma Informatiq Importé-10'!C523","v":0},{"$f":"'INVENT.Ma Informatiq Importé-10'!H523","v":0},null,0,0,0,0,0,0,null,null,0,0,0,0]
[518,{"$f":"'INVENT.Ma Informatiq Importé-10'!B524","v":0},{"$f":"'INVENT.Ma Informatiq Importé-10'!F524","v":0},{"$f":"'INVENT.Ma Informatiq Importé-10'!C524","v":0},{"$f":"'INVENT.Ma Informatiq Importé-10'!H524","v":0},null,0,0,0,0,0,0,null,null,0,0,0,0]
[519,{"$f":"'INVENT.Ma Informatiq Importé-10'!B525","v":0},{"$f":"'INVENT.Ma Informatiq Importé-10'!F525","v":0},{"$f":"'INVENT.Ma Informatiq Importé-10'!C525","v":0},{"$f":"'INVENT.Ma Informatiq Importé-10'!H525","v":0},null,0,0,0,0,0,0,null,null,0,0,0,0]
[520,{"$f":"'INVENT.Ma Informatiq Importé-10'!B526","v":0},{"$f":"'INVENT.Ma Informatiq Importé-10'!F526","v":0},{"$f":"'INVENT.Ma Informatiq Importé-10'!C526","v":0},{"$f":"'INVENT.Ma Informatiq Importé-10'!H526","v":0},null,0,0,0,0,0,0,null,null,0,0,0,0]
[521,{"$f":"'INVENT.Ma Informatiq Importé-10'!B527","v":0},{"$f":"'INVENT.Ma Informatiq Importé-10'!F527","v":0},{"$f":"'INVENT.Ma Informatiq Importé-10'!C527","v":0},{"$f":"'INVENT.Ma Informatiq Importé-10'!H527","v":0},null,0,0,0,0,0,0,null,null,0,0,0,0]
[522,{"$f":"'INVENT.Ma Informatiq Importé-10'!B528","v":0},{"$f":"'INVENT.Ma Informatiq Importé-10'!F528","v":0},{"$f":"'INVENT.Ma Informatiq Importé-10'!C528","v":0},{"$f":"'INVENT.Ma Informatiq Importé-10'!H528","v":0},null,0,0,0,0,0,0,null,null,0,0,0,0]
[523,{"$f":"'INVENT.Ma Informatiq Importé-10'!B529","v":0},{"$f":"'INVENT.Ma Informatiq Importé-10'!F529","v":0},{"$f":"'INVENT.Ma Informatiq Importé-10'!C529","v":0},{"$f":"'INVENT.Ma Informatiq Importé-10'!H529","v":0},null,0,0,0,0,0,0,null,null,0,0,0,0]
[524,{"$f":"'INVENT.Ma Informatiq Importé-10'!B530","v":0},{"$f":"'INVENT.Ma Informatiq Importé-10'!F530","v":0},{"$f":"'INVENT.Ma Informatiq Importé-10'!C530","v":0},{"$f":"'INVENT.Ma Informatiq Importé-10'!H530","v":0},null,0,0,0,0,0,0,null,null,0,0,0,0]
[525,{"$f":"'INVENT.Ma Informatiq Importé-10'!B531","v":0},{"$f":"'INVENT.Ma Informatiq Importé-10'!F531","v":0},{"$f":"'INVENT.Ma Informatiq Importé-10'!C531","v":0},{"$f":"'INVENT.Ma Informatiq Importé-10'!H531","v":0},null,0,0,0,0,0,0,null,null,0,0,0,0]
[526,{"$f":"'INVENT.Ma Informatiq Importé-10'!B532","v":0},{"$f":"'INVENT.Ma Informatiq Importé-10'!F532","v":0},{"$f":"'INVENT.Ma Informatiq Importé-10'!C532","v":0},{"$f":"'INVENT.Ma Informatiq Importé-10'!H532","v":0},null,0,0,0,0,0,0,null,null,0,0,0,0]
[527,{"$f":"'INVENT.Ma Informatiq Importé-10'!B533","v":0},{"$f":"'INVENT.Ma Informatiq Importé-10'!F533","v":0},{"$f":"'INVENT.Ma Informatiq Importé-10'!C533","v":0},{"$f":"'INVENT.Ma Informatiq Importé-10'!H533","v":0},null,0,0,0,0,0,0,null,null,0,0,0,0]
[528,{"$f":"'INVENT.Ma Informatiq Importé-10'!B534","v":0},{"$f":"'INVENT.Ma Informatiq Importé-10'!F534","v":0},{"$f":"'INVENT.Ma Informatiq Importé-10'!C534","v":0},{"$f":"'INVENT.Ma Informatiq Importé-10'!H534","v":0},null,0,0,0,0,0,0,null,null,0,0,0,0]
[529,{"$f":"'INVENT.Ma Informatiq Importé-10'!B535","v":0},{"$f":"'INVENT.Ma Informatiq Importé-10'!F535","v":0},{"$f":"'INVENT.Ma Informatiq Importé-10'!C535","v":0},{"$f":"'INVENT.Ma Informatiq Importé-10'!H535","v":0},null,0,0,0,0,0,0,null,null,0,0,0,0]
[530,{"$f":"'INVENT.Ma Informatiq Importé-10'!B536","v":0},{"$f":"'INVENT.Ma Informatiq Importé-10'!F536","v":0},{"$f":"'INVENT.Ma Informatiq Importé-10'!C536","v":0},{"$f":"'INVENT.Ma Informatiq Importé-10'!H536","v":0},null,0,0,0,0,0,0,null,null,0,0,0,0]
[531,{"$f":"'INVENT.Ma Informatiq Importé-10'!B537","v":0},{"$f":"'INVENT.Ma Informatiq Importé-10'!F537","v":0},{"$f":"'INVENT.Ma Informatiq Importé-10'!C537","v":0},{"$f":"'INVENT.Ma Informatiq Importé-10'!H537","v":0},null,0,0,0,0,0,0,null,null,0,0,0,0]
[532,{"$f":"'INVENT.Ma Informatiq Importé-10'!B538","v":0},{"$f":"'INVENT.Ma Informatiq Importé-10'!F538","v":0},{"$f":"'INVENT.Ma Informatiq Importé-10'!C538","v":0},{"$f":"'INVENT.Ma Informatiq Importé-10'!H538","v":0},null,0,0,0,0,0,0,null,null,0,0,0,0]
[533,{"$f":"'INVENT.Ma Informatiq Importé-10'!B539","v":0},{"$f":"'INVENT.Ma Informatiq Importé-10'!F539","v":0},{"$f":"'INVENT.Ma Informatiq Importé-10'!C539","v":0},{"$f":"'INVENT.Ma Informatiq Importé-10'!H539","v":0},null,0,0,0,0,0,0,null,null,0,0,0,0]
[534,{"$f":"'INVENT.Ma Informatiq Importé-10'!B540","v":0},{"$f":"'INVENT.Ma Informatiq Importé-10'!F540","v":0},{"$f":"'INVENT.Ma Informatiq Importé-10'!C540","v":0},{"$f":"'INVENT.Ma Informatiq Importé-10'!H540","v":0},null,0,0,0,0,0,0,null,null,0,0,0,0]
[535,{"$f":"'INVENT.Ma Informatiq Importé-10'!B541","v":0},{"$f":"'INVENT.Ma Informatiq Importé-10'!F541","v":0},{"$f":"'INVENT.Ma Informatiq Importé-10'!C541","v":0},{"$f":"'INVENT.Ma Informatiq Importé-10'!H541","v":0},null,0,0,0,0,0,0,null,null,0,0,0,0]
[536,{"$f":"'INVENT.Ma Informatiq Importé-10'!B542","v":0},{"$f":"'INVENT.Ma Informatiq Importé-10'!F542","v":0},{"$f":"'INVENT.Ma Informatiq Importé-10'!C542","v":0},{"$f":"'INVENT.Ma Informatiq Importé-10'!H542","v":0},null,0,0,0,0,0,0,null,null,0,0,0,0]
[537,{"$f":"'INVENT.Ma Informatiq Importé-10'!B543","v":0},{"$f":"'INVENT.Ma Informatiq Importé-10'!F543","v":0},{"$f":"'INVENT.Ma Informatiq Importé-10'!C543","v":0},{"$f":"'INVENT.Ma Informatiq Importé-10'!H543","v":0},null,0,0,0,0,0,0,null,null,0,0,0,0]
[538,{"$f":"'INVENT.Ma Informatiq Importé-10'!B544","v":0},{"$f":"'INVENT.Ma Informatiq Importé-10'!F544","v":0},{"$f":"'INVENT.Ma Informatiq Importé-10'!C544","v":0},{"$f":"'INVENT.Ma Informatiq Importé-10'!H544","v":0},null,0,0,0,0,0,0,null,null,0,0,0,0]
[539,{"$f":"'INVENT.Ma Informatiq Importé-10'!B545","v":0},{"$f":"'INVENT.Ma Informatiq Importé-10'!F545","v":0},{"$f":"'INVENT.Ma Informatiq Importé-10'!C545","v":0},{"$f":"'INVENT.Ma Informatiq Importé-10'!H545","v":0},null,0,0,0,0,0,0,null,null,0,0,0,0]
[540,{"$f":"'INVENT.Ma Informatiq Importé-10'!B546","v":0},{"$f":"'INVENT.Ma Informatiq Importé-10'!F546","v":0},{"$f":"'INVENT.Ma Informatiq Importé-10'!C546","v":0},{"$f":"'INVENT.Ma Informatiq Importé-10'!H546","v":0},null,0,0,0,0,0,0,null,null,0,0,0,0]
[541,{"$f":"'INVENT.Ma Informatiq Importé-10'!B547","v":0},{"$f":"'INVENT.Ma Informatiq Importé-10'!F547","v":0},{"$f":"'INVENT.Ma Informatiq Importé-10'!C547","v":0},{"$f":"'INVENT.Ma Informatiq Importé-10'!H547","v":0},null,0,0,0,0,0,0,null,null,0,0,0,0]
[542,{"$f":"'INVENT.Ma Informatiq Importé-10'!B548","v":0},{"$f":"'INVENT.Ma Informatiq Importé-10'!F548","v":0},{"$f":"'INVENT.Ma Informatiq Importé-10'!C548","v":0},{"$f":"'INVENT.Ma Informatiq Importé-10'!H548","v":0},null,0,0,0,0,0,0,null,null,0,0,0,0]
[543,{"$f":"'INVENT.Ma Informatiq Importé-10'!B549","v":0},{"$f":"'INVENT.Ma Informatiq Importé-10'!F549","v":0},{"$f":"'INVENT.Ma Informatiq Importé-10'!C549","v":0},{"$f":"'INVENT.Ma Informatiq Importé-10'!H549","v":0},null,0,0,0,0,0,0,null,null,0,0,0,0]
[544,{"$f":"'INVENT.Ma Informatiq Importé-10'!B550","v":0},{"$f":"'INVENT.Ma Informatiq Importé-10'!F550","v":0},{"$f":"'INVENT.Ma Informatiq Importé-10'!C550","v":0},{"$f":"'INVENT.Ma Informatiq Importé-10'!H550","v":0},null,0,0,0,0,0,0,null,null,0,0,0,0]
[545,{"$f":"'INVENT.Ma Informatiq Importé-10'!B551","v":0},{"$f":"'INVENT.Ma Informatiq Importé-10'!F551","v":0},{"$f":"'INVENT.Ma Informatiq Importé-10'!C551","v":0},{"$f":"'INVENT.Ma Informatiq Importé-10'!H551","v":0},null,0,0,0,0,0,0,null,null,0,0,0,0]
[546,{"$f":"'INVENT.Ma Informatiq Importé-10'!B552","v":0},{"$f":"'INVENT.Ma Informatiq Importé-10'!F552","v":0},{"$f":"'INVENT.Ma Informatiq Importé-10'!C552","v":0},{"$f":"'INVENT.Ma Informatiq Importé-10'!H552","v":0},null,0,0,0,0,0,0,null,null,0,0,0,0]
[547,{"$f":"'INVENT.Ma Informatiq Importé-10'!B553","v":0},{"$f":"'INVENT.Ma Informatiq Importé-10'!F553","v":0},{"$f":"'INVENT.Ma Informatiq Importé-10'!C553","v":0},{"$f":"'INVENT.Ma Informatiq Importé-10'!H553","v":0},null,0,0,0,0,0,0,null,null,0,0,0,0]
[548,{"$f":"'INVENT.Ma Informatiq Importé-10'!B554","v":0},{"$f":"'INVENT.Ma Informatiq Importé-10'!F554","v":0},{"$f":"'INVENT.Ma Informatiq Importé-10'!C554","v":0},{"$f":"'INVENT.Ma Informatiq Importé-10'!H554","v":0},null,0,0,0,0,0,0,null,null,0,0,0,0]
[549,{"$f":"'INVENT.Ma Informatiq Importé-10'!B555","v":0},{"$f":"'INVENT.Ma Informatiq Importé-10'!F555","v":0},{"$f":"'INVENT.Ma Informatiq Importé-10'!C555","v":0},{"$f":"'INVENT.Ma Informatiq Importé-10'!H555","v":0},null,0,0,0,0,0,0,null,null,0,0,0,0]
[550,{"$f":"'INVENT.Ma Informatiq Importé-10'!B556","v":0},{"$f":"'INVENT.Ma Informatiq Importé-10'!F556","v":0},{"$f":"'INVENT.Ma Informatiq Importé-10'!C556","v":0},{"$f":"'INVENT.Ma Informatiq Importé-10'!H556","v":0},null,0,0,0,0,0,0,null,null,0,0,0,0]
[551,{"$f":"'INVENT.Ma Informatiq Importé-10'!B557","v":0},{"$f":"'INVENT.Ma Informatiq Importé-10'!F557","v":0},{"$f":"'INVENT.Ma Informatiq Importé-10'!C557","v":0},{"$f":"'INVENT.Ma Informatiq Importé-10'!H557","v":0},null,0,0,0,0,0,0,null,null,0,0,0,0]
[552,{"$f":"'INVENT.Ma Informatiq Importé-10'!B558","v":0},{"$f":"'INVENT.Ma Informatiq Importé-10'!F558","v":0},{"$f":"'INVENT.Ma Informatiq Importé-10'!C558","v":0},{"$f":"'INVENT.Ma Informatiq Importé-10'!H558","v":0},null,0,0,0,0,0,0,null,null,0,0,0,0]
[553,{"$f":"'INVENT.Ma Informatiq Importé-10'!B559","v":0},{"$f":"'INVENT.Ma Informatiq Importé-10'!F559","v":0},{"$f":"'INVENT.Ma Informatiq Importé-10'!C559","v":0},{"$f":"'INVENT.Ma Informatiq Importé-10'!H559","v":0},null,0,0,0,0,0,0,null,null,0,0,0,0]
[554,{"$f":"'INVENT.Ma Informatiq Importé-10'!B560","v":0},{"$f":"'INVENT.Ma Informatiq Importé-10'!F560","v":0},{"$f":"'INVENT.Ma Informatiq Importé-10'!C560","v":0},{"$f":"'INVENT.Ma Informatiq Importé-10'!H560","v":0},null,0,0,0,0,0,0,null,null,0,0,0,0]
[555,{"$f":"'INVENT.Ma Informatiq Importé-10'!B561","v":0},{"$f":"'INVENT.Ma Informatiq Importé-10'!F561","v":0},{"$f":"'INVENT.Ma Informatiq Importé-10'!C561","v":0},{"$f":"'INVENT.Ma Informatiq Importé-10'!H561","v":0},null,0,0,0,0,0,0,null,null,0,0,0,0]
[556,{"$f":"'INVENT.Ma Informatiq Importé-10'!B562","v":0},{"$f":"'INVENT.Ma Informatiq Importé-10'!F562","v":0},{"$f":"'INVENT.Ma Informatiq Importé-10'!C562","v":0},{"$f":"'INVENT.Ma Informatiq Importé-10'!H562","v":0},null,0,0,0,0,0,0,null,null,0,0,0,0]
[557,{"$f":"'INVENT.Ma Informatiq Importé-10'!B563","v":0},{"$f":"'INVENT.Ma Informatiq Importé-10'!F563","v":0},{"$f":"'INVENT.Ma Informatiq Importé-10'!C563","v":0},{"$f":"'INVENT.Ma Informatiq Importé-10'!H563","v":0},null,0,0,0,0,0,0,null,null,0,0,0,0]
[558,{"$f":"'INVENT.Ma Informatiq Importé-10'!B564","v":0},{"$f":"'INVENT.Ma Informatiq Importé-10'!F564","v":0},{"$f":"'INVENT.Ma Informatiq Importé-10'!C564","v":0},{"$f":"'INVENT.Ma Informatiq Importé-10'!H564","v":0},null,0,0,0,0,0,0,null,null,0,0,0,0]
[559,{"$f":"'INVENT.Ma Informatiq Importé-10'!B565","v":0},{"$f":"'INVENT.Ma Informatiq Importé-10'!F565","v":0},{"$f":"'INVENT.Ma Informatiq Importé-10'!C565","v":0},{"$f":"'INVENT.Ma Informatiq Importé-10'!H565","v":0},null,0,0,0,0,0,0,null,null,0,0,0,0]
[560,{"$f":"'INVENT.Ma Informatiq Importé-10'!B566","v":0},{"$f":"'INVENT.Ma Informatiq Importé-10'!F566","v":0},{"$f":"'INVENT.Ma Informatiq Importé-10'!C566","v":0},{"$f":"'INVENT.Ma Informatiq Importé-10'!H566","v":0},null,0,0,0,0,0,0,null,null,0,0,0,0]
[561,{"$f":"'INVENT.Ma Informatiq Importé-10'!B567","v":0},{"$f":"'INVENT.Ma Informatiq Importé-10'!F567","v":0},{"$f":"'INVENT.Ma Informatiq Importé-10'!C567","v":0},{"$f":"'INVENT.Ma Informatiq Importé-10'!H567","v":0},null,0,0,0,0,0,0,null,null,0,0,0,0]
[562,{"$f":"'INVENT.Ma Informatiq Importé-10'!B568","v":0},{"$f":"'INVENT.Ma Informatiq Importé-10'!F568","v":0},{"$f":"'INVENT.Ma Informatiq Importé-10'!C568","v":0},{"$f":"'INVENT.Ma Informatiq Importé-10'!H568","v":0},null,0,0,0,0,0,0,null,null,0,0,0,0]
[{"$f":"+A569+1","v":563},{"$f":"'INVENT.Ma Informatiq Importé-10'!B569","v":0},{"$f":"'INVENT.Ma Informatiq Importé-10'!F569","v":0},{"$f":"'INVENT.Ma Informatiq Importé-10'!C569","v":0},{"$f":"'INVENT.Ma Informatiq Importé-10'!H569","v":0},null,{"$f":"F570*E570","v":0},0,0,0,{"$f":"(E570+G570+H570)*18%","v":0},0,null,null,{"$f":"(M570+N570)*18%","v":0},{"$f":"O570+N570+M570","v":0},{"$f":"+R570-O570-K570","v":0},{"$f":"P570+L570","v":0}]
[564,{"$f":"'INVENT.Ma Informatiq Importé-10'!B570","v":0},{"$f":"'INVENT.Ma Informatiq Importé-10'!F570","v":0},{"$f":"'INVENT.Ma Informatiq Importé-10'!C570","v":0},{"$f":"'INVENT.Ma Informatiq Importé-10'!H570","v":0},null,0,{"$f":"E571*1%","v":0},{"$f":"E571*1%","v":0},{"$f":"E571*0.5%","v":0},0,0,null,null,0,0,0,0]
[565,{"$f":"'INVENT.Ma Informatiq Importé-10'!B571","v":0},{"$f":"'INVENT.Ma Informatiq Importé-10'!F571","v":0},{"$f":"'INVENT.Ma Informatiq Importé-10'!C571","v":0},{"$f":"'INVENT.Ma Informatiq Importé-10'!H571","v":0},null,0,0,0,0,0,{"$f":"SUM(G572:K572)+E572","v":0},null,null,0,0,0,0]
[566,{"$f":"'INVENT.Ma Informatiq Importé-10'!B572","v":0},{"$f":"'INVENT.Ma Informatiq Importé-10'!F572","v":0},{"$f":"'INVENT.Ma Informatiq Importé-10'!C572","v":0},{"$f":"'INVENT.Ma Informatiq Importé-10'!H572","v":0},null,0,0,0,0,0,0,null,null,0,0,0,0]
[567,{"$f":"'INVENT.Ma Informatiq Importé-10'!B573","v":0},{"$f":"'INVENT.Ma Informatiq Importé-10'!F573","v":0},{"$f":"'INVENT.Ma Informatiq Importé-10'!C573","v":0},{"$f":"'INVENT.Ma Informatiq Importé-10'!H573","v":0},null,0,0,0,0,0,0,null,null,0,0,0,0]
[568,{"$f":"'INVENT.Ma Informatiq Importé-10'!B574","v":0},{"$f":"'INVENT.Ma Informatiq Importé-10'!F574","v":0},{"$f":"'INVENT.Ma Informatiq Importé-10'!C574","v":0},{"$f":"'INVENT.Ma Informatiq Importé-10'!H574","v":0},null,0,0,0,0,0,0,null,null,0,0,0,0]
[569,{"$f":"'INVENT.Ma Informatiq Importé-10'!B575","v":0},{"$f":"'INVENT.Ma Informatiq Importé-10'!F575","v":0},{"$f":"'INVENT.Ma Informatiq Importé-10'!C575","v":0},{"$f":"'INVENT.Ma Informatiq Importé-10'!H575","v":0},null,0,0,0,0,0,0,null,null,0,0,0,0]
[570,{"$f":"'INVENT.Ma Informatiq Importé-10'!B576","v":0},{"$f":"'INVENT.Ma Informatiq Importé-10'!F576","v":0},{"$f":"'INVENT.Ma Informatiq Importé-10'!C576","v":0},{"$f":"'INVENT.Ma Informatiq Importé-10'!H576","v":0},null,0,0,0,0,0,0,null,null,0,0,0,0]
[571,{"$f":"'INVENT.Ma Informatiq Importé-10'!B577","v":0},{"$f":"'INVENT.Ma Informatiq Importé-10'!F577","v":0},{"$f":"'INVENT.Ma Informatiq Importé-10'!C577","v":0},{"$f":"'INVENT.Ma Informatiq Importé-10'!H577","v":0},null,0,0,0,0,0,0,null,null,0,0,0,0]
[572,{"$f":"'INVENT.Ma Informatiq Importé-10'!B578","v":0},{"$f":"'INVENT.Ma Informatiq Importé-10'!F578","v":0},{"$f":"'INVENT.Ma Informatiq Importé-10'!C578","v":0},{"$f":"'INVENT.Ma Informatiq Importé-10'!H578","v":0},null,0,0,0,0,0,0,null,null,0,0,0,0]
[573,{"$f":"'INVENT.Ma Informatiq Importé-10'!B579","v":0},{"$f":"'INVENT.Ma Informatiq Importé-10'!F579","v":0},{"$f":"'INVENT.Ma Informatiq Importé-10'!C579","v":0},{"$f":"'INVENT.Ma Informatiq Importé-10'!H579","v":0},null,0,0,0,0,0,0,null,null,0,0,0,0]
[574,{"$f":"'INVENT.Ma Informatiq Importé-10'!B580","v":0},{"$f":"'INVENT.Ma Informatiq Importé-10'!F580","v":0},{"$f":"'INVENT.Ma Informatiq Importé-10'!C580","v":0},{"$f":"'INVENT.Ma Informatiq Importé-10'!H580","v":0},null,0,0,0,0,0,0,null,null,0,0,0,0]
[575,{"$f":"'INVENT.Ma Informatiq Importé-10'!B581","v":0},{"$f":"'INVENT.Ma Informatiq Importé-10'!F581","v":0},{"$f":"'INVENT.Ma Informatiq Importé-10'!C581","v":0},{"$f":"'INVENT.Ma Informatiq Importé-10'!H581","v":0},null,0,0,0,0,0,0,null,null,0,0,0,0]
[576,{"$f":"'INVENT.Ma Informatiq Importé-10'!B582","v":0},{"$f":"'INVENT.Ma Informatiq Importé-10'!F582","v":0},{"$f":"'INVENT.Ma Informatiq Importé-10'!C582","v":0},{"$f":"'INVENT.Ma Informatiq Importé-10'!H582","v":0},null,0,0,0,0,0,0,null,null,0,0,0,0]
[577,{"$f":"'INVENT.Ma Informatiq Importé-10'!B583","v":0},{"$f":"'INVENT.Ma Informatiq Importé-10'!F583","v":0},{"$f":"'INVENT.Ma Informatiq Importé-10'!C583","v":0},{"$f":"'INVENT.Ma Informatiq Importé-10'!H583","v":0},null,0,0,0,0,0,0,null,null,0,0,0,0]
[578,{"$f":"'INVENT.Ma Informatiq Importé-10'!B584","v":0},{"$f":"'INVENT.Ma Informatiq Importé-10'!F584","v":0},{"$f":"'INVENT.Ma Informatiq Importé-10'!C584","v":0},{"$f":"'INVENT.Ma Informatiq Importé-10'!H584","v":0},null,0,0,0,0,0,0,null,null,0,0,0,0]
[579,{"$f":"'INVENT.Ma Informatiq Importé-10'!B585","v":0},{"$f":"'INVENT.Ma Informatiq Importé-10'!F585","v":0},{"$f":"'INVENT.Ma Informatiq Importé-10'!C585","v":0},{"$f":"'INVENT.Ma Informatiq Importé-10'!H585","v":0},null,0,0,0,0,0,0,null,null,0,0,0,0]
[580,{"$f":"'INVENT.Ma Informatiq Importé-10'!B586","v":0},{"$f":"'INVENT.Ma Informatiq Importé-10'!F586","v":0},{"$f":"'INVENT.Ma Informatiq Importé-10'!C586","v":0},{"$f":"'INVENT.Ma Informatiq Importé-10'!H586","v":0},null,0,0,0,0,0,0,null,null,0,0,0,0]
[581,{"$f":"'INVENT.Ma Informatiq Importé-10'!B587","v":0},{"$f":"'INVENT.Ma Informatiq Importé-10'!F587","v":0},{"$f":"'INVENT.Ma Informatiq Importé-10'!C587","v":0},{"$f":"'INVENT.Ma Informatiq Importé-10'!H587","v":0},null,0,0,0,0,0,0,null,null,0,0,0,0]
[582,{"$f":"'INVENT.Ma Informatiq Importé-10'!B588","v":0},{"$f":"'INVENT.Ma Informatiq Importé-10'!F588","v":0},{"$f":"'INVENT.Ma Informatiq Importé-10'!C588","v":0},{"$f":"'INVENT.Ma Informatiq Importé-10'!H588","v":0},null,0,0,0,0,0,0,null,null,0,0,0,0]
[583,{"$f":"'INVENT.Ma Informatiq Importé-10'!B589","v":0},{"$f":"'INVENT.Ma Informatiq Importé-10'!F589","v":0},{"$f":"'INVENT.Ma Informatiq Importé-10'!C589","v":0},{"$f":"'INVENT.Ma Informatiq Importé-10'!H589","v":0},null,0,0,0,0,0,0,null,null,0,0,0,0]
[584,{"$f":"'INVENT.Ma Informatiq Importé-10'!B590","v":0},{"$f":"'INVENT.Ma Informatiq Importé-10'!F590","v":0},{"$f":"'INVENT.Ma Informatiq Importé-10'!C590","v":0},{"$f":"'INVENT.Ma Informatiq Importé-10'!H590","v":0},null,0,0,0,0,0,0,null,null,0,0,0,0]
[585,{"$f":"'INVENT.Ma Informatiq Importé-10'!B591","v":0},{"$f":"'INVENT.Ma Informatiq Importé-10'!F591","v":0},{"$f":"'INVENT.Ma Informatiq Importé-10'!C591","v":0},{"$f":"'INVENT.Ma Informatiq Importé-10'!H591","v":0},null,0,0,0,0,0,0,null,null,0,0,0,0]
[586,{"$f":"'INVENT.Ma Informatiq Importé-10'!B592","v":0},{"$f":"'INVENT.Ma Informatiq Importé-10'!F592","v":0},{"$f":"'INVENT.Ma Informatiq Importé-10'!C592","v":0},{"$f":"'INVENT.Ma Informatiq Importé-10'!H592","v":0},null,0,0,0,0,0,0,null,null,0,0,0,0]
[587,{"$f":"'INVENT.Ma Informatiq Importé-10'!B593","v":0},{"$f":"'INVENT.Ma Informatiq Importé-10'!F593","v":0},{"$f":"'INVENT.Ma Informatiq Importé-10'!C593","v":0},{"$f":"'INVENT.Ma Informatiq Importé-10'!H593","v":0},null,0,0,0,0,0,0,null,null,0,0,0,0]
[588,{"$f":"'INVENT.Ma Informatiq Importé-10'!B594","v":0},{"$f":"'INVENT.Ma Informatiq Importé-10'!F594","v":0},{"$f":"'INVENT.Ma Informatiq Importé-10'!C594","v":0},{"$f":"'INVENT.Ma Informatiq Importé-10'!H594","v":0},null,0,0,0,0,0,0,null,null,0,0,0,0]
[589,{"$f":"'INVENT.Ma Informatiq Importé-10'!B595","v":0},{"$f":"'INVENT.Ma Informatiq Importé-10'!F595","v":0},{"$f":"'INVENT.Ma Informatiq Importé-10'!C595","v":0},{"$f":"'INVENT.Ma Informatiq Importé-10'!H595","v":0},null,0,0,0,0,0,0,null,null,0,0,0,0]
[590,{"$f":"'INVENT.Ma Informatiq Importé-10'!B596","v":0},{"$f":"'INVENT.Ma Informatiq Importé-10'!F596","v":0},{"$f":"'INVENT.Ma Informatiq Importé-10'!C596","v":0},{"$f":"'INVENT.Ma Informatiq Importé-10'!H596","v":0},null,0,0,0,0,0,0,null,null,0,0,0,0]
[591,{"$f":"'INVENT.Ma Informatiq Importé-10'!B597","v":0},{"$f":"'INVENT.Ma Informatiq Importé-10'!F597","v":0},{"$f":"'INVENT.Ma Informatiq Importé-10'!C597","v":0},{"$f":"'INVENT.Ma Informatiq Importé-10'!H597","v":0},null,0,0,0,0,0,0,null,null,0,0,0,0]
[592,{"$f":"'INVENT.Ma Informatiq Importé-10'!B598","v":0},{"$f":"'INVENT.Ma Informatiq Importé-10'!F598","v":0},{"$f":"'INVENT.Ma Informatiq Importé-10'!C598","v":0},{"$f":"'INVENT.Ma Informatiq Importé-10'!H598","v":0},null,0,0,0,0,0,0,null,null,0,0,0,0]
[593,{"$f":"'INVENT.Ma Informatiq Importé-10'!B599","v":0},{"$f":"'INVENT.Ma Informatiq Importé-10'!F599","v":0},{"$f":"'INVENT.Ma Informatiq Importé-10'!C599","v":0},{"$f":"'INVENT.Ma Informatiq Importé-10'!H599","v":0},null,0,0,0,0,0,0,null,null,0,0,0,0]
[594,{"$f":"'INVENT.Ma Informatiq Importé-10'!B600","v":0},{"$f":"'INVENT.Ma Informatiq Importé-10'!F600","v":0},{"$f":"'INVENT.Ma Informatiq Importé-10'!C600","v":0},{"$f":"'INVENT.Ma Informatiq Importé-10'!H600","v":0},null,0,0,0,0,0,0,null,null,0,0,0,0]
[595,{"$f":"'INVENT.Ma Informatiq Importé-10'!B601","v":0},{"$f":"'INVENT.Ma Informatiq Importé-10'!F601","v":0},{"$f":"'INVENT.Ma Informatiq Importé-10'!C601","v":0},{"$f":"'INVENT.Ma Informatiq Importé-10'!H601","v":0},null,0,0,0,0,0,0,null,null,0,0,0,0]
[596,{"$f":"'INVENT.Ma Informatiq Importé-10'!B602","v":0},{"$f":"'INVENT.Ma Informatiq Importé-10'!F602","v":0},{"$f":"'INVENT.Ma Informatiq Importé-10'!C602","v":0},{"$f":"'INVENT.Ma Informatiq Importé-10'!H602","v":0},null,0,0,0,0,0,0,null,null,0,0,0,0]
[597,{"$f":"'INVENT.Ma Informatiq Importé-10'!B603","v":0},{"$f":"'INVENT.Ma Informatiq Importé-10'!F603","v":0},{"$f":"'INVENT.Ma Informatiq Importé-10'!C603","v":0},{"$f":"'INVENT.Ma Informatiq Importé-10'!H603","v":0},null,0,0,0,0,0,0,null,null,0,0,0,0]
[598,{"$f":"'INVENT.Ma Informatiq Importé-10'!B604","v":0},{"$f":"'INVENT.Ma Informatiq Importé-10'!F604","v":0},{"$f":"'INVENT.Ma Informatiq Importé-10'!C604","v":0},{"$f":"'INVENT.Ma Informatiq Importé-10'!H604","v":0},null,0,0,0,0,0,0,null,null,0,0,0,0]
[599,{"$f":"'INVENT.Ma Informatiq Importé-10'!B605","v":0},{"$f":"'INVENT.Ma Informatiq Importé-10'!F605","v":0},{"$f":"'INVENT.Ma Informatiq Importé-10'!C605","v":0},{"$f":"'INVENT.Ma Informatiq Importé-10'!H605","v":0},null,0,0,0,0,0,0,null,null,0,0,0,0]
[600,{"$f":"'INVENT.Ma Informatiq Importé-10'!B606","v":0},{"$f":"'INVENT.Ma Informatiq Importé-10'!F606","v":0},{"$f":"'INVENT.Ma Informatiq Importé-10'!C606","v":0},{"$f":"'INVENT.Ma Informatiq Importé-10'!H606","v":0},null,0,0,0,0,0,0,null,null,0,0,0,0]
[601,{"$f":"'INVENT.Ma Informatiq Importé-10'!B607","v":0},{"$f":"'INVENT.Ma Informatiq Importé-10'!F607","v":0},{"$f":"'INVENT.Ma Informatiq Importé-10'!C607","v":0},{"$f":"'INVENT.Ma Informatiq Importé-10'!H607","v":0},null,0,0,0,0,0,0,null,null,0,0,0,0]
[602,{"$f":"'INVENT.Ma Informatiq Importé-10'!B608","v":0},{"$f":"'INVENT.Ma Informatiq Importé-10'!F608","v":0},{"$f":"'INVENT.Ma Informatiq Importé-10'!C608","v":0},{"$f":"'INVENT.Ma Informatiq Importé-10'!H608","v":0},null,0,0,0,0,0,0,null,null,0,0,0,0]
[603,{"$f":"'INVENT.Ma Informatiq Importé-10'!B609","v":0},{"$f":"'INVENT.Ma Informatiq Importé-10'!F609","v":0},{"$f":"'INVENT.Ma Informatiq Importé-10'!C609","v":0},{"$f":"'INVENT.Ma Informatiq Importé-10'!H609","v":0},null,0,0,0,0,0,0,null,null,0,0,0,0]
[604,{"$f":"'INVENT.Ma Informatiq Importé-10'!B610","v":0},{"$f":"'INVENT.Ma Informatiq Importé-10'!F610","v":0},{"$f":"'INVENT.Ma Informatiq Importé-10'!C610","v":0},{"$f":"'INVENT.Ma Informatiq Importé-10'!H610","v":0},null,0,0,0,0,0,0,null,null,0,0,0,0]
[605,{"$f":"'INVENT.Ma Informatiq Importé-10'!B611","v":0},{"$f":"'INVENT.Ma Informatiq Importé-10'!F611","v":0},{"$f":"'INVENT.Ma Informatiq Importé-10'!C611","v":0},{"$f":"'INVENT.Ma Informatiq Importé-10'!H611","v":0},null,0,0,0,0,0,0,null,null,0,0,0,0]
[606,{"$f":"'INVENT.Ma Informatiq Importé-10'!B612","v":0},{"$f":"'INVENT.Ma Informatiq Importé-10'!F612","v":0},{"$f":"'INVENT.Ma Informatiq Importé-10'!C612","v":0},{"$f":"'INVENT.Ma Informatiq Importé-10'!H612","v":0},null,0,0,0,0,0,0,null,null,0,0,0,0]
[607,{"$f":"'INVENT.Ma Informatiq Importé-10'!B613","v":0},{"$f":"'INVENT.Ma Informatiq Importé-10'!F613","v":0},{"$f":"'INVENT.Ma Informatiq Importé-10'!C613","v":0},{"$f":"'INVENT.Ma Informatiq Importé-10'!H613","v":0},null,0,0,0,0,0,0,null,null,0,0,0,0]
[608,{"$f":"'INVENT.Ma Informatiq Importé-10'!B614","v":0},{"$f":"'INVENT.Ma Informatiq Importé-10'!F614","v":0},{"$f":"'INVENT.Ma Informatiq Importé-10'!C614","v":0},{"$f":"'INVENT.Ma Informatiq Importé-10'!H614","v":0},null,0,0,0,0,0,0,null,null,0,0,0,0]
[609,{"$f":"'INVENT.Ma Informatiq Importé-10'!B615","v":0},{"$f":"'INVENT.Ma Informatiq Importé-10'!F615","v":0},{"$f":"'INVENT.Ma Informatiq Importé-10'!C615","v":0},{"$f":"'INVENT.Ma Informatiq Importé-10'!H615","v":0},null,0,0,0,0,0,0,null,null,0,0,0,0]
[610,{"$f":"'INVENT.Ma Informatiq Importé-10'!B616","v":0},{"$f":"'INVENT.Ma Informatiq Importé-10'!F616","v":0},{"$f":"'INVENT.Ma Informatiq Importé-10'!C616","v":0},{"$f":"'INVENT.Ma Informatiq Importé-10'!H616","v":0},null,0,0,0,0,0,0,null,null,0,0,0,0]
[611,{"$f":"'INVENT.Ma Informatiq Importé-10'!B617","v":0},{"$f":"'INVENT.Ma Informatiq Importé-10'!F617","v":0},{"$f":"'INVENT.Ma Informatiq Importé-10'!C617","v":0},{"$f":"'INVENT.Ma Informatiq Importé-10'!H617","v":0},null,0,0,0,0,0,0,null,null,0,0,0,0]
[612,{"$f":"'INVENT.Ma Informatiq Importé-10'!B618","v":0},{"$f":"'INVENT.Ma Informatiq Importé-10'!F618","v":0},{"$f":"'INVENT.Ma Informatiq Importé-10'!C618","v":0},{"$f":"'INVENT.Ma Informatiq Importé-10'!H618","v":0},null,0,0,0,0,0,0,null,null,0,0,0,0]
[613,{"$f":"'INVENT.Ma Informatiq Importé-10'!B619","v":0},{"$f":"'INVENT.Ma Informatiq Importé-10'!F619","v":0},{"$f":"'INVENT.Ma Informatiq Importé-10'!C619","v":0},{"$f":"'INVENT.Ma Informatiq Importé-10'!H619","v":0},null,0,0,0,0,0,0,null,null,0,0,0,0]
[614,{"$f":"'INVENT.Ma Informatiq Importé-10'!B620","v":0},{"$f":"'INVENT.Ma Informatiq Importé-10'!F620","v":0},{"$f":"'INVENT.Ma Informatiq Importé-10'!C620","v":0},{"$f":"'INVENT.Ma Informatiq Importé-10'!H620","v":0},null,0,0,0,0,0,0,null,null,0,0,0,0]
[615,{"$f":"'INVENT.Ma Informatiq Importé-10'!B621","v":0},{"$f":"'INVENT.Ma Informatiq Importé-10'!F621","v":0},{"$f":"'INVENT.Ma Informatiq Importé-10'!C621","v":0},{"$f":"'INVENT.Ma Informatiq Importé-10'!H621","v":0},null,0,0,0,0,0,0,null,null,0,0,0,0]
[616,{"$f":"'INVENT.Ma Informatiq Importé-10'!B622","v":0},{"$f":"'INVENT.Ma Informatiq Importé-10'!F622","v":0},{"$f":"'INVENT.Ma Informatiq Importé-10'!C622","v":0},{"$f":"'INVENT.Ma Informatiq Importé-10'!H622","v":0},null,0,0,0,0,0,0,null,null,0,0,0,0]
[617,{"$f":"'INVENT.Ma Informatiq Importé-10'!B623","v":0},{"$f":"'INVENT.Ma Informatiq Importé-10'!F623","v":0},{"$f":"'INVENT.Ma Informatiq Importé-10'!C623","v":0},{"$f":"'INVENT.Ma Informatiq Importé-10'!H623","v":0},null,0,0,0,0,0,0,null,null,0,0,0,0]
[618,{"$f":"'INVENT.Ma Informatiq Importé-10'!B624","v":0},{"$f":"'INVENT.Ma Informatiq Importé-10'!F624","v":0},{"$f":"'INVENT.Ma Informatiq Importé-10'!C624","v":0},{"$f":"'INVENT.Ma Informatiq Importé-10'!H624","v":0},null,0,0,0,0,0,0,null,null,0,0,0,0]
[619,{"$f":"'INVENT.Ma Informatiq Importé-10'!B625","v":0},{"$f":"'INVENT.Ma Informatiq Importé-10'!F625","v":0},{"$f":"'INVENT.Ma Informatiq Importé-10'!C625","v":0},{"$f":"'INVENT.Ma Informatiq Importé-10'!H625","v":0},null,0,0,0,0,0,0,null,null,0,0,0,0]
[620,{"$f":"'INVENT.Ma Informatiq Importé-10'!B626","v":0},{"$f":"'INVENT.Ma Informatiq Importé-10'!F626","v":0},{"$f":"'INVENT.Ma Informatiq Importé-10'!C626","v":0},{"$f":"'INVENT.Ma Informatiq Importé-10'!H626","v":0},null,0,0,0,0,0,0,null,null,0,0,0,0]
[621,{"$f":"'INVENT.Ma Informatiq Importé-10'!B627","v":0},{"$f":"'INVENT.Ma Informatiq Importé-10'!F627","v":0},{"$f":"'INVENT.Ma Informatiq Importé-10'!C627","v":0},{"$f":"'INVENT.Ma Informatiq Importé-10'!H627","v":0},null,0,0,0,0,0,0,null,null,0,0,0,0]
[622,{"$f":"'INVENT.Ma Informatiq Importé-10'!B628","v":0},{"$f":"'INVENT.Ma Informatiq Importé-10'!F628","v":0},{"$f":"'INVENT.Ma Informatiq Importé-10'!C628","v":0},{"$f":"'INVENT.Ma Informatiq Importé-10'!H628","v":0},null,0,0,0,0,0,0,null,null,0,0,0,0]
[623,{"$f":"'INVENT.Ma Informatiq Importé-10'!B629","v":0},{"$f":"'INVENT.Ma Informatiq Importé-10'!F629","v":0},{"$f":"'INVENT.Ma Informatiq Importé-10'!C629","v":0},{"$f":"'INVENT.Ma Informatiq Importé-10'!H629","v":0},null,0,0,0,0,0,0,null,null,0,0,0,0]
[624,{"$f":"'INVENT.Ma Informatiq Importé-10'!B630","v":0},{"$f":"'INVENT.Ma Informatiq Importé-10'!F630","v":0},{"$f":"'INVENT.Ma Informatiq Importé-10'!C630","v":0},{"$f":"'INVENT.Ma Informatiq Importé-10'!H630","v":0},null,0,0,0,0,0,0,null,null,0,0,0,0]
[625,{"$f":"'INVENT.Ma Informatiq Importé-10'!B631","v":0},{"$f":"'INVENT.Ma Informatiq Importé-10'!F631","v":0},{"$f":"'INVENT.Ma Informatiq Importé-10'!C631","v":0},{"$f":"'INVENT.Ma Informatiq Importé-10'!H631","v":0},null,0,0,0,0,0,0,null,null,0,0,0,0]
[626,{"$f":"'INVENT.Ma Informatiq Importé-10'!B632","v":0},{"$f":"'INVENT.Ma Informatiq Importé-10'!F632","v":0},{"$f":"'INVENT.Ma Informatiq Importé-10'!C632","v":0},{"$f":"'INVENT.Ma Informatiq Importé-10'!H632","v":0},null,0,0,0,0,0,0,null,null,0,0,0,0]
[{"$f":"+A633+1","v":627},{"$f":"'INVENT.Ma Informatiq Importé-10'!B633","v":0},{"$f":"'INVENT.Ma Informatiq Importé-10'!F633","v":0},{"$f":"'INVENT.Ma Informatiq Importé-10'!C633","v":0},{"$f":"'INVENT.Ma Informatiq Importé-10'!H633","v":0},null,{"$f":"F634*E634","v":0},0,0,0,{"$f":"(E634+G634+H634)*18%","v":0},0,null,null,{"$f":"(M634+N634)*18%","v":0},{"$f":"O634+N634+M634","v":0},{"$f":"+R634-O634-K634","v":0},{"$f":"P634+L634","v":0}]
[628,{"$f":"'INVENT.Ma Informatiq Importé-10'!B634","v":0},{"$f":"'INVENT.Ma Informatiq Importé-10'!F634","v":0},{"$f":"'INVENT.Ma Informatiq Importé-10'!C634","v":0},{"$f":"'INVENT.Ma Informatiq Importé-10'!H634","v":0},null,0,{"$f":"E635*1%","v":0},{"$f":"E635*1%","v":0},{"$f":"E635*0.5%","v":0},0,0,null,null,0,0,0,0]
[629,{"$f":"'INVENT.Ma Informatiq Importé-10'!B635","v":0},{"$f":"'INVENT.Ma Informatiq Importé-10'!F635","v":0},{"$f":"'INVENT.Ma Informatiq Importé-10'!C635","v":0},{"$f":"'INVENT.Ma Informatiq Importé-10'!H635","v":0},null,0,0,0,0,0,{"$f":"SUM(G636:K636)+E636","v":0},null,null,0,0,0,0]
[630,{"$f":"'INVENT.Ma Informatiq Importé-10'!B636","v":0},{"$f":"'INVENT.Ma Informatiq Importé-10'!F636","v":0},{"$f":"'INVENT.Ma Informatiq Importé-10'!C636","v":0},{"$f":"'INVENT.Ma Informatiq Importé-10'!H636","v":0},null,0,0,0,0,0,0,null,null,0,0,0,0]
[631,{"$f":"'INVENT.Ma Informatiq Importé-10'!B637","v":0},{"$f":"'INVENT.Ma Informatiq Importé-10'!F637","v":0},{"$f":"'INVENT.Ma Informatiq Importé-10'!C637","v":0},{"$f":"'INVENT.Ma Informatiq Importé-10'!H637","v":0},null,0,0,0,0,0,0,null,null,0,0,0,0]
[632,{"$f":"'INVENT.Ma Informatiq Importé-10'!B638","v":0},{"$f":"'INVENT.Ma Informatiq Importé-10'!F638","v":0},{"$f":"'INVENT.Ma Informatiq Importé-10'!C638","v":0},{"$f":"'INVENT.Ma Informatiq Importé-10'!H638","v":0},null,0,0,0,0,0,0,null,null,0,0,0,0]
[633,{"$f":"'INVENT.Ma Informatiq Importé-10'!B639","v":0},{"$f":"'INVENT.Ma Informatiq Importé-10'!F639","v":0},{"$f":"'INVENT.Ma Informatiq Importé-10'!C639","v":0},{"$f":"'INVENT.Ma Informatiq Importé-10'!H639","v":0},null,0,0,0,0,0,0,null,null,0,0,0,0]
[634,{"$f":"'INVENT.Ma Informatiq Importé-10'!B640","v":0},{"$f":"'INVENT.Ma Informatiq Importé-10'!F640","v":0},{"$f":"'INVENT.Ma Informatiq Importé-10'!C640","v":0},{"$f":"'INVENT.Ma Informatiq Importé-10'!H640","v":0},null,0,0,0,0,0,0,null,null,0,0,0,0]
[635,{"$f":"'INVENT.Ma Informatiq Importé-10'!B641","v":0},{"$f":"'INVENT.Ma Informatiq Importé-10'!F641","v":0},{"$f":"'INVENT.Ma Informatiq Importé-10'!C641","v":0},{"$f":"'INVENT.Ma Informatiq Importé-10'!H641","v":0},null,0,0,0,0,0,0,null,null,0,0,0,0]
[636,{"$f":"'INVENT.Ma Informatiq Importé-10'!B642","v":0},{"$f":"'INVENT.Ma Informatiq Importé-10'!F642","v":0},{"$f":"'INVENT.Ma Informatiq Importé-10'!C642","v":0},{"$f":"'INVENT.Ma Informatiq Importé-10'!H642","v":0},null,0,0,0,0,0,0,null,null,0,0,0,0]
[637,{"$f":"'INVENT.Ma Informatiq Importé-10'!B643","v":0},{"$f":"'INVENT.Ma Informatiq Importé-10'!F643","v":0},{"$f":"'INVENT.Ma Informatiq Importé-10'!C643","v":0},{"$f":"'INVENT.Ma Informatiq Importé-10'!H643","v":0},null,0,0,0,0,0,0,null,null,0,0,0,0]
[638,{"$f":"'INVENT.Ma Informatiq Importé-10'!B644","v":0},{"$f":"'INVENT.Ma Informatiq Importé-10'!F644","v":0},{"$f":"'INVENT.Ma Informatiq Importé-10'!C644","v":0},{"$f":"'INVENT.Ma Informatiq Importé-10'!H644","v":0},null,0,0,0,0,0,0,null,null,0,0,0,0]
[639,{"$f":"'INVENT.Ma Informatiq Importé-10'!B645","v":0},{"$f":"'INVENT.Ma Informatiq Importé-10'!F645","v":0},{"$f":"'INVENT.Ma Informatiq Importé-10'!C645","v":0},{"$f":"'INVENT.Ma Informatiq Importé-10'!H645","v":0},null,0,0,0,0,0,0,null,null,0,0,0,0]
[640,{"$f":"'INVENT.Ma Informatiq Importé-10'!B646","v":0},{"$f":"'INVENT.Ma Informatiq Importé-10'!F646","v":0},{"$f":"'INVENT.Ma Informatiq Importé-10'!C646","v":0},{"$f":"'INVENT.Ma Informatiq Importé-10'!H646","v":0},null,0,0,0,0,0,0,null,null,0,0,0,0]
[641,{"$f":"'INVENT.Ma Informatiq Importé-10'!B647","v":0},{"$f":"'INVENT.Ma Informatiq Importé-10'!F647","v":0},{"$f":"'INVENT.Ma Informatiq Importé-10'!C647","v":0},{"$f":"'INVENT.Ma Informatiq Importé-10'!H647","v":0},null,0,0,0,0,0,0,null,null,0,0,0,0]
[642,{"$f":"'INVENT.Ma Informatiq Importé-10'!B648","v":0},{"$f":"'INVENT.Ma Informatiq Importé-10'!F648","v":0},{"$f":"'INVENT.Ma Informatiq Importé-10'!C648","v":0},{"$f":"'INVENT.Ma Informatiq Importé-10'!H648","v":0},null,0,0,0,0,0,0,null,null,0,0,0,0]
[643,{"$f":"'INVENT.Ma Informatiq Importé-10'!B649","v":0},{"$f":"'INVENT.Ma Informatiq Importé-10'!F649","v":0},{"$f":"'INVENT.Ma Informatiq Importé-10'!C649","v":0},{"$f":"'INVENT.Ma Informatiq Importé-10'!H649","v":0},null,0,0,0,0,0,0,null,null,0,0,0,0]
[644,{"$f":"'INVENT.Ma Informatiq Importé-10'!B650","v":0},{"$f":"'INVENT.Ma Informatiq Importé-10'!F650","v":0},{"$f":"'INVENT.Ma Informatiq Importé-10'!C650","v":0},{"$f":"'INVENT.Ma Informatiq Importé-10'!H650","v":0},null,0,0,0,0,0,0,null,null,0,0,0,0]
[645,{"$f":"'INVENT.Ma Informatiq Importé-10'!B651","v":0},{"$f":"'INVENT.Ma Informatiq Importé-10'!F651","v":0},{"$f":"'INVENT.Ma Informatiq Importé-10'!C651","v":0},{"$f":"'INVENT.Ma Informatiq Importé-10'!H651","v":0},null,0,0,0,0,0,0,null,null,0,0,0,0]
[646,{"$f":"'INVENT.Ma Informatiq Importé-10'!B652","v":0},{"$f":"'INVENT.Ma Informatiq Importé-10'!F652","v":0},{"$f":"'INVENT.Ma Informatiq Importé-10'!C652","v":0},{"$f":"'INVENT.Ma Informatiq Importé-10'!H652","v":0},null,0,0,0,0,0,0,null,null,0,0,0,0]
[647,{"$f":"'INVENT.Ma Informatiq Importé-10'!B653","v":0},{"$f":"'INVENT.Ma Informatiq Importé-10'!F653","v":0},{"$f":"'INVENT.Ma Informatiq Importé-10'!C653","v":0},{"$f":"'INVENT.Ma Informatiq Importé-10'!H653","v":0},null,0,0,0,0,0,0,null,null,0,0,0,0]
[648,{"$f":"'INVENT.Ma Informatiq Importé-10'!B654","v":0},{"$f":"'INVENT.Ma Informatiq Importé-10'!F654","v":0},{"$f":"'INVENT.Ma Informatiq Importé-10'!C654","v":0},{"$f":"'INVENT.Ma Informatiq Importé-10'!H654","v":0},null,0,0,0,0,0,0,null,null,0,0,0,0]
[649,{"$f":"'INVENT.Ma Informatiq Importé-10'!B655","v":0},{"$f":"'INVENT.Ma Informatiq Importé-10'!F655","v":0},{"$f":"'INVENT.Ma Informatiq Importé-10'!C655","v":0},{"$f":"'INVENT.Ma Informatiq Importé-10'!H655","v":0},null,0,0,0,0,0,0,null,null,0,0,0,0]
[650,{"$f":"'INVENT.Ma Informatiq Importé-10'!B656","v":0},{"$f":"'INVENT.Ma Informatiq Importé-10'!F656","v":0},{"$f":"'INVENT.Ma Informatiq Importé-10'!C656","v":0},{"$f":"'INVENT.Ma Informatiq Importé-10'!H656","v":0},null,0,0,0,0,0,0,null,null,0,0,0,0]
[651,{"$f":"'INVENT.Ma Informatiq Importé-10'!B657","v":0},{"$f":"'INVENT.Ma Informatiq Importé-10'!F657","v":0},{"$f":"'INVENT.Ma Informatiq Importé-10'!C657","v":0},{"$f":"'INVENT.Ma Informatiq Importé-10'!H657","v":0},null,0,0,0,0,0,0,null,null,0,0,0,0]
[652,{"$f":"'INVENT.Ma Informatiq Importé-10'!B658","v":0},{"$f":"'INVENT.Ma Informatiq Importé-10'!F658","v":0},{"$f":"'INVENT.Ma Informatiq Importé-10'!C658","v":0},{"$f":"'INVENT.Ma Informatiq Importé-10'!H658","v":0},null,0,0,0,0,0,0,null,null,0,0,0,0]
[653,{"$f":"'INVENT.Ma Informatiq Importé-10'!B659","v":0},{"$f":"'INVENT.Ma Informatiq Importé-10'!F659","v":0},{"$f":"'INVENT.Ma Informatiq Importé-10'!C659","v":0},{"$f":"'INVENT.Ma Informatiq Importé-10'!H659","v":0},null,0,0,0,0,0,0,null,null,0,0,0,0]
[654,{"$f":"'INVENT.Ma Informatiq Importé-10'!B660","v":0},{"$f":"'INVENT.Ma Informatiq Importé-10'!F660","v":0},{"$f":"'INVENT.Ma Informatiq Importé-10'!C660","v":0},{"$f":"'INVENT.Ma Informatiq Importé-10'!H660","v":0},null,0,0,0,0,0,0,null,null,0,0,0,0]
[655,{"$f":"'INVENT.Ma Informatiq Importé-10'!B661","v":0},{"$f":"'INVENT.Ma Informatiq Importé-10'!F661","v":0},{"$f":"'INVENT.Ma Informatiq Importé-10'!C661","v":0},{"$f":"'INVENT.Ma Informatiq Importé-10'!H661","v":0},null,0,0,0,0,0,0,null,null,0,0,0,0]
[656,{"$f":"'INVENT.Ma Informatiq Importé-10'!B662","v":0},{"$f":"'INVENT.Ma Informatiq Importé-10'!F662","v":0},{"$f":"'INVENT.Ma Informatiq Importé-10'!C662","v":0},{"$f":"'INVENT.Ma Informatiq Importé-10'!H662","v":0},null,0,0,0,0,0,0,null,null,0,0,0,0]
[657,{"$f":"'INVENT.Ma Informatiq Importé-10'!B663","v":0},{"$f":"'INVENT.Ma Informatiq Importé-10'!F663","v":0},{"$f":"'INVENT.Ma Informatiq Importé-10'!C663","v":0},{"$f":"'INVENT.Ma Informatiq Importé-10'!H663","v":0},null,0,0,0,0,0,0,null,null,0,0,0,0]
[658,{"$f":"'INVENT.Ma Informatiq Importé-10'!B664","v":0},{"$f":"'INVENT.Ma Informatiq Importé-10'!F664","v":0},{"$f":"'INVENT.Ma Informatiq Importé-10'!C664","v":0},{"$f":"'INVENT.Ma Informatiq Importé-10'!H664","v":0},null,0,0,0,0,0,0,null,null,0,0,0,0]
[659,{"$f":"'INVENT.Ma Informatiq Importé-10'!B665","v":0},{"$f":"'INVENT.Ma Informatiq Importé-10'!F665","v":0},{"$f":"'INVENT.Ma Informatiq Importé-10'!C665","v":0},{"$f":"'INVENT.Ma Informatiq Importé-10'!H665","v":0},null,0,0,0,0,0,0,null,null,0,0,0,0]
[660,{"$f":"'INVENT.Ma Informatiq Importé-10'!B666","v":0},{"$f":"'INVENT.Ma Informatiq Importé-10'!F666","v":0},{"$f":"'INVENT.Ma Informatiq Importé-10'!C666","v":0},{"$f":"'INVENT.Ma Informatiq Importé-10'!H666","v":0},null,0,0,0,0,0,0,null,null,0,0,0,0]
[661,{"$f":"'INVENT.Ma Informatiq Importé-10'!B667","v":0},{"$f":"'INVENT.Ma Informatiq Importé-10'!F667","v":0},{"$f":"'INVENT.Ma Informatiq Importé-10'!C667","v":0},{"$f":"'INVENT.Ma Informatiq Importé-10'!H667","v":0},null,0,0,0,0,0,0,null,null,0,0,0,0]
[662,{"$f":"'INVENT.Ma Informatiq Importé-10'!B668","v":0},{"$f":"'INVENT.Ma Informatiq Importé-10'!F668","v":0},{"$f":"'INVENT.Ma Informatiq Importé-10'!C668","v":0},{"$f":"'INVENT.Ma Informatiq Importé-10'!H668","v":0},null,0,0,0,0,0,0,null,null,0,0,0,0]
[663,{"$f":"'INVENT.Ma Informatiq Importé-10'!B669","v":0},{"$f":"'INVENT.Ma Informatiq Importé-10'!F669","v":0},{"$f":"'INVENT.Ma Informatiq Importé-10'!C669","v":0},{"$f":"'INVENT.Ma Informatiq Importé-10'!H669","v":0},null,0,0,0,0,0,0,null,null,0,0,0,0]
[664,{"$f":"'INVENT.Ma Informatiq Importé-10'!B670","v":0},{"$f":"'INVENT.Ma Informatiq Importé-10'!F670","v":0},{"$f":"'INVENT.Ma Informatiq Importé-10'!C670","v":0},{"$f":"'INVENT.Ma Informatiq Importé-10'!H670","v":0},null,0,0,0,0,0,0,null,null,0,0,0,0]
[665,{"$f":"'INVENT.Ma Informatiq Importé-10'!B671","v":0},{"$f":"'INVENT.Ma Informatiq Importé-10'!F671","v":0},{"$f":"'INVENT.Ma Informatiq Importé-10'!C671","v":0},{"$f":"'INVENT.Ma Informatiq Importé-10'!H671","v":0},null,0,0,0,0,0,0,null,null,0,0,0,0]
[666,{"$f":"'INVENT.Ma Informatiq Importé-10'!B672","v":0},{"$f":"'INVENT.Ma Informatiq Importé-10'!F672","v":0},{"$f":"'INVENT.Ma Informatiq Importé-10'!C672","v":0},{"$f":"'INVENT.Ma Informatiq Importé-10'!H672","v":0},null,0,0,0,0,0,0,null,null,0,0,0,0]
[667,{"$f":"'INVENT.Ma Informatiq Importé-10'!B673","v":0},{"$f":"'INVENT.Ma Informatiq Importé-10'!F673","v":0},{"$f":"'INVENT.Ma Informatiq Importé-10'!C673","v":0},{"$f":"'INVENT.Ma Informatiq Importé-10'!H673","v":0},null,0,0,0,0,0,0,null,null,0,0,0,0]
[668,{"$f":"'INVENT.Ma Informatiq Importé-10'!B674","v":0},{"$f":"'INVENT.Ma Informatiq Importé-10'!F674","v":0},{"$f":"'INVENT.Ma Informatiq Importé-10'!C674","v":0},{"$f":"'INVENT.Ma Informatiq Importé-10'!H674","v":0},null,0,0,0,0,0,0,null,null,0,0,0,0]
[669,{"$f":"'INVENT.Ma Informatiq Importé-10'!B675","v":0},{"$f":"'INVENT.Ma Informatiq Importé-10'!F675","v":0},{"$f":"'INVENT.Ma Informatiq Importé-10'!C675","v":0},{"$f":"'INVENT.Ma Informatiq Importé-10'!H675","v":0},null,0,0,0,0,0,0,null,null,0,0,0,0]
[670,{"$f":"'INVENT.Ma Informatiq Importé-10'!B676","v":0},{"$f":"'INVENT.Ma Informatiq Importé-10'!F676","v":0},{"$f":"'INVENT.Ma Informatiq Importé-10'!C676","v":0},{"$f":"'INVENT.Ma Informatiq Importé-10'!H676","v":0},null,0,0,0,0,0,0,null,null,0,0,0,0]
[671,{"$f":"'INVENT.Ma Informatiq Importé-10'!B677","v":0},{"$f":"'INVENT.Ma Informatiq Importé-10'!F677","v":0},{"$f":"'INVENT.Ma Informatiq Importé-10'!C677","v":0},{"$f":"'INVENT.Ma Informatiq Importé-10'!H677","v":0},null,0,0,0,0,0,0,null,null,0,0,0,0]
[672,{"$f":"'INVENT.Ma Informatiq Importé-10'!B678","v":0},{"$f":"'INVENT.Ma Informatiq Importé-10'!F678","v":0},{"$f":"'INVENT.Ma Informatiq Importé-10'!C678","v":0},{"$f":"'INVENT.Ma Informatiq Importé-10'!H678","v":0},null,0,0,0,0,0,0,null,null,0,0,0,0]
[673,{"$f":"'INVENT.Ma Informatiq Importé-10'!B679","v":0},{"$f":"'INVENT.Ma Informatiq Importé-10'!F679","v":0},{"$f":"'INVENT.Ma Informatiq Importé-10'!C679","v":0},{"$f":"'INVENT.Ma Informatiq Importé-10'!H679","v":0},null,0,0,0,0,0,0,null,null,0,0,0,0]
[674,{"$f":"'INVENT.Ma Informatiq Importé-10'!B680","v":0},{"$f":"'INVENT.Ma Informatiq Importé-10'!F680","v":0},{"$f":"'INVENT.Ma Informatiq Importé-10'!C680","v":0},{"$f":"'INVENT.Ma Informatiq Importé-10'!H680","v":0},null,0,0,0,0,0,0,null,null,0,0,0,0]
[675,{"$f":"'INVENT.Ma Informatiq Importé-10'!B681","v":0},{"$f":"'INVENT.Ma Informatiq Importé-10'!F681","v":0},{"$f":"'INVENT.Ma Informatiq Importé-10'!C681","v":0},{"$f":"'INVENT.Ma Informatiq Importé-10'!H681","v":0},null,0,0,0,0,0,0,null,null,0,0,0,0]
[676,{"$f":"'INVENT.Ma Informatiq Importé-10'!B682","v":0},{"$f":"'INVENT.Ma Informatiq Importé-10'!F682","v":0},{"$f":"'INVENT.Ma Informatiq Importé-10'!C682","v":0},{"$f":"'INVENT.Ma Informatiq Importé-10'!H682","v":0},null,0,0,0,0,0,0,null,null,0,0,0,0]
[677,{"$f":"'INVENT.Ma Informatiq Importé-10'!B683","v":0},{"$f":"'INVENT.Ma Informatiq Importé-10'!F683","v":0},{"$f":"'INVENT.Ma Informatiq Importé-10'!C683","v":0},{"$f":"'INVENT.Ma Informatiq Importé-10'!H683","v":0},null,0,0,0,0,0,0,null,null,0,0,0,0]
[678,{"$f":"'INVENT.Ma Informatiq Importé-10'!B684","v":0},{"$f":"'INVENT.Ma Informatiq Importé-10'!F684","v":0},{"$f":"'INVENT.Ma Informatiq Importé-10'!C684","v":0},{"$f":"'INVENT.Ma Informatiq Importé-10'!H684","v":0},null,0,0,0,0,0,0,null,null,0,0,0,0]
[679,{"$f":"'INVENT.Ma Informatiq Importé-10'!B685","v":0},{"$f":"'INVENT.Ma Informatiq Importé-10'!F685","v":0},{"$f":"'INVENT.Ma Informatiq Importé-10'!C685","v":0},{"$f":"'INVENT.Ma Informatiq Importé-10'!H685","v":0},null,0,0,0,0,0,0,null,null,0,0,0,0]
[680,{"$f":"'INVENT.Ma Informatiq Importé-10'!B686","v":0},{"$f":"'INVENT.Ma Informatiq Importé-10'!F686","v":0},{"$f":"'INVENT.Ma Informatiq Importé-10'!C686","v":0},{"$f":"'INVENT.Ma Informatiq Importé-10'!H686","v":0},null,0,0,0,0,0,0,null,null,0,0,0,0]
[681,{"$f":"'INVENT.Ma Informatiq Importé-10'!B687","v":0},{"$f":"'INVENT.Ma Informatiq Importé-10'!F687","v":0},{"$f":"'INVENT.Ma Informatiq Importé-10'!C687","v":0},{"$f":"'INVENT.Ma Informatiq Importé-10'!H687","v":0},null,0,0,0,0,0,0,null,null,0,0,0,0]
[682,{"$f":"'INVENT.Ma Informatiq Importé-10'!B688","v":0},{"$f":"'INVENT.Ma Informatiq Importé-10'!F688","v":0},{"$f":"'INVENT.Ma Informatiq Importé-10'!C688","v":0},{"$f":"'INVENT.Ma Informatiq Importé-10'!H688","v":0},null,0,0,0,0,0,0,null,null,0,0,0,0]
[683,{"$f":"'INVENT.Ma Informatiq Importé-10'!B689","v":0},{"$f":"'INVENT.Ma Informatiq Importé-10'!F689","v":0},{"$f":"'INVENT.Ma Informatiq Importé-10'!C689","v":0},{"$f":"'INVENT.Ma Informatiq Importé-10'!H689","v":0},null,0,0,0,0,0,0,null,null,0,0,0,0]
[684,{"$f":"'INVENT.Ma Informatiq Importé-10'!B690","v":0},{"$f":"'INVENT.Ma Informatiq Importé-10'!F690","v":0},{"$f":"'INVENT.Ma Informatiq Importé-10'!C690","v":0},{"$f":"'INVENT.Ma Informatiq Importé-10'!H690","v":0},null,0,0,0,0,0,0,null,null,0,0,0,0]
[685,{"$f":"'INVENT.Ma Informatiq Importé-10'!B691","v":0},{"$f":"'INVENT.Ma Informatiq Importé-10'!F691","v":0},{"$f":"'INVENT.Ma Informatiq Importé-10'!C691","v":0},{"$f":"'INVENT.Ma Informatiq Importé-10'!H691","v":0},null,0,0,0,0,0,0,null,null,0,0,0,0]
[686,{"$f":"'INVENT.Ma Informatiq Importé-10'!B692","v":0},{"$f":"'INVENT.Ma Informatiq Importé-10'!F692","v":0},{"$f":"'INVENT.Ma Informatiq Importé-10'!C692","v":0},{"$f":"'INVENT.Ma Informatiq Importé-10'!H692","v":0},null,0,0,0,0,0,0,null,null,0,0,0,0]
[687,{"$f":"'INVENT.Ma Informatiq Importé-10'!B693","v":0},{"$f":"'INVENT.Ma Informatiq Importé-10'!F693","v":0},{"$f":"'INVENT.Ma Informatiq Importé-10'!C693","v":0},{"$f":"'INVENT.Ma Informatiq Importé-10'!H693","v":0},null,0,0,0,0,0,0,null,null,0,0,0,0]
[688,{"$f":"'INVENT.Ma Informatiq Importé-10'!B694","v":0},{"$f":"'INVENT.Ma Informatiq Importé-10'!F694","v":0},{"$f":"'INVENT.Ma Informatiq Importé-10'!C694","v":0},{"$f":"'INVENT.Ma Informatiq Importé-10'!H694","v":0},null,0,0,0,0,0,0,null,null,0,0,0,0]
[689,{"$f":"'INVENT.Ma Informatiq Importé-10'!B695","v":0},{"$f":"'INVENT.Ma Informatiq Importé-10'!F695","v":0},{"$f":"'INVENT.Ma Informatiq Importé-10'!C695","v":0},{"$f":"'INVENT.Ma Informatiq Importé-10'!H695","v":0},null,0,0,0,0,0,0,null,null,0,0,0,0]
[690,{"$f":"'INVENT.Ma Informatiq Importé-10'!B696","v":0},{"$f":"'INVENT.Ma Informatiq Importé-10'!F696","v":0},{"$f":"'INVENT.Ma Informatiq Importé-10'!C696","v":0},{"$f":"'INVENT.Ma Informatiq Importé-10'!H696","v":0},null,0,0,0,0,0,0,null,null,0,0,0,0]
[{"$f":"+A697+1","v":691},{"$f":"'INVENT.Ma Informatiq Importé-10'!B697","v":0},{"$f":"'INVENT.Ma Informatiq Importé-10'!F697","v":0},{"$f":"'INVENT.Ma Informatiq Importé-10'!C697","v":0},{"$f":"'INVENT.Ma Informatiq Importé-10'!H697","v":0},null,{"$f":"F698*E698","v":0},0,0,0,{"$f":"(E698+G698+H698)*18%","v":0},0,null,null,{"$f":"(M698+N698)*18%","v":0},{"$f":"O698+N698+M698","v":0},{"$f":"+R698-O698-K698","v":0},{"$f":"P698+L698","v":0}]
[692,{"$f":"'INVENT.Ma Informatiq Importé-10'!B698","v":0},{"$f":"'INVENT.Ma Informatiq Importé-10'!F698","v":0},{"$f":"'INVENT.Ma Informatiq Importé-10'!C698","v":0},{"$f":"'INVENT.Ma Informatiq Importé-10'!H698","v":0},null,0,{"$f":"E699*1%","v":0},{"$f":"E699*1%","v":0},{"$f":"E699*0.5%","v":0},0,0,null,null,0,0,0,0]
[693,{"$f":"'INVENT.Ma Informatiq Importé-10'!B699","v":0},{"$f":"'INVENT.Ma Informatiq Importé-10'!F699","v":0},{"$f":"'INVENT.Ma Informatiq Importé-10'!C699","v":0},{"$f":"'INVENT.Ma Informatiq Importé-10'!H699","v":0},null,0,0,0,0,0,{"$f":"SUM(G700:K700)+E700","v":0},null,null,0,0,0,0]
[694,{"$f":"'INVENT.Ma Informatiq Importé-10'!B700","v":0},{"$f":"'INVENT.Ma Informatiq Importé-10'!F700","v":0},{"$f":"'INVENT.Ma Informatiq Importé-10'!C700","v":0},{"$f":"'INVENT.Ma Informatiq Importé-10'!H700","v":0},null,0,0,0,0,0,0,null,null,0,0,0,0]
[695,{"$f":"'INVENT.Ma Informatiq Importé-10'!B701","v":0},{"$f":"'INVENT.Ma Informatiq Importé-10'!F701","v":0},{"$f":"'INVENT.Ma Informatiq Importé-10'!C701","v":0},{"$f":"'INVENT.Ma Informatiq Importé-10'!H701","v":0},null,0,0,0,0,0,0,null,null,0,0,0,0]
[696,{"$f":"'INVENT.Ma Informatiq Importé-10'!B702","v":0},{"$f":"'INVENT.Ma Informatiq Importé-10'!F702","v":0},{"$f":"'INVENT.Ma Informatiq Importé-10'!C702","v":0},{"$f":"'INVENT.Ma Informatiq Importé-10'!H702","v":0},null,0,0,0,0,0,0,null,null,0,0,0,0]
[697,{"$f":"'INVENT.Ma Informatiq Importé-10'!B703","v":0},{"$f":"'INVENT.Ma Informatiq Importé-10'!F703","v":0},{"$f":"'INVENT.Ma Informatiq Importé-10'!C703","v":0},{"$f":"'INVENT.Ma Informatiq Importé-10'!H703","v":0},null,0,0,0,0,0,0,null,null,0,0,0,0]
[698,{"$f":"'INVENT.Ma Informatiq Importé-10'!B704","v":0},{"$f":"'INVENT.Ma Informatiq Importé-10'!F704","v":0},{"$f":"'INVENT.Ma Informatiq Importé-10'!C704","v":0},{"$f":"'INVENT.Ma Informatiq Importé-10'!H704","v":0},null,0,0,0,0,0,0,null,null,0,0,0,0]
[699,{"$f":"'INVENT.Ma Informatiq Importé-10'!B705","v":0},{"$f":"'INVENT.Ma Informatiq Importé-10'!F705","v":0},{"$f":"'INVENT.Ma Informatiq Importé-10'!C705","v":0},{"$f":"'INVENT.Ma Informatiq Importé-10'!H705","v":0},null,0,0,0,0,0,0,null,null,0,0,0,0]
[700,{"$f":"'INVENT.Ma Informatiq Importé-10'!B706","v":0},{"$f":"'INVENT.Ma Informatiq Importé-10'!F706","v":0},{"$f":"'INVENT.Ma Informatiq Importé-10'!C706","v":0},{"$f":"'INVENT.Ma Informatiq Importé-10'!H706","v":0},null,0,0,0,0,0,0,null,null,0,0,0,0]
[701,{"$f":"'INVENT.Ma Informatiq Importé-10'!B707","v":0},{"$f":"'INVENT.Ma Informatiq Importé-10'!F707","v":0},{"$f":"'INVENT.Ma Informatiq Importé-10'!C707","v":0},{"$f":"'INVENT.Ma Informatiq Importé-10'!H707","v":0},null,0,0,0,0,0,0,null,null,0,0,0,0]
[702,{"$f":"'INVENT.Ma Informatiq Importé-10'!B708","v":0},{"$f":"'INVENT.Ma Informatiq Importé-10'!F708","v":0},{"$f":"'INVENT.Ma Informatiq Importé-10'!C708","v":0},{"$f":"'INVENT.Ma Informatiq Importé-10'!H708","v":0},null,0,0,0,0,0,0,null,null,0,0,0,0]
[703,{"$f":"'INVENT.Ma Informatiq Importé-10'!B709","v":0},{"$f":"'INVENT.Ma Informatiq Importé-10'!F709","v":0},{"$f":"'INVENT.Ma Informatiq Importé-10'!C709","v":0},{"$f":"'INVENT.Ma Informatiq Importé-10'!H709","v":0},null,0,0,0,0,0,0,null,null,0,0,0,0]
[704,{"$f":"'INVENT.Ma Informatiq Importé-10'!B710","v":0},{"$f":"'INVENT.Ma Informatiq Importé-10'!F710","v":0},{"$f":"'INVENT.Ma Informatiq Importé-10'!C710","v":0},{"$f":"'INVENT.Ma Informatiq Importé-10'!H710","v":0},null,0,0,0,0,0,0,null,null,0,0,0,0]
[705,{"$f":"'INVENT.Ma Informatiq Importé-10'!B711","v":0},{"$f":"'INVENT.Ma Informatiq Importé-10'!F711","v":0},{"$f":"'INVENT.Ma Informatiq Importé-10'!C711","v":0},{"$f":"'INVENT.Ma Informatiq Importé-10'!H711","v":0},null,0,0,0,0,0,0,null,null,0,0,0,0]
[706,{"$f":"'INVENT.Ma Informatiq Importé-10'!B712","v":0},{"$f":"'INVENT.Ma Informatiq Importé-10'!F712","v":0},{"$f":"'INVENT.Ma Informatiq Importé-10'!C712","v":0},{"$f":"'INVENT.Ma Informatiq Importé-10'!H712","v":0},null,0,0,0,0,0,0,null,null,0,0,0,0]
[707,{"$f":"'INVENT.Ma Informatiq Importé-10'!B713","v":0},{"$f":"'INVENT.Ma Informatiq Importé-10'!F713","v":0},{"$f":"'INVENT.Ma Informatiq Importé-10'!C713","v":0},{"$f":"'INVENT.Ma Informatiq Importé-10'!H713","v":0},null,0,0,0,0,0,0,null,null,0,0,0,0]
[708,{"$f":"'INVENT.Ma Informatiq Importé-10'!B714","v":0},{"$f":"'INVENT.Ma Informatiq Importé-10'!F714","v":0},{"$f":"'INVENT.Ma Informatiq Importé-10'!C714","v":0},{"$f":"'INVENT.Ma Informatiq Importé-10'!H714","v":0},null,0,0,0,0,0,0,null,null,0,0,0,0]
[709,{"$f":"'INVENT.Ma Informatiq Importé-10'!B715","v":0},{"$f":"'INVENT.Ma Informatiq Importé-10'!F715","v":0},{"$f":"'INVENT.Ma Informatiq Importé-10'!C715","v":0},{"$f":"'INVENT.Ma Informatiq Importé-10'!H715","v":0},null,0,0,0,0,0,0,null,null,0,0,0,0]
[710,{"$f":"'INVENT.Ma Informatiq Importé-10'!B716","v":0},{"$f":"'INVENT.Ma Informatiq Importé-10'!F716","v":0},{"$f":"'INVENT.Ma Informatiq Importé-10'!C716","v":0},{"$f":"'INVENT.Ma Informatiq Importé-10'!H716","v":0},null,0,0,0,0,0,0,null,null,0,0,0,0]
[711,{"$f":"'INVENT.Ma Informatiq Importé-10'!B717","v":0},{"$f":"'INVENT.Ma Informatiq Importé-10'!F717","v":0},{"$f":"'INVENT.Ma Informatiq Importé-10'!C717","v":0},{"$f":"'INVENT.Ma Informatiq Importé-10'!H717","v":0},null,0,0,0,0,0,0,null,null,0,0,0,0]
[712,{"$f":"'INVENT.Ma Informatiq Importé-10'!B718","v":0},{"$f":"'INVENT.Ma Informatiq Importé-10'!F718","v":0},{"$f":"'INVENT.Ma Informatiq Importé-10'!C718","v":0},{"$f":"'INVENT.Ma Informatiq Importé-10'!H718","v":0},null,0,0,0,0,0,0,null,null,0,0,0,0]
[713,{"$f":"'INVENT.Ma Informatiq Importé-10'!B719","v":0},{"$f":"'INVENT.Ma Informatiq Importé-10'!F719","v":0},{"$f":"'INVENT.Ma Informatiq Importé-10'!C719","v":0},{"$f":"'INVENT.Ma Informatiq Importé-10'!H719","v":0},null,0,0,0,0,0,0,null,null,0,0,0,0]
[714,{"$f":"'INVENT.Ma Informatiq Importé-10'!B720","v":0},{"$f":"'INVENT.Ma Informatiq Importé-10'!F720","v":0},{"$f":"'INVENT.Ma Informatiq Importé-10'!C720","v":0},{"$f":"'INVENT.Ma Informatiq Importé-10'!H720","v":0},null,0,0,0,0,0,0,null,null,0,0,0,0]
[715,{"$f":"'INVENT.Ma Informatiq Importé-10'!B721","v":0},{"$f":"'INVENT.Ma Informatiq Importé-10'!F721","v":0},{"$f":"'INVENT.Ma Informatiq Importé-10'!C721","v":0},{"$f":"'INVENT.Ma Informatiq Importé-10'!H721","v":0},null,0,0,0,0,0,0,null,null,0,0,0,0]
[716,{"$f":"'INVENT.Ma Informatiq Importé-10'!B722","v":0},{"$f":"'INVENT.Ma Informatiq Importé-10'!F722","v":0},{"$f":"'INVENT.Ma Informatiq Importé-10'!C722","v":0},{"$f":"'INVENT.Ma Informatiq Importé-10'!H722","v":0},null,0,0,0,0,0,0,null,null,0,0,0,0]
[717,{"$f":"'INVENT.Ma Informatiq Importé-10'!B723","v":0},{"$f":"'INVENT.Ma Informatiq Importé-10'!F723","v":0},{"$f":"'INVENT.Ma Informatiq Importé-10'!C723","v":0},{"$f":"'INVENT.Ma Informatiq Importé-10'!H723","v":0},null,0,0,0,0,0,0,null,null,0,0,0,0]
[718,{"$f":"'INVENT.Ma Informatiq Importé-10'!B724","v":0},{"$f":"'INVENT.Ma Informatiq Importé-10'!F724","v":0},{"$f":"'INVENT.Ma Informatiq Importé-10'!C724","v":0},{"$f":"'INVENT.Ma Informatiq Importé-10'!H724","v":0},null,0,0,0,0,0,0,null,null,0,0,0,0]
[719,{"$f":"'INVENT.Ma Informatiq Importé-10'!B725","v":0},{"$f":"'INVENT.Ma Informatiq Importé-10'!F725","v":0},{"$f":"'INVENT.Ma Informatiq Importé-10'!C725","v":0},{"$f":"'INVENT.Ma Informatiq Importé-10'!H725","v":0},null,0,0,0,0,0,0,null,null,0,0,0,0]
[720,{"$f":"'INVENT.Ma Informatiq Importé-10'!B726","v":0},{"$f":"'INVENT.Ma Informatiq Importé-10'!F726","v":0},{"$f":"'INVENT.Ma Informatiq Importé-10'!C726","v":0},{"$f":"'INVENT.Ma Informatiq Importé-10'!H726","v":0},null,0,0,0,0,0,0,null,null,0,0,0,0]
[721,{"$f":"'INVENT.Ma Informatiq Importé-10'!B727","v":0},{"$f":"'INVENT.Ma Informatiq Importé-10'!F727","v":0},{"$f":"'INVENT.Ma Informatiq Importé-10'!C727","v":0},{"$f":"'INVENT.Ma Informatiq Importé-10'!H727","v":0},null,0,0,0,0,0,0,null,null,0,0,0,0]
[722,{"$f":"'INVENT.Ma Informatiq Importé-10'!B728","v":0},{"$f":"'INVENT.Ma Informatiq Importé-10'!F728","v":0},{"$f":"'INVENT.Ma Informatiq Importé-10'!C728","v":0},{"$f":"'INVENT.Ma Informatiq Importé-10'!H728","v":0},null,0,0,0,0,0,0,null,null,0,0,0,0]
[723,{"$f":"'INVENT.Ma Informatiq Importé-10'!B729","v":0},{"$f":"'INVENT.Ma Informatiq Importé-10'!F729","v":0},{"$f":"'INVENT.Ma Informatiq Importé-10'!C729","v":0},{"$f":"'INVENT.Ma Informatiq Importé-10'!H729","v":0},null,0,0,0,0,0,0,null,null,0,0,0,0]
[724,{"$f":"'INVENT.Ma Informatiq Importé-10'!B730","v":0},{"$f":"'INVENT.Ma Informatiq Importé-10'!F730","v":0},{"$f":"'INVENT.Ma Informatiq Importé-10'!C730","v":0},{"$f":"'INVENT.Ma Informatiq Importé-10'!H730","v":0},null,0,0,0,0,0,0,null,null,0,0,0,0]
[725,{"$f":"'INVENT.Ma Informatiq Importé-10'!B731","v":0},{"$f":"'INVENT.Ma Informatiq Importé-10'!F731","v":0},{"$f":"'INVENT.Ma Informatiq Importé-10'!C731","v":0},{"$f":"'INVENT.Ma Informatiq Importé-10'!H731","v":0},null,0,0,0,0,0,0,null,null,0,0,0,0]
[726,{"$f":"'INVENT.Ma Informatiq Importé-10'!B732","v":0},{"$f":"'INVENT.Ma Informatiq Importé-10'!F732","v":0},{"$f":"'INVENT.Ma Informatiq Importé-10'!C732","v":0},{"$f":"'INVENT.Ma Informatiq Importé-10'!H732","v":0},null,0,0,0,0,0,0,null,null,0,0,0,0]
[727,{"$f":"'INVENT.Ma Informatiq Importé-10'!B733","v":0},{"$f":"'INVENT.Ma Informatiq Importé-10'!F733","v":0},{"$f":"'INVENT.Ma Informatiq Importé-10'!C733","v":0},{"$f":"'INVENT.Ma Informatiq Importé-10'!H733","v":0},null,0,0,0,0,0,0,null,null,0,0,0,0]
[728,{"$f":"'INVENT.Ma Informatiq Importé-10'!B734","v":0},{"$f":"'INVENT.Ma Informatiq Importé-10'!F734","v":0},{"$f":"'INVENT.Ma Informatiq Importé-10'!C734","v":0},{"$f":"'INVENT.Ma Informatiq Importé-10'!H734","v":0},null,0,0,0,0,0,0,null,null,0,0,0,0]
[729,{"$f":"'INVENT.Ma Informatiq Importé-10'!B735","v":0},{"$f":"'INVENT.Ma Informatiq Importé-10'!F735","v":0},{"$f":"'INVENT.Ma Informatiq Importé-10'!C735","v":0},{"$f":"'INVENT.Ma Informatiq Importé-10'!H735","v":0},null,0,0,0,0,0,0,null,null,0,0,0,0]
[730,{"$f":"'INVENT.Ma Informatiq Importé-10'!B736","v":0},{"$f":"'INVENT.Ma Informatiq Importé-10'!F736","v":0},{"$f":"'INVENT.Ma Informatiq Importé-10'!C736","v":0},{"$f":"'INVENT.Ma Informatiq Importé-10'!H736","v":0},null,0,0,0,0,0,0,null,null,0,0,0,0]
[731,{"$f":"'INVENT.Ma Informatiq Importé-10'!B737","v":0},{"$f":"'INVENT.Ma Informatiq Importé-10'!F737","v":0},{"$f":"'INVENT.Ma Informatiq Importé-10'!C737","v":0},{"$f":"'INVENT.Ma Informatiq Importé-10'!H737","v":0},null,0,0,0,0,0,0,null,null,0,0,0,0]
[732,{"$f":"'INVENT.Ma Informatiq Importé-10'!B738","v":0},{"$f":"'INVENT.Ma Informatiq Importé-10'!F738","v":0},{"$f":"'INVENT.Ma Informatiq Importé-10'!C738","v":0},{"$f":"'INVENT.Ma Informatiq Importé-10'!H738","v":0},null,0,0,0,0,0,0,null,null,0,0,0,0]
[733,{"$f":"'INVENT.Ma Informatiq Importé-10'!B739","v":0},{"$f":"'INVENT.Ma Informatiq Importé-10'!F739","v":0},{"$f":"'INVENT.Ma Informatiq Importé-10'!C739","v":0},{"$f":"'INVENT.Ma Informatiq Importé-10'!H739","v":0},null,0,0,0,0,0,0,null,null,0,0,0,0]
[734,{"$f":"'INVENT.Ma Informatiq Importé-10'!B740","v":0},{"$f":"'INVENT.Ma Informatiq Importé-10'!F740","v":0},{"$f":"'INVENT.Ma Informatiq Importé-10'!C740","v":0},{"$f":"'INVENT.Ma Informatiq Importé-10'!H740","v":0},null,0,0,0,0,0,0,null,null,0,0,0,0]
[735,{"$f":"'INVENT.Ma Informatiq Importé-10'!B741","v":0},{"$f":"'INVENT.Ma Informatiq Importé-10'!F741","v":0},{"$f":"'INVENT.Ma Informatiq Importé-10'!C741","v":0},{"$f":"'INVENT.Ma Informatiq Importé-10'!H741","v":0},null,0,0,0,0,0,0,null,null,0,0,0,0]
[736,{"$f":"'INVENT.Ma Informatiq Importé-10'!B742","v":0},{"$f":"'INVENT.Ma Informatiq Importé-10'!F742","v":0},{"$f":"'INVENT.Ma Informatiq Importé-10'!C742","v":0},{"$f":"'INVENT.Ma Informatiq Importé-10'!H742","v":0},null,0,0,0,0,0,0,null,null,0,0,0,0]
[737,{"$f":"'INVENT.Ma Informatiq Importé-10'!B743","v":0},{"$f":"'INVENT.Ma Informatiq Importé-10'!F743","v":0},{"$f":"'INVENT.Ma Informatiq Importé-10'!C743","v":0},{"$f":"'INVENT.Ma Informatiq Importé-10'!H743","v":0},null,0,0,0,0,0,0,null,null,0,0,0,0]
[738,{"$f":"'INVENT.Ma Informatiq Importé-10'!B744","v":0},{"$f":"'INVENT.Ma Informatiq Importé-10'!F744","v":0},{"$f":"'INVENT.Ma Informatiq Importé-10'!C744","v":0},{"$f":"'INVENT.Ma Informatiq Importé-10'!H744","v":0},null,0,0,0,0,0,0,null,null,0,0,0,0]
[739,{"$f":"'INVENT.Ma Informatiq Importé-10'!B745","v":0},{"$f":"'INVENT.Ma Informatiq Importé-10'!F745","v":0},{"$f":"'INVENT.Ma Informatiq Importé-10'!C745","v":0},{"$f":"'INVENT.Ma Informatiq Importé-10'!H745","v":0},null,0,0,0,0,0,0,null,null,0,0,0,0]
[740,{"$f":"'INVENT.Ma Informatiq Importé-10'!B746","v":0},{"$f":"'INVENT.Ma Informatiq Importé-10'!F746","v":0},{"$f":"'INVENT.Ma Informatiq Importé-10'!C746","v":0},{"$f":"'INVENT.Ma Informatiq Importé-10'!H746","v":0},null,0,0,0,0,0,0,null,null,0,0,0,0]
[741,{"$f":"'INVENT.Ma Informatiq Importé-10'!B747","v":0},{"$f":"'INVENT.Ma Informatiq Importé-10'!F747","v":0},{"$f":"'INVENT.Ma Informatiq Importé-10'!C747","v":0},{"$f":"'INVENT.Ma Informatiq Importé-10'!H747","v":0},null,0,0,0,0,0,0,null,null,0,0,0,0]
[742,{"$f":"'INVENT.Ma Informatiq Importé-10'!B748","v":0},{"$f":"'INVENT.Ma Informatiq Importé-10'!F748","v":0},{"$f":"'INVENT.Ma Informatiq Importé-10'!C748","v":0},{"$f":"'INVENT.Ma Informatiq Importé-10'!H748","v":0},null,0,0,0,0,0,0,null,null,0,0,0,0]
[743,{"$f":"'INVENT.Ma Informatiq Importé-10'!B749","v":0},{"$f":"'INVENT.Ma Informatiq Importé-10'!F749","v":0},{"$f":"'INVENT.Ma Informatiq Importé-10'!C749","v":0},{"$f":"'INVENT.Ma Informatiq Importé-10'!H749","v":0},null,0,0,0,0,0,0,null,null,0,0,0,0]
[744,{"$f":"'INVENT.Ma Informatiq Importé-10'!B750","v":0},{"$f":"'INVENT.Ma Informatiq Importé-10'!F750","v":0},{"$f":"'INVENT.Ma Informatiq Importé-10'!C750","v":0},{"$f":"'INVENT.Ma Informatiq Importé-10'!H750","v":0},null,0,0,0,0,0,0,null,null,0,0,0,0]
[745,{"$f":"'INVENT.Ma Informatiq Importé-10'!B751","v":0},{"$f":"'INVENT.Ma Informatiq Importé-10'!F751","v":0},{"$f":"'INVENT.Ma Informatiq Importé-10'!C751","v":0},{"$f":"'INVENT.Ma Informatiq Importé-10'!H751","v":0},null,0,0,0,0,0,0,null,null,0,0,0,0]
[746,{"$f":"'INVENT.Ma Informatiq Importé-10'!B752","v":0},{"$f":"'INVENT.Ma Informatiq Importé-10'!F752","v":0},{"$f":"'INVENT.Ma Informatiq Importé-10'!C752","v":0},{"$f":"'INVENT.Ma Informatiq Importé-10'!H752","v":0},null,0,0,0,0,0,0,null,null,0,0,0,0]
[747,{"$f":"'INVENT.Ma Informatiq Importé-10'!B753","v":0},{"$f":"'INVENT.Ma Informatiq Importé-10'!F753","v":0},{"$f":"'INVENT.Ma Informatiq Importé-10'!C753","v":0},{"$f":"'INVENT.Ma Informatiq Importé-10'!H753","v":0},null,0,0,0,0,0,0,null,null,0,0,0,0]
[748,{"$f":"'INVENT.Ma Informatiq Importé-10'!B754","v":0},{"$f":"'INVENT.Ma Informatiq Importé-10'!F754","v":0},{"$f":"'INVENT.Ma Informatiq Importé-10'!C754","v":0},{"$f":"'INVENT.Ma Informatiq Importé-10'!H754","v":0},null,0,0,0,0,0,0,null,null,0,0,0,0]
[749,{"$f":"'INVENT.Ma Informatiq Importé-10'!B755","v":0},{"$f":"'INVENT.Ma Informatiq Importé-10'!F755","v":0},{"$f":"'INVENT.Ma Informatiq Importé-10'!C755","v":0},{"$f":"'INVENT.Ma Informatiq Importé-10'!H755","v":0},null,0,0,0,0,0,0,null,null,0,0,0,0]
[750,{"$f":"'INVENT.Ma Informatiq Importé-10'!B756","v":0},{"$f":"'INVENT.Ma Informatiq Importé-10'!F756","v":0},{"$f":"'INVENT.Ma Informatiq Importé-10'!C756","v":0},{"$f":"'INVENT.Ma Informatiq Importé-10'!H756","v":0},null,0,0,0,0,0,0,null,null,0,0,0,0]
[751,{"$f":"'INVENT.Ma Informatiq Importé-10'!B757","v":0},{"$f":"'INVENT.Ma Informatiq Importé-10'!F757","v":0},{"$f":"'INVENT.Ma Informatiq Importé-10'!C757","v":0},{"$f":"'INVENT.Ma Informatiq Importé-10'!H757","v":0},null,0,0,0,0,0,0,null,null,0,0,0,0]
[752,{"$f":"'INVENT.Ma Informatiq Importé-10'!B758","v":0},{"$f":"'INVENT.Ma Informatiq Importé-10'!F758","v":0},{"$f":"'INVENT.Ma Informatiq Importé-10'!C758","v":0},{"$f":"'INVENT.Ma Informatiq Importé-10'!H758","v":0},null,0,0,0,0,0,0,null,null,0,0,0,0]
[753,{"$f":"'INVENT.Ma Informatiq Importé-10'!B759","v":0},{"$f":"'INVENT.Ma Informatiq Importé-10'!F759","v":0},{"$f":"'INVENT.Ma Informatiq Importé-10'!C759","v":0},{"$f":"'INVENT.Ma Informatiq Importé-10'!H759","v":0},null,0,0,0,0,0,0,null,null,0,0,0,0]
[754,{"$f":"'INVENT.Ma Informatiq Importé-10'!B760","v":0},{"$f":"'INVENT.Ma Informatiq Importé-10'!F760","v":0},{"$f":"'INVENT.Ma Informatiq Importé-10'!C760","v":0},{"$f":"'INVENT.Ma Informatiq Importé-10'!H760","v":0},null,0,0,0,0,0,0,null,null,0,0,0,0]
[{"$f":"+A761+1","v":755},{"$f":"'INVENT.Ma Informatiq Importé-10'!B761","v":0},{"$f":"'INVENT.Ma Informatiq Importé-10'!F761","v":0},{"$f":"'INVENT.Ma Informatiq Importé-10'!C761","v":0},{"$f":"'INVENT.Ma Informatiq Importé-10'!H761","v":0},null,{"$f":"F762*E762","v":0},0,0,0,{"$f":"(E762+G762+H762)*18%","v":0},0,null,null,{"$f":"(M762+N762)*18%","v":0},{"$f":"O762+N762+M762","v":0},{"$f":"+R762-O762-K762","v":0},{"$f":"P762+L762","v":0}]
[756,{"$f":"'INVENT.Ma Informatiq Importé-10'!B762","v":0},{"$f":"'INVENT.Ma Informatiq Importé-10'!F762","v":0},{"$f":"'INVENT.Ma Informatiq Importé-10'!C762","v":0},{"$f":"'INVENT.Ma Informatiq Importé-10'!H762","v":0},null,0,{"$f":"E763*1%","v":0},{"$f":"E763*1%","v":0},{"$f":"E763*0.5%","v":0},0,0,null,null,0,0,0,0]
[757,{"$f":"'INVENT.Ma Informatiq Importé-10'!B763","v":0},{"$f":"'INVENT.Ma Informatiq Importé-10'!F763","v":0},{"$f":"'INVENT.Ma Informatiq Importé-10'!C763","v":0},{"$f":"'INVENT.Ma Informatiq Importé-10'!H763","v":0},null,0,0,0,0,0,{"$f":"SUM(G764:K764)+E764","v":0},null,null,0,0,0,0]
[758,{"$f":"'INVENT.Ma Informatiq Importé-10'!B764","v":0},{"$f":"'INVENT.Ma Informatiq Importé-10'!F764","v":0},{"$f":"'INVENT.Ma Informatiq Importé-10'!C764","v":0},{"$f":"'INVENT.Ma Informatiq Importé-10'!H764","v":0},null,0,0,0,0,0,0,null,null,0,0,0,0]
[759,{"$f":"'INVENT.Ma Informatiq Importé-10'!B765","v":0},{"$f":"'INVENT.Ma Informatiq Importé-10'!F765","v":0},{"$f":"'INVENT.Ma Informatiq Importé-10'!C765","v":0},{"$f":"'INVENT.Ma Informatiq Importé-10'!H765","v":0},null,0,0,0,0,0,0,null,null,0,0,0,0]
[760,{"$f":"'INVENT.Ma Informatiq Importé-10'!B766","v":0},{"$f":"'INVENT.Ma Informatiq Importé-10'!F766","v":0},{"$f":"'INVENT.Ma Informatiq Importé-10'!C766","v":0},{"$f":"'INVENT.Ma Informatiq Importé-10'!H766","v":0},null,0,0,0,0,0,0,null,null,0,0,0,0]
[761,{"$f":"'INVENT.Ma Informatiq Importé-10'!B767","v":0},{"$f":"'INVENT.Ma Informatiq Importé-10'!F767","v":0},{"$f":"'INVENT.Ma Informatiq Importé-10'!C767","v":0},{"$f":"'INVENT.Ma Informatiq Importé-10'!H767","v":0},null,0,0,0,0,0,0,null,null,0,0,0,0]
[762,{"$f":"'INVENT.Ma Informatiq Importé-10'!B768","v":0},{"$f":"'INVENT.Ma Informatiq Importé-10'!F768","v":0},{"$f":"'INVENT.Ma Informatiq Importé-10'!C768","v":0},{"$f":"'INVENT.Ma Informatiq Importé-10'!H768","v":0},null,0,0,0,0,0,0,null,null,0,0,0,0]
[763,{"$f":"'INVENT.Ma Informatiq Importé-10'!B769","v":0},{"$f":"'INVENT.Ma Informatiq Importé-10'!F769","v":0},{"$f":"'INVENT.Ma Informatiq Importé-10'!C769","v":0},{"$f":"'INVENT.Ma Informatiq Importé-10'!H769","v":0},null,0,0,0,0,0,0,null,null,0,0,0,0]
[764,{"$f":"'INVENT.Ma Informatiq Importé-10'!B770","v":0},{"$f":"'INVENT.Ma Informatiq Importé-10'!F770","v":0},{"$f":"'INVENT.Ma Informatiq Importé-10'!C770","v":0},{"$f":"'INVENT.Ma Informatiq Importé-10'!H770","v":0},null,0,0,0,0,0,0,null,null,0,0,0,0]
[765,{"$f":"'INVENT.Ma Informatiq Importé-10'!B771","v":0},{"$f":"'INVENT.Ma Informatiq Importé-10'!F771","v":0},{"$f":"'INVENT.Ma Informatiq Importé-10'!C771","v":0},{"$f":"'INVENT.Ma Informatiq Importé-10'!H771","v":0},null,0,0,0,0,0,0,null,null,0,0,0,0]
[766,{"$f":"'INVENT.Ma Informatiq Importé-10'!B772","v":0},{"$f":"'INVENT.Ma Informatiq Importé-10'!F772","v":0},{"$f":"'INVENT.Ma Informatiq Importé-10'!C772","v":0},{"$f":"'INVENT.Ma Informatiq Importé-10'!H772","v":0},null,0,0,0,0,0,0,null,null,0,0,0,0]
[767,{"$f":"'INVENT.Ma Informatiq Importé-10'!B773","v":0},{"$f":"'INVENT.Ma Informatiq Importé-10'!F773","v":0},{"$f":"'INVENT.Ma Informatiq Importé-10'!C773","v":0},{"$f":"'INVENT.Ma Informatiq Importé-10'!H773","v":0},null,0,0,0,0,0,0,null,null,0,0,0,0]
[768,{"$f":"'INVENT.Ma Informatiq Importé-10'!B774","v":0},{"$f":"'INVENT.Ma Informatiq Importé-10'!F774","v":0},{"$f":"'INVENT.Ma Informatiq Importé-10'!C774","v":0},{"$f":"'INVENT.Ma Informatiq Importé-10'!H774","v":0},null,0,0,0,0,0,0,null,null,0,0,0,0]
[769,{"$f":"'INVENT.Ma Informatiq Importé-10'!B775","v":0},{"$f":"'INVENT.Ma Informatiq Importé-10'!F775","v":0},{"$f":"'INVENT.Ma Informatiq Importé-10'!C775","v":0},{"$f":"'INVENT.Ma Informatiq Importé-10'!H775","v":0},null,0,0,0,0,0,0,null,null,0,0,0,0]
[770,{"$f":"'INVENT.Ma Informatiq Importé-10'!B776","v":0},{"$f":"'INVENT.Ma Informatiq Importé-10'!F776","v":0},{"$f":"'INVENT.Ma Informatiq Importé-10'!C776","v":0},{"$f":"'INVENT.Ma Informatiq Importé-10'!H776","v":0},null,0,0,0,0,0,0,null,null,0,0,0,0]
[771,{"$f":"'INVENT.Ma Informatiq Importé-10'!B777","v":0},{"$f":"'INVENT.Ma Informatiq Importé-10'!F777","v":0},{"$f":"'INVENT.Ma Informatiq Importé-10'!C777","v":0},{"$f":"'INVENT.Ma Informatiq Importé-10'!H777","v":0},null,0,0,0,0,0,0,null,null,0,0,0,0]
[772,{"$f":"'INVENT.Ma Informatiq Importé-10'!B778","v":0},{"$f":"'INVENT.Ma Informatiq Importé-10'!F778","v":0},{"$f":"'INVENT.Ma Informatiq Importé-10'!C778","v":0},{"$f":"'INVENT.Ma Informatiq Importé-10'!H778","v":0},null,0,0,0,0,0,0,null,null,0,0,0,0]
[773,{"$f":"'INVENT.Ma Informatiq Importé-10'!B779","v":0},{"$f":"'INVENT.Ma Informatiq Importé-10'!F779","v":0},{"$f":"'INVENT.Ma Informatiq Importé-10'!C779","v":0},{"$f":"'INVENT.Ma Informatiq Importé-10'!H779","v":0},null,0,0,0,0,0,0,null,null,0,0,0,0]
[774,{"$f":"'INVENT.Ma Informatiq Importé-10'!B780","v":0},{"$f":"'INVENT.Ma Informatiq Importé-10'!F780","v":0},{"$f":"'INVENT.Ma Informatiq Importé-10'!C780","v":0},{"$f":"'INVENT.Ma Informatiq Importé-10'!H780","v":0},null,0,0,0,0,0,0,null,null,0,0,0,0]
[775,{"$f":"'INVENT.Ma Informatiq Importé-10'!B781","v":0},{"$f":"'INVENT.Ma Informatiq Importé-10'!F781","v":0},{"$f":"'INVENT.Ma Informatiq Importé-10'!C781","v":0},{"$f":"'INVENT.Ma Informatiq Importé-10'!H781","v":0},null,0,0,0,0,0,0,null,null,0,0,0,0]
[776,{"$f":"'INVENT.Ma Informatiq Importé-10'!B782","v":0},{"$f":"'INVENT.Ma Informatiq Importé-10'!F782","v":0},{"$f":"'INVENT.Ma Informatiq Importé-10'!C782","v":0},{"$f":"'INVENT.Ma Informatiq Importé-10'!H782","v":0},null,0,0,0,0,0,0,null,null,0,0,0,0]
[777,{"$f":"'INVENT.Ma Informatiq Importé-10'!B783","v":0},{"$f":"'INVENT.Ma Informatiq Importé-10'!F783","v":0},{"$f":"'INVENT.Ma Informatiq Importé-10'!C783","v":0},{"$f":"'INVENT.Ma Informatiq Importé-10'!H783","v":0},null,0,0,0,0,0,0,null,null,0,0,0,0]
[778,{"$f":"'INVENT.Ma Informatiq Importé-10'!B784","v":0},{"$f":"'INVENT.Ma Informatiq Importé-10'!F784","v":0},{"$f":"'INVENT.Ma Informatiq Importé-10'!C784","v":0},{"$f":"'INVENT.Ma Informatiq Importé-10'!H784","v":0},null,0,0,0,0,0,0,null,null,0,0,0,0]
[779,{"$f":"'INVENT.Ma Informatiq Importé-10'!B785","v":0},{"$f":"'INVENT.Ma Informatiq Importé-10'!F785","v":0},{"$f":"'INVENT.Ma Informatiq Importé-10'!C785","v":0},{"$f":"'INVENT.Ma Informatiq Importé-10'!H785","v":0},null,0,0,0,0,0,0,null,null,0,0,0,0]
[780,{"$f":"'INVENT.Ma Informatiq Importé-10'!B786","v":0},{"$f":"'INVENT.Ma Informatiq Importé-10'!F786","v":0},{"$f":"'INVENT.Ma Informatiq Importé-10'!C786","v":0},{"$f":"'INVENT.Ma Informatiq Importé-10'!H786","v":0},null,0,0,0,0,0,0,null,null,0,0,0,0]
[781,{"$f":"'INVENT.Ma Informatiq Importé-10'!B787","v":0},{"$f":"'INVENT.Ma Informatiq Importé-10'!F787","v":0},{"$f":"'INVENT.Ma Informatiq Importé-10'!C787","v":0},{"$f":"'INVENT.Ma Informatiq Importé-10'!H787","v":0},null,0,0,0,0,0,0,null,null,0,0,0,0]
[782,{"$f":"'INVENT.Ma Informatiq Importé-10'!B788","v":0},{"$f":"'INVENT.Ma Informatiq Importé-10'!F788","v":0},{"$f":"'INVENT.Ma Informatiq Importé-10'!C788","v":0},{"$f":"'INVENT.Ma Informatiq Importé-10'!H788","v":0},null,0,0,0,0,0,0,null,null,0,0,0,0]
[783,{"$f":"'INVENT.Ma Informatiq Importé-10'!B789","v":0},{"$f":"'INVENT.Ma Informatiq Importé-10'!F789","v":0},{"$f":"'INVENT.Ma Informatiq Importé-10'!C789","v":0},{"$f":"'INVENT.Ma Informatiq Importé-10'!H789","v":0},null,0,0,0,0,0,0,null,null,0,0,0,0]
[784,{"$f":"'INVENT.Ma Informatiq Importé-10'!B790","v":0},{"$f":"'INVENT.Ma Informatiq Importé-10'!F790","v":0},{"$f":"'INVENT.Ma Informatiq Importé-10'!C790","v":0},{"$f":"'INVENT.Ma Informatiq Importé-10'!H790","v":0},null,0,0,0,0,0,0,null,null,0,0,0,0]
[785,{"$f":"'INVENT.Ma Informatiq Importé-10'!B791","v":0},{"$f":"'INVENT.Ma Informatiq Importé-10'!F791","v":0},{"$f":"'INVENT.Ma Informatiq Importé-10'!C791","v":0},{"$f":"'INVENT.Ma Informatiq Importé-10'!H791","v":0},null,0,0,0,0,0,0,null,null,0,0,0,0]
[786,{"$f":"'INVENT.Ma Informatiq Importé-10'!B792","v":0},{"$f":"'INVENT.Ma Informatiq Importé-10'!F792","v":0},{"$f":"'INVENT.Ma Informatiq Importé-10'!C792","v":0},{"$f":"'INVENT.Ma Informatiq Importé-10'!H792","v":0},null,0,0,0,0,0,0,null,null,0,0,0,0]
[787,{"$f":"'INVENT.Ma Informatiq Importé-10'!B793","v":0},{"$f":"'INVENT.Ma Informatiq Importé-10'!F793","v":0},{"$f":"'INVENT.Ma Informatiq Importé-10'!C793","v":0},{"$f":"'INVENT.Ma Informatiq Importé-10'!H793","v":0},null,0,0,0,0,0,0,null,null,0,0,0,0]
[788,{"$f":"'INVENT.Ma Informatiq Importé-10'!B794","v":0},{"$f":"'INVENT.Ma Informatiq Importé-10'!F794","v":0},{"$f":"'INVENT.Ma Informatiq Importé-10'!C794","v":0},{"$f":"'INVENT.Ma Informatiq Importé-10'!H794","v":0},null,0,0,0,0,0,0,null,null,0,0,0,0]
[789,{"$f":"'INVENT.Ma Informatiq Importé-10'!B795","v":0},{"$f":"'INVENT.Ma Informatiq Importé-10'!F795","v":0},{"$f":"'INVENT.Ma Informatiq Importé-10'!C795","v":0},{"$f":"'INVENT.Ma Informatiq Importé-10'!H795","v":0},null,0,0,0,0,0,0,null,null,0,0,0,0]
[790,{"$f":"'INVENT.Ma Informatiq Importé-10'!B796","v":0},{"$f":"'INVENT.Ma Informatiq Importé-10'!F796","v":0},{"$f":"'INVENT.Ma Informatiq Importé-10'!C796","v":0},{"$f":"'INVENT.Ma Informatiq Importé-10'!H796","v":0},null,0,0,0,0,0,0,null,null,0,0,0,0]
[791,{"$f":"'INVENT.Ma Informatiq Importé-10'!B797","v":0},{"$f":"'INVENT.Ma Informatiq Importé-10'!F797","v":0},{"$f":"'INVENT.Ma Informatiq Importé-10'!C797","v":0},{"$f":"'INVENT.Ma Informatiq Importé-10'!H797","v":0},null,0,0,0,0,0,0,null,null,0,0,0,0]
[792,{"$f":"'INVENT.Ma Informatiq Importé-10'!B798","v":0},{"$f":"'INVENT.Ma Informatiq Importé-10'!F798","v":0},{"$f":"'INVENT.Ma Informatiq Importé-10'!C798","v":0},{"$f":"'INVENT.Ma Informatiq Importé-10'!H798","v":0},null,0,0,0,0,0,0,null,null,0,0,0,0]
[793,{"$f":"'INVENT.Ma Informatiq Importé-10'!B799","v":0},{"$f":"'INVENT.Ma Informatiq Importé-10'!F799","v":0},{"$f":"'INVENT.Ma Informatiq Importé-10'!C799","v":0},{"$f":"'INVENT.Ma Informatiq Importé-10'!H799","v":0},null,0,0,0,0,0,0,null,null,0,0,0,0]
[794,{"$f":"'INVENT.Ma Informatiq Importé-10'!B800","v":0},{"$f":"'INVENT.Ma Informatiq Importé-10'!F800","v":0},{"$f":"'INVENT.Ma Informatiq Importé-10'!C800","v":0},{"$f":"'INVENT.Ma Informatiq Importé-10'!H800","v":0},null,0,0,0,0,0,0,null,null,0,0,0,0]
[795,{"$f":"'INVENT.Ma Informatiq Importé-10'!B801","v":0},{"$f":"'INVENT.Ma Informatiq Importé-10'!F801","v":0},{"$f":"'INVENT.Ma Informatiq Importé-10'!C801","v":0},{"$f":"'INVENT.Ma Informatiq Importé-10'!H801","v":0},null,0,0,0,0,0,0,null,null,0,0,0,0]
[796,{"$f":"'INVENT.Ma Informatiq Importé-10'!B802","v":0},{"$f":"'INVENT.Ma Informatiq Importé-10'!F802","v":0},{"$f":"'INVENT.Ma Informatiq Importé-10'!C802","v":0},{"$f":"'INVENT.Ma Informatiq Importé-10'!H802","v":0},null,0,0,0,0,0,0,null,null,0,0,0,0]
[797,{"$f":"'INVENT.Ma Informatiq Importé-10'!B803","v":0},{"$f":"'INVENT.Ma Informatiq Importé-10'!F803","v":0},{"$f":"'INVENT.Ma Informatiq Importé-10'!C803","v":0},{"$f":"'INVENT.Ma Informatiq Importé-10'!H803","v":0},null,0,0,0,0,0,0,null,null,0,0,0,0]
[798,{"$f":"'INVENT.Ma Informatiq Importé-10'!B804","v":0},{"$f":"'INVENT.Ma Informatiq Importé-10'!F804","v":0},{"$f":"'INVENT.Ma Informatiq Importé-10'!C804","v":0},{"$f":"'INVENT.Ma Informatiq Importé-10'!H804","v":0},null,0,0,0,0,0,0,null,null,0,0,0,0]
[799,{"$f":"'INVENT.Ma Informatiq Importé-10'!B805","v":0},{"$f":"'INVENT.Ma Informatiq Importé-10'!F805","v":0},{"$f":"'INVENT.Ma Informatiq Importé-10'!C805","v":0},{"$f":"'INVENT.Ma Informatiq Importé-10'!H805","v":0},null,0,0,0,0,0,0,null,null,0,0,0,0]
[800,{"$f":"'INVENT.Ma Informatiq Importé-10'!B806","v":0},{"$f":"'INVENT.Ma Informatiq Importé-10'!F806","v":0},{"$f":"'INVENT.Ma Informatiq Importé-10'!C806","v":0},{"$f":"'INVENT.Ma Informatiq Importé-10'!H806","v":0},null,0,0,0,0,0,0,null,null,0,0,0,0]
[801,{"$f":"'INVENT.Ma Informatiq Importé-10'!B807","v":0},{"$f":"'INVENT.Ma Informatiq Importé-10'!F807","v":0},{"$f":"'INVENT.Ma Informatiq Importé-10'!C807","v":0},{"$f":"'INVENT.Ma Informatiq Importé-10'!H807","v":0},null,0,0,0,0,0,0,null,null,0,0,0,0]
[802,{"$f":"'INVENT.Ma Informatiq Importé-10'!B808","v":0},{"$f":"'INVENT.Ma Informatiq Importé-10'!F808","v":0},{"$f":"'INVENT.Ma Informatiq Importé-10'!C808","v":0},{"$f":"'INVENT.Ma Informatiq Importé-10'!H808","v":0},null,0,0,0,0,0,0,null,null,0,0,0,0]
[803,{"$f":"'INVENT.Ma Informatiq Importé-10'!B809","v":0},{"$f":"'INVENT.Ma Informatiq Importé-10'!F809","v":0},{"$f":"'INVENT.Ma Informatiq Importé-10'!C809","v":0},{"$f":"'INVENT.Ma Informatiq Importé-10'!H809","v":0},null,0,0,0,0,0,0,null,null,0,0,0,0]
[804,{"$f":"'INVENT.Ma Informatiq Importé-10'!B810","v":0},{"$f":"'INVENT.Ma Informatiq Importé-10'!F810","v":0},{"$f":"'INVENT.Ma Informatiq Importé-10'!C810","v":0},{"$f":"'INVENT.Ma Informatiq Importé-10'!H810","v":0},null,0,0,0,0,0,0,null,null,0,0,0,0]
[805,{"$f":"'INVENT.Ma Informatiq Importé-10'!B811","v":0},{"$f":"'INVENT.Ma Informatiq Importé-10'!F811","v":0},{"$f":"'INVENT.Ma Informatiq Importé-10'!C811","v":0},{"$f":"'INVENT.Ma Informatiq Importé-10'!H811","v":0},null,0,0,0,0,0,0,null,null,0,0,0,0]
[806,{"$f":"'INVENT.Ma Informatiq Importé-10'!B812","v":0},{"$f":"'INVENT.Ma Informatiq Importé-10'!F812","v":0},{"$f":"'INVENT.Ma Informatiq Importé-10'!C812","v":0},{"$f":"'INVENT.Ma Informatiq Importé-10'!H812","v":0},null,0,0,0,0,0,0,null,null,0,0,0,0]
[807,{"$f":"'INVENT.Ma Informatiq Importé-10'!B813","v":0},{"$f":"'INVENT.Ma Informatiq Importé-10'!F813","v":0},{"$f":"'INVENT.Ma Informatiq Importé-10'!C813","v":0},{"$f":"'INVENT.Ma Informatiq Importé-10'!H813","v":0},null,0,0,0,0,0,0,null,null,0,0,0,0]
[808,{"$f":"'INVENT.Ma Informatiq Importé-10'!B814","v":0},{"$f":"'INVENT.Ma Informatiq Importé-10'!F814","v":0},{"$f":"'INVENT.Ma Informatiq Importé-10'!C814","v":0},{"$f":"'INVENT.Ma Informatiq Importé-10'!H814","v":0},null,0,0,0,0,0,0,null,null,0,0,0,0]
[809,{"$f":"'INVENT.Ma Informatiq Importé-10'!B815","v":0},{"$f":"'INVENT.Ma Informatiq Importé-10'!F815","v":0},{"$f":"'INVENT.Ma Informatiq Importé-10'!C815","v":0},{"$f":"'INVENT.Ma Informatiq Importé-10'!H815","v":0},null,0,0,0,0,0,0,null,null,0,0,0,0]
[810,{"$f":"'INVENT.Ma Informatiq Importé-10'!B816","v":0},{"$f":"'INVENT.Ma Informatiq Importé-10'!F816","v":0},{"$f":"'INVENT.Ma Informatiq Importé-10'!C816","v":0},{"$f":"'INVENT.Ma Informatiq Importé-10'!H816","v":0},null,0,0,0,0,0,0,null,null,0,0,0,0]
[811,{"$f":"'INVENT.Ma Informatiq Importé-10'!B817","v":0},{"$f":"'INVENT.Ma Informatiq Importé-10'!F817","v":0},{"$f":"'INVENT.Ma Informatiq Importé-10'!C817","v":0},{"$f":"'INVENT.Ma Informatiq Importé-10'!H817","v":0},null,0,0,0,0,0,0,null,null,0,0,0,0]
[812,{"$f":"'INVENT.Ma Informatiq Importé-10'!B818","v":0},{"$f":"'INVENT.Ma Informatiq Importé-10'!F818","v":0},{"$f":"'INVENT.Ma Informatiq Importé-10'!C818","v":0},{"$f":"'INVENT.Ma Informatiq Importé-10'!H818","v":0},null,0,0,0,0,0,0,null,null,0,0,0,0]
[813,{"$f":"'INVENT.Ma Informatiq Importé-10'!B819","v":0},{"$f":"'INVENT.Ma Informatiq Importé-10'!F819","v":0},{"$f":"'INVENT.Ma Informatiq Importé-10'!C819","v":0},{"$f":"'INVENT.Ma Informatiq Importé-10'!H819","v":0},null,0,0,0,0,0,0,null,null,0,0,0,0]
[814,{"$f":"'INVENT.Ma Informatiq Importé-10'!B820","v":0},{"$f":"'INVENT.Ma Informatiq Importé-10'!F820","v":0},{"$f":"'INVENT.Ma Informatiq Importé-10'!C820","v":0},{"$f":"'INVENT.Ma Informatiq Importé-10'!H820","v":0},null,0,0,0,0,0,0,null,null,0,0,0,0]
[815,{"$f":"'INVENT.Ma Informatiq Importé-10'!B821","v":0},{"$f":"'INVENT.Ma Informatiq Importé-10'!F821","v":0},{"$f":"'INVENT.Ma Informatiq Importé-10'!C821","v":0},{"$f":"'INVENT.Ma Informatiq Importé-10'!H821","v":0},null,0,0,0,0,0,0,null,null,0,0,0,0]
[816,{"$f":"'INVENT.Ma Informatiq Importé-10'!B822","v":0},{"$f":"'INVENT.Ma Informatiq Importé-10'!F822","v":0},{"$f":"'INVENT.Ma Informatiq Importé-10'!C822","v":0},{"$f":"'INVENT.Ma Informatiq Importé-10'!H822","v":0},null,0,0,0,0,0,0,null,null,0,0,0,0]
[817,{"$f":"'INVENT.Ma Informatiq Importé-10'!B823","v":0},{"$f":"'INVENT.Ma Informatiq Importé-10'!F823","v":0},{"$f":"'INVENT.Ma Informatiq Importé-10'!C823","v":0},{"$f":"'INVENT.Ma Informatiq Importé-10'!H823","v":0},null,0,0,0,0,0,0,null,null,0,0,0,0]
[818,{"$f":"'INVENT.Ma Informatiq Importé-10'!B824","v":0},{"$f":"'INVENT.Ma Informatiq Importé-10'!F824","v":0},{"$f":"'INVENT.Ma Informatiq Importé-10'!C824","v":0},{"$f":"'INVENT.Ma Informatiq Importé-10'!H824","v":0},null,0,0,0,0,0,0,null,null,0,0,0,0]
[{"$f":"+A825+1","v":819},{"$f":"'INVENT.Ma Informatiq Importé-10'!B825","v":0},{"$f":"'INVENT.Ma Informatiq Importé-10'!F825","v":0},{"$f":"'INVENT.Ma Informatiq Importé-10'!C825","v":0},{"$f":"'INVENT.Ma Informatiq Importé-10'!H825","v":0},null,{"$f":"F826*E826","v":0},0,0,0,{"$f":"(E826+G826+H826)*18%","v":0},0,null,null,{"$f":"(M826+N826)*18%","v":0},{"$f":"O826+N826+M826","v":0},{"$f":"+R826-O826-K826","v":0},{"$f":"P826+L826","v":0}]
[820,{"$f":"'INVENT.Ma Informatiq Importé-10'!B826","v":0},{"$f":"'INVENT.Ma Informatiq Importé-10'!F826","v":0},{"$f":"'INVENT.Ma Informatiq Importé-10'!C826","v":0},{"$f":"'INVENT.Ma Informatiq Importé-10'!H826","v":0},null,0,{"$f":"E827*1%","v":0},{"$f":"E827*1%","v":0},{"$f":"E827*0.5%","v":0},0,0,null,null,0,0,0,0]
[821,{"$f":"'INVENT.Ma Informatiq Importé-10'!B827","v":0},{"$f":"'INVENT.Ma Informatiq Importé-10'!F827","v":0},{"$f":"'INVENT.Ma Informatiq Importé-10'!C827","v":0},{"$f":"'INVENT.Ma Informatiq Importé-10'!H827","v":0},null,0,0,0,0,0,{"$f":"SUM(G828:K828)+E828","v":0},null,null,0,0,0,0]
[822,{"$f":"'INVENT.Ma Informatiq Importé-10'!B828","v":0},{"$f":"'INVENT.Ma Informatiq Importé-10'!F828","v":0},{"$f":"'INVENT.Ma Informatiq Importé-10'!C828","v":0},{"$f":"'INVENT.Ma Informatiq Importé-10'!H828","v":0},null,0,0,0,0,0,0,null,null,0,0,0,0]
[823,{"$f":"'INVENT.Ma Informatiq Importé-10'!B829","v":0},{"$f":"'INVENT.Ma Informatiq Importé-10'!F829","v":0},{"$f":"'INVENT.Ma Informatiq Importé-10'!C829","v":0},{"$f":"'INVENT.Ma Informatiq Importé-10'!H829","v":0},null,0,0,0,0,0,0,null,null,0,0,0,0]
[824,{"$f":"'INVENT.Ma Informatiq Importé-10'!B830","v":0},{"$f":"'INVENT.Ma Informatiq Importé-10'!F830","v":0},{"$f":"'INVENT.Ma Informatiq Importé-10'!C830","v":0},{"$f":"'INVENT.Ma Informatiq Importé-10'!H830","v":0},null,0,0,0,0,0,0,null,null,0,0,0,0]
[825,{"$f":"'INVENT.Ma Informatiq Importé-10'!B831","v":0},{"$f":"'INVENT.Ma Informatiq Importé-10'!F831","v":0},{"$f":"'INVENT.Ma Informatiq Importé-10'!C831","v":0},{"$f":"'INVENT.Ma Informatiq Importé-10'!H831","v":0},null,0,0,0,0,0,0,null,null,0,0,0,0]
[826,{"$f":"'INVENT.Ma Informatiq Importé-10'!B832","v":0},{"$f":"'INVENT.Ma Informatiq Importé-10'!F832","v":0},{"$f":"'INVENT.Ma Informatiq Importé-10'!C832","v":0},{"$f":"'INVENT.Ma Informatiq Importé-10'!H832","v":0},null,0,0,0,0,0,0,null,null,0,0,0,0]
[827,{"$f":"'INVENT.Ma Informatiq Importé-10'!B833","v":0},{"$f":"'INVENT.Ma Informatiq Importé-10'!F833","v":0},{"$f":"'INVENT.Ma Informatiq Importé-10'!C833","v":0},{"$f":"'INVENT.Ma Informatiq Importé-10'!H833","v":0},null,0,0,0,0,0,0,null,null,0,0,0,0]
[828,{"$f":"'INVENT.Ma Informatiq Importé-10'!B834","v":0},{"$f":"'INVENT.Ma Informatiq Importé-10'!F834","v":0},{"$f":"'INVENT.Ma Informatiq Importé-10'!C834","v":0},{"$f":"'INVENT.Ma Informatiq Importé-10'!H834","v":0},null,0,0,0,0,0,0,null,null,0,0,0,0]
[829,{"$f":"'INVENT.Ma Informatiq Importé-10'!B835","v":0},{"$f":"'INVENT.Ma Informatiq Importé-10'!F835","v":0},{"$f":"'INVENT.Ma Informatiq Importé-10'!C835","v":0},{"$f":"'INVENT.Ma Informatiq Importé-10'!H835","v":0},null,0,0,0,0,0,0,null,null,0,0,0,0]
[830,{"$f":"'INVENT.Ma Informatiq Importé-10'!B836","v":0},{"$f":"'INVENT.Ma Informatiq Importé-10'!F836","v":0},{"$f":"'INVENT.Ma Informatiq Importé-10'!C836","v":0},{"$f":"'INVENT.Ma Informatiq Importé-10'!H836","v":0},null,0,0,0,0,0,0,null,null,0,0,0,0]
[831,{"$f":"'INVENT.Ma Informatiq Importé-10'!B837","v":0},{"$f":"'INVENT.Ma Informatiq Importé-10'!F837","v":0},{"$f":"'INVENT.Ma Informatiq Importé-10'!C837","v":0},{"$f":"'INVENT.Ma Informatiq Importé-10'!H837","v":0},null,0,0,0,0,0,0,null,null,0,0,0,0]
[832,{"$f":"'INVENT.Ma Informatiq Importé-10'!B838","v":0},{"$f":"'INVENT.Ma Informatiq Importé-10'!F838","v":0},{"$f":"'INVENT.Ma Informatiq Importé-10'!C838","v":0},{"$f":"'INVENT.Ma Informatiq Importé-10'!H838","v":0},null,0,0,0,0,0,0,null,null,0,0,0,0]
[833,{"$f":"'INVENT.Ma Informatiq Importé-10'!B839","v":0},{"$f":"'INVENT.Ma Informatiq Importé-10'!F839","v":0},{"$f":"'INVENT.Ma Informatiq Importé-10'!C839","v":0},{"$f":"'INVENT.Ma Informatiq Importé-10'!H839","v":0},null,0,0,0,0,0,0,null,null,0,0,0,0]
[834,{"$f":"'INVENT.Ma Informatiq Importé-10'!B840","v":0},{"$f":"'INVENT.Ma Informatiq Importé-10'!F840","v":0},{"$f":"'INVENT.Ma Informatiq Importé-10'!C840","v":0},{"$f":"'INVENT.Ma Informatiq Importé-10'!H840","v":0},null,0,0,0,0,0,0,null,null,0,0,0,0]
[835,{"$f":"'INVENT.Ma Informatiq Importé-10'!B841","v":0},{"$f":"'INVENT.Ma Informatiq Importé-10'!F841","v":0},{"$f":"'INVENT.Ma Informatiq Importé-10'!C841","v":0},{"$f":"'INVENT.Ma Informatiq Importé-10'!H841","v":0},null,0,0,0,0,0,0,null,null,0,0,0,0]
[836,{"$f":"'INVENT.Ma Informatiq Importé-10'!B842","v":0},{"$f":"'INVENT.Ma Informatiq Importé-10'!F842","v":0},{"$f":"'INVENT.Ma Informatiq Importé-10'!C842","v":0},{"$f":"'INVENT.Ma Informatiq Importé-10'!H842","v":0},null,0,0,0,0,0,0,null,null,0,0,0,0]
[837,{"$f":"'INVENT.Ma Informatiq Importé-10'!B843","v":0},{"$f":"'INVENT.Ma Informatiq Importé-10'!F843","v":0},{"$f":"'INVENT.Ma Informatiq Importé-10'!C843","v":0},{"$f":"'INVENT.Ma Informatiq Importé-10'!H843","v":0},null,0,0,0,0,0,0,null,null,0,0,0,0]
[838,{"$f":"'INVENT.Ma Informatiq Importé-10'!B844","v":0},{"$f":"'INVENT.Ma Informatiq Importé-10'!F844","v":0},{"$f":"'INVENT.Ma Informatiq Importé-10'!C844","v":0},{"$f":"'INVENT.Ma Informatiq Importé-10'!H844","v":0},null,0,0,0,0,0,0,null,null,0,0,0,0]
[839,{"$f":"'INVENT.Ma Informatiq Importé-10'!B845","v":0},{"$f":"'INVENT.Ma Informatiq Importé-10'!F845","v":0},{"$f":"'INVENT.Ma Informatiq Importé-10'!C845","v":0},{"$f":"'INVENT.Ma Informatiq Importé-10'!H845","v":0},null,0,0,0,0,0,0,null,null,0,0,0,0]
[840,{"$f":"'INVENT.Ma Informatiq Importé-10'!B846","v":0},{"$f":"'INVENT.Ma Informatiq Importé-10'!F846","v":0},{"$f":"'INVENT.Ma Informatiq Importé-10'!C846","v":0},{"$f":"'INVENT.Ma Informatiq Importé-10'!H846","v":0},null,0,0,0,0,0,0,null,null,0,0,0,0]
[841,{"$f":"'INVENT.Ma Informatiq Importé-10'!B847","v":0},{"$f":"'INVENT.Ma Informatiq Importé-10'!F847","v":0},{"$f":"'INVENT.Ma Informatiq Importé-10'!C847","v":0},{"$f":"'INVENT.Ma Informatiq Importé-10'!H847","v":0},null,0,0,0,0,0,0,null,null,0,0,0,0]
[842,{"$f":"'INVENT.Ma Informatiq Importé-10'!B848","v":0},{"$f":"'INVENT.Ma Informatiq Importé-10'!F848","v":0},{"$f":"'INVENT.Ma Informatiq Importé-10'!C848","v":0},{"$f":"'INVENT.Ma Informatiq Importé-10'!H848","v":0},null,0,0,0,0,0,0,null,null,0,0,0,0]
[843,{"$f":"'INVENT.Ma Informatiq Importé-10'!B849","v":0},{"$f":"'INVENT.Ma Informatiq Importé-10'!F849","v":0},{"$f":"'INVENT.Ma Informatiq Importé-10'!C849","v":0},{"$f":"'INVENT.Ma Informatiq Importé-10'!H849","v":0},null,0,0,0,0,0,0,null,null,0,0,0,0]
[844,{"$f":"'INVENT.Ma Informatiq Importé-10'!B850","v":0},{"$f":"'INVENT.Ma Informatiq Importé-10'!F850","v":0},{"$f":"'INVENT.Ma Informatiq Importé-10'!C850","v":0},{"$f":"'INVENT.Ma Informatiq Importé-10'!H850","v":0},null,0,0,0,0,0,0,null,null,0,0,0,0]
[845,{"$f":"'INVENT.Ma Informatiq Importé-10'!B851","v":0},{"$f":"'INVENT.Ma Informatiq Importé-10'!F851","v":0},{"$f":"'INVENT.Ma Informatiq Importé-10'!C851","v":0},{"$f":"'INVENT.Ma Informatiq Importé-10'!H851","v":0},null,0,0,0,0,0,0,null,null,0,0,0,0]
[846,{"$f":"'INVENT.Ma Informatiq Importé-10'!B852","v":0},{"$f":"'INVENT.Ma Informatiq Importé-10'!F852","v":0},{"$f":"'INVENT.Ma Informatiq Importé-10'!C852","v":0},{"$f":"'INVENT.Ma Informatiq Importé-10'!H852","v":0},null,0,0,0,0,0,0,null,null,0,0,0,0]
[847,{"$f":"'INVENT.Ma Informatiq Importé-10'!B853","v":0},{"$f":"'INVENT.Ma Informatiq Importé-10'!F853","v":0},{"$f":"'INVENT.Ma Informatiq Importé-10'!C853","v":0},{"$f":"'INVENT.Ma Informatiq Importé-10'!H853","v":0},null,0,0,0,0,0,0,null,null,0,0,0,0]
[848,{"$f":"'INVENT.Ma Informatiq Importé-10'!B854","v":0},{"$f":"'INVENT.Ma Informatiq Importé-10'!F854","v":0},{"$f":"'INVENT.Ma Informatiq Importé-10'!C854","v":0},{"$f":"'INVENT.Ma Informatiq Importé-10'!H854","v":0},null,0,0,0,0,0,0,null,null,0,0,0,0]
[849,{"$f":"'INVENT.Ma Informatiq Importé-10'!B855","v":0},{"$f":"'INVENT.Ma Informatiq Importé-10'!F855","v":0},{"$f":"'INVENT.Ma Informatiq Importé-10'!C855","v":0},{"$f":"'INVENT.Ma Informatiq Importé-10'!H855","v":0},null,0,0,0,0,0,0,null,null,0,0,0,0]
[850,{"$f":"'INVENT.Ma Informatiq Importé-10'!B856","v":0},{"$f":"'INVENT.Ma Informatiq Importé-10'!F856","v":0},{"$f":"'INVENT.Ma Informatiq Importé-10'!C856","v":0},{"$f":"'INVENT.Ma Informatiq Importé-10'!H856","v":0},null,0,0,0,0,0,0,null,null,0,0,0,0]
[851,{"$f":"'INVENT.Ma Informatiq Importé-10'!B857","v":0},{"$f":"'INVENT.Ma Informatiq Importé-10'!F857","v":0},{"$f":"'INVENT.Ma Informatiq Importé-10'!C857","v":0},{"$f":"'INVENT.Ma Informatiq Importé-10'!H857","v":0},null,0,0,0,0,0,0,null,null,0,0,0,0]
[852,{"$f":"'INVENT.Ma Informatiq Importé-10'!B858","v":0},{"$f":"'INVENT.Ma Informatiq Importé-10'!F858","v":0},{"$f":"'INVENT.Ma Informatiq Importé-10'!C858","v":0},{"$f":"'INVENT.Ma Informatiq Importé-10'!H858","v":0},null,0,0,0,0,0,0,null,null,0,0,0,0]
[853,{"$f":"'INVENT.Ma Informatiq Importé-10'!B859","v":0},{"$f":"'INVENT.Ma Informatiq Importé-10'!F859","v":0},{"$f":"'INVENT.Ma Informatiq Importé-10'!C859","v":0},{"$f":"'INVENT.Ma Informatiq Importé-10'!H859","v":0},null,0,0,0,0,0,0,null,null,0,0,0,0]
[854,{"$f":"'INVENT.Ma Informatiq Importé-10'!B860","v":0},{"$f":"'INVENT.Ma Informatiq Importé-10'!F860","v":0},{"$f":"'INVENT.Ma Informatiq Importé-10'!C860","v":0},{"$f":"'INVENT.Ma Informatiq Importé-10'!H860","v":0},null,0,0,0,0,0,0,null,null,0,0,0,0]
[855,{"$f":"'INVENT.Ma Informatiq Importé-10'!B861","v":0},{"$f":"'INVENT.Ma Informatiq Importé-10'!F861","v":0},{"$f":"'INVENT.Ma Informatiq Importé-10'!C861","v":0},{"$f":"'INVENT.Ma Informatiq Importé-10'!H861","v":0},null,0,0,0,0,0,0,null,null,0,0,0,0]
[856,{"$f":"'INVENT.Ma Informatiq Importé-10'!B862","v":0},{"$f":"'INVENT.Ma Informatiq Importé-10'!F862","v":0},{"$f":"'INVENT.Ma Informatiq Importé-10'!C862","v":0},{"$f":"'INVENT.Ma Informatiq Importé-10'!H862","v":0},null,0,0,0,0,0,0,null,null,0,0,0,0]
[857,{"$f":"'INVENT.Ma Informatiq Importé-10'!B863","v":0},{"$f":"'INVENT.Ma Informatiq Importé-10'!F863","v":0},{"$f":"'INVENT.Ma Informatiq Importé-10'!C863","v":0},{"$f":"'INVENT.Ma Informatiq Importé-10'!H863","v":0},null,0,0,0,0,0,0,null,null,0,0,0,0]
[858,{"$f":"'INVENT.Ma Informatiq Importé-10'!B864","v":0},{"$f":"'INVENT.Ma Informatiq Importé-10'!F864","v":0},{"$f":"'INVENT.Ma Informatiq Importé-10'!C864","v":0},{"$f":"'INVENT.Ma Informatiq Importé-10'!H864","v":0},null,0,0,0,0,0,0,null,null,0,0,0,0]
[859,{"$f":"'INVENT.Ma Informatiq Importé-10'!B865","v":0},{"$f":"'INVENT.Ma Informatiq Importé-10'!F865","v":0},{"$f":"'INVENT.Ma Informatiq Importé-10'!C865","v":0},{"$f":"'INVENT.Ma Informatiq Importé-10'!H865","v":0},null,0,0,0,0,0,0,null,null,0,0,0,0]
[860,{"$f":"'INVENT.Ma Informatiq Importé-10'!B866","v":0},{"$f":"'INVENT.Ma Informatiq Importé-10'!F866","v":0},{"$f":"'INVENT.Ma Informatiq Importé-10'!C866","v":0},{"$f":"'INVENT.Ma Informatiq Importé-10'!H866","v":0},null,0,0,0,0,0,0,null,null,0,0,0,0]
[861,{"$f":"'INVENT.Ma Informatiq Importé-10'!B867","v":0},{"$f":"'INVENT.Ma Informatiq Importé-10'!F867","v":0},{"$f":"'INVENT.Ma Informatiq Importé-10'!C867","v":0},{"$f":"'INVENT.Ma Informatiq Importé-10'!H867","v":0},null,0,0,0,0,0,0,null,null,0,0,0,0]
[862,{"$f":"'INVENT.Ma Informatiq Importé-10'!B868","v":0},{"$f":"'INVENT.Ma Informatiq Importé-10'!F868","v":0},{"$f":"'INVENT.Ma Informatiq Importé-10'!C868","v":0},{"$f":"'INVENT.Ma Informatiq Importé-10'!H868","v":0},null,0,0,0,0,0,0,null,null,0,0,0,0]
[863,{"$f":"'INVENT.Ma Informatiq Importé-10'!B869","v":0},{"$f":"'INVENT.Ma Informatiq Importé-10'!F869","v":0},{"$f":"'INVENT.Ma Informatiq Importé-10'!C869","v":0},{"$f":"'INVENT.Ma Informatiq Importé-10'!H869","v":0},null,0,0,0,0,0,0,null,null,0,0,0,0]
[864,{"$f":"'INVENT.Ma Informatiq Importé-10'!B870","v":0},{"$f":"'INVENT.Ma Informatiq Importé-10'!F870","v":0},{"$f":"'INVENT.Ma Informatiq Importé-10'!C870","v":0},{"$f":"'INVENT.Ma Informatiq Importé-10'!H870","v":0},null,0,0,0,0,0,0,null,null,0,0,0,0]
[865,{"$f":"'INVENT.Ma Informatiq Importé-10'!B871","v":0},{"$f":"'INVENT.Ma Informatiq Importé-10'!F871","v":0},{"$f":"'INVENT.Ma Informatiq Importé-10'!C871","v":0},{"$f":"'INVENT.Ma Informatiq Importé-10'!H871","v":0},null,0,0,0,0,0,0,null,null,0,0,0,0]
[866,{"$f":"'INVENT.Ma Informatiq Importé-10'!B872","v":0},{"$f":"'INVENT.Ma Informatiq Importé-10'!F872","v":0},{"$f":"'INVENT.Ma Informatiq Importé-10'!C872","v":0},{"$f":"'INVENT.Ma Informatiq Importé-10'!H872","v":0},null,0,0,0,0,0,0,null,null,0,0,0,0]
[867,{"$f":"'INVENT.Ma Informatiq Importé-10'!B873","v":0},{"$f":"'INVENT.Ma Informatiq Importé-10'!F873","v":0},{"$f":"'INVENT.Ma Informatiq Importé-10'!C873","v":0},{"$f":"'INVENT.Ma Informatiq Importé-10'!H873","v":0},null,0,0,0,0,0,0,null,null,0,0,0,0]
[868,{"$f":"'INVENT.Ma Informatiq Importé-10'!B874","v":0},{"$f":"'INVENT.Ma Informatiq Importé-10'!F874","v":0},{"$f":"'INVENT.Ma Informatiq Importé-10'!C874","v":0},{"$f":"'INVENT.Ma Informatiq Importé-10'!H874","v":0},null,0,0,0,0,0,0,null,null,0,0,0,0]
[869,{"$f":"'INVENT.Ma Informatiq Importé-10'!B875","v":0},{"$f":"'INVENT.Ma Informatiq Importé-10'!F875","v":0},{"$f":"'INVENT.Ma Informatiq Importé-10'!C875","v":0},{"$f":"'INVENT.Ma Informatiq Importé-10'!H875","v":0},null,0,0,0,0,0,0,null,null,0,0,0,0]
[870,{"$f":"'INVENT.Ma Informatiq Importé-10'!B876","v":0},{"$f":"'INVENT.Ma Informatiq Importé-10'!F876","v":0},{"$f":"'INVENT.Ma Informatiq Importé-10'!C876","v":0},{"$f":"'INVENT.Ma Informatiq Importé-10'!H876","v":0},null,0,0,0,0,0,0,null,null,0,0,0,0]
[871,{"$f":"'INVENT.Ma Informatiq Importé-10'!B877","v":0},{"$f":"'INVENT.Ma Informatiq Importé-10'!F877","v":0},{"$f":"'INVENT.Ma Informatiq Importé-10'!C877","v":0},{"$f":"'INVENT.Ma Informatiq Importé-10'!H877","v":0},null,0,0,0,0,0,0,null,null,0,0,0,0]
[872,{"$f":"'INVENT.Ma Informatiq Importé-10'!B878","v":0},{"$f":"'INVENT.Ma Informatiq Importé-10'!F878","v":0},{"$f":"'INVENT.Ma Informatiq Importé-10'!C878","v":0},{"$f":"'INVENT.Ma Informatiq Importé-10'!H878","v":0},null,0,0,0,0,0,0,null,null,0,0,0,0]
[873,{"$f":"'INVENT.Ma Informatiq Importé-10'!B879","v":0},{"$f":"'INVENT.Ma Informatiq Importé-10'!F879","v":0},{"$f":"'INVENT.Ma Informatiq Importé-10'!C879","v":0},{"$f":"'INVENT.Ma Informatiq Importé-10'!H879","v":0},null,0,0,0,0,0,0,null,null,0,0,0,0]
[874,{"$f":"'INVENT.Ma Informatiq Importé-10'!B880","v":0},{"$f":"'INVENT.Ma Informatiq Importé-10'!F880","v":0},{"$f":"'INVENT.Ma Informatiq Importé-10'!C880","v":0},{"$f":"'INVENT.Ma Informatiq Importé-10'!H880","v":0},null,0,0,0,0,0,0,null,null,0,0,0,0]
[875,{"$f":"'INVENT.Ma Informatiq Importé-10'!B881","v":0},{"$f":"'INVENT.Ma Informatiq Importé-10'!F881","v":0},{"$f":"'INVENT.Ma Informatiq Importé-10'!C881","v":0},{"$f":"'INVENT.Ma Informatiq Importé-10'!H881","v":0},null,0,0,0,0,0,0,null,null,0,0,0,0]
[876,{"$f":"'INVENT.Ma Informatiq Importé-10'!B882","v":0},{"$f":"'INVENT.Ma Informatiq Importé-10'!F882","v":0},{"$f":"'INVENT.Ma Informatiq Importé-10'!C882","v":0},{"$f":"'INVENT.Ma Informatiq Importé-10'!H882","v":0},null,0,0,0,0,0,0,null,null,0,0,0,0]
[877,{"$f":"'INVENT.Ma Informatiq Importé-10'!B883","v":0},{"$f":"'INVENT.Ma Informatiq Importé-10'!F883","v":0},{"$f":"'INVENT.Ma Informatiq Importé-10'!C883","v":0},{"$f":"'INVENT.Ma Informatiq Importé-10'!H883","v":0},null,0,0,0,0,0,0,null,null,0,0,0,0]
[878,{"$f":"'INVENT.Ma Informatiq Importé-10'!B884","v":0},{"$f":"'INVENT.Ma Informatiq Importé-10'!F884","v":0},{"$f":"'INVENT.Ma Informatiq Importé-10'!C884","v":0},{"$f":"'INVENT.Ma Informatiq Importé-10'!H884","v":0},null,0,0,0,0,0,0,null,null,0,0,0,0]
[879,{"$f":"'INVENT.Ma Informatiq Importé-10'!B885","v":0},{"$f":"'INVENT.Ma Informatiq Importé-10'!F885","v":0},{"$f":"'INVENT.Ma Informatiq Importé-10'!C885","v":0},{"$f":"'INVENT.Ma Informatiq Importé-10'!H885","v":0},null,0,0,0,0,0,0,null,null,0,0,0,0]
[880,{"$f":"'INVENT.Ma Informatiq Importé-10'!B886","v":0},{"$f":"'INVENT.Ma Informatiq Importé-10'!F886","v":0},{"$f":"'INVENT.Ma Informatiq Importé-10'!C886","v":0},{"$f":"'INVENT.Ma Informatiq Importé-10'!H886","v":0},null,0,0,0,0,0,0,null,null,0,0,0,0]
[881,{"$f":"'INVENT.Ma Informatiq Importé-10'!B887","v":0},{"$f":"'INVENT.Ma Informatiq Importé-10'!F887","v":0},{"$f":"'INVENT.Ma Informatiq Importé-10'!C887","v":0},{"$f":"'INVENT.Ma Informatiq Importé-10'!H887","v":0},null,0,0,0,0,0,0,null,null,0,0,0,0]
[882,{"$f":"'INVENT.Ma Informatiq Importé-10'!B888","v":0},{"$f":"'INVENT.Ma Informatiq Importé-10'!F888","v":0},{"$f":"'INVENT.Ma Informatiq Importé-10'!C888","v":0},{"$f":"'INVENT.Ma Informatiq Importé-10'!H888","v":0},null,0,0,0,0,0,0,null,null,0,0,0,0]
[{"$f":"+A889+1","v":883},{"$f":"'INVENT.Ma Informatiq Importé-10'!B889","v":0},{"$f":"'INVENT.Ma Informatiq Importé-10'!F889","v":0},{"$f":"'INVENT.Ma Informatiq Importé-10'!C889","v":0},{"$f":"'INVENT.Ma Informatiq Importé-10'!H889","v":0},null,{"$f":"F890*E890","v":0},0,0,0,{"$f":"(E890+G890+H890)*18%","v":0},0,null,null,{"$f":"(M890+N890)*18%","v":0},{"$f":"O890+N890+M890","v":0},{"$f":"+R890-O890-K890","v":0},{"$f":"P890+L890","v":0}]
[884,{"$f":"'INVENT.Ma Informatiq Importé-10'!B890","v":0},{"$f":"'INVENT.Ma Informatiq Importé-10'!F890","v":0},{"$f":"'INVENT.Ma Informatiq Importé-10'!C890","v":0},{"$f":"'INVENT.Ma Informatiq Importé-10'!H890","v":0},null,0,{"$f":"E891*1%","v":0},{"$f":"E891*1%","v":0},{"$f":"E891*0.5%","v":0},0,0,null,null,0,0,0,0]
[885,{"$f":"'INVENT.Ma Informatiq Importé-10'!B891","v":0},{"$f":"'INVENT.Ma Informatiq Importé-10'!F891","v":0},{"$f":"'INVENT.Ma Informatiq Importé-10'!C891","v":0},{"$f":"'INVENT.Ma Informatiq Importé-10'!H891","v":0},null,0,0,0,0,0,{"$f":"SUM(G892:K892)+E892","v":0},null,null,0,0,0,0]
[886,{"$f":"'INVENT.Ma Informatiq Importé-10'!B892","v":0},{"$f":"'INVENT.Ma Informatiq Importé-10'!F892","v":0},{"$f":"'INVENT.Ma Informatiq Importé-10'!C892","v":0},{"$f":"'INVENT.Ma Informatiq Importé-10'!H892","v":0},null,0,0,0,0,0,0,null,null,0,0,0,0]
[887,{"$f":"'INVENT.Ma Informatiq Importé-10'!B893","v":0},{"$f":"'INVENT.Ma Informatiq Importé-10'!F893","v":0},{"$f":"'INVENT.Ma Informatiq Importé-10'!C893","v":0},{"$f":"'INVENT.Ma Informatiq Importé-10'!H893","v":0},null,0,0,0,0,0,0,null,null,0,0,0,0]
[888,{"$f":"'INVENT.Ma Informatiq Importé-10'!B894","v":0},{"$f":"'INVENT.Ma Informatiq Importé-10'!F894","v":0},{"$f":"'INVENT.Ma Informatiq Importé-10'!C894","v":0},{"$f":"'INVENT.Ma Informatiq Importé-10'!H894","v":0},null,0,0,0,0,0,0,null,null,0,0,0,0]
[889,{"$f":"'INVENT.Ma Informatiq Importé-10'!B895","v":0},{"$f":"'INVENT.Ma Informatiq Importé-10'!F895","v":0},{"$f":"'INVENT.Ma Informatiq Importé-10'!C895","v":0},{"$f":"'INVENT.Ma Informatiq Importé-10'!H895","v":0},null,0,0,0,0,0,0,null,null,0,0,0,0]
[890,{"$f":"'INVENT.Ma Informatiq Importé-10'!B896","v":0},{"$f":"'INVENT.Ma Informatiq Importé-10'!F896","v":0},{"$f":"'INVENT.Ma Informatiq Importé-10'!C896","v":0},{"$f":"'INVENT.Ma Informatiq Importé-10'!H896","v":0},null,0,0,0,0,0,0,null,null,0,0,0,0]
[891,{"$f":"'INVENT.Ma Informatiq Importé-10'!B897","v":0},{"$f":"'INVENT.Ma Informatiq Importé-10'!F897","v":0},{"$f":"'INVENT.Ma Informatiq Importé-10'!C897","v":0},{"$f":"'INVENT.Ma Informatiq Importé-10'!H897","v":0},null,0,0,0,0,0,0,null,null,0,0,0,0]
[892,{"$f":"'INVENT.Ma Informatiq Importé-10'!B898","v":0},{"$f":"'INVENT.Ma Informatiq Importé-10'!F898","v":0},{"$f":"'INVENT.Ma Informatiq Importé-10'!C898","v":0},{"$f":"'INVENT.Ma Informatiq Importé-10'!H898","v":0},null,0,0,0,0,0,0,null,null,0,0,0,0]
[893,{"$f":"'INVENT.Ma Informatiq Importé-10'!B899","v":0},{"$f":"'INVENT.Ma Informatiq Importé-10'!F899","v":0},{"$f":"'INVENT.Ma Informatiq Importé-10'!C899","v":0},{"$f":"'INVENT.Ma Informatiq Importé-10'!H899","v":0},null,0,0,0,0,0,0,null,null,0,0,0,0]
[894,{"$f":"'INVENT.Ma Informatiq Importé-10'!B900","v":0},{"$f":"'INVENT.Ma Informatiq Importé-10'!F900","v":0},{"$f":"'INVENT.Ma Informatiq Importé-10'!C900","v":0},{"$f":"'INVENT.Ma Informatiq Importé-10'!H900","v":0},null,0,0,0,0,0,0,null,null,0,0,0,0]
[895,{"$f":"'INVENT.Ma Informatiq Importé-10'!B901","v":0},{"$f":"'INVENT.Ma Informatiq Importé-10'!F901","v":0},{"$f":"'INVENT.Ma Informatiq Importé-10'!C901","v":0},{"$f":"'INVENT.Ma Informatiq Importé-10'!H901","v":0},null,0,0,0,0,0,0,null,null,0,0,0,0]
[896,{"$f":"'INVENT.Ma Informatiq Importé-10'!B902","v":0},{"$f":"'INVENT.Ma Informatiq Importé-10'!F902","v":0},{"$f":"'INVENT.Ma Informatiq Importé-10'!C902","v":0},{"$f":"'INVENT.Ma Informatiq Importé-10'!H902","v":0},null,0,0,0,0,0,0,null,null,0,0,0,0]
[897,{"$f":"'INVENT.Ma Informatiq Importé-10'!B903","v":0},{"$f":"'INVENT.Ma Informatiq Importé-10'!F903","v":0},{"$f":"'INVENT.Ma Informatiq Importé-10'!C903","v":0},{"$f":"'INVENT.Ma Informatiq Importé-10'!H903","v":0},null,0,0,0,0,0,0,null,null,0,0,0,0]
[898,{"$f":"'INVENT.Ma Informatiq Importé-10'!B904","v":0},{"$f":"'INVENT.Ma Informatiq Importé-10'!F904","v":0},{"$f":"'INVENT.Ma Informatiq Importé-10'!C904","v":0},{"$f":"'INVENT.Ma Informatiq Importé-10'!H904","v":0},null,0,0,0,0,0,0,null,null,0,0,0,0]
[899,{"$f":"'INVENT.Ma Informatiq Importé-10'!B905","v":0},{"$f":"'INVENT.Ma Informatiq Importé-10'!F905","v":0},{"$f":"'INVENT.Ma Informatiq Importé-10'!C905","v":0},{"$f":"'INVENT.Ma Informatiq Importé-10'!H905","v":0},null,0,0,0,0,0,0,null,null,0,0,0,0]
[900,{"$f":"'INVENT.Ma Informatiq Importé-10'!B906","v":0},{"$f":"'INVENT.Ma Informatiq Importé-10'!F906","v":0},{"$f":"'INVENT.Ma Informatiq Importé-10'!C906","v":0},{"$f":"'INVENT.Ma Informatiq Importé-10'!H906","v":0},null,0,0,0,0,0,0,null,null,0,0,0,0]
[901,{"$f":"'INVENT.Ma Informatiq Importé-10'!B907","v":0},{"$f":"'INVENT.Ma Informatiq Importé-10'!F907","v":0},{"$f":"'INVENT.Ma Informatiq Importé-10'!C907","v":0},{"$f":"'INVENT.Ma Informatiq Importé-10'!H907","v":0},null,0,0,0,0,0,0,null,null,0,0,0,0]
[902,{"$f":"'INVENT.Ma Informatiq Importé-10'!B908","v":0},{"$f":"'INVENT.Ma Informatiq Importé-10'!F908","v":0},{"$f":"'INVENT.Ma Informatiq Importé-10'!C908","v":0},{"$f":"'INVENT.Ma Informatiq Importé-10'!H908","v":0},null,0,0,0,0,0,0,null,null,0,0,0,0]
[903,{"$f":"'INVENT.Ma Informatiq Importé-10'!B909","v":0},{"$f":"'INVENT.Ma Informatiq Importé-10'!F909","v":0},{"$f":"'INVENT.Ma Informatiq Importé-10'!C909","v":0},{"$f":"'INVENT.Ma Informatiq Importé-10'!H909","v":0},null,0,0,0,0,0,0,null,null,0,0,0,0]
[904,{"$f":"'INVENT.Ma Informatiq Importé-10'!B910","v":0},{"$f":"'INVENT.Ma Informatiq Importé-10'!F910","v":0},{"$f":"'INVENT.Ma Informatiq Importé-10'!C910","v":0},{"$f":"'INVENT.Ma Informatiq Importé-10'!H910","v":0},null,0,0,0,0,0,0,null,null,0,0,0,0]
[905,{"$f":"'INVENT.Ma Informatiq Importé-10'!B911","v":0},{"$f":"'INVENT.Ma Informatiq Importé-10'!F911","v":0},{"$f":"'INVENT.Ma Informatiq Importé-10'!C911","v":0},{"$f":"'INVENT.Ma Informatiq Importé-10'!H911","v":0},null,0,0,0,0,0,0,null,null,0,0,0,0]
[906,{"$f":"'INVENT.Ma Informatiq Importé-10'!B912","v":0},{"$f":"'INVENT.Ma Informatiq Importé-10'!F912","v":0},{"$f":"'INVENT.Ma Informatiq Importé-10'!C912","v":0},{"$f":"'INVENT.Ma Informatiq Importé-10'!H912","v":0},null,0,0,0,0,0,0,null,null,0,0,0,0]
[907,{"$f":"'INVENT.Ma Informatiq Importé-10'!B913","v":0},{"$f":"'INVENT.Ma Informatiq Importé-10'!F913","v":0},{"$f":"'INVENT.Ma Informatiq Importé-10'!C913","v":0},{"$f":"'INVENT.Ma Informatiq Importé-10'!H913","v":0},null,0,0,0,0,0,0,null,null,0,0,0,0]
[908,{"$f":"'INVENT.Ma Informatiq Importé-10'!B914","v":0},{"$f":"'INVENT.Ma Informatiq Importé-10'!F914","v":0},{"$f":"'INVENT.Ma Informatiq Importé-10'!C914","v":0},{"$f":"'INVENT.Ma Informatiq Importé-10'!H914","v":0},null,0,0,0,0,0,0,null,null,0,0,0,0]
[909,{"$f":"'INVENT.Ma Informatiq Importé-10'!B915","v":0},{"$f":"'INVENT.Ma Informatiq Importé-10'!F915","v":0},{"$f":"'INVENT.Ma Informatiq Importé-10'!C915","v":0},{"$f":"'INVENT.Ma Informatiq Importé-10'!H915","v":0},null,0,0,0,0,0,0,null,null,0,0,0,0]
[910,{"$f":"'INVENT.Ma Informatiq Importé-10'!B916","v":0},{"$f":"'INVENT.Ma Informatiq Importé-10'!F916","v":0},{"$f":"'INVENT.Ma Informatiq Importé-10'!C916","v":0},{"$f":"'INVENT.Ma Informatiq Importé-10'!H916","v":0},null,0,0,0,0,0,0,null,null,0,0,0,0]
[911,{"$f":"'INVENT.Ma Informatiq Importé-10'!B917","v":0},{"$f":"'INVENT.Ma Informatiq Importé-10'!F917","v":0},{"$f":"'INVENT.Ma Informatiq Importé-10'!C917","v":0},{"$f":"'INVENT.Ma Informatiq Importé-10'!H917","v":0},null,0,0,0,0,0,0,null,null,0,0,0,0]
[912,{"$f":"'INVENT.Ma Informatiq Importé-10'!B918","v":0},{"$f":"'INVENT.Ma Informatiq Importé-10'!F918","v":0},{"$f":"'INVENT.Ma Informatiq Importé-10'!C918","v":0},{"$f":"'INVENT.Ma Informatiq Importé-10'!H918","v":0},null,0,0,0,0,0,0,null,null,0,0,0,0]
[913,{"$f":"'INVENT.Ma Informatiq Importé-10'!B919","v":0},{"$f":"'INVENT.Ma Informatiq Importé-10'!F919","v":0},{"$f":"'INVENT.Ma Informatiq Importé-10'!C919","v":0},{"$f":"'INVENT.Ma Informatiq Importé-10'!H919","v":0},null,0,0,0,0,0,0,null,null,0,0,0,0]
[914,{"$f":"'INVENT.Ma Informatiq Importé-10'!B920","v":0},{"$f":"'INVENT.Ma Informatiq Importé-10'!F920","v":0},{"$f":"'INVENT.Ma Informatiq Importé-10'!C920","v":0},{"$f":"'INVENT.Ma Informatiq Importé-10'!H920","v":0},null,0,0,0,0,0,0,null,null,0,0,0,0]
[915,{"$f":"'INVENT.Ma Informatiq Importé-10'!B921","v":0},{"$f":"'INVENT.Ma Informatiq Importé-10'!F921","v":0},{"$f":"'INVENT.Ma Informatiq Importé-10'!C921","v":0},{"$f":"'INVENT.Ma Informatiq Importé-10'!H921","v":0},null,0,0,0,0,0,0,null,null,0,0,0,0]
[916,{"$f":"'INVENT.Ma Informatiq Importé-10'!B922","v":0},{"$f":"'INVENT.Ma Informatiq Importé-10'!F922","v":0},{"$f":"'INVENT.Ma Informatiq Importé-10'!C922","v":0},{"$f":"'INVENT.Ma Informatiq Importé-10'!H922","v":0},null,0,0,0,0,0,0,null,null,0,0,0,0]
[917,{"$f":"'INVENT.Ma Informatiq Importé-10'!B923","v":0},{"$f":"'INVENT.Ma Informatiq Importé-10'!F923","v":0},{"$f":"'INVENT.Ma Informatiq Importé-10'!C923","v":0},{"$f":"'INVENT.Ma Informatiq Importé-10'!H923","v":0},null,0,0,0,0,0,0,null,null,0,0,0,0]
[918,{"$f":"'INVENT.Ma Informatiq Importé-10'!B924","v":0},{"$f":"'INVENT.Ma Informatiq Importé-10'!F924","v":0},{"$f":"'INVENT.Ma Informatiq Importé-10'!C924","v":0},{"$f":"'INVENT.Ma Informatiq Importé-10'!H924","v":0},null,0,0,0,0,0,0,null,null,0,0,0,0]
[919,{"$f":"'INVENT.Ma Informatiq Importé-10'!B925","v":0},{"$f":"'INVENT.Ma Informatiq Importé-10'!F925","v":0},{"$f":"'INVENT.Ma Informatiq Importé-10'!C925","v":0},{"$f":"'INVENT.Ma Informatiq Importé-10'!H925","v":0},null,0,0,0,0,0,0,null,null,0,0,0,0]
[920,{"$f":"'INVENT.Ma Informatiq Importé-10'!B926","v":0},{"$f":"'INVENT.Ma Informatiq Importé-10'!F926","v":0},{"$f":"'INVENT.Ma Informatiq Importé-10'!C926","v":0},{"$f":"'INVENT.Ma Informatiq Importé-10'!H926","v":0},null,0,0,0,0,0,0,null,null,0,0,0,0]
[921,{"$f":"'INVENT.Ma Informatiq Importé-10'!B927","v":0},{"$f":"'INVENT.Ma Informatiq Importé-10'!F927","v":0},{"$f":"'INVENT.Ma Informatiq Importé-10'!C927","v":0},{"$f":"'INVENT.Ma Informatiq Importé-10'!H927","v":0},null,0,0,0,0,0,0,null,null,0,0,0,0]
[922,{"$f":"'INVENT.Ma Informatiq Importé-10'!B928","v":0},{"$f":"'INVENT.Ma Informatiq Importé-10'!F928","v":0},{"$f":"'INVENT.Ma Informatiq Importé-10'!C928","v":0},{"$f":"'INVENT.Ma Informatiq Importé-10'!H928","v":0},null,0,0,0,0,0,0,null,null,0,0,0,0]
[923,{"$f":"'INVENT.Ma Informatiq Importé-10'!B929","v":0},{"$f":"'INVENT.Ma Informatiq Importé-10'!F929","v":0},{"$f":"'INVENT.Ma Informatiq Importé-10'!C929","v":0},{"$f":"'INVENT.Ma Informatiq Importé-10'!H929","v":0},null,0,0,0,0,0,0,null,null,0,0,0,0]
[924,{"$f":"'INVENT.Ma Informatiq Importé-10'!B930","v":0},{"$f":"'INVENT.Ma Informatiq Importé-10'!F930","v":0},{"$f":"'INVENT.Ma Informatiq Importé-10'!C930","v":0},{"$f":"'INVENT.Ma Informatiq Importé-10'!H930","v":0},null,0,0,0,0,0,0,null,null,0,0,0,0]
[925,{"$f":"'INVENT.Ma Informatiq Importé-10'!B931","v":0},{"$f":"'INVENT.Ma Informatiq Importé-10'!F931","v":0},{"$f":"'INVENT.Ma Informatiq Importé-10'!C931","v":0},{"$f":"'INVENT.Ma Informatiq Importé-10'!H931","v":0},null,0,0,0,0,0,0,null,null,0,0,0,0]
[926,{"$f":"'INVENT.Ma Informatiq Importé-10'!B932","v":0},{"$f":"'INVENT.Ma Informatiq Importé-10'!F932","v":0},{"$f":"'INVENT.Ma Informatiq Importé-10'!C932","v":0},{"$f":"'INVENT.Ma Informatiq Importé-10'!H932","v":0},null,0,0,0,0,0,0,null,null,0,0,0,0]
[927,{"$f":"'INVENT.Ma Informatiq Importé-10'!B933","v":0},{"$f":"'INVENT.Ma Informatiq Importé-10'!F933","v":0},{"$f":"'INVENT.Ma Informatiq Importé-10'!C933","v":0},{"$f":"'INVENT.Ma Informatiq Importé-10'!H933","v":0},null,0,0,0,0,0,0,null,null,0,0,0,0]
[928,{"$f":"'INVENT.Ma Informatiq Importé-10'!B934","v":0},{"$f":"'INVENT.Ma Informatiq Importé-10'!F934","v":0},{"$f":"'INVENT.Ma Informatiq Importé-10'!C934","v":0},{"$f":"'INVENT.Ma Informatiq Importé-10'!H934","v":0},null,0,0,0,0,0,0,null,null,0,0,0,0]
[929,{"$f":"'INVENT.Ma Informatiq Importé-10'!B935","v":0},{"$f":"'INVENT.Ma Informatiq Importé-10'!F935","v":0},{"$f":"'INVENT.Ma Informatiq Importé-10'!C935","v":0},{"$f":"'INVENT.Ma Informatiq Importé-10'!H935","v":0},null,0,0,0,0,0,0,null,null,0,0,0,0]
[930,{"$f":"'INVENT.Ma Informatiq Importé-10'!B936","v":0},{"$f":"'INVENT.Ma Informatiq Importé-10'!F936","v":0},{"$f":"'INVENT.Ma Informatiq Importé-10'!C936","v":0},{"$f":"'INVENT.Ma Informatiq Importé-10'!H936","v":0},null,0,0,0,0,0,0,null,null,0,0,0,0]
[931,{"$f":"'INVENT.Ma Informatiq Importé-10'!B937","v":0},{"$f":"'INVENT.Ma Informatiq Importé-10'!F937","v":0},{"$f":"'INVENT.Ma Informatiq Importé-10'!C937","v":0},{"$f":"'INVENT.Ma Informatiq Importé-10'!H937","v":0},null,0,0,0,0,0,0,null,null,0,0,0,0]
[932,{"$f":"'INVENT.Ma Informatiq Importé-10'!B938","v":0},{"$f":"'INVENT.Ma Informatiq Importé-10'!F938","v":0},{"$f":"'INVENT.Ma Informatiq Importé-10'!C938","v":0},{"$f":"'INVENT.Ma Informatiq Importé-10'!H938","v":0},null,0,0,0,0,0,0,null,null,0,0,0,0]
[933,{"$f":"'INVENT.Ma Informatiq Importé-10'!B939","v":0},{"$f":"'INVENT.Ma Informatiq Importé-10'!F939","v":0},{"$f":"'INVENT.Ma Informatiq Importé-10'!C939","v":0},{"$f":"'INVENT.Ma Informatiq Importé-10'!H939","v":0},null,0,0,0,0,0,0,null,null,0,0,0,0]
[934,{"$f":"'INVENT.Ma Informatiq Importé-10'!B940","v":0},{"$f":"'INVENT.Ma Informatiq Importé-10'!F940","v":0},{"$f":"'INVENT.Ma Informatiq Importé-10'!C940","v":0},{"$f":"'INVENT.Ma Informatiq Importé-10'!H940","v":0},null,0,0,0,0,0,0,null,null,0,0,0,0]
[935,{"$f":"'INVENT.Ma Informatiq Importé-10'!B941","v":0},{"$f":"'INVENT.Ma Informatiq Importé-10'!F941","v":0},{"$f":"'INVENT.Ma Informatiq Importé-10'!C941","v":0},{"$f":"'INVENT.Ma Informatiq Importé-10'!H941","v":0},null,0,0,0,0,0,0,null,null,0,0,0,0]
[936,{"$f":"'INVENT.Ma Informatiq Importé-10'!B942","v":0},{"$f":"'INVENT.Ma Informatiq Importé-10'!F942","v":0},{"$f":"'INVENT.Ma Informatiq Importé-10'!C942","v":0},{"$f":"'INVENT.Ma Informatiq Importé-10'!H942","v":0},null,0,0,0,0,0,0,null,null,0,0,0,0]
[937,{"$f":"'INVENT.Ma Informatiq Importé-10'!B943","v":0},{"$f":"'INVENT.Ma Informatiq Importé-10'!F943","v":0},{"$f":"'INVENT.Ma Informatiq Importé-10'!C943","v":0},{"$f":"'INVENT.Ma Informatiq Importé-10'!H943","v":0},null,0,0,0,0,0,0,null,null,0,0,0,0]
[938,{"$f":"'INVENT.Ma Informatiq Importé-10'!B944","v":0},{"$f":"'INVENT.Ma Informatiq Importé-10'!F944","v":0},{"$f":"'INVENT.Ma Informatiq Importé-10'!C944","v":0},{"$f":"'INVENT.Ma Informatiq Importé-10'!H944","v":0},null,0,0,0,0,0,0,null,null,0,0,0,0]
[939,{"$f":"'INVENT.Ma Informatiq Importé-10'!B945","v":0},{"$f":"'INVENT.Ma Informatiq Importé-10'!F945","v":0},{"$f":"'INVENT.Ma Informatiq Importé-10'!C945","v":0},{"$f":"'INVENT.Ma Informatiq Importé-10'!H945","v":0},null,0,0,0,0,0,0,null,null,0,0,0,0]
[940,{"$f":"'INVENT.Ma Informatiq Importé-10'!B946","v":0},{"$f":"'INVENT.Ma Informatiq Importé-10'!F946","v":0},{"$f":"'INVENT.Ma Informatiq Importé-10'!C946","v":0},{"$f":"'INVENT.Ma Informatiq Importé-10'!H946","v":0},null,0,0,0,0,0,0,null,null,0,0,0,0]
[941,{"$f":"'INVENT.Ma Informatiq Importé-10'!B947","v":0},{"$f":"'INVENT.Ma Informatiq Importé-10'!F947","v":0},{"$f":"'INVENT.Ma Informatiq Importé-10'!C947","v":0},{"$f":"'INVENT.Ma Informatiq Importé-10'!H947","v":0},null,0,0,0,0,0,0,null,null,0,0,0,0]
[942,{"$f":"'INVENT.Ma Informatiq Importé-10'!B948","v":0},{"$f":"'INVENT.Ma Informatiq Importé-10'!F948","v":0},{"$f":"'INVENT.Ma Informatiq Importé-10'!C948","v":0},{"$f":"'INVENT.Ma Informatiq Importé-10'!H948","v":0},null,0,0,0,0,0,0,null,null,0,0,0,0]
[943,{"$f":"'INVENT.Ma Informatiq Importé-10'!B949","v":0},{"$f":"'INVENT.Ma Informatiq Importé-10'!F949","v":0},{"$f":"'INVENT.Ma Informatiq Importé-10'!C949","v":0},{"$f":"'INVENT.Ma Informatiq Importé-10'!H949","v":0},null,0,0,0,0,0,0,null,null,0,0,0,0]
[944,{"$f":"'INVENT.Ma Informatiq Importé-10'!B950","v":0},{"$f":"'INVENT.Ma Informatiq Importé-10'!F950","v":0},{"$f":"'INVENT.Ma Informatiq Importé-10'!C950","v":0},{"$f":"'INVENT.Ma Informatiq Importé-10'!H950","v":0},null,0,0,0,0,0,0,null,null,0,0,0,0]
[945,{"$f":"'INVENT.Ma Informatiq Importé-10'!B951","v":0},{"$f":"'INVENT.Ma Informatiq Importé-10'!F951","v":0},{"$f":"'INVENT.Ma Informatiq Importé-10'!C951","v":0},{"$f":"'INVENT.Ma Informatiq Importé-10'!H951","v":0},null,0,0,0,0,0,0,null,null,0,0,0,0]
[946,{"$f":"'INVENT.Ma Informatiq Importé-10'!B952","v":0},{"$f":"'INVENT.Ma Informatiq Importé-10'!F952","v":0},{"$f":"'INVENT.Ma Informatiq Importé-10'!C952","v":0},{"$f":"'INVENT.Ma Informatiq Importé-10'!H952","v":0},null,0,0,0,0,0,0,null,null,0,0,0,0]
[{"$f":"+A953+1","v":947},{"$f":"'INVENT.Ma Informatiq Importé-10'!B953","v":0},{"$f":"'INVENT.Ma Informatiq Importé-10'!F953","v":0},{"$f":"'INVENT.Ma Informatiq Importé-10'!C953","v":0},{"$f":"'INVENT.Ma Informatiq Importé-10'!H953","v":0},null,{"$f":"F954*E954","v":0},0,0,0,{"$f":"(E954+G954+H954)*18%","v":0},0,null,null,{"$f":"(M954+N954)*18%","v":0},{"$f":"O954+N954+M954","v":0},{"$f":"+R954-O954-K954","v":0},{"$f":"P954+L954","v":0}]
[948,{"$f":"'INVENT.Ma Informatiq Importé-10'!B954","v":0},{"$f":"'INVENT.Ma Informatiq Importé-10'!F954","v":0},{"$f":"'INVENT.Ma Informatiq Importé-10'!C954","v":0},{"$f":"'INVENT.Ma Informatiq Importé-10'!H954","v":0},null,0,{"$f":"E955*1%","v":0},{"$f":"E955*1%","v":0},{"$f":"E955*0.5%","v":0},0,0,null,null,0,0,0,0]
[949,{"$f":"'INVENT.Ma Informatiq Importé-10'!B955","v":0},{"$f":"'INVENT.Ma Informatiq Importé-10'!F955","v":0},{"$f":"'INVENT.Ma Informatiq Importé-10'!C955","v":0},{"$f":"'INVENT.Ma Informatiq Importé-10'!H955","v":0},null,0,0,0,0,0,{"$f":"SUM(G956:K956)+E956","v":0},null,null,0,0,0,0]
[950,{"$f":"'INVENT.Ma Informatiq Importé-10'!B956","v":0},{"$f":"'INVENT.Ma Informatiq Importé-10'!F956","v":0},{"$f":"'INVENT.Ma Informatiq Importé-10'!C956","v":0},{"$f":"'INVENT.Ma Informatiq Importé-10'!H956","v":0},null,0,0,0,0,0,{"$f":"SUM(G957:K957)+E957","v":0},null,null,0,0,0,0]
[951,{"$f":"'INVENT.Ma Informatiq Importé-10'!B957","v":0},{"$f":"'INVENT.Ma Informatiq Importé-10'!F957","v":0},{"$f":"'INVENT.Ma Informatiq Importé-10'!C957","v":0},{"$f":"'INVENT.Ma Informatiq Importé-10'!H957","v":0},null,0,0,0,0,0,{"$f":"SUM(G958:K958)+E958","v":0},null,null,0,0,0,0]
[952,{"$f":"'INVENT.Ma Informatiq Importé-10'!B958","v":0},{"$f":"'INVENT.Ma Informatiq Importé-10'!F958","v":0},{"$f":"'INVENT.Ma Informatiq Importé-10'!C958","v":0},{"$f":"'INVENT.Ma Informatiq Importé-10'!H958","v":0},null,0,0,0,0,0,0,null,null,0,0,0,0]
[953,{"$f":"'INVENT.Ma Informatiq Importé-10'!B959","v":0},{"$f":"'INVENT.Ma Informatiq Importé-10'!F959","v":0},{"$f":"'INVENT.Ma Informatiq Importé-10'!C959","v":0},{"$f":"'INVENT.Ma Informatiq Importé-10'!H959","v":0},null,0,0,0,0,0,0,null,null,0,0,0,0]
[954,{"$f":"'INVENT.Ma Informatiq Importé-10'!B960","v":0},{"$f":"'INVENT.Ma Informatiq Importé-10'!F960","v":0},{"$f":"'INVENT.Ma Informatiq Importé-10'!C960","v":0},{"$f":"'INVENT.Ma Informatiq Importé-10'!H960","v":0},null,0,0,0,0,0,0,null,null,0,0,0,0]
[955,{"$f":"'INVENT.Ma Informatiq Importé-10'!B961","v":0},{"$f":"'INVENT.Ma Informatiq Importé-10'!F961","v":0},{"$f":"'INVENT.Ma Informatiq Importé-10'!C961","v":0},{"$f":"'INVENT.Ma Informatiq Importé-10'!H961","v":0},null,0,0,0,0,0,0,null,null,0,0,0,0]
[956,{"$f":"'INVENT.Ma Informatiq Importé-10'!B962","v":0},{"$f":"'INVENT.Ma Informatiq Importé-10'!F962","v":0},{"$f":"'INVENT.Ma Informatiq Importé-10'!C962","v":0},{"$f":"'INVENT.Ma Informatiq Importé-10'!H962","v":0},null,0,0,0,0,0,0,null,null,0,0,0,0]
[957,{"$f":"'INVENT.Ma Informatiq Importé-10'!B963","v":0},{"$f":"'INVENT.Ma Informatiq Importé-10'!F963","v":0},{"$f":"'INVENT.Ma Informatiq Importé-10'!C963","v":0},{"$f":"'INVENT.Ma Informatiq Importé-10'!H963","v":0},null,0,0,0,0,0,0,null,null,0,0,0,0]
[958,{"$f":"'INVENT.Ma Informatiq Importé-10'!B964","v":0},{"$f":"'INVENT.Ma Informatiq Importé-10'!F964","v":0},{"$f":"'INVENT.Ma Informatiq Importé-10'!C964","v":0},{"$f":"'INVENT.Ma Informatiq Importé-10'!H964","v":0},null,0,0,0,0,0,0,null,null,0,0,0,0]
[959,{"$f":"'INVENT.Ma Informatiq Importé-10'!B965","v":0},{"$f":"'INVENT.Ma Informatiq Importé-10'!F965","v":0},{"$f":"'INVENT.Ma Informatiq Importé-10'!C965","v":0},{"$f":"'INVENT.Ma Informatiq Importé-10'!H965","v":0},null,0,0,0,0,0,0,null,null,0,0,0,0]
[960,{"$f":"'INVENT.Ma Informatiq Importé-10'!B966","v":0},{"$f":"'INVENT.Ma Informatiq Importé-10'!F966","v":0},{"$f":"'INVENT.Ma Informatiq Importé-10'!C966","v":0},{"$f":"'INVENT.Ma Informatiq Importé-10'!H966","v":0},null,0,0,0,0,0,0,null,null,0,0,0,0]
[961,{"$f":"'INVENT.Ma Informatiq Importé-10'!B967","v":0},{"$f":"'INVENT.Ma Informatiq Importé-10'!F967","v":0},{"$f":"'INVENT.Ma Informatiq Importé-10'!C967","v":0},{"$f":"'INVENT.Ma Informatiq Importé-10'!H967","v":0},null,0,0,0,0,0,0,null,null,0,0,0,0]
[962,{"$f":"'INVENT.Ma Informatiq Importé-10'!B968","v":0},{"$f":"'INVENT.Ma Informatiq Importé-10'!F968","v":0},{"$f":"'INVENT.Ma Informatiq Importé-10'!C968","v":0},{"$f":"'INVENT.Ma Informatiq Importé-10'!H968","v":0},null,0,0,0,0,0,0,null,null,0,0,0,0]
[963,{"$f":"'INVENT.Ma Informatiq Importé-10'!B969","v":0},{"$f":"'INVENT.Ma Informatiq Importé-10'!F969","v":0},{"$f":"'INVENT.Ma Informatiq Importé-10'!C969","v":0},{"$f":"'INVENT.Ma Informatiq Importé-10'!H969","v":0},null,0,0,0,0,0,0,null,null,0,0,0,0]
[964,{"$f":"'INVENT.Ma Informatiq Importé-10'!B970","v":0},{"$f":"'INVENT.Ma Informatiq Importé-10'!F970","v":0},{"$f":"'INVENT.Ma Informatiq Importé-10'!C970","v":0},{"$f":"'INVENT.Ma Informatiq Importé-10'!H970","v":0},null,0,0,0,0,0,0,null,null,0,0,0,0]
[965,{"$f":"'INVENT.Ma Informatiq Importé-10'!B971","v":0},{"$f":"'INVENT.Ma Informatiq Importé-10'!F971","v":0},{"$f":"'INVENT.Ma Informatiq Importé-10'!C971","v":0},{"$f":"'INVENT.Ma Informatiq Importé-10'!H971","v":0},null,0,0,0,0,0,0,null,null,0,0,0,0]
[966,{"$f":"'INVENT.Ma Informatiq Importé-10'!B972","v":0},{"$f":"'INVENT.Ma Informatiq Importé-10'!F972","v":0},{"$f":"'INVENT.Ma Informatiq Importé-10'!C972","v":0},{"$f":"'INVENT.Ma Informatiq Importé-10'!H972","v":0},null,0,0,0,0,0,0,null,null,0,0,0,0]
[967,{"$f":"'INVENT.Ma Informatiq Importé-10'!B973","v":0},{"$f":"'INVENT.Ma Informatiq Importé-10'!F973","v":0},{"$f":"'INVENT.Ma Informatiq Importé-10'!C973","v":0},{"$f":"'INVENT.Ma Informatiq Importé-10'!H973","v":0},null,0,0,0,0,0,0,null,null,0,0,0,0]
[968,{"$f":"'INVENT.Ma Informatiq Importé-10'!B974","v":0},{"$f":"'INVENT.Ma Informatiq Importé-10'!F974","v":0},{"$f":"'INVENT.Ma Informatiq Importé-10'!C974","v":0},{"$f":"'INVENT.Ma Informatiq Importé-10'!H974","v":0},null,0,0,0,0,0,0,null,null,0,0,0,0]
[969,{"$f":"'INVENT.Ma Informatiq Importé-10'!B975","v":0},{"$f":"'INVENT.Ma Informatiq Importé-10'!F975","v":0},{"$f":"'INVENT.Ma Informatiq Importé-10'!C975","v":0},{"$f":"'INVENT.Ma Informatiq Importé-10'!H975","v":0},null,0,0,0,0,0,0,null,null,0,0,0,0]
[970,{"$f":"'INVENT.Ma Informatiq Importé-10'!B976","v":0},{"$f":"'INVENT.Ma Informatiq Importé-10'!F976","v":0},{"$f":"'INVENT.Ma Informatiq Importé-10'!C976","v":0},{"$f":"'INVENT.Ma Informatiq Importé-10'!H976","v":0},null,0,0,0,0,0,0,null,null,0,0,0,0]
[971,{"$f":"'INVENT.Ma Informatiq Importé-10'!B977","v":0},{"$f":"'INVENT.Ma Informatiq Importé-10'!F977","v":0},{"$f":"'INVENT.Ma Informatiq Importé-10'!C977","v":0},{"$f":"'INVENT.Ma Informatiq Importé-10'!H977","v":0},null,0,0,0,0,0,0,null,null,0,0,0,0]
[972,{"$f":"'INVENT.Ma Informatiq Importé-10'!B978","v":0},{"$f":"'INVENT.Ma Informatiq Importé-10'!F978","v":0},{"$f":"'INVENT.Ma Informatiq Importé-10'!C978","v":0},{"$f":"'INVENT.Ma Informatiq Importé-10'!H978","v":0},null,0,0,0,0,0,0,null,null,0,0,0,0]
[973,{"$f":"'INVENT.Ma Informatiq Importé-10'!B979","v":0},{"$f":"'INVENT.Ma Informatiq Importé-10'!F979","v":0},{"$f":"'INVENT.Ma Informatiq Importé-10'!C979","v":0},{"$f":"'INVENT.Ma Informatiq Importé-10'!H979","v":0},null,0,0,0,0,0,0,null,null,0,0,0,0]
[974,{"$f":"'INVENT.Ma Informatiq Importé-10'!B980","v":0},{"$f":"'INVENT.Ma Informatiq Importé-10'!F980","v":0},{"$f":"'INVENT.Ma Informatiq Importé-10'!C980","v":0},{"$f":"'INVENT.Ma Informatiq Importé-10'!H980","v":0},null,0,0,0,0,0,0,null,null,0,0,0,0]
[975,{"$f":"'INVENT.Ma Informatiq Importé-10'!B981","v":0},{"$f":"'INVENT.Ma Informatiq Importé-10'!F981","v":0},{"$f":"'INVENT.Ma Informatiq Importé-10'!C981","v":0},{"$f":"'INVENT.Ma Informatiq Importé-10'!H981","v":0},null,0,0,0,0,0,0,null,null,0,0,0,0]
[976,{"$f":"'INVENT.Ma Informatiq Importé-10'!B982","v":0},{"$f":"'INVENT.Ma Informatiq Importé-10'!F982","v":0},{"$f":"'INVENT.Ma Informatiq Importé-10'!C982","v":0},{"$f":"'INVENT.Ma Informatiq Importé-10'!H982","v":0},null,0,0,0,0,0,0,null,null,0,0,0,0]
[977,{"$f":"'INVENT.Ma Informatiq Importé-10'!B983","v":0},{"$f":"'INVENT.Ma Informatiq Importé-10'!F983","v":0},{"$f":"'INVENT.Ma Informatiq Importé-10'!C983","v":0},{"$f":"'INVENT.Ma Informatiq Importé-10'!H983","v":0},null,0,0,0,0,0,0,null,null,0,0,0,0]
[978,{"$f":"'INVENT.Ma Informatiq Importé-10'!B984","v":0},{"$f":"'INVENT.Ma Informatiq Importé-10'!F984","v":0},{"$f":"'INVENT.Ma Informatiq Importé-10'!C984","v":0},{"$f":"'INVENT.Ma Informatiq Importé-10'!H984","v":0},null,0,0,0,0,0,0,null,null,{"$f":"(M985+N985)*18%","v":0},0,0,0]
[979,{"$f":"'INVENT.Ma Informatiq Importé-10'!B985","v":0},{"$f":"'INVENT.Ma Informatiq Importé-10'!F985","v":0},{"$f":"'INVENT.Ma Informatiq Importé-10'!C985","v":0},{"$f":"'INVENT.Ma Informatiq Importé-10'!H985","v":0},null,0,0,0,0,0,0,null,null,0,0,0,0]
[980,{"$f":"'INVENT.Ma Informatiq Importé-10'!B986","v":0},{"$f":"'INVENT.Ma Informatiq Importé-10'!F986","v":0},{"$f":"'INVENT.Ma Informatiq Importé-10'!C986","v":0},{"$f":"'INVENT.Ma Informatiq Importé-10'!H986","v":0},null,0,0,0,0,0,0,null,null,0,0,0,0]
[981,{"$f":"'INVENT.Ma Informatiq Importé-10'!B987","v":0},{"$f":"'INVENT.Ma Informatiq Importé-10'!F987","v":0},{"$f":"'INVENT.Ma Informatiq Importé-10'!C987","v":0},{"$f":"'INVENT.Ma Informatiq Importé-10'!H987","v":0},null,0,0,0,0,0,0,null,null,0,0,0,0]
[982,{"$f":"'INVENT.Ma Informatiq Importé-10'!B988","v":0},{"$f":"'INVENT.Ma Informatiq Importé-10'!F988","v":0},{"$f":"'INVENT.Ma Informatiq Importé-10'!C988","v":0},{"$f":"'INVENT.Ma Informatiq Importé-10'!H988","v":0},null,0,0,0,0,0,0,null,null,0,0,0,0]
[983,{"$f":"'INVENT.Ma Informatiq Importé-10'!B989","v":0},{"$f":"'INVENT.Ma Informatiq Importé-10'!F989","v":0},{"$f":"'INVENT.Ma Informatiq Importé-10'!C989","v":0},{"$f":"'INVENT.Ma Informatiq Importé-10'!H989","v":0},null,0,0,0,0,0,0,null,null,0,0,0,0]
[984,{"$f":"'INVENT.Ma Informatiq Importé-10'!B990","v":0},{"$f":"'INVENT.Ma Informatiq Importé-10'!F990","v":0},{"$f":"'INVENT.Ma Informatiq Importé-10'!C990","v":0},{"$f":"'INVENT.Ma Informatiq Importé-10'!H990","v":0},null,0,0,0,0,0,0,null,null,0,0,0,0]
[985,{"$f":"'INVENT.Ma Informatiq Importé-10'!B991","v":0},{"$f":"'INVENT.Ma Informatiq Importé-10'!F991","v":0},{"$f":"'INVENT.Ma Informatiq Importé-10'!C991","v":0},{"$f":"'INVENT.Ma Informatiq Importé-10'!H991","v":0},null,0,0,0,0,0,0,null,null,0,0,0,0]
[986,{"$f":"'INVENT.Ma Informatiq Importé-10'!B992","v":0},{"$f":"'INVENT.Ma Informatiq Importé-10'!F992","v":0},{"$f":"'INVENT.Ma Informatiq Importé-10'!C992","v":0},{"$f":"'INVENT.Ma Informatiq Importé-10'!H992","v":0},null,0,0,0,0,0,0,null,null,0,0,0,0]
[987,{"$f":"'INVENT.Ma Informatiq Importé-10'!B993","v":0},{"$f":"'INVENT.Ma Informatiq Importé-10'!F993","v":0},{"$f":"'INVENT.Ma Informatiq Importé-10'!C993","v":0},{"$f":"'INVENT.Ma Informatiq Importé-10'!H993","v":0},null,0,0,0,0,0,0,null,null,0,0,0,0]
[988,{"$f":"'INVENT.Ma Informatiq Importé-10'!B994","v":0},{"$f":"'INVENT.Ma Informatiq Importé-10'!F994","v":0},{"$f":"'INVENT.Ma Informatiq Importé-10'!C994","v":0},{"$f":"'INVENT.Ma Informatiq Importé-10'!H994","v":0},null,0,0,0,0,0,0,null,null,0,0,0,0]
[989,{"$f":"'INVENT.Ma Informatiq Importé-10'!B995","v":0},{"$f":"'INVENT.Ma Informatiq Importé-10'!F995","v":0},{"$f":"'INVENT.Ma Informatiq Importé-10'!C995","v":0},{"$f":"'INVENT.Ma Informatiq Importé-10'!H995","v":0},null,0,0,0,0,0,0,null,null,0,0,0,0]
[990,{"$f":"'INVENT.Ma Informatiq Importé-10'!B996","v":0},{"$f":"'INVENT.Ma Informatiq Importé-10'!F996","v":0},{"$f":"'INVENT.Ma Informatiq Importé-10'!C996","v":0},{"$f":"'INVENT.Ma Informatiq Importé-10'!H996","v":0},null,0,0,0,0,0,0,null,null,0,0,0,0]
[991,{"$f":"'INVENT.Ma Informatiq Importé-10'!B997","v":0},{"$f":"'INVENT.Ma Informatiq Importé-10'!F997","v":0},{"$f":"'INVENT.Ma Informatiq Importé-10'!C997","v":0},{"$f":"'INVENT.Ma Informatiq Importé-10'!H997","v":0},null,0,0,0,0,0,0,null,null,0,0,0,0]
[992,{"$f":"'INVENT.Ma Informatiq Importé-10'!B998","v":0},{"$f":"'INVENT.Ma Informatiq Importé-10'!F998","v":0},{"$f":"'INVENT.Ma Informatiq Importé-10'!C998","v":0},{"$f":"'INVENT.Ma Informatiq Importé-10'!H998","v":0},null,0,0,0,0,0,0,null,null,0,0,0,0]
[993,{"$f":"'INVENT.Ma Informatiq Importé-10'!B999","v":0},{"$f":"'INVENT.Ma Informatiq Importé-10'!F999","v":0},{"$f":"'INVENT.Ma Informatiq Importé-10'!C999","v":0},{"$f":"'INVENT.Ma Informatiq Importé-10'!H999","v":0},null,0,0,0,0,0,0,null,null,0,0,0,0]
[994,{"$f":"'INVENT.Ma Informatiq Importé-10'!B1000","v":0},{"$f":"'INVENT.Ma Informatiq Importé-10'!F1000","v":0},{"$f":"'INVENT.Ma Informatiq Importé-10'!C1000","v":0},{"$f":"'INVENT.Ma Informatiq Importé-10'!H1000","v":0},null,0,0,0,0,0,0,null,null,0,0,0,0]
[995,{"$f":"'INVENT.Ma Informatiq Importé-10'!B1001","v":0},{"$f":"'INVENT.Ma Informatiq Importé-10'!F1001","v":0},{"$f":"'INVENT.Ma Informatiq Importé-10'!C1001","v":0},{"$f":"'INVENT.Ma Informatiq Importé-10'!H1001","v":0},null,0,0,0,0,0,0,null,null,0,0,0,0]
[996,{"$f":"'INVENT.Ma Informatiq Importé-10'!B1002","v":0},{"$f":"'INVENT.Ma Informatiq Importé-10'!F1002","v":0},{"$f":"'INVENT.Ma Informatiq Importé-10'!C1002","v":0},{"$f":"'INVENT.Ma Informatiq Importé-10'!H1002","v":0},null,0,0,0,0,0,0,null,null,0,0,0,0]
[997,{"$f":"'INVENT.Ma Informatiq Importé-10'!B1003","v":0},{"$f":"'INVENT.Ma Informatiq Importé-10'!F1003","v":0},{"$f":"'INVENT.Ma Informatiq Importé-10'!C1003","v":0},{"$f":"'INVENT.Ma Informatiq Importé-10'!H1003","v":0},null,0,0,0,0,0,0,null,null,0,0,0,0]
[998,{"$f":"'INVENT.Ma Informatiq Importé-10'!B1004","v":0},{"$f":"'INVENT.Ma Informatiq Importé-10'!F1004","v":0},{"$f":"'INVENT.Ma Informatiq Importé-10'!C1004","v":0},{"$f":"'INVENT.Ma Informatiq Importé-10'!H1004","v":0},null,0,0,0,0,0,0,null,null,0,0,0,0]
[999,{"$f":"'INVENT.Ma Informatiq Importé-10'!B1005","v":0},{"$f":"'INVENT.Ma Informatiq Importé-10'!F1005","v":0},{"$f":"'INVENT.Ma Informatiq Importé-10'!C1005","v":0},{"$f":"'INVENT.Ma Informatiq Importé-10'!H1005","v":0},null,0,0,0,0,0,0,null,null,0,0,0,0]
[1000,{"$f":"'INVENT.Ma Informatiq Importé-10'!B1006","v":0},{"$f":"'INVENT.Ma Informatiq Importé-10'!F1006","v":0},{"$f":"'INVENT.Ma Informatiq Importé-10'!C1006","v":0},{"$f":"'INVENT.Ma Informatiq Importé-10'!H1006","v":0},null,0,0,0,0,0,0,null,null,0,0,0,0]

{"sheet":"SYNTHÈSE INVESTISSEMENTS - 10","index":37,"n_rows":32,"n_cols":16,"rows_kept":32,"cut":false,"hidden":false,"merged":[[4,1,5,1],[4,13,5,13],[4,2,4,8],[4,9,4,12],[4,15,5,15]]}
[null,null,{"$f":"'REFERENCES - 10'!D7","v":0},null,{"$f":"'REFERENCES - 10'!D9","v":0}]
[null,"SYNTHESE DES INVESTISSEMENTS PREVUS SUR LA PERIODE DE REALISATION DU PROJET"]
[null,null,null,null,null,null,null,null,null,null,null,null,null,"(En F. Cfa)"]
[]
[null,"DESIGNATION","ACHAT A L'ETRANGER (en F. Cfa)",null,null,null,null,null,null,"ACHAT EN COTE D'IVOIRE (en F. Cfa)",null,null,null,"Coût total TTC",null,"Coût total HTVA"]
[null,null,"Coût CAF","Droit de douane","RSTAT (1%)","PCS \n(1%)"," PCC\n (0,5%)","TVA sur Droit de Douane","Total Achat à l'étranger","Coût d'achat Hors Taxe "," Coûts locaux (Transport, montage,..)","T.V.A ","Total Achat en RCI"]
[]
[null,"Immobilisations Incorporelles"]
[null,"Frais d'établissement",{"$f":"'INVEST Frais d''établissment -10'!$D$7","v":0},{"$f":"'INVEST Frais d''établissment -10'!$F$7","v":0},{"$f":"'INVEST Frais d''établissment -10'!G7","v":0},{"$f":"'INVEST Frais d''établissment -10'!H7","v":0},{"$f":"'INVEST Frais d''établissment -10'!I7","v":0},{"$f":"'INVEST Frais d''établissment -10'!J7","v":0},{"$f":"'INVEST Frais d''établissment -10'!K7","v":0},{"$f":"'INVEST Frais d''établissment -10'!$L$7","v":0},{"$f":"'INVEST Frais d''établissment -10'!$M$7","v":0},{"$f":"'INVEST Frais d''établissment -10'!$N$7","v":0},{"$f":"'INVEST Frais d''établissment -10'!O7","v":0},{"$f":"'INVEST Frais d''établissment -10'!Q7","v":0},null,{"$f":"N9-L9-H9","v":0}]
[null,"Logiciel",{"$f":"'INVEST Logiciels - 10'!$E$7","v":0},{"$f":"'INVEST Logiciels - 10'!$G$7","v":0},{"$f":"'INVEST Logiciels - 10'!H7","v":0},{"$f":"'INVEST Logiciels - 10'!I7","v":0},{"$f":"'INVEST Logiciels - 10'!J7","v":0},{"$f":"'INVEST Logiciels - 10'!K7","v":0},{"$f":"'INVEST Logiciels - 10'!L7","v":0},{"$f":"'INVEST Logiciels - 10'!$M$7","v":0},{"$f":"'INVEST Logiciels - 10'!$N$7","v":0},{"$f":"'INVEST Logiciels - 10'!$O$7","v":0},{"$f":"'INVEST Logiciels - 10'!P7","v":0},{"$f":"'INVEST Logiciels - 10'!R7","v":0},null,{"$f":"N10-L10-H10","v":0}]
[null,"Autres Immobilisations Incorporelles",{"$f":"'INVEST.Autres Immo Incorpo - 10'!$E$7","v":0},{"$f":"'INVEST.Autres Immo Incorpo - 10'!$G$7","v":0},{"$f":"'INVEST.Autres Immo Incorpo - 10'!H7","v":0},{"$f":"'INVEST.Autres Immo Incorpo - 10'!I7","v":0},{"$f":"'INVEST.Autres Immo Incorpo - 10'!J7","v":0},{"$f":"'INVEST.Autres Immo Incorpo - 10'!K7","v":0},{"$f":"'INVEST.Autres Immo Incorpo - 10'!L7","v":0},{"$f":"'INVEST.Autres Immo Incorpo - 10'!$M$7","v":0},{"$f":"'INVEST.Autres Immo Incorpo - 10'!$N$7","v":0},{"$f":"'INVEST.Autres Immo Incorpo - 10'!$O$7","v":0},{"$f":"'INVEST.Autres Immo Incorpo - 10'!P7","v":0},{"$f":"'INVEST.Autres Immo Incorpo - 10'!R7","v":0},null,{"$f":"N11-L11-H11","v":0}]
[null,"Total Immobilisations Incorporelles",{"$f":"SUM(C9:C11)","v":0},0,0,0,0,0,0,0,0,0,0,0,null,0]
[]
[null,"Immobilisations Corporelles"]
[null,"Terrains",{"$f":"'INVEST Terrains - 10'!$D$7","v":0},{"$f":"'INVEST Terrains - 10'!$F$7","v":0},{"$f":"'INVEST Terrains - 10'!G8","v":0},{"$f":"'INVEST Terrains - 10'!H8","v":0},{"$f":"'INVEST Terrains - 10'!I8","v":0},{"$f":"'INVEST Terrains - 10'!J7","v":0},{"$f":"'INVEST Terrains - 10'!K7","v":0},{"$f":"'INVEST Terrains - 10'!$L$7","v":0},{"$f":"'INVEST Terrains - 10'!$M$7","v":0},{"$f":"'INVEST Terrains - 10'!$N$7","v":0},{"$f":"'INVEST Terrains - 10'!O7","v":0},{"$f":"'INVEST Terrains - 10'!Q7","v":0},null,{"$f":"N15-L15-H15","v":0}]
[null,"Constructions & Bâtiments",{"$f":"'INVEST.Constructions & Bât - 10'!$E$7","v":0},{"$f":"'INVEST.Constructions & Bât - 10'!$G$7","v":0},{"$f":"'INVEST.Constructions & Bât - 10'!$H$7","v":0},{"$f":"'INVEST.Constructions & Bât - 10'!$I$7","v":0},{"$f":"'INVEST.Constructions & Bât - 10'!$J$7","v":0},{"$f":"'INVEST.Constructions & Bât - 10'!K7","v":0},{"$f":"'INVEST.Constructions & Bât - 10'!L7","v":0},{"$f":"'INVEST.Constructions & Bât - 10'!$M$7","v":0},{"$f":"'INVEST.Constructions & Bât - 10'!$N$7","v":0},{"$f":"'INVEST.Constructions & Bât - 10'!$O$7","v":0},{"$f":"'INVEST.Constructions & Bât - 10'!P7","v":0},{"$f":"'INVEST.Constructions & Bât - 10'!R7","v":0},null,0]
[null,"Installations, Agencements & Aménagements",{"$f":"'INVEST - Installations & Agenc'!$E$7","v":0},{"$f":"'INVEST - Installations & Agenc'!$G$7","v":0},{"$f":"'INVEST - Installations & Agenc'!$H$7","v":0},{"$f":"'INVEST - Installations & Agenc'!$I$7","v":0},{"$f":"'INVEST - Installations & Agenc'!$J$7","v":0},{"$f":"'INVEST - Installations & Agenc'!K7","v":0},{"$f":"'INVEST - Installations & Agenc'!L7","v":0},{"$f":"'INVEST - Installations & Agenc'!$M$7","v":0},{"$f":"'INVEST - Installations & Agenc'!$N$7","v":0},{"$f":"'INVEST - Installations & Agenc'!$O$7","v":0},{"$f":"'INVEST - Installations & Agenc'!P7","v":0},{"$f":"'INVEST - Installations & Agenc'!R7","v":0},null,0]
[null,"Matériels & Outillages",{"$f":"'INVEST.Mat & Outillages - 10'!$E$7","v":0},{"$f":"'INVEST.Mat & Outillages - 10'!$G$7","v":0},{"$f":"'INVEST.Mat & Outillages - 10'!$H$7","v":0},{"$f":"'INVEST.Mat & Outillages - 10'!$I$7","v":0},{"$f":"'INVEST.Mat & Outillages - 10'!$J$7","v":0},{"$f":"'INVEST.Mat & Outillages - 10'!K7","v":0},{"$f":"'INVEST.Mat & Outillages - 10'!L7","v":0},{"$f":"'INVEST.Mat & Outillages - 10'!$M$7","v":0},{"$f":"'INVEST.Mat & Outillages - 10'!$N$7","v":0},{"$f":"'INVEST.Mat & Outillages - 10'!$O$7","v":0},{"$f":"'INVEST.Mat & Outillages - 10'!P7","v":0},{"$f":"'INVEST.Mat & Outillages - 10'!R7","v":0},null,0]
[null,"Matériels de Transport",{"$f":"'INVEST.Matériels Transport - 10'!$E$7","v":0},{"$f":"'INVEST.Matériels Transport - 10'!$G$7","v":0},{"$f":"'INVEST.Matériels Transport - 10'!$H$7","v":0},{"$f":"'INVEST.Matériels Transport - 10'!$I$7","v":0},{"$f":"'INVEST.Matériels Transport - 10'!$J$7","v":0},{"$f":"'INVEST.Matériels Transport - 10'!K7","v":0},{"$f":"'INVEST.Matériels Transport - 10'!L7","v":0},{"$f":"'INVEST.Matériels Transport - 10'!$M$7","v":0},{"$f":"'INVEST.Matériels Transport - 10'!$N$7","v":0},{"$f":"'INVEST.Matériels Transport - 10'!$O$7","v":0},{"$f":"'INVEST.Matériels Transport - 10'!P7","v":0},{"$f":"'INVEST.Matériels Transport - 10'!R7","v":0},null,0]
[null,"Mobiliers & Matériels de Bureau",{"$f":"'INVEST Mat & Mob Bureau - 10'!$E$7","v":0},{"$f":"'INVEST Mat & Mob Bureau - 10'!$G$7","v":0},{"$f":"'INVEST Mat & Mob Bureau - 10'!$H$7","v":0},{"$f":"'INVEST Mat & Mob Bureau - 10'!$I$7","v":0},{"$f":"'INVEST Mat & Mob Bureau - 10'!$J$7","v":0},{"$f":"'INVEST Mat & Mob Bureau - 10'!K7","v":0},{"$f":"'INVEST Mat & Mob Bureau - 10'!L7","v":0},{"$f":"'INVEST Mat & Mob Bureau - 10'!$M$7","v":0},{"$f":"'INVEST Mat & Mob Bureau - 10'!$N$7","v":0},{"$f":"'INVEST Mat & Mob Bureau - 10'!$O$7","v":0},{"$f":"'INVEST Mat & Mob Bureau - 10'!P7","v":0},{"$f":"'INVEST Mat & Mob Bureau - 10'!R7","v":0},null,0]
[null,"Matériels Informatiques",{"$f":"'INVEST Mat Informatiques - 10'!$E$7","v":0},{"$f":"'INVEST Mat Informatiques - 10'!$G$7","v":0},{"$f":"'INVEST Mat Informatiques - 10'!$H$7","v":0},{"$f":"'INVEST Mat Informatiques - 10'!$I$7","v":0},{"$f":"'INVEST Mat Informatiques - 10'!$J$7","v":0},{"$f":"'INVEST Mat Informatiques - 10'!K7","v":0},{"$f":"'INVEST Mat Informatiques - 10'!L7","v":0},{"$f":"'INVEST Mat Informatiques - 10'!$M$7","v":0},{"$f":"'INVEST Mat Informatiques - 10'!$N$7","v":0},{"$f":"'INVEST Mat Informatiques - 10'!$O$7","v":0},{"$f":"'INVEST Mat Informatiques - 10'!P7","v":0},{"$f":"'INVEST Mat Informatiques - 10'!R7","v":0},null,0]
[null,"Total Immobilisations corporelles",{"$f":"SUM(C15:C21)","v":0},0,0,0,0,0,0,0,0,0,0,0,null,0]
[null,"TOTAL",{"$f":"C12+C22","v":0},{"$f":"D22+D12","v":0},{"$f":"E12+E22","v":0},{"$f":"F12+F22","v":0},{"$f":"G12+G22","v":0},{"$f":"H12+H22","v":0},{"$f":"I12+I22","v":0},{"$f":"J22+J12","v":0},{"$f":"K22+K12","v":0},{"$f":"L22+L12","v":0},{"$f":"M12+M22","v":0},{"$f":"N12+N22","v":0},null,0]
[]
[null,"Montant Hors TVA",null,null,null,null,null,null,null,null,null,null,null,{"$f":"N23-L23-H23","v":0}]
[]
[null,"Besoins en Fonds de Roulement"]
[null,"(1) La désignation correspond au nom commercial (nom usuel)"]
[null,"(2) Le droit de douane (DD) = CAF x droit d'entrée à l'importation"]
[null,"(3) PCS (1%) RSTAT (1%) PCC (0,5%) = CAF x 2,5%"]
[null,"(4) TVA sur les achats à l'étranger = (CAF+DD+RSTAT) x 18% TVA sur les achats locaux = Achats en Côte d'Ivoire x 18%"]
[null,"(5) Coût total (CT) = CAF+DD+PCS RSTAT PCC+Achats en Côte d'Ivoire+Autres coûts locaux+TVA"]

{"sheet":"PLANNING DES INVEST - 10","index":38,"n_rows":27,"n_cols":11,"rows_kept":27,"cut":false,"hidden":false,"merged":[[2,2,2,7],[4,0,5,0],[4,1,4,8],[4,9,5,9],[4,10,5,10]]}
[null,{"$f":"'REFERENCES - 10'!D7","v":0},null,{"$f":"'REFERENCES - 10'!D9","v":0}]
[]
[null,null,"PLANNING DES INVESTISSEMENTS"]
[]
["Investissement (HT)","TRIMESTRES (T)",null,null,null,null,null,null,null,"Montant selon\n le tableau de planning","Montant\n plannifié"]
[null,"T1","T2","T3","T4","T5","T6","T7","T8"]
["INVEST Frais d'établissment ",null,null,null,null,null,null,null,null,{"$f":"'SYNTHÈSE INVESTISSEMENTS - 10'!P9","v":0},{"$f":"SUM(B7:I7)","v":0}]
[]
["INVEST Logiciels",null,null,null,null,null,null,null,null,{"$f":"'SYNTHÈSE INVESTISSEMENTS - 10'!P10","v":0},{"$f":"SUM(B9:I9)","v":0}]
[]
["INVEST.Autres Immo Incorpo",null,null,null,null,null,null,null,null,{"$f":"'SYNTHÈSE INVESTISSEMENTS - 10'!P11","v":0},0]
[]
["INVEST Terrains",null,null,null,null,null,null,null,null,{"$f":"'SYNTHÈSE INVESTISSEMENTS - 10'!P15","v":0},0]
[]
["INVEST.Constructions & Bât",null,null,null,null,null,null,null,null,{"$f":"'SYNTHÈSE INVESTISSEMENTS - 10'!P16","v":0},0]
[]
["INVEST - Installations & Agenc",null,null,null,null,null,null,null,null,{"$f":"'SYNTHÈSE INVESTISSEMENTS - 10'!P17","v":0},0]
[]
["INVEST.Mat & Outillages",null,null,null,null,null,null,null,null,{"$f":"'SYNTHÈSE INVESTISSEMENTS - 10'!P18","v":0},0]
[]
["INVEST.Matériels Transport",null,null,null,null,null,null,null,null,{"$f":"'SYNTHÈSE INVESTISSEMENTS - 10'!P19","v":0},0]
[]
["INVEST Mat & Mob Bureau",null,null,null,null,null,null,null,null,{"$f":"'SYNTHÈSE INVESTISSEMENTS - 10'!P20","v":0},0]
[]
["INVEST Mat Informatiques",null,null,null,null,null,null,null,null,{"$f":"'SYNTHÈSE INVESTISSEMENTS - 10'!P21","v":0},0]
[]
["TOTAL",{"$f":"SUM(B7,B9,B11,B13,B15,B17,B19,B21,B23,B25)","v":0},{"$f":"SUM(C7,C9,C11,C13,C15,C17,C19,C21,C23,C25)","v":0},0,0,0,0,0,0,{"$f":"SUM(J7,J9,J11,J13,J15,J17,J19,J21,J23,J25)","v":0},0]

{"sheet":"SYNTHÈSE des AMORTISSEMENTS -10","index":39,"n_rows":30,"n_cols":14,"rows_kept":30,"cut":false,"hidden":false,"merged":[[2,1,3,1],[2,2,3,2],[29,1,29,2],[28,1,28,2]]}
[null,null,{"$f":"'REFERENCES - 10'!D7","v":0},null," ",null,null,null,null,null,null,{"$f":"C1","v":0},null,{"$f":"E1","v":" "}]
[null,null,null,null,null,"(En Milliers F. Cfa)",null,null,null,null,null,null,"(En Milliers F. Cfa)"]
[null,"IMMOBILISATIONS","VALEUR D'ORIGINE","DOTATIONS AUX AMORTISSEMENTS"]
[null,null,null,"AN 1","ANNEE 2","ANNEE 3","ANNEE 4","ANNEE 5*","ANNEE 6","ANNEE 7","ANNEE 8","ANNEE 9","ANNEE 10"]
[null,null,null,1,2,3,4,5,6,7,8,9,10]
[null,"Immobilisations Incorporelles"]
[null,"Frais d'établissement",{"$f":"'INVEST Frais d''établissment -10'!P7/1000","v":0},{"$f":"IF(D5<='REFERENCES - 10'!$D$26,'SYNTHÈSE des AMORTISSEMENTS -10'!$C$7/'REFERENCES - 10'!$D$26,0)","v":0},{"$f":"IF(E5<='REFERENCES - 10'!$D$26,'SYNTHÈSE des AMORTISSEMENTS -10'!$C$7/'REFERENCES - 10'!$D$26,0)","v":0},{"$f":"IF(F5<='REFERENCES - 10'!$D$26,'SYNTHÈSE des AMORTISSEMENTS -10'!$C$7/'REFERENCES - 10'!$D$26,0)","v":0},{"$f":"IF(G5<='REFERENCES - 10'!$D$26,'SYNTHÈSE des AMORTISSEMENTS -10'!$C$7/'REFERENCES - 10'!$D$26,0)","v":0},{"$f":"IF(H5<='REFERENCES - 10'!$D$26,'SYNTHÈSE des AMORTISSEMENTS -10'!$C$7/'REFERENCES - 10'!$D$26,0)","v":0},{"$f":"IF(I5<='REFERENCES - 10'!$D$26,'SYNTHÈSE des AMORTISSEMENTS -10'!$C$7/'REFERENCES - 10'!$D$26,0)","v":0},{"$f":"IF(J5<='REFERENCES - 10'!$D$26,'SYNTHÈSE des AMORTISSEMENTS -10'!$C$7/'REFERENCES - 10'!$D$26,0)","v":0},{"$f":"IF(K5<='REFERENCES - 10'!$D$26,'SYNTHÈSE des AMORTISSEMENTS -10'!$C$7/'REFERENCES - 10'!$D$26,0)","v":0},{"$f":"IF(L5<='REFERENCES - 10'!$D$26,'SYNTHÈSE des AMORTISSEMENTS -10'!$C$7/'REFERENCES - 10'!$D$26,0)","v":0},{"$f":"IF(M5<='REFERENCES - 10'!$D$26,'SYNTHÈSE des AMORTISSEMENTS -10'!$C$7/'REFERENCES - 10'!$D$26,0)","v":0}]
[null,"Logiciel",{"$f":"'INVEST Logiciels - 10'!Q7/1000","v":0},{"$f":"IF(D5<='REFERENCES - 10'!$D$27,'SYNTHÈSE des AMORTISSEMENTS -10'!$C$8/'REFERENCES - 10'!$D$27,0)","v":0},{"$f":"IF(E5<='REFERENCES - 10'!$D$27,'SYNTHÈSE des AMORTISSEMENTS -10'!$C$8/'REFERENCES - 10'!$D$27,0)","v":0},{"$f":"IF(F5<='REFERENCES - 10'!$D$27,'SYNTHÈSE des AMORTISSEMENTS -10'!$C$8/'REFERENCES - 10'!$D$27,0)","v":0},{"$f":"IF(G5<='REFERENCES - 10'!$D$27,'SYNTHÈSE des AMORTISSEMENTS -10'!$C$8/'REFERENCES - 10'!$D$27,0)","v":0},{"$f":"IF(H5<='REFERENCES - 10'!$D$27,'SYNTHÈSE des AMORTISSEMENTS -10'!$C$8/'REFERENCES - 10'!$D$27,0)","v":0},{"$f":"IF(I5<='REFERENCES - 10'!$D$27,'SYNTHÈSE des AMORTISSEMENTS -10'!$C$8/'REFERENCES - 10'!$D$27,0)","v":0},{"$f":"IF(J5<='REFERENCES - 10'!$D$27,'SYNTHÈSE des AMORTISSEMENTS -10'!$C$8/'REFERENCES - 10'!$D$27,0)","v":0},{"$f":"IF(K5<='REFERENCES - 10'!$D$27,'SYNTHÈSE des AMORTISSEMENTS -10'!$C$8/'REFERENCES - 10'!$D$27,0)","v":0},{"$f":"IF(L5<='REFERENCES - 10'!$D$27,'SYNTHÈSE des AMORTISSEMENTS -10'!$C$8/'REFERENCES - 10'!$D$27,0)","v":0},{"$f":"IF(M5<='REFERENCES - 10'!$D$27,'SYNTHÈSE des AMORTISSEMENTS -10'!$C$8/'REFERENCES - 10'!$D$27,0)","v":0}]
[null,"Autres Immobilisations Incorporelles",{"$f":"'INVEST.Autres Immo Incorpo - 10'!Q7/1000","v":0},{"$f":"IF(D5<='REFERENCES - 10'!$D$28,'SYNTHÈSE des AMORTISSEMENTS -10'!$C$9/'REFERENCES - 10'!$D$28,0)","v":0},{"$f":"IF(E5<='REFERENCES - 10'!$D$28,'SYNTHÈSE des AMORTISSEMENTS -10'!$C$9/'REFERENCES - 10'!$D$28,0)","v":0},{"$f":"IF(F5<='REFERENCES - 10'!$D$28,'SYNTHÈSE des AMORTISSEMENTS -10'!$C$9/'REFERENCES - 10'!$D$28,0)","v":0},{"$f":"IF(G5<='REFERENCES - 10'!$D$28,'SYNTHÈSE des AMORTISSEMENTS -10'!$C$9/'REFERENCES - 10'!$D$28,0)","v":0},{"$f":"IF(H5<='REFERENCES - 10'!$D$28,'SYNTHÈSE des AMORTISSEMENTS -10'!$C$9/'REFERENCES - 10'!$D$28,0)","v":0},{"$f":"IF(I5<='REFERENCES - 10'!$D$28,'SYNTHÈSE des AMORTISSEMENTS -10'!$C$9/'REFERENCES - 10'!$D$28,0)","v":0},{"$f":"IF(J5<='REFERENCES - 10'!$D$28,'SYNTHÈSE des AMORTISSEMENTS -10'!$C$9/'REFERENCES - 10'!$D$28,0)","v":0},{"$f":"IF(K5<='REFERENCES - 10'!$D$28,'SYNTHÈSE des AMORTISSEMENTS -10'!$C$9/'REFERENCES - 10'!$D$28,0)","v":0},{"$f":"IF(L5<='REFERENCES - 10'!$D$28,'SYNTHÈSE des AMORTISSEMENTS -10'!$C$9/'REFERENCES - 10'!$D$28,0)","v":0},{"$f":"IF(M5<='REFERENCES - 10'!$D$28,'SYNTHÈSE des AMORTISSEMENTS -10'!$C$9/'REFERENCES - 10'!$D$28,0)","v":0}]
[null,"Total Immobilisations Incorporelles",{"$f":"SUM(C7:C9)","v":0},{"$f":"SUM(D7:D9)","v":0},0,0,0,0,0,0,0,{"$f":"SUM(L7:L9)","v":0},0]
[]
[null,"Immobilisations Corporelles"]
[null,"Terrains",{"$f":"'INVEST Terrains - 10'!P7/1000","v":0},{"$f":"IF(D5<='REFERENCES - 10'!$D$29,$C$13/'REFERENCES - 10'!$D$29,0)","v":0},{"$f":"IF(E5<='REFERENCES - 10'!$D$29,$C$13/'REFERENCES - 10'!$D$29,0)","v":0},{"$f":"IF(F5<='REFERENCES - 10'!$D$29,$C$13/'REFERENCES - 10'!$D$29,0)","v":0},{"$f":"IF(G5<='REFERENCES - 10'!$D$29,$C$13/'REFERENCES - 10'!$D$29,0)","v":0},{"$f":"IF(H5<='REFERENCES - 10'!$D$29,$C$13/'REFERENCES - 10'!$D$29,0)","v":0},{"$f":"IF(I5<='REFERENCES - 10'!$D$29,$C$13/'REFERENCES - 10'!$D$29,0)","v":0},{"$f":"IF(J5<='REFERENCES - 10'!$D$29,$C$13/'REFERENCES - 10'!$D$29,0)","v":0},{"$f":"IF(K5<='REFERENCES - 10'!$D$29,$C$13/'REFERENCES - 10'!$D$29,0)","v":0},{"$f":"IF(L5<='REFERENCES - 10'!$D$29,$C$13/'REFERENCES - 10'!$D$29,0)","v":0},{"$f":"IF(M5<='REFERENCES - 10'!$D$29,$C$13/'REFERENCES - 10'!$D$29,0)","v":0}]
[null,"Constructions & Bâtiments",{"$f":"'INVEST.Constructions & Bât - 10'!Q7/1000","v":0},{"$f":"IF(D5<='REFERENCES - 10'!$D$30,$C$14/'REFERENCES - 10'!$D$30,0)","v":0},{"$f":"IF(E5<='REFERENCES - 10'!$D$30,$C$14/'REFERENCES - 10'!$D$30,0)","v":0},{"$f":"IF(F5<='REFERENCES - 10'!$D$30,$C$14/'REFERENCES - 10'!$D$30,0)","v":0},{"$f":"IF(G5<='REFERENCES - 10'!$D$30,$C$14/'REFERENCES - 10'!$D$30,0)","v":0},{"$f":"IF(H5<='REFERENCES - 10'!$D$30,$C$14/'REFERENCES - 10'!$D$30,0)","v":0},{"$f":"IF(I5<='REFERENCES - 10'!$D$30,$C$14/'REFERENCES - 10'!$D$30,0)","v":0},{"$f":"IF(J5<='REFERENCES - 10'!$D$30,$C$14/'REFERENCES - 10'!$D$30,0)","v":0},{"$f":"IF(K5<='REFERENCES - 10'!$D$30,$C$14/'REFERENCES - 10'!$D$30,0)","v":0},{"$f":"IF(L5<='REFERENCES - 10'!$D$30,$C$14/'REFERENCES - 10'!$D$30,0)","v":0},{"$f":"IF(M5<='REFERENCES - 10'!$D$30,$C$14/'REFERENCES - 10'!$D$30,0)","v":0}]
[null,"Installations, Agencements & Aménagements",{"$f":"'INVEST - Installations & Agenc'!Q7/1000","v":0},{"$f":"IF(D5<='REFERENCES - 10'!$D$31,$C$15/'REFERENCES - 10'!$D$31,0)","v":0},{"$f":"IF(E5<='REFERENCES - 10'!$D$31,$C$15/'REFERENCES - 10'!$D$31,0)","v":0},{"$f":"IF(F5<='REFERENCES - 10'!$D$31,$C$15/'REFERENCES - 10'!$D$31,0)","v":0},{"$f":"IF(G5<='REFERENCES - 10'!$D$31,$C$15/'REFERENCES - 10'!$D$31,0)","v":0},{"$f":"IF(H5<='REFERENCES - 10'!$D$31,$C$15/'REFERENCES - 10'!$D$31,0)","v":0},{"$f":"IF(I5<='REFERENCES - 10'!$D$31,$C$15/'REFERENCES - 10'!$D$31,0)","v":0},{"$f":"IF(J5<='REFERENCES - 10'!$D$31,$C$15/'REFERENCES - 10'!$D$31,0)","v":0},{"$f":"IF(K5<='REFERENCES - 10'!$D$31,$C$15/'REFERENCES - 10'!$D$31,0)","v":0},{"$f":"IF(L5<='REFERENCES - 10'!$D$31,$C$15/'REFERENCES - 10'!$D$31,0)","v":0},{"$f":"IF(M5<='REFERENCES - 10'!$D$31,$C$15/'REFERENCES - 10'!$D$31,0)","v":0}]
[null,"Matériels & Outillages",{"$f":"'INVEST.Mat & Outillages - 10'!Q7/1000","v":0},{"$f":"IF(D5<='REFERENCES - 10'!$D$32,$C$16/'REFERENCES - 10'!$D$32,0)","v":0},{"$f":"IF(E5<='REFERENCES - 10'!$D$32,$C$16/'REFERENCES - 10'!$D$32,0)","v":0},{"$f":"IF(F5<='REFERENCES - 10'!$D$32,$C$16/'REFERENCES - 10'!$D$32,0)","v":0},{"$f":"IF(G5<='REFERENCES - 10'!$D$32,$C$16/'REFERENCES - 10'!$D$32,0)","v":0},{"$f":"IF(H5<='REFERENCES - 10'!$D$32,$C$16/'REFERENCES - 10'!$D$32,0)","v":0},{"$f":"IF(I5<='REFERENCES - 10'!$D$32,$C$16/'REFERENCES - 10'!$D$32,0)","v":0},{"$f":"IF(J5<='REFERENCES - 10'!$D$32,$C$16/'REFERENCES - 10'!$D$32,0)","v":0},{"$f":"IF(K5<='REFERENCES - 10'!$D$32,$C$16/'REFERENCES - 10'!$D$32,0)","v":0},{"$f":"IF(L5<='REFERENCES - 10'!$D$32,$C$16/'REFERENCES - 10'!$D$32,0)","v":0},{"$f":"IF(M5<='REFERENCES - 10'!$D$32,$C$16/'REFERENCES - 10'!$D$32,0)","v":0}]
[null,"Matériels de Transport",{"$f":"'INVEST.Matériels Transport - 10'!Q7/1000","v":0},{"$f":"IF(D5<='REFERENCES - 10'!$D$33,$C$17/'REFERENCES - 10'!$D$33,0)","v":0},{"$f":"IF(E5<='REFERENCES - 10'!$D$33,$C$17/'REFERENCES - 10'!$D$33,0)","v":0},{"$f":"IF(F5<='REFERENCES - 10'!$D$33,$C$17/'REFERENCES - 10'!$D$33,0)","v":0},{"$f":"IF(G5<='REFERENCES - 10'!$D$33,$C$17/'REFERENCES - 10'!$D$33,0)","v":0},{"$f":"IF(H5<='REFERENCES - 10'!$D$33,$C$17/'REFERENCES - 10'!$D$33,0)","v":0},{"$f":"IF(I5<='REFERENCES - 10'!$D$33,$C$17/'REFERENCES - 10'!$D$33,0)","v":0},{"$f":"IF(J5<='REFERENCES - 10'!$D$33,$C$17/'REFERENCES - 10'!$D$33,0)","v":0},{"$f":"IF(K5<='REFERENCES - 10'!$D$33,$C$17/'REFERENCES - 10'!$D$33,0)","v":0},{"$f":"IF(L5<='REFERENCES - 10'!$D$33,$C$17/'REFERENCES - 10'!$D$33,0)","v":0},{"$f":"IF(M5<='REFERENCES - 10'!$D$33,$C$17/'REFERENCES - 10'!$D$33,0)","v":0}]
[null,"Mobiliers & Matériels de Bureau",{"$f":"'INVEST Mat & Mob Bureau - 10'!Q7/1000","v":0},{"$f":"IF(D5<='REFERENCES - 10'!$D$34,$C$18/'REFERENCES - 10'!$D$34,0)","v":0},{"$f":"IF(E5<='REFERENCES - 10'!$D$34,$C$18/'REFERENCES - 10'!$D$34,0)","v":0},{"$f":"IF(F5<='REFERENCES - 10'!$D$34,$C$18/'REFERENCES - 10'!$D$34,0)","v":0},{"$f":"IF(G5<='REFERENCES - 10'!$D$34,$C$18/'REFERENCES - 10'!$D$34,0)","v":0},{"$f":"IF(H5<='REFERENCES - 10'!$D$34,$C$18/'REFERENCES - 10'!$D$34,0)","v":0},{"$f":"IF(I5<='REFERENCES - 10'!$D$34,$C$18/'REFERENCES - 10'!$D$34,0)","v":0},{"$f":"IF(J5<='REFERENCES - 10'!$D$34,$C$18/'REFERENCES - 10'!$D$34,0)","v":0},{"$f":"IF(K5<='REFERENCES - 10'!$D$34,$C$18/'REFERENCES - 10'!$D$34,0)","v":0},{"$f":"IF(L5<='REFERENCES - 10'!$D$34,$C$18/'REFERENCES - 10'!$D$34,0)","v":0},{"$f":"IF(M5<='REFERENCES - 10'!$D$34,$C$18/'REFERENCES - 10'!$D$34,0)","v":0}]
[null,"Matériels Informatiques",{"$f":"'INVEST Mat Informatiques - 10'!Q7/1000","v":0},{"$f":"IF(D5<='REFERENCES - 10'!$D$35,$C$19/'REFERENCES - 10'!$D$35,0)","v":0},{"$f":"IF(E5<='REFERENCES - 10'!$D$35,$C$19/'REFERENCES - 10'!$D$35,0)","v":0},{"$f":"IF(F5<='REFERENCES - 10'!$D$35,$C$19/'REFERENCES - 10'!$D$35,0)","v":0},{"$f":"IF(G5<='REFERENCES - 10'!$D$35,$C$19/'REFERENCES - 10'!$D$35,0)","v":0},{"$f":"IF(H5<='REFERENCES - 10'!$D$35,$C$19/'REFERENCES - 10'!$D$35,0)","v":0},{"$f":"IF(I5<='REFERENCES - 10'!$D$35,$C$19/'REFERENCES - 10'!$D$35,0)","v":0},{"$f":"IF(J5<='REFERENCES - 10'!$D$35,$C$19/'REFERENCES - 10'!$D$35,0)","v":0},{"$f":"IF(K5<='REFERENCES - 10'!$D$35,$C$19/'REFERENCES - 10'!$D$35,0)","v":0},{"$f":"IF(L5<='REFERENCES - 10'!$D$35,$C$19/'REFERENCES - 10'!$D$35,0)","v":0},{"$f":"IF(M5<='REFERENCES - 10'!$D$35,$C$19/'REFERENCES - 10'!$D$35,0)","v":0}]
[null,"Total Immobilisations corporelles",{"$f":"SUM(C13:C19)","v":0},{"$f":"SUM(D13:D19)","v":0},0,0,0,0,0,0,0,{"$f":"SUM(L13:L19)","v":0},0]
[]
[null,"TOTAL sur INVESTISSEMENTS INITIAUX",{"$f":"C20+C10","v":0},{"$f":"D20+D10","v":0},0,0,0,0,0,0,0,{"$f":"L20+L10","v":0},0]
[]
[null,"Amort. sur Anciennes Immobilisations (1)"]
[null,"Amort. sur Investis. en période Exploitation (2)"]
[]
[null,"TOTAL AMORTISSEMENTS",null,{"$f":"D25+D24+D22","v":0},{"$f":"E25+E24+E22","v":0},0,0,0,0,0,0,0,0]
[]
[null,"(1) Cette rubrique concerne uniquement les Demandes d'Agrément à l'Investissement relatifs aux \"développements d'activité\". Elle est imputée des dotations aux amortissement des immobilisations existantes préalablement aux investissements projetés."]
[null,"(2) Les investissements en période d'Exploitation s'entendent les investissements effectués après la période d'investissement (i) soit en remplacement d'immobilisations, (ii) soit en augmentation de capacité de production, (iii) soit en amélioration des outils & infrastructures de production. "]

{"sheet":"IMPOT&DOUANE en ANNEE EXPLOI-10","index":40,"n_rows":46,"n_cols":13,"rows_kept":46,"cut":false,"hidden":false,"merged":[]}
[null,null,null,{"$f":"'REFERENCES - 10'!D7","v":0},null,{"$f":"'REFERENCES - 10'!D9","v":0},null,null,null,null,null,{"$f":"D1","v":0},{"$f":"F1","v":0}]
[null,null,"SYNTHESE DES IMPOTS & DROIT DE DOUANE GENERES PAR LE PROJET EN ANNEE D'EXPLOITATION  (1)"]
[null,null,null,null,null,null,"En F. Cfa",null,null,null,null,"En F. Cfa"]
[null,null,"AN 1","AN 2","AN 3","AN 4","AN 5","AN 6","AN 7","AN 8","AN 9","AN 10"]
[]
[null,"IMPOTS"]
[null,"IMPOT A LA CHARGE DE L'ENTREPRISE"]
[null,"ITS PART EMPLOYEUR (2)",{"$f":"('EVOL EFFECTIF&MASS SALARIAL-10 '!C13*'REFERENCES - 10'!$D$14+('EVOL EFFECTIF&MASS SALARIAL-10 '!C23+'EVOL EFFECTIF&MASS SALARIAL-10 '!C33)*'REFERENCES - 10'!$D$15)*1000","v":0},{"$f":"('EVOL EFFECTIF&MASS SALARIAL-10 '!E13*'REFERENCES - 10'!$D$14+('EVOL EFFECTIF&MASS SALARIAL-10 '!E23+'EVOL EFFECTIF&MASS SALARIAL-10 '!E33)*'REFERENCES - 10'!$D$15)*1000","v":0},{"$f":"('EVOL EFFECTIF&MASS SALARIAL-10 '!G13*'REFERENCES - 10'!$D$14+('EVOL EFFECTIF&MASS SALARIAL-10 '!G23+'EVOL EFFECTIF&MASS SALARIAL-10 '!G33)*'REFERENCES - 10'!$D$15)*1000","v":0},{"$f":"('EVOL EFFECTIF&MASS SALARIAL-10 '!I13*'REFERENCES - 10'!$D$14+('EVOL EFFECTIF&MASS SALARIAL-10 '!I23+'EVOL EFFECTIF&MASS SALARIAL-10 '!I33)*'REFERENCES - 10'!$D$15)*1000","v":0},{"$f":"('EVOL EFFECTIF&MASS SALARIAL-10 '!K13*'REFERENCES - 10'!$D$14+('EVOL EFFECTIF&MASS SALARIAL-10 '!K23+'EVOL EFFECTIF&MASS SALARIAL-10 '!K33)*'REFERENCES - 10'!$D$15)*1000","v":0},{"$f":"('EVOL EFFECTIF&MASS SALARIAL-10 '!M13*'REFERENCES - 10'!$D$14+('EVOL EFFECTIF&MASS SALARIAL-10 '!M23+'EVOL EFFECTIF&MASS SALARIAL-10 '!M33)*'REFERENCES - 10'!$D$15)*1000","v":0},{"$f":"('EVOL EFFECTIF&MASS SALARIAL-10 '!O13*'REFERENCES - 10'!$D$14+('EVOL EFFECTIF&MASS SALARIAL-10 '!O23+'EVOL EFFECTIF&MASS SALARIAL-10 '!O33)*'REFERENCES - 10'!$D$15)*1000","v":0},{"$f":"('EVOL EFFECTIF&MASS SALARIAL-10 '!Q13*'REFERENCES - 10'!$D$14+('EVOL EFFECTIF&MASS SALARIAL-10 '!Q23+'EVOL EFFECTIF&MASS SALARIAL-10 '!Q33)*'REFERENCES - 10'!$D$15)*1000","v":0},{"$f":"('EVOL EFFECTIF&MASS SALARIAL-10 '!S13*'REFERENCES - 10'!$D$14+('EVOL EFFECTIF&MASS SALARIAL-10 '!S23+'EVOL EFFECTIF&MASS SALARIAL-10 '!S33)*'REFERENCES - 10'!$D$15)*1000","v":0},{"$f":"('EVOL EFFECTIF&MASS SALARIAL-10 '!U13*'REFERENCES - 10'!$D$14+('EVOL EFFECTIF&MASS SALARIAL-10 '!U23+'EVOL EFFECTIF&MASS SALARIAL-10 '!U33)*'REFERENCES - 10'!$D$15)*1000","v":0}]
[null,"FDFP (3)",{"$f":"('EVOL EFFECTIF&MASS SALARIAL-10 '!C13*'REFERENCES - 10'!$D$16+('EVOL EFFECTIF&MASS SALARIAL-10 '!C23+'EVOL EFFECTIF&MASS SALARIAL-10 '!C33)*'REFERENCES - 10'!$D$16)*1000","v":0},{"$f":"('EVOL EFFECTIF&MASS SALARIAL-10 '!E13*'REFERENCES - 10'!$D$16+('EVOL EFFECTIF&MASS SALARIAL-10 '!E23+'EVOL EFFECTIF&MASS SALARIAL-10 '!E33)*'REFERENCES - 10'!$D$16)*1000","v":0},{"$f":"('EVOL EFFECTIF&MASS SALARIAL-10 '!G13*'REFERENCES - 10'!$D$16+('EVOL EFFECTIF&MASS SALARIAL-10 '!G23+'EVOL EFFECTIF&MASS SALARIAL-10 '!G33)*'REFERENCES - 10'!$D$16)*1000","v":0},{"$f":"('EVOL EFFECTIF&MASS SALARIAL-10 '!I13*'REFERENCES - 10'!$D$16+('EVOL EFFECTIF&MASS SALARIAL-10 '!I23+'EVOL EFFECTIF&MASS SALARIAL-10 '!I33)*'REFERENCES - 10'!$D$16)*1000","v":0},{"$f":"('EVOL EFFECTIF&MASS SALARIAL-10 '!K13*'REFERENCES - 10'!$D$16+('EVOL EFFECTIF&MASS SALARIAL-10 '!K23+'EVOL EFFECTIF&MASS SALARIAL-10 '!K33)*'REFERENCES - 10'!$D$16)*1000","v":0},{"$f":"('EVOL EFFECTIF&MASS SALARIAL-10 '!M13*'REFERENCES - 10'!$D$16+('EVOL EFFECTIF&MASS SALARIAL-10 '!M23+'EVOL EFFECTIF&MASS SALARIAL-10 '!M33)*'REFERENCES - 10'!$D$16)*1000","v":0},{"$f":"('EVOL EFFECTIF&MASS SALARIAL-10 '!O13*'REFERENCES - 10'!$D$16+('EVOL EFFECTIF&MASS SALARIAL-10 '!O23+'EVOL EFFECTIF&MASS SALARIAL-10 '!O33)*'REFERENCES - 10'!$D$16)*1000","v":0},{"$f":"('EVOL EFFECTIF&MASS SALARIAL-10 '!Q13*'REFERENCES - 10'!$D$16+('EVOL EFFECTIF&MASS SALARIAL-10 '!Q23+'EVOL EFFECTIF&MASS SALARIAL-10 '!Q33)*'REFERENCES - 10'!$D$16)*1000","v":0},{"$f":"('EVOL EFFECTIF&MASS SALARIAL-10 '!S13*'REFERENCES - 10'!$D$16+('EVOL EFFECTIF&MASS SALARIAL-10 '!S23+'EVOL EFFECTIF&MASS SALARIAL-10 '!S33)*'REFERENCES - 10'!$D$16)*1000","v":0},{"$f":"('EVOL EFFECTIF&MASS SALARIAL-10 '!U13*'REFERENCES - 10'!$D$16+('EVOL EFFECTIF&MASS SALARIAL-10 '!U23+'EVOL EFFECTIF&MASS SALARIAL-10 '!U33)*'REFERENCES - 10'!$D$16)*1000","v":0}]
[null,"TSE (4)",{"$f":"'EVOLUTION DU CA - 10'!B10*0.1%*1000","v":0},{"$f":"'EVOLUTION DU CA - 10'!C10*0.1%*1000","v":0},{"$f":"'EVOLUTION DU CA - 10'!D10*0.1%*1000","v":0},{"$f":"'EVOLUTION DU CA - 10'!E10*0.1%*1000","v":0},{"$f":"'EVOLUTION DU CA - 10'!F10*0.1%*1000","v":0},{"$f":"'EVOLUTION DU CA - 10'!G10*0.1%*1000","v":0},{"$f":"'EVOLUTION DU CA - 10'!H10*0.1%*1000","v":0},{"$f":"'EVOLUTION DU CA - 10'!I10*0.1%*1000","v":0},{"$f":"'EVOLUTION DU CA - 10'!J10*0.1%*1000","v":0},{"$f":"'EVOLUTION DU CA - 10'!K10*0.1%*1000","v":0}]
[null,"BIC, BNC, BA (5)",{"$f":"'COMPTE de RESULTAT - 10'!D37*1000","v":0},{"$f":"'COMPTE de RESULTAT - 10'!E37*1000","v":0},{"$f":"'COMPTE de RESULTAT - 10'!F37*1000","v":0},{"$f":"'COMPTE de RESULTAT - 10'!G37*1000","v":0},{"$f":"'COMPTE de RESULTAT - 10'!H37*1000","v":0},{"$f":"'COMPTE de RESULTAT - 10'!I37*1000","v":0},{"$f":"'COMPTE de RESULTAT - 10'!J37*1000","v":0},{"$f":"'COMPTE de RESULTAT - 10'!K37*1000","v":0},{"$f":"'COMPTE de RESULTAT - 10'!L37*1000","v":0},{"$f":"'COMPTE de RESULTAT - 10'!M37*1000","v":0}]
[null,"PATENTE"]
[null,"LICENCE"]
[null,"IMPOT FONCIER"]
[null,"TVA NON DEDUCTIBLE"]
[null,"IMPOTS SPECIFIQUES A L'ACTIVITE"]
[null,"DROIT D'ENREGISTREMENT"]
[null,"AUTRES IMPOTS A LA CHARGE DE L'ENTREPRISE"]
[null,"TOTAL IMPOT A LA CHARGE DE L'ENTREPRISE",{"$f":"SUM(C8:C18)","v":0},{"$f":"SUM(D8:D18)","v":0},0,0,0,0,0,0,0,0]
[null,"TOTAL IMPOT A LA CHARGE DE L'ENTREPRISE HORS BIC(6)",{"$f":"SUM(C12:C18)+C8+C9+C10","v":0},{"$f":"SUM(D12:D18)+D8+D9+D10","v":0},0,0,0,0,0,0,0,0]
[]
[null,"IMPOT A PRELEVER PAR L'ENTREPRISE"]
[null,"TVA A PAYER"]
[null,"TAXE SUR LES OPERATIONS BANCAIRES (TOB)"]
[null,"ITS PART SALARIE"]
[null,"IRVM"]
[null,"IRC"]
[null,"AUTRES IMPOTS PRELEVES PAR L'ENTREPRISE"]
[null,"TOTAL IMPOT A PRELEVER PAR L'ENTREPRISE",{"$f":"SUM(C23:C28)","v":0},{"$f":"SUM(D23:D28)","v":0},{"$f":"SUM(E23:E28)","v":0},{"$f":"SUM(F23:F28)","v":0},{"$f":"SUM(G23:G28)","v":0},{"$f":"SUM(H23:H28)","v":0},0,0,0,0]
[]
[null,"TOTAL IMPOTS VERSES PAR L'ENTREPRISE",{"$f":"+C29+C19","v":0},{"$f":"+D29+D19","v":0},{"$f":"+E29+E19","v":0},{"$f":"+F29+F19","v":0},{"$f":"+G29+G19","v":0},{"$f":"+H29+H19","v":0},0,0,0,0]
[]
[]
[null,"DROITS DOUANE HT"]
[null,"DROITS DE DOUANE, RSTAT, PCS & PCC"]
[null,"DUS & DROITS DE DOUANE SPECIFIQUES"]
[null,"TOTAL DROITS DOUANE HT",{"$f":"SUM(C35:C36)","v":0},0,0,0,0,0,0,0,0,0]
[]
[null,"CONTRIBUTION DIRECT AU BUDGET DE L'ETAT",{"$f":"+C37+C31","v":0},0,0,0,0,0,0,0,0,0]
[]
["(1)","Ce tableau concerne les impôts & droits de douane en régime de droit commun (donc avant déduction des éventuels avantages du code des investissements)."]
["(2)","ITS Nationaux= 1,2% du salaire des ivoiriens  / ITS Non Nationaux= 10,4% du salaire des Non Ivoiriens"]
["(3)","La taxe à la charge de l'employeur à verser au FDFP = 1,6%; elle est substituable en actions de formation pour un maximum de 1,2%."]
["(4)","TSE= 0,1% des Ventes HT"]
["(5)","BIC = 25% du Résultat Net"]
["(6)","Le total des impôts à la charge de l'entreprise hors BIC est reporté dans le Compte de Résultat à la rubrique \"Impôts & Taxes\""]

{"sheet":"DROIT DOUANE PERIODE INVEST -15","index":41,"n_rows":15,"n_cols":3,"rows_kept":15,"cut":false,"hidden":false,"merged":[[1,1,1,2]]}
[null,{"$f":"'REFERENCES - 10'!D7","v":0},{"$f":"'REFERENCES - 10'!D9","v":0}]
[null,"ETAT DE SYNTHESE des DROITS DE DOUANE SUR MATERIEL SUR LA PERIODE D'INVESTISSEMENT"]
[]
[]
[null,null,"MONTANT\n(en F. CFA)"]
[]
[null,"DROITS DE DOUANE  (Droits Fiscaux)",{"$f":"+'SYNTHÈSE INVESTISSEMENTS - 10'!D23","v":0}]
[null,"RSTAT",{"$f":"+'SYNTHÈSE INVESTISSEMENTS - 10'!E23","v":0}]
[null,"PCS",{"$f":"'SYNTHÈSE INVESTISSEMENTS - 10'!F23","v":0}]
[null,"PCC",{"$f":"+'SYNTHÈSE INVESTISSEMENTS - 10'!G23","v":0}]
[null,"TVA SUR DROITS DE DOUANE",{"$f":"+'SYNTHÈSE INVESTISSEMENTS - 10'!H23","v":0}]
[null,"TVA SUR ACHATS LOCAUX",{"$f":"+'SYNTHÈSE INVESTISSEMENTS - 10'!L23","v":0}]
[null,"DUS & DROITS DE DOUANE SPECIFIQUE"]
[]
[null,"TOTAL DOUANE",{"$f":"SUM(C7:C13)","v":0}]

{"sheet":"COMPTE de RESULTAT - 10","index":42,"n_rows":61,"n_cols":13,"rows_kept":61,"cut":false,"hidden":false,"merged":[]}
[null,"COMPTE DE RESULTAT",null,null,null,{"$f":"'REFERENCES - 10'!D7","v":0},null,null,null,{"$f":"'REFERENCES - 10'!D9","v":0}]
[null,null,null,null,null,null,"En milliers de F. Cfa"]
[null,"LIBELLES",null,"AN 1","AN 2","AN 3","AN 4","AN 5","AN 6","AN 7","AN 8","AN 9","AN 10"]
[]
[null,"CHIFFRE D'AFFAIRES (1)",null,{"$f":"'EVOLUTION DU CA - 10'!B10","v":0},{"$f":"'EVOLUTION DU CA - 10'!C10","v":0},{"$f":"'EVOLUTION DU CA - 10'!D10","v":0},{"$f":"'EVOLUTION DU CA - 10'!E10","v":0},{"$f":"'EVOLUTION DU CA - 10'!F10","v":0},{"$f":"'EVOLUTION DU CA - 10'!G10","v":0},{"$f":"'EVOLUTION DU CA - 10'!H10","v":0},{"$f":"'EVOLUTION DU CA - 10'!I10","v":0},{"$f":"'EVOLUTION DU CA - 10'!J10","v":0},{"$f":"'EVOLUTION DU CA - 10'!K10","v":0}]
[null,"Autres produits"]
["(I)","TOTAL PRODUITS",null,{"$f":"D5+D6","v":0},{"$f":"E5+E6","v":0},0,0,0,0,0,0,0,0]
[]
[null,"Achat Mat. Prem., Marchandises & Fournitures(2)",null,{"$f":"'SOURCING - 10'!E27","v":0},null,null,null,{"$f":"'SOURCING - 10'!J27","v":0}]
[null,"Transport"]
[null,"Services extérieurs"]
[null,"Impôts et taxes (3)",null,{"$f":"'IMPOT&DOUANE en ANNEE EXPLOI-10'!C20/1000","v":0},{"$f":"'IMPOT&DOUANE en ANNEE EXPLOI-10'!D20/1000","v":0},{"$f":"'IMPOT&DOUANE en ANNEE EXPLOI-10'!E20/1000","v":0},{"$f":"'IMPOT&DOUANE en ANNEE EXPLOI-10'!F20/1000","v":0},{"$f":"'IMPOT&DOUANE en ANNEE EXPLOI-10'!G20/1000","v":0},{"$f":"'IMPOT&DOUANE en ANNEE EXPLOI-10'!H20/1000","v":0},{"$f":"'IMPOT&DOUANE en ANNEE EXPLOI-10'!I20/1000","v":0},{"$f":"'IMPOT&DOUANE en ANNEE EXPLOI-10'!J20/1000","v":0},{"$f":"'IMPOT&DOUANE en ANNEE EXPLOI-10'!K20/1000","v":0},{"$f":"'IMPOT&DOUANE en ANNEE EXPLOI-10'!L20/1000","v":0}]
[null,"Autres Pertes et charges"]
["(II)","Total Consommations Intermédiaires",null,{"$f":"SUM(D9:D13)","v":0},{"$f":"SUM(E9:E13)","v":0},0,0,0,0,0,0,0,0]
[]
["(III)","VALEUR AJOUTEE",null,{"$f":"D7-D14","v":0},{"$f":"E7-E14","v":0},0,0,0,0,0,0,0,0]
[]
["(IV)","Frais de personnel (4)",null,{"$f":"'EVOL EFFECTIF&MASS SALARIAL-10 '!C45+'INTERIM & LOCATION MO-10'!C31","v":0},{"$f":"'EVOL EFFECTIF&MASS SALARIAL-10 '!E45+'INTERIM & LOCATION MO-10'!E31","v":0},{"$f":"'EVOL EFFECTIF&MASS SALARIAL-10 '!G45+'INTERIM & LOCATION MO-10'!G31","v":0},{"$f":"'EVOL EFFECTIF&MASS SALARIAL-10 '!I45+'INTERIM & LOCATION MO-10'!I31","v":0},{"$f":"'EVOL EFFECTIF&MASS SALARIAL-10 '!K45+'INTERIM & LOCATION MO-10'!K31","v":0},{"$f":"'EVOL EFFECTIF&MASS SALARIAL-10 '!M45+'INTERIM & LOCATION MO-10'!M31","v":0},{"$f":"'EVOL EFFECTIF&MASS SALARIAL-10 '!O45+'INTERIM & LOCATION MO-10'!O31","v":0},{"$f":"'EVOL EFFECTIF&MASS SALARIAL-10 '!Q45+'INTERIM & LOCATION MO-10'!Q31","v":0},{"$f":"'EVOL EFFECTIF&MASS SALARIAL-10 '!S45+'INTERIM & LOCATION MO-10'!S31","v":0},{"$f":"'EVOL EFFECTIF&MASS SALARIAL-10 '!U45+'INTERIM & LOCATION MO-10'!U31","v":0}]
[]
["(V)","EBE",null,{"$f":"D16-D18","v":0},{"$f":"E16-E18","v":0},0,0,0,0,0,0,0,0]
[]
["a","Reprise sur Provisions"]
["b","Amortissements (5)",null,{"$f":"'SYNTHÈSE des AMORTISSEMENTS -10'!D27","v":0},{"$f":"'SYNTHÈSE des AMORTISSEMENTS -10'!E27","v":0},{"$f":"'SYNTHÈSE des AMORTISSEMENTS -10'!F27","v":0},{"$f":"'SYNTHÈSE des AMORTISSEMENTS -10'!G27","v":0},{"$f":"'SYNTHÈSE des AMORTISSEMENTS -10'!H27","v":0},{"$f":"'SYNTHÈSE des AMORTISSEMENTS -10'!I27","v":0},{"$f":"'SYNTHÈSE des AMORTISSEMENTS -10'!J27","v":0},{"$f":"'SYNTHÈSE des AMORTISSEMENTS -10'!K27","v":0},{"$f":"'SYNTHÈSE des AMORTISSEMENTS -10'!L27","v":0},{"$f":"'SYNTHÈSE des AMORTISSEMENTS -10'!M27","v":0}]
[]
["(VI)","RESULTAT D'EXPL°",null,{"$f":"D20+D22-D23","v":0},{"$f":"E20+E22-E23","v":0},0,0,0,0,0,0,0,0]
[]
["c","Produits Financiers "]
["d","Frais Financiers"]
["(VII)","RESULTAT FINANCIER",null,{"$f":"D27-D28","v":0},{"$f":"E27-E28","v":0},0,0,0,0,0,0,0,0]
[]
["(VIII)","RESULTAT HORS ACTIVITES ORDINAIRES"]
[]
["(IX)","RESULTAT BRUT",null,{"$f":"D31+D29+D25","v":0},{"$f":"E31+E29+E25","v":0},0,0,0,0,0,0,0,0]
[null,"DEFICIT FISCAL REPORTABLE ANNEE COURANTE (6)"]
[null,"CUMUL DEFICIT FISCAL REPORTABLE (6)"]
[]
["(X)","BIC"]
[]
["(XI)","RESULTAT NET",null,{"$f":"D33-D37","v":0},0,0,0,0,0,0,0,0,0]
[]
["(XII)","RENTABILITE ECONOMIQUE",null,{"$f":"IF(D7=0,0,D20/D7)","v":0},{"$f":"IF(E7=0,0,E20/E7)","v":0},0,0,0,0,0,0,0,0]
["(XIII)","CASH FLOW",null,{"$f":"D39+D23","v":0},0,0,0,0,0,0,0,0,0]
["(XIV)","INVESTISSEMENTS CUMULES EFFECTUES (6)",null,{"$f":"+'SYNTHÈSE INVESTISSEMENTS - 10'!N23/1000","v":0}]
["(XV)","PAY BACK (7)"]
[]
["(1) Chiffre d'affaires: Se référer au tableau de la feuille \"EVOLUTION DU CA\"."]
["(2) Achat Mat. Prem., Marchandises & Fournitures: Se référer au tableau de la feuille \"SOURCING\" pour la première et la cinquième année."]
["(3) Impôts & Taxes : Se référer à la ligne \"TOTAL IMPOT A LA CHARGE DE L'ENTREPRISE HORS BIC\" du tableau de la feuille \"IMPOT&DOUANE en ANNEE EXPLOI\"."]
["(4) Frais de personnel : Se référer au tableau de la feuille \"EVOL EFFECTIF&MASS SALARIAL\" et \"INTERIM & LOCATION MO\"."]
["(5) Les Amortissements: Se référer au tableau de la feuille \"SYNTHESE DES AMORTISSEMENTS\"."]
["(6) Les investissements doivent être exécutés en 2 années avec une possibilité de prorogation à 3 ans. Le cumul des investissements correspond au total du tableau de la feuille \"SYNTHESE INVESTISSEMENTS\"."]
["(7) Le pay back est la durée (en année) nécessaire pour que le cumul du cash flow égale le cumul des investissements."]
[]
["VALEUR AJOUTE (III )= (I) - (II)"]
["EXCEDENT BRUT D'EXPLOITATION (V) = (III )- (IV)"]
["RESULTAT D'EXPLOITATION (VI) = (V) + (a) - (b)"]
["RESULTAT FINANCIER (VII) = (c)-(d)"]
["RESULTAT BRUT(IX) = (VI) + (VII) + (VIII)"]
["RESULTANT NET COMPTABLE (XI) = (IX) - (X)"]
["RENTABILITE ECONOMIQUE (XII)= (V)/(I)"]
["CASH FLOW= (XI) + (b)"]

{"sheet":"RENSEIGNEMENT COMPLEMENTAIRE-10","index":43,"n_rows":29,"n_cols":5,"rows_kept":29,"cut":false,"hidden":false,"merged":[]}
[{"$f":"'REFERENCES - 10'!D7","v":0},null,null,null,{"$f":"'REFERENCES - 10'!D9","v":0}]
["RENSEIGNEMENT COMPLEMENTAIRES"]
[]
[null,"Loyer sur biens immobiliers  (en milliers F. CFA)"]
[]
[null,null,"AN1"]
[null,null,"AN2"]
[null,null,"AN3"]
[null,null,"AN4"]
[null,null,"AN5"]
[null,null,"AN6"]
[null,null,"AN7"]
[null,null,"AN8"]
[null,null,"AN9"]
[null,null,"AN10"]
[]
[null,"Détail des Constructions  (en milliers F. CFA)"]
[]
[null,null,"Terrain"]
[null,null,"Usine"]
[null,null,"Bureau"]
[null,null,"Magasin"]
[null,null,"Hangars"]
[null,null,"TOTAL",{"$f":"SUM(D20:D23)","v":0}]
[]
[null,"Valeur C&F des MP, Marchandises et Fournitures Importés (en milliers F. CFA)"]
[]
[null,null,"AN1",{"$f":"SUMIF('SOURCING - 10'!G9:G21,\"=ETRANGER\",'SOURCING - 10'!E9:E21)","v":0}]
[null,null,"AN5",{"$f":"SUMIF('SOURCING - 10'!L9:L21,\"=ETRANGER\",'SOURCING - 10'!J9:J21)","v":0}]

{"sheet":"RAPPORT SYNTHESE - 11","index":44,"n_rows":279,"n_cols":19,"rows_kept":279,"cut":false,"hidden":true,"merged":[[264,3,264,4],[265,3,265,4],[266,3,266,4],[259,3,259,4],[260,3,260,4],[261,3,261,4],[262,3,262,4],[263,3,263,4],[266,5,266,6],[266,7,266,8],[269,1,269,2],[268,1,268,2],[269,3,269,5],[268,3,268,5],[263,7,263,8],[264,5,264,6],[264,7,264,8],[265,5,265,6],[265,7,265,8],[263,5,263,6],[260,7,260,8],[259,7,259,8],[261,7,261,8],[261,5,261,6],[262,5,262,6],[262,7,262,8],[259,5,259,6],[260,5,260,6],[264,1,264,2],[265,1,265,2],[266,1,266,2],[259,1,259,2],[260,1,260,2],[261,1,261,2],[262,1,262,2],[263,1,263,2],[124,8,124,9],[125,8,125,9],[126,8,126,9],[127,8,127,9],[128,8,128,9],[119,8,119,9],[120,8,120,9],[121,8,121,9],[122,8,122,9],[123,8,123,9],[124,1,124,3],[125,1,125,3],[126,1,126,3],[127,1,127,3],[128,1,128,3],[119,1,119,3],[120,1,120,3],[121,1,121,3],[122,1,122,3],[123,1,123,3],[116,8,117,9],[116,13,117,14],[15,1,15,2],[16,1,16,2],[115,4,117,4],[115,1,117,3],[116,10,116,12],[116,5,116,7],[246,1,246,4],[247,1,247,4],[248,1,248,4],[249,1,249,4],[129,1,129,3],[244,5,244,6],[246,5,246,6],[247,5,247,6],[248,5,248,6],[249,5,249,6],[253,5,253,6],[250,1,250,4],[251,1,251,4],[252,1,252,4],[254,1,254,4],[254,5,254,6],[252,5,252,6],[251,5,251,6],[250,5,250,6]]}
[null,null,{"$f":"'REFERENCES - 10'!D7","v":0},null,null,{"$f":"'REFERENCES - 10'!D9","v":0},null,null,null,null,null,{"$f":"C1","v":0},null,null,{"$f":"F1","v":0}]
[]
["1/ RENTABILITE ECONOMIQUIE DU PROJET"]
[null,null,null,null,null,null,null,null,null,null,null,null,"En milliers de F. Cfa"]
[null,null,null,"AN 1","AN 2","AN 3","AN 4","AN 5","AN 6","AN 7","AN 8","AN 9","AN 10","AN 11"]
[]
[null,"Chiffre d'Affaires",null,{"$f":"'COMPTE de RESULTAT - 10'!D7","v":0},{"$f":"'COMPTE de RESULTAT - 10'!E7","v":0},{"$f":"'COMPTE de RESULTAT - 10'!F7","v":0},{"$f":"'COMPTE de RESULTAT - 10'!G7","v":0},{"$f":"'COMPTE de RESULTAT - 10'!H7","v":0},{"$f":"'COMPTE de RESULTAT - 10'!I7","v":0},{"$f":"'COMPTE de RESULTAT - 10'!J7","v":0},{"$f":"'COMPTE de RESULTAT - 10'!K7","v":0},{"$f":"'COMPTE de RESULTAT - 10'!L7","v":0},{"$f":"'COMPTE de RESULTAT - 10'!M7","v":0},{"$f":"'COMPTE de RESULTAT - 10'!#REF!","v":{"$error":"#REF!"}}]
[null,"Excédent Brut d'Exploitation",null,{"$f":"'COMPTE de RESULTAT - 10'!D20","v":0},{"$f":"'COMPTE de RESULTAT - 10'!E20","v":0},{"$f":"'COMPTE de RESULTAT - 10'!F20","v":0},{"$f":"'COMPTE de RESULTAT - 10'!G20","v":0},{"$f":"'COMPTE de RESULTAT - 10'!H20","v":0},{"$f":"'COMPTE de RESULTAT - 10'!I20","v":0},{"$f":"'COMPTE de RESULTAT - 10'!J20","v":0},{"$f":"'COMPTE de RESULTAT - 10'!K20","v":0},{"$f":"'COMPTE de RESULTAT - 10'!L20","v":0},{"$f":"'COMPTE de RESULTAT - 10'!M20","v":0},{"$f":"'COMPTE de RESULTAT - 10'!#REF!","v":{"$error":"#REF!"}}]
[null,"EBE / CA",null,{"$f":"IF(D7=0,0,D8/D7)","v":0},{"$f":"IF(E7=0,0,E8/E7)","v":0},0,0,0,0,0,0,0,0,{"$error":"#REF!"}]
[]
[]
[]
["2/ IMPACT SUR LA CROISSANCE ÉCONOMIQUE"]
[null,null,null,null,null,null,null,null,null,null,null,null,"En milliers de F. Cfa"]
[null,null,null,"AN 1","AN 2","AN 3","AN 4","AN 5","AN 6","AN 7","AN 8","AN 9","AN 10","AN 11"]
[null,"VALEUR AJOUTÉE",null,{"$f":"'COMPTE de RESULTAT - 10'!D16","v":0},{"$f":"'COMPTE de RESULTAT - 10'!E16","v":0},{"$f":"'COMPTE de RESULTAT - 10'!F16","v":0},{"$f":"'COMPTE de RESULTAT - 10'!G16","v":0},{"$f":"'COMPTE de RESULTAT - 10'!H16","v":0},{"$f":"'COMPTE de RESULTAT - 10'!I16","v":0},{"$f":"'COMPTE de RESULTAT - 10'!J16","v":0},{"$f":"'COMPTE de RESULTAT - 10'!K16","v":0},{"$f":"'COMPTE de RESULTAT - 10'!L16","v":0},{"$f":"'COMPTE de RESULTAT - 10'!M16","v":0},{"$f":"'COMPTE de RESULTAT - 10'!#REF!","v":{"$error":"#REF!"}}]
[null,"Taux de croissance",null,null,{"$f":"IF(D16=0,0,(E16-D16)/D16)","v":0},{"$f":"IF(E16=0,0,(F16-E16)/E16)","v":0},{"$f":"IF(F16=0,0,(G16-F16)/F16)","v":0},0,0,0,0,0,0,0]
[]
[]
[]
["3/ IMPACT SUR L'EMPLOI    "]
[]
[null,null,"NOMBRE EMPLOIS NATIONNAUX CREES"]
[]
[null,null,null,"ANNÉE 1",null,null,"ANNÉE 5"]
[null,null,null,"Embauché","Intérim","Total","Embauché","Intérim","Total"]
[]
[null,"Cadres supérieurs (DG & directeurs)",null,{"$f":"'STRUCT.EMPLOI&MASS SALARIALE-10'!B9","v":0},{"$f":"'INTERIM & LOCATION MO-10'!B9","v":0},{"$f":"+E28+D28","v":0},{"$f":"'STRUCT.EMPLOI&MASS SALARIALE-10'!G9","v":0},{"$f":"'INTERIM & LOCATION MO-10'!J9","v":0},{"$f":"+H28+G28","v":0}]
[null,"Cadres moyens",null,{"$f":"'STRUCT.EMPLOI&MASS SALARIALE-10'!B10","v":0},{"$f":"'INTERIM & LOCATION MO-10'!B10","v":0},{"$f":"+E29+D29","v":0},{"$f":"'STRUCT.EMPLOI&MASS SALARIALE-10'!G10","v":0},{"$f":"'INTERIM & LOCATION MO-10'!J10","v":0},{"$f":"+H29+G29","v":0}]
[null,"Total Cadres",null,{"$f":"SUM(D28:D29)","v":0},0,0,0,0,0]
[]
[null,"Agents Maîtrise",null,{"$f":"'STRUCT.EMPLOI&MASS SALARIALE-10'!B11","v":0},{"$f":"+'INTERIM & LOCATION MO-10'!B11","v":0},{"$f":"+E32+D32","v":0},{"$f":"'STRUCT.EMPLOI&MASS SALARIALE-10'!G11","v":0},{"$f":"+'INTERIM & LOCATION MO-10'!J11","v":0},{"$f":"+H32+G32","v":0}]
[null,"Employés & Ouvriers",null,{"$f":"'STRUCT.EMPLOI&MASS SALARIALE-10'!B12","v":0},{"$f":"+'INTERIM & LOCATION MO-10'!B12","v":0},{"$f":"+E33+D33","v":0},{"$f":"'STRUCT.EMPLOI&MASS SALARIALE-10'!G12","v":0},{"$f":"+'INTERIM & LOCATION MO-10'!J12","v":0},{"$f":"+H33+G33","v":0}]
[null,"Total Non Cadres",null,{"$f":"SUM(D32:D33)","v":0},0,0,0,0,0]
[]
[null,"TOTAL",null,{"$f":"D34+D30","v":0},0,0,0,0,0]
[]
[]
[]
["4/ L’IMPACT SUR LE NIVEAU DU REVENU GLOBAL DISPONIBLE"]
[]
[null,null,"SALAIRES VERSES (Hors personnel sous intérim)",null,null,null,"En milliers de F. Cfa"]
[]
[null,null,null,"ANNÉE 1","ANNÉE 5"]
[]
[null,"Nationaux",null,{"$f":"+'STRUCT.EMPLOI&MASS SALARIALE-10'!C13","v":0},{"$f":"+'STRUCT.EMPLOI&MASS SALARIALE-10'!H13","v":0}]
[null,"Autres Africains",null,{"$f":"+'STRUCT.EMPLOI&MASS SALARIALE-10'!C22","v":0},{"$f":"+'STRUCT.EMPLOI&MASS SALARIALE-10'!H22","v":0}]
[null,"Non Africains",null,{"$f":"+'STRUCT.EMPLOI&MASS SALARIALE-10'!C31","v":0},{"$f":"+'STRUCT.EMPLOI&MASS SALARIALE-10'!H31","v":0}]
[]
[null,"TOTAL",null,{"$f":"SUM(D46:D49)","v":0},{"$f":"SUM(E46:E49)","v":0}]
[]
[]
[]
[]
["5/ IMPACT SUR L'ACCESSIBILITE DES PRODUITS (uniquement sur le marché local)"]
[]
[null,"Appréciatif"]
[]
[]
[]
[]
[]
[]
[]
[]
["6/ IMPACT SUR LA BALANCE COMMERCIALE"]
[null,null,null,null,null,"En milliers de F. Cfa"]
[null,null,null,null,"ANNÉE 1","ANNÉE 5"]
[]
[null,"Vente export",null,null,{"$f":"+'STRUCTURE DU CA - 10'!F20+'STRUCTURE DU CA - 10'!G20","v":0},{"$f":"+'STRUCTURE DU CA - 10'!K20+'STRUCTURE DU CA - 10'!L20","v":0}]
[null,"Achat M.P, March. & Fournitures Import(1)",null,null,{"$f":"'RENSEIGNEMENT COMPLEMENTAIRE-10'!D28","v":0},{"$f":"'RENSEIGNEMENT COMPLEMENTAIRE-10'!D29","v":0},"     (1)  Voir feuille de calcul Renseignements Complémentaires"]
[]
[null,"IMPACT /BALANCE COM.",null,null,{"$f":"E70-E71","v":0},{"$f":"F70-F71","v":0}]
[]
[]
[]
["7/ IMPACT SUR LE BUDGET DE L'ETAT",null,null,null,null,null,null,null,null,null,"F. Cfa",null,null,null,null,null,null,null,"F. Cfa"]
[]
[null,null,null,null,"AN 1","AN 2","AN 3","AN 4","AN 5","AN 6","AN 7","AN 8","AN 9","AN 10","AN 11"]
[null,"IMPOTS"]
[null,"IMPOT A LA CHARGE DE L'ENTREPRISE"]
[null,"ITS PART EMPLOYEUR",null,null,{"$f":"'IMPOT&DOUANE en ANNEE EXPLOI-10'!C8","v":0},{"$f":"'IMPOT&DOUANE en ANNEE EXPLOI-10'!D8","v":0},{"$f":"'IMPOT&DOUANE en ANNEE EXPLOI-10'!E8","v":0},{"$f":"'IMPOT&DOUANE en ANNEE EXPLOI-10'!F8","v":0},{"$f":"'IMPOT&DOUANE en ANNEE EXPLOI-10'!G8","v":0},{"$f":"'IMPOT&DOUANE en ANNEE EXPLOI-10'!H8","v":0},{"$f":"'IMPOT&DOUANE en ANNEE EXPLOI-10'!I8","v":0},{"$f":"'IMPOT&DOUANE en ANNEE EXPLOI-10'!J8","v":0},{"$f":"'IMPOT&DOUANE en ANNEE EXPLOI-10'!K8","v":0},{"$f":"'IMPOT&DOUANE en ANNEE EXPLOI-10'!L8","v":0},{"$f":"'IMPOT&DOUANE en ANNEE EXPLOI-10'!#REF!","v":{"$error":"#REF!"}}]
[null,"FDFP",null,null,{"$f":"'IMPOT&DOUANE en ANNEE EXPLOI-10'!C9","v":0},{"$f":"'IMPOT&DOUANE en ANNEE EXPLOI-10'!D9","v":0},{"$f":"'IMPOT&DOUANE en ANNEE EXPLOI-10'!E9","v":0},{"$f":"'IMPOT&DOUANE en ANNEE EXPLOI-10'!F9","v":0},{"$f":"'IMPOT&DOUANE en ANNEE EXPLOI-10'!G9","v":0},{"$f":"'IMPOT&DOUANE en ANNEE EXPLOI-10'!H9","v":0},{"$f":"'IMPOT&DOUANE en ANNEE EXPLOI-10'!I9","v":0},{"$f":"'IMPOT&DOUANE en ANNEE EXPLOI-10'!J9","v":0},{"$f":"'IMPOT&DOUANE en ANNEE EXPLOI-10'!K9","v":0},{"$f":"'IMPOT&DOUANE en ANNEE EXPLOI-10'!L9","v":0},{"$f":"'IMPOT&DOUANE en ANNEE EXPLOI-10'!#REF!","v":{"$error":"#REF!"}}]
[null,"TSE",null,null,{"$f":"'IMPOT&DOUANE en ANNEE EXPLOI-10'!C10","v":0},{"$f":"'IMPOT&DOUANE en ANNEE EXPLOI-10'!D10","v":0},{"$f":"'IMPOT&DOUANE en ANNEE EXPLOI-10'!E10","v":0},{"$f":"'IMPOT&DOUANE en ANNEE EXPLOI-10'!F10","v":0},{"$f":"'IMPOT&DOUANE en ANNEE EXPLOI-10'!G10","v":0},{"$f":"'IMPOT&DOUANE en ANNEE EXPLOI-10'!H10","v":0},{"$f":"'IMPOT&DOUANE en ANNEE EXPLOI-10'!I10","v":0},{"$f":"'IMPOT&DOUANE en ANNEE EXPLOI-10'!J10","v":0},{"$f":"'IMPOT&DOUANE en ANNEE EXPLOI-10'!K10","v":0},{"$f":"'IMPOT&DOUANE en ANNEE EXPLOI-10'!L10","v":0},{"$f":"'IMPOT&DOUANE en ANNEE EXPLOI-10'!#REF!","v":{"$error":"#REF!"}}]
[null,"BIC, BNC, BA",null,null,{"$f":"'IMPOT&DOUANE en ANNEE EXPLOI-10'!C11","v":0},{"$f":"'IMPOT&DOUANE en ANNEE EXPLOI-10'!D11","v":0},{"$f":"'IMPOT&DOUANE en ANNEE EXPLOI-10'!E11","v":0},{"$f":"'IMPOT&DOUANE en ANNEE EXPLOI-10'!F11","v":0},{"$f":"'IMPOT&DOUANE en ANNEE EXPLOI-10'!G11","v":0},{"$f":"'IMPOT&DOUANE en ANNEE EXPLOI-10'!H11","v":0},{"$f":"'IMPOT&DOUANE en ANNEE EXPLOI-10'!I11","v":0},{"$f":"'IMPOT&DOUANE en ANNEE EXPLOI-10'!J11","v":0},{"$f":"'IMPOT&DOUANE en ANNEE EXPLOI-10'!K11","v":0},{"$f":"'IMPOT&DOUANE en ANNEE EXPLOI-10'!L11","v":0},{"$f":"'IMPOT&DOUANE en ANNEE EXPLOI-10'!#REF!","v":{"$error":"#REF!"}}]
[null,"PATENTE",null,null,{"$f":"'IMPOT&DOUANE en ANNEE EXPLOI-10'!C12","v":0},{"$f":"'IMPOT&DOUANE en ANNEE EXPLOI-10'!D12","v":0},{"$f":"'IMPOT&DOUANE en ANNEE EXPLOI-10'!E12","v":0},{"$f":"'IMPOT&DOUANE en ANNEE EXPLOI-10'!F12","v":0},{"$f":"'IMPOT&DOUANE en ANNEE EXPLOI-10'!G12","v":0},{"$f":"'IMPOT&DOUANE en ANNEE EXPLOI-10'!H12","v":0},{"$f":"'IMPOT&DOUANE en ANNEE EXPLOI-10'!I12","v":0},{"$f":"'IMPOT&DOUANE en ANNEE EXPLOI-10'!J12","v":0},{"$f":"'IMPOT&DOUANE en ANNEE EXPLOI-10'!K12","v":0},{"$f":"'IMPOT&DOUANE en ANNEE EXPLOI-10'!L12","v":0},{"$f":"'IMPOT&DOUANE en ANNEE EXPLOI-10'!#REF!","v":{"$error":"#REF!"}}]
[null,"LICENCE",null,null,{"$f":"'IMPOT&DOUANE en ANNEE EXPLOI-10'!C13","v":0},{"$f":"'IMPOT&DOUANE en ANNEE EXPLOI-10'!D13","v":0},{"$f":"'IMPOT&DOUANE en ANNEE EXPLOI-10'!E13","v":0},{"$f":"'IMPOT&DOUANE en ANNEE EXPLOI-10'!F13","v":0},{"$f":"'IMPOT&DOUANE en ANNEE EXPLOI-10'!G13","v":0},{"$f":"'IMPOT&DOUANE en ANNEE EXPLOI-10'!H13","v":0},{"$f":"'IMPOT&DOUANE en ANNEE EXPLOI-10'!I13","v":0},{"$f":"'IMPOT&DOUANE en ANNEE EXPLOI-10'!J13","v":0},{"$f":"'IMPOT&DOUANE en ANNEE EXPLOI-10'!K13","v":0},{"$f":"'IMPOT&DOUANE en ANNEE EXPLOI-10'!L13","v":0},{"$f":"'IMPOT&DOUANE en ANNEE EXPLOI-10'!#REF!","v":{"$error":"#REF!"}}]
[null,"IMPOT FONCIER",null,null,{"$f":"'IMPOT&DOUANE en ANNEE EXPLOI-10'!C14","v":0},{"$f":"'IMPOT&DOUANE en ANNEE EXPLOI-10'!D14","v":0},{"$f":"'IMPOT&DOUANE en ANNEE EXPLOI-10'!E14","v":0},{"$f":"'IMPOT&DOUANE en ANNEE EXPLOI-10'!F14","v":0},{"$f":"'IMPOT&DOUANE en ANNEE EXPLOI-10'!G14","v":0},{"$f":"'IMPOT&DOUANE en ANNEE EXPLOI-10'!H14","v":0},{"$f":"'IMPOT&DOUANE en ANNEE EXPLOI-10'!I14","v":0},{"$f":"'IMPOT&DOUANE en ANNEE EXPLOI-10'!J14","v":0},{"$f":"'IMPOT&DOUANE en ANNEE EXPLOI-10'!K14","v":0},{"$f":"'IMPOT&DOUANE en ANNEE EXPLOI-10'!L14","v":0},{"$f":"'IMPOT&DOUANE en ANNEE EXPLOI-10'!#REF!","v":{"$error":"#REF!"}}]
[null,"TVA NON DEDUCTIBLE",null,null,{"$f":"'IMPOT&DOUANE en ANNEE EXPLOI-10'!C15","v":0},{"$f":"'IMPOT&DOUANE en ANNEE EXPLOI-10'!D15","v":0},{"$f":"'IMPOT&DOUANE en ANNEE EXPLOI-10'!E15","v":0},{"$f":"'IMPOT&DOUANE en ANNEE EXPLOI-10'!F15","v":0},{"$f":"'IMPOT&DOUANE en ANNEE EXPLOI-10'!G15","v":0},{"$f":"'IMPOT&DOUANE en ANNEE EXPLOI-10'!H15","v":0},{"$f":"'IMPOT&DOUANE en ANNEE EXPLOI-10'!I15","v":0},{"$f":"'IMPOT&DOUANE en ANNEE EXPLOI-10'!J15","v":0},{"$f":"'IMPOT&DOUANE en ANNEE EXPLOI-10'!K15","v":0},{"$f":"'IMPOT&DOUANE en ANNEE EXPLOI-10'!L15","v":0},{"$f":"'IMPOT&DOUANE en ANNEE EXPLOI-10'!#REF!","v":{"$error":"#REF!"}}]
[null,"IMPOTS SPECIFIQUES A L'ACTIVITE",null,null,{"$f":"'IMPOT&DOUANE en ANNEE EXPLOI-10'!C16","v":0},{"$f":"'IMPOT&DOUANE en ANNEE EXPLOI-10'!D16","v":0},{"$f":"'IMPOT&DOUANE en ANNEE EXPLOI-10'!E16","v":0},{"$f":"'IMPOT&DOUANE en ANNEE EXPLOI-10'!F16","v":0},{"$f":"'IMPOT&DOUANE en ANNEE EXPLOI-10'!G16","v":0},{"$f":"'IMPOT&DOUANE en ANNEE EXPLOI-10'!H16","v":0},{"$f":"'IMPOT&DOUANE en ANNEE EXPLOI-10'!I16","v":0},{"$f":"'IMPOT&DOUANE en ANNEE EXPLOI-10'!J16","v":0},{"$f":"'IMPOT&DOUANE en ANNEE EXPLOI-10'!K16","v":0},{"$f":"'IMPOT&DOUANE en ANNEE EXPLOI-10'!L16","v":0},{"$f":"'IMPOT&DOUANE en ANNEE EXPLOI-10'!#REF!","v":{"$error":"#REF!"}}]
[null,"DROIT D'ENREGISTREMENT",null,null,{"$f":"'IMPOT&DOUANE en ANNEE EXPLOI-10'!C17","v":0},{"$f":"'IMPOT&DOUANE en ANNEE EXPLOI-10'!D17","v":0},{"$f":"'IMPOT&DOUANE en ANNEE EXPLOI-10'!E17","v":0},{"$f":"'IMPOT&DOUANE en ANNEE EXPLOI-10'!F17","v":0},{"$f":"'IMPOT&DOUANE en ANNEE EXPLOI-10'!G17","v":0},{"$f":"'IMPOT&DOUANE en ANNEE EXPLOI-10'!H17","v":0},{"$f":"'IMPOT&DOUANE en ANNEE EXPLOI-10'!I17","v":0},{"$f":"'IMPOT&DOUANE en ANNEE EXPLOI-10'!J17","v":0},{"$f":"'IMPOT&DOUANE en ANNEE EXPLOI-10'!K17","v":0},{"$f":"'IMPOT&DOUANE en ANNEE EXPLOI-10'!L17","v":0},{"$f":"'IMPOT&DOUANE en ANNEE EXPLOI-10'!#REF!","v":{"$error":"#REF!"}}]
[null,"AUTRES IMPOTS A LA CHARGE DE L'ENTREPRISE",null,null,{"$f":"'IMPOT&DOUANE en ANNEE EXPLOI-10'!C18","v":0},{"$f":"'IMPOT&DOUANE en ANNEE EXPLOI-10'!D18","v":0},{"$f":"'IMPOT&DOUANE en ANNEE EXPLOI-10'!E18","v":0},{"$f":"'IMPOT&DOUANE en ANNEE EXPLOI-10'!F18","v":0},{"$f":"'IMPOT&DOUANE en ANNEE EXPLOI-10'!G18","v":0},{"$f":"'IMPOT&DOUANE en ANNEE EXPLOI-10'!H18","v":0},{"$f":"'IMPOT&DOUANE en ANNEE EXPLOI-10'!I18","v":0},{"$f":"'IMPOT&DOUANE en ANNEE EXPLOI-10'!J18","v":0},{"$f":"'IMPOT&DOUANE en ANNEE EXPLOI-10'!K18","v":0},{"$f":"'IMPOT&DOUANE en ANNEE EXPLOI-10'!L18","v":0},{"$f":"'IMPOT&DOUANE en ANNEE EXPLOI-10'!#REF!","v":{"$error":"#REF!"}}]
[null,"TOTAL IMPOT A LA CHARGE DE L'ENTREPRISE",null,null,{"$f":"SUM(E82:E92)","v":0},{"$f":"SUM(F82:F92)","v":0},0,0,0,0,0,0,0,0,{"$error":"#REF!"}]
[]
[null,"IMPOT A PRELEVER PAR L'ENTREPRISE",null,null,null,null,null,null,null,null,"F. Cfa"]
[null,"TVA A PAYER",null,null,{"$f":"'IMPOT&DOUANE en ANNEE EXPLOI-10'!C23","v":0},{"$f":"'IMPOT&DOUANE en ANNEE EXPLOI-10'!D23","v":0},{"$f":"'IMPOT&DOUANE en ANNEE EXPLOI-10'!E23","v":0},{"$f":"'IMPOT&DOUANE en ANNEE EXPLOI-10'!F23","v":0},{"$f":"'IMPOT&DOUANE en ANNEE EXPLOI-10'!G23","v":0},{"$f":"'IMPOT&DOUANE en ANNEE EXPLOI-10'!H23","v":0},{"$f":"'IMPOT&DOUANE en ANNEE EXPLOI-10'!I23","v":0},{"$f":"'IMPOT&DOUANE en ANNEE EXPLOI-10'!J23","v":0},{"$f":"'IMPOT&DOUANE en ANNEE EXPLOI-10'!K23","v":0},{"$f":"'IMPOT&DOUANE en ANNEE EXPLOI-10'!L23","v":0},{"$f":"'IMPOT&DOUANE en ANNEE EXPLOI-10'!#REF!","v":{"$error":"#REF!"}}]
[null,"ITS PART SALARIE",null,null,{"$f":"'IMPOT&DOUANE en ANNEE EXPLOI-10'!C25","v":0},{"$f":"'IMPOT&DOUANE en ANNEE EXPLOI-10'!D25","v":0},{"$f":"'IMPOT&DOUANE en ANNEE EXPLOI-10'!E25","v":0},{"$f":"'IMPOT&DOUANE en ANNEE EXPLOI-10'!F25","v":0},{"$f":"'IMPOT&DOUANE en ANNEE EXPLOI-10'!G25","v":0},{"$f":"'IMPOT&DOUANE en ANNEE EXPLOI-10'!H25","v":0},{"$f":"'IMPOT&DOUANE en ANNEE EXPLOI-10'!I25","v":0},{"$f":"'IMPOT&DOUANE en ANNEE EXPLOI-10'!J25","v":0},{"$f":"'IMPOT&DOUANE en ANNEE EXPLOI-10'!K25","v":0},{"$f":"'IMPOT&DOUANE en ANNEE EXPLOI-10'!L25","v":0},{"$f":"'IMPOT&DOUANE en ANNEE EXPLOI-10'!#REF!","v":{"$error":"#REF!"}}]
[null,"IRVM",null,null,{"$f":"'IMPOT&DOUANE en ANNEE EXPLOI-10'!C26","v":0},{"$f":"'IMPOT&DOUANE en ANNEE EXPLOI-10'!D26","v":0},{"$f":"'IMPOT&DOUANE en ANNEE EXPLOI-10'!E26","v":0},{"$f":"'IMPOT&DOUANE en ANNEE EXPLOI-10'!F26","v":0},{"$f":"'IMPOT&DOUANE en ANNEE EXPLOI-10'!G26","v":0},{"$f":"'IMPOT&DOUANE en ANNEE EXPLOI-10'!H26","v":0},{"$f":"'IMPOT&DOUANE en ANNEE EXPLOI-10'!I26","v":0},{"$f":"'IMPOT&DOUANE en ANNEE EXPLOI-10'!J26","v":0},{"$f":"'IMPOT&DOUANE en ANNEE EXPLOI-10'!K26","v":0},{"$f":"'IMPOT&DOUANE en ANNEE EXPLOI-10'!L26","v":0},{"$f":"'IMPOT&DOUANE en ANNEE EXPLOI-10'!#REF!","v":{"$error":"#REF!"}}]
[null,"IRC",null,null,{"$f":"'IMPOT&DOUANE en ANNEE EXPLOI-10'!C27","v":0},{"$f":"'IMPOT&DOUANE en ANNEE EXPLOI-10'!D27","v":0},{"$f":"'IMPOT&DOUANE en ANNEE EXPLOI-10'!E27","v":0},{"$f":"'IMPOT&DOUANE en ANNEE EXPLOI-10'!F27","v":0},{"$f":"'IMPOT&DOUANE en ANNEE EXPLOI-10'!G27","v":0},{"$f":"'IMPOT&DOUANE en ANNEE EXPLOI-10'!H27","v":0},{"$f":"'IMPOT&DOUANE en ANNEE EXPLOI-10'!I27","v":0},{"$f":"'IMPOT&DOUANE en ANNEE EXPLOI-10'!J27","v":0},{"$f":"'IMPOT&DOUANE en ANNEE EXPLOI-10'!K27","v":0},{"$f":"'IMPOT&DOUANE en ANNEE EXPLOI-10'!L27","v":0},{"$f":"'IMPOT&DOUANE en ANNEE EXPLOI-10'!#REF!","v":{"$error":"#REF!"}}]
[null,"AUTRES IMPOTS A PRELEVER PAR L'ENTREPRISE",null,null,{"$f":"'IMPOT&DOUANE en ANNEE EXPLOI-10'!C28","v":0},{"$f":"'IMPOT&DOUANE en ANNEE EXPLOI-10'!D28","v":0},{"$f":"'IMPOT&DOUANE en ANNEE EXPLOI-10'!E28","v":0},{"$f":"'IMPOT&DOUANE en ANNEE EXPLOI-10'!F28","v":0},{"$f":"'IMPOT&DOUANE en ANNEE EXPLOI-10'!G28","v":0},{"$f":"'IMPOT&DOUANE en ANNEE EXPLOI-10'!H28","v":0},{"$f":"'IMPOT&DOUANE en ANNEE EXPLOI-10'!I28","v":0},{"$f":"'IMPOT&DOUANE en ANNEE EXPLOI-10'!J28","v":0},{"$f":"'IMPOT&DOUANE en ANNEE EXPLOI-10'!K28","v":0},{"$f":"'IMPOT&DOUANE en ANNEE EXPLOI-10'!L28","v":0},{"$f":"'IMPOT&DOUANE en ANNEE EXPLOI-10'!#REF!","v":{"$error":"#REF!"}}]
[null,"TOTAL IMPOT A PRELEVER PAR L'ENTREPRISE",null,null,{"$f":"SUM(E96:E100)","v":0},0,0,0,0,0,0,0,0,0,{"$error":"#REF!"}]
[]
[null,"TOTAL IMPOTS VERSES PAR L'ENTREPRISE",null,null,{"$f":"+E101+E93","v":0},0,0,0,0,0,0,0,0,0,{"$error":"#REF!"}]
[]
[null,"DOUANE",null,null,null,null,null,null,null,null,"F. Cfa"]
[null,"DROITS DE DOUANE, RSTAT, PCS & PCC"]
[null,"DUS & DROITS DE DOUANE SPECIFIQUES"]
[null,"TOTAL DOUANE",null,null,{"$f":"SUM(E106:E107)","v":0},0,0,0,0,0,0,0,0,0,0]
[]
[null,"CONTRIBUTION DIRECT AU BUDGET DE L'ETAT",null,null,{"$f":"+E108+E103","v":0},0,0,0,0,0,0,0,0,0,{"$error":"#REF!"}]
[]
[]
[]
["8/ IMPACT SUR LE TISSU DES ENTREPRISES LOCALES"]
[]
[null,"DESIGNATION DE L'INTRANT",null,null,"Unité de Mesure","PREMIERE ANNEE DE PRODUCTION",null,null,null,null,"CINQUIEME  ANNEE DE PRODUCTION"]
[null,null,null,null,null,"POIDS DANS LES ACHATS (3)",null,null,"LOCALISATION DU PRINCIPAL FOURNISSEUR  (4)",null,"POIDS DANS LES ACHATS (3)",null,null,"LOCALISATION DU PRINCIPAL FOURNISSEUR  (4)"]
[null,null,null,null,null,"Quantité","Valeur HT","%",null,null,"Quantité","Valeur HT","%"]
[null,null,null,null,null,null,"(En milliers F. Cfa)",null,null,null,null,"(En milliers F. Cfa)"]
[null,{"$f":"IF('SOURCING - 10'!$G$9=\"COTE D'IVOIRE\",'SOURCING - 10'!A9,\"\")","v":""},null,null,{"$f":"IF('SOURCING - 10'!$G$9=\"COTE D'IVOIRE\",'SOURCING - 10'!B9,\"\")","v":""},{"$f":"IF('SOURCING - 10'!G9=\"COTE D'IVOIRE\",'SOURCING - 10'!D9,\"\")","v":""},{"$f":"IF('SOURCING - 10'!G9=\"COTE D'IVOIRE\",'SOURCING - 10'!E9,\"\")","v":""},{"$f":"IF('SOURCING - 10'!G9=\"COTE D'IVOIRE\",'SOURCING - 10'!F9,\"\")","v":""},{"$f":"IF('SOURCING - 10'!G9=\"COTE D'IVOIRE\",'SOURCING - 10'!G9,\"\")","v":""},null,{"$f":"IF('SOURCING - 10'!G9=\"COTE D'IVOIRE\",'SOURCING - 10'!I9,\"\")","v":""},{"$f":"IF('SOURCING - 10'!H9=\"COTE D'IVOIRE\",'SOURCING - 10'!J9,\"\")","v":""},{"$f":"IF($L$130=0,0,L120/$L$130)","v":0},{"$f":"IF('SOURCING - 10'!G9=\"COTE D'IVOIRE\",'SOURCING - 10'!L9,\"\")","v":""}]
[null,{"$f":"IF('SOURCING - 10'!G10=\"COTE D'IVOIRE\",'SOURCING - 10'!A10,\"\")","v":""},null,null,{"$f":"IF('SOURCING - 10'!$G$10=\"COTE D'IVOIRE\",'SOURCING - 10'!B10,\"\")","v":""},{"$f":"IF('SOURCING - 10'!G10=\"COTE D'IVOIRE\",'SOURCING - 10'!D10,\"\")","v":""},{"$f":"IF('SOURCING - 10'!G10=\"COTE D'IVOIRE\",'SOURCING - 10'!E10,\"\")","v":""},{"$f":"IF('SOURCING - 10'!G10=\"COTE D'IVOIRE\",'SOURCING - 10'!F10,\"\")","v":""},{"$f":"IF('SOURCING - 10'!G10=\"COTE D'IVOIRE\",'SOURCING - 10'!G10,\"\")","v":""},null,{"$f":"IF('SOURCING - 10'!G10=\"COTE D'IVOIRE\",'SOURCING - 10'!I10,\"\")","v":""},{"$f":"IF('SOURCING - 10'!H10=\"COTE D'IVOIRE\",'SOURCING - 10'!J10,\"\")","v":""},0,{"$f":"IF('SOURCING - 10'!G10=\"COTE D'IVOIRE\",'SOURCING - 10'!L10,\"\")","v":""}]
[null,{"$f":"IF('SOURCING - 10'!G11=\"COTE D'IVOIRE\",'SOURCING - 10'!A11,\"\")","v":""},null,null,{"$f":"IF('SOURCING - 10'!G11=\"COTE D'IVOIRE\",'SOURCING - 10'!B11,\"\")","v":""},{"$f":"IF('SOURCING - 10'!G11=\"COTE D'IVOIRE\",'SOURCING - 10'!D11,\"\")","v":""},{"$f":"IF('SOURCING - 10'!G11=\"COTE D'IVOIRE\",'SOURCING - 10'!E11,\"\")","v":""},{"$f":"IF('SOURCING - 10'!G11=\"COTE D'IVOIRE\",'SOURCING - 10'!F11,\"\")","v":""},{"$f":"IF('SOURCING - 10'!G11=\"COTE D'IVOIRE\",'SOURCING - 10'!G11,\"\")","v":""},null,{"$f":"IF('SOURCING - 10'!G11=\"COTE D'IVOIRE\",'SOURCING - 10'!I11,\"\")","v":""},{"$f":"IF('SOURCING - 10'!H11=\"COTE D'IVOIRE\",'SOURCING - 10'!J11,\"\")","v":""},0,{"$f":"IF('SOURCING - 10'!G11=\"COTE D'IVOIRE\",'SOURCING - 10'!L11,\"\")","v":""}]
[null,{"$f":"IF('SOURCING - 10'!G12=\"COTE D'IVOIRE\",'SOURCING - 10'!A12,\"\")","v":""},null,null,{"$f":"IF('SOURCING - 10'!G12=\"COTE D'IVOIRE\",'SOURCING - 10'!B12,\"\")","v":""},{"$f":"IF('SOURCING - 10'!G12=\"COTE D'IVOIRE\",'SOURCING - 10'!D12,\"\")","v":""},{"$f":"IF('SOURCING - 10'!G12=\"COTE D'IVOIRE\",'SOURCING - 10'!E12,\"\")","v":""},{"$f":"IF('SOURCING - 10'!G12=\"COTE D'IVOIRE\",'SOURCING - 10'!F12,\"\")","v":""},{"$f":"IF('SOURCING - 10'!G12=\"COTE D'IVOIRE\",'SOURCING - 10'!G12,\"\")","v":""},null,{"$f":"IF('SOURCING - 10'!G12=\"COTE D'IVOIRE\",'SOURCING - 10'!I12,\"\")","v":""},{"$f":"IF('SOURCING - 10'!H12=\"COTE D'IVOIRE\",'SOURCING - 10'!J12,\"\")","v":""},0,{"$f":"IF('SOURCING - 10'!G12=\"COTE D'IVOIRE\",'SOURCING - 10'!L12,\"\")","v":""}]
[null,{"$f":"IF('SOURCING - 10'!G13=\"COTE D'IVOIRE\",'SOURCING - 10'!A13,\"\")","v":""},null,null,{"$f":"IF('SOURCING - 10'!G13=\"COTE D'IVOIRE\",'SOURCING - 10'!B13,\"\")","v":""},{"$f":"IF('SOURCING - 10'!G13=\"COTE D'IVOIRE\",'SOURCING - 10'!D13,\"\")","v":""},{"$f":"IF('SOURCING - 10'!G13=\"COTE D'IVOIRE\",'SOURCING - 10'!E13,\"\")","v":""},{"$f":"IF('SOURCING - 10'!G13=\"COTE D'IVOIRE\",'SOURCING - 10'!F13,\"\")","v":""},{"$f":"IF('SOURCING - 10'!G13=\"COTE D'IVOIRE\",'SOURCING - 10'!G13,\"\")","v":""},null,{"$f":"IF('SOURCING - 10'!G13=\"COTE D'IVOIRE\",'SOURCING - 10'!I13,\"\")","v":""},{"$f":"IF('SOURCING - 10'!H13=\"COTE D'IVOIRE\",'SOURCING - 10'!J13,\"\")","v":""},0,{"$f":"IF('SOURCING - 10'!G13=\"COTE D'IVOIRE\",'SOURCING - 10'!L13,\"\")","v":""}]
[null,{"$f":"IF('SOURCING - 10'!G14=\"COTE D'IVOIRE\",'SOURCING - 10'!A14,\"\")","v":""},null,null,{"$f":"IF('SOURCING - 10'!G14=\"COTE D'IVOIRE\",'SOURCING - 10'!B14,\"\")","v":""},{"$f":"IF('SOURCING - 10'!G14=\"COTE D'IVOIRE\",'SOURCING - 10'!D14,\"\")","v":""},{"$f":"IF('SOURCING - 10'!G14=\"COTE D'IVOIRE\",'SOURCING - 10'!E14,\"\")","v":""},{"$f":"IF('SOURCING - 10'!G14=\"COTE D'IVOIRE\",'SOURCING - 10'!F14,\"\")","v":""},{"$f":"IF('SOURCING - 10'!G14=\"COTE D'IVOIRE\",'SOURCING - 10'!G14,\"\")","v":""},null,{"$f":"IF('SOURCING - 10'!G14=\"COTE D'IVOIRE\",'SOURCING - 10'!I14,\"\")","v":""},{"$f":"IF('SOURCING - 10'!H14=\"COTE D'IVOIRE\",'SOURCING - 10'!J14,\"\")","v":""},0,{"$f":"IF('SOURCING - 10'!G14=\"COTE D'IVOIRE\",'SOURCING - 10'!L14,\"\")","v":""}]
[null,{"$f":"IF('SOURCING - 10'!G15=\"COTE D'IVOIRE\",'SOURCING - 10'!A15,\"\")","v":""},null,null,{"$f":"IF('SOURCING - 10'!G15=\"COTE D'IVOIRE\",'SOURCING - 10'!B15,\"\")","v":""},{"$f":"IF('SOURCING - 10'!G15=\"COTE D'IVOIRE\",'SOURCING - 10'!D15,\"\")","v":""},{"$f":"IF('SOURCING - 10'!G15=\"COTE D'IVOIRE\",'SOURCING - 10'!E15,\"\")","v":""},{"$f":"IF('SOURCING - 10'!G15=\"COTE D'IVOIRE\",'SOURCING - 10'!F15,\"\")","v":""},{"$f":"IF('SOURCING - 10'!G15=\"COTE D'IVOIRE\",'SOURCING - 10'!G15,\"\")","v":""},null,{"$f":"IF('SOURCING - 10'!G15=\"COTE D'IVOIRE\",'SOURCING - 10'!I15,\"\")","v":""},{"$f":"IF('SOURCING - 10'!H15=\"COTE D'IVOIRE\",'SOURCING - 10'!J15,\"\")","v":""},0,{"$f":"IF('SOURCING - 10'!G15=\"COTE D'IVOIRE\",'SOURCING - 10'!L15,\"\")","v":""}]
[null,{"$f":"IF('SOURCING - 10'!G16=\"COTE D'IVOIRE\",'SOURCING - 10'!A16,\"\")","v":""},null,null,{"$f":"IF('SOURCING - 10'!G16=\"COTE D'IVOIRE\",'SOURCING - 10'!B16,\"\")","v":""},{"$f":"IF('SOURCING - 10'!G16=\"COTE D'IVOIRE\",'SOURCING - 10'!D16,\"\")","v":""},{"$f":"IF('SOURCING - 10'!G16=\"COTE D'IVOIRE\",'SOURCING - 10'!E16,\"\")","v":""},{"$f":"IF('SOURCING - 10'!G16=\"COTE D'IVOIRE\",'SOURCING - 10'!F16,\"\")","v":""},{"$f":"IF('SOURCING - 10'!G16=\"COTE D'IVOIRE\",'SOURCING - 10'!G16,\"\")","v":""},null,{"$f":"IF('SOURCING - 10'!G16=\"COTE D'IVOIRE\",'SOURCING - 10'!I16,\"\")","v":""},{"$f":"IF('SOURCING - 10'!H16=\"COTE D'IVOIRE\",'SOURCING - 10'!J16,\"\")","v":""},0,{"$f":"IF('SOURCING - 10'!G16=\"COTE D'IVOIRE\",'SOURCING - 10'!L16,\"\")","v":""}]
[null,{"$f":"IF('SOURCING - 10'!G17=\"COTE D'IVOIRE\",'SOURCING - 10'!A17,\"\")","v":""},null,null,{"$f":"IF('SOURCING - 10'!G17=\"COTE D'IVOIRE\",'SOURCING - 10'!B17,\"\")","v":""},{"$f":"IF('SOURCING - 10'!G17=\"COTE D'IVOIRE\",'SOURCING - 10'!D17,\"\")","v":""},{"$f":"IF('SOURCING - 10'!G17=\"COTE D'IVOIRE\",'SOURCING - 10'!E17,\"\")","v":""},{"$f":"IF('SOURCING - 10'!G17=\"COTE D'IVOIRE\",'SOURCING - 10'!F17,\"\")","v":""},{"$f":"IF('SOURCING - 10'!G17=\"COTE D'IVOIRE\",'SOURCING - 10'!G17,\"\")","v":""},null,{"$f":"IF('SOURCING - 10'!G17=\"COTE D'IVOIRE\",'SOURCING - 10'!I17,\"\")","v":""},{"$f":"IF('SOURCING - 10'!H17=\"COTE D'IVOIRE\",'SOURCING - 10'!J17,\"\")","v":""},0,{"$f":"IF('SOURCING - 10'!G17=\"COTE D'IVOIRE\",'SOURCING - 10'!L17,\"\")","v":""}]
[null,{"$f":"IF('SOURCING - 10'!G18=\"COTE D'IVOIRE\",'SOURCING - 10'!A18,\"\")","v":""},null,null,{"$f":"IF('SOURCING - 10'!G18=\"COTE D'IVOIRE\",'SOURCING - 10'!B18,\"\")","v":""},{"$f":"IF('SOURCING - 10'!G18=\"COTE D'IVOIRE\",'SOURCING - 10'!D18,\"\")","v":""},{"$f":"IF('SOURCING - 10'!G18=\"COTE D'IVOIRE\",'SOURCING - 10'!E18,\"\")","v":""},{"$f":"IF('SOURCING - 10'!G18=\"COTE D'IVOIRE\",'SOURCING - 10'!F18,\"\")","v":""},{"$f":"IF('SOURCING - 10'!G18=\"COTE D'IVOIRE\",'SOURCING - 10'!G18,\"\")","v":""},null,{"$f":"IF('SOURCING - 10'!G18=\"COTE D'IVOIRE\",'SOURCING - 10'!I18,\"\")","v":""},{"$f":"IF('SOURCING - 10'!H18=\"COTE D'IVOIRE\",'SOURCING - 10'!J18,\"\")","v":""},0,{"$f":"IF('SOURCING - 10'!G18=\"COTE D'IVOIRE\",'SOURCING - 10'!L18,\"\")","v":""}]
[null,"SOUS TOTAL",null,null,null,null,{"$f":"SUM(G120:G129)","v":0},null,null,null,null,{"$f":"SUM(L120:L129)","v":0}]
[]
[]
[]
[]
["9/ IMPACT SUR LA VALORISATION DES MATIERES PREMIERES LOCALES"]
[]
[null,"Appréciatif"]
[]
[]
[]
[]
[]
[]
["10/ L’IMPACT SUR LE DEVELOPPEMENT  ECONOMIQUE ET SOCIAL DES REGIONS"]
[]
[null,"Appréciatif"]
[]
[]
[]
[]
[]
[]
["11/ MAITRISE DE L’IMPACT ENVIRONNEMENTAL ET SOCIETALE"]
[]
[null,"Appréciatif"]
[]
[]
[]
[]
[]
[]
[]
["12/ L’IMPACT SUR L’INDEPENDANCE ECONOMIQUE ET/OU LA SECURITE ALIMENTAIRE"]
[]
[null,"Appréciatif"]
[]
[]
[]
[]
[]
[]
[]
[]
["13/ COÛT DE L'AGRÉMENT - PHASE D'EXPLOITATION - IMPOTS (1)",null,null,null,null,null,null,null,"F. Cfa",null,null,null,null,"F. Cfa"]
[]
[null,null,null,null,"AN 1","AN 2","AN 3","AN 4","AN 5","AN 6","AN 7","AN 8","AN 9","AN 10","AN 11"]
[]
[null,"IMPOTS EN REGIME DE DROIT COMMUN (SANS AVANTAGES DU CODE DES INVESTISSEMENTS)"]
[null,null,"ITS Contribution Employeur",null,{"$f":"'IMPOT&DOUANE en ANNEE EXPLOI-10'!C8","v":0},{"$f":"'IMPOT&DOUANE en ANNEE EXPLOI-10'!D8","v":0},{"$f":"'IMPOT&DOUANE en ANNEE EXPLOI-10'!E8","v":0},{"$f":"'IMPOT&DOUANE en ANNEE EXPLOI-10'!F8","v":0},{"$f":"'IMPOT&DOUANE en ANNEE EXPLOI-10'!G8","v":0},{"$f":"'IMPOT&DOUANE en ANNEE EXPLOI-10'!H8","v":0},{"$f":"'IMPOT&DOUANE en ANNEE EXPLOI-10'!I8","v":0},{"$f":"'IMPOT&DOUANE en ANNEE EXPLOI-10'!J8","v":0},{"$f":"'IMPOT&DOUANE en ANNEE EXPLOI-10'!K8","v":0},{"$f":"'IMPOT&DOUANE en ANNEE EXPLOI-10'!L8","v":0},{"$f":"'IMPOT&DOUANE en ANNEE EXPLOI-10'!#REF!","v":{"$error":"#REF!"}}]
[null,null,"FDFP",null,{"$f":"'IMPOT&DOUANE en ANNEE EXPLOI-10'!C9","v":0},{"$f":"'IMPOT&DOUANE en ANNEE EXPLOI-10'!D9","v":0},{"$f":"'IMPOT&DOUANE en ANNEE EXPLOI-10'!E9","v":0},{"$f":"'IMPOT&DOUANE en ANNEE EXPLOI-10'!F9","v":0},{"$f":"'IMPOT&DOUANE en ANNEE EXPLOI-10'!G9","v":0},{"$f":"'IMPOT&DOUANE en ANNEE EXPLOI-10'!H9","v":0},{"$f":"'IMPOT&DOUANE en ANNEE EXPLOI-10'!I9","v":0},{"$f":"'IMPOT&DOUANE en ANNEE EXPLOI-10'!J9","v":0},{"$f":"'IMPOT&DOUANE en ANNEE EXPLOI-10'!K9","v":0},{"$f":"'IMPOT&DOUANE en ANNEE EXPLOI-10'!L9","v":0},{"$f":"'IMPOT&DOUANE en ANNEE EXPLOI-10'!#REF!","v":{"$error":"#REF!"}}]
[null,null,"TSE",null,{"$f":"'IMPOT&DOUANE en ANNEE EXPLOI-10'!C10","v":0},{"$f":"'IMPOT&DOUANE en ANNEE EXPLOI-10'!D10","v":0},{"$f":"'IMPOT&DOUANE en ANNEE EXPLOI-10'!E10","v":0},{"$f":"'IMPOT&DOUANE en ANNEE EXPLOI-10'!F10","v":0},{"$f":"'IMPOT&DOUANE en ANNEE EXPLOI-10'!G10","v":0},{"$f":"'IMPOT&DOUANE en ANNEE EXPLOI-10'!H10","v":0},{"$f":"'IMPOT&DOUANE en ANNEE EXPLOI-10'!I10","v":0},{"$f":"'IMPOT&DOUANE en ANNEE EXPLOI-10'!J10","v":0},{"$f":"'IMPOT&DOUANE en ANNEE EXPLOI-10'!K10","v":0},{"$f":"'IMPOT&DOUANE en ANNEE EXPLOI-10'!L10","v":0},{"$f":"'IMPOT&DOUANE en ANNEE EXPLOI-10'!#REF!","v":{"$error":"#REF!"}}]
[null,null,"BIC, BNC, BA",null,{"$f":"'IMPOT&DOUANE en ANNEE EXPLOI-10'!C11","v":0},{"$f":"'IMPOT&DOUANE en ANNEE EXPLOI-10'!D11","v":0},{"$f":"'IMPOT&DOUANE en ANNEE EXPLOI-10'!E11","v":0},{"$f":"'IMPOT&DOUANE en ANNEE EXPLOI-10'!F11","v":0},{"$f":"'IMPOT&DOUANE en ANNEE EXPLOI-10'!G11","v":0},{"$f":"'IMPOT&DOUANE en ANNEE EXPLOI-10'!H11","v":0},{"$f":"'IMPOT&DOUANE en ANNEE EXPLOI-10'!I11","v":0},{"$f":"'IMPOT&DOUANE en ANNEE EXPLOI-10'!J11","v":0},{"$f":"'IMPOT&DOUANE en ANNEE EXPLOI-10'!K11","v":0},{"$f":"'IMPOT&DOUANE en ANNEE EXPLOI-10'!L11","v":0},{"$f":"'IMPOT&DOUANE en ANNEE EXPLOI-10'!#REF!","v":{"$error":"#REF!"}}]
[null,null,"PATENTE",null,{"$f":"'IMPOT&DOUANE en ANNEE EXPLOI-10'!C12","v":0},{"$f":"'IMPOT&DOUANE en ANNEE EXPLOI-10'!D12","v":0},{"$f":"'IMPOT&DOUANE en ANNEE EXPLOI-10'!E12","v":0},{"$f":"'IMPOT&DOUANE en ANNEE EXPLOI-10'!F12","v":0},{"$f":"'IMPOT&DOUANE en ANNEE EXPLOI-10'!G12","v":0},{"$f":"'IMPOT&DOUANE en ANNEE EXPLOI-10'!H12","v":0},{"$f":"'IMPOT&DOUANE en ANNEE EXPLOI-10'!I12","v":0},{"$f":"'IMPOT&DOUANE en ANNEE EXPLOI-10'!J12","v":0},{"$f":"'IMPOT&DOUANE en ANNEE EXPLOI-10'!K12","v":0},{"$f":"'IMPOT&DOUANE en ANNEE EXPLOI-10'!L12","v":0},{"$f":"'IMPOT&DOUANE en ANNEE EXPLOI-10'!#REF!","v":{"$error":"#REF!"}}]
[null,null,"LICENCE",null,{"$f":"'IMPOT&DOUANE en ANNEE EXPLOI-10'!C13","v":0},{"$f":"'IMPOT&DOUANE en ANNEE EXPLOI-10'!D13","v":0},{"$f":"'IMPOT&DOUANE en ANNEE EXPLOI-10'!E13","v":0},{"$f":"'IMPOT&DOUANE en ANNEE EXPLOI-10'!F13","v":0},{"$f":"'IMPOT&DOUANE en ANNEE EXPLOI-10'!G13","v":0},{"$f":"'IMPOT&DOUANE en ANNEE EXPLOI-10'!H13","v":0},{"$f":"'IMPOT&DOUANE en ANNEE EXPLOI-10'!I13","v":0},{"$f":"'IMPOT&DOUANE en ANNEE EXPLOI-10'!J13","v":0},{"$f":"'IMPOT&DOUANE en ANNEE EXPLOI-10'!K13","v":0},{"$f":"'IMPOT&DOUANE en ANNEE EXPLOI-10'!L13","v":0},{"$f":"'IMPOT&DOUANE en ANNEE EXPLOI-10'!#REF!","v":{"$error":"#REF!"}}]
[null,null,"FONCIER",null,{"$f":"'IMPOT&DOUANE en ANNEE EXPLOI-10'!C14","v":0},{"$f":"'IMPOT&DOUANE en ANNEE EXPLOI-10'!D14","v":0},{"$f":"'IMPOT&DOUANE en ANNEE EXPLOI-10'!E14","v":0},{"$f":"'IMPOT&DOUANE en ANNEE EXPLOI-10'!F14","v":0},{"$f":"'IMPOT&DOUANE en ANNEE EXPLOI-10'!G14","v":0},{"$f":"'IMPOT&DOUANE en ANNEE EXPLOI-10'!H14","v":0},{"$f":"'IMPOT&DOUANE en ANNEE EXPLOI-10'!I14","v":0},{"$f":"'IMPOT&DOUANE en ANNEE EXPLOI-10'!J14","v":0},{"$f":"'IMPOT&DOUANE en ANNEE EXPLOI-10'!K14","v":0},{"$f":"'IMPOT&DOUANE en ANNEE EXPLOI-10'!L14","v":0},{"$f":"'IMPOT&DOUANE en ANNEE EXPLOI-10'!#REF!","v":{"$error":"#REF!"}}]
[null,null,"DROIT D'ENTREGISTREMENT",null,{"$f":"'IMPOT&DOUANE en ANNEE EXPLOI-10'!C17","v":0},{"$f":"'IMPOT&DOUANE en ANNEE EXPLOI-10'!D17","v":0},{"$f":"'IMPOT&DOUANE en ANNEE EXPLOI-10'!E17","v":0},{"$f":"'IMPOT&DOUANE en ANNEE EXPLOI-10'!F17","v":0},{"$f":"'IMPOT&DOUANE en ANNEE EXPLOI-10'!G17","v":0},{"$f":"'IMPOT&DOUANE en ANNEE EXPLOI-10'!H17","v":0},{"$f":"'IMPOT&DOUANE en ANNEE EXPLOI-10'!I17","v":0},{"$f":"'IMPOT&DOUANE en ANNEE EXPLOI-10'!J17","v":0},{"$f":"'IMPOT&DOUANE en ANNEE EXPLOI-10'!K17","v":0},{"$f":"'IMPOT&DOUANE en ANNEE EXPLOI-10'!L17","v":0},{"$f":"'IMPOT&DOUANE en ANNEE EXPLOI-10'!#REF!","v":{"$error":"#REF!"}}]
[null,"TOTAL ",null,null,{"$f":"SUM(E179:E186)","v":0},{"$f":"SUM(F179:F186)","v":0},0,0,0,0,0,0,0,0,{"$error":"#REF!"}]
[]
[null,"IMPOTS EN REGIME D'AGREMENT A L'INVESTISSEMENT (APRES AVANTAGES DU CODE DES INVESTISSEMENTS)",null,null,null,null,null,null,null,null,null,null,null,"F. Cfa"]
[null,null,"ITS Contribution Employeur",null,{"$f":"IF('REFERENCES - 10'!$H$10=1,E179*75%,E179)","v":0},{"$f":"IF('REFERENCES - 10'!$H$10=1,F179*75%,F179)","v":0},{"$f":"IF('REFERENCES - 10'!$H$10=1,G179*75%,G179)","v":0},{"$f":"IF('REFERENCES - 10'!$H$10=1,H179*75%,H179)","v":0},{"$f":"IF('REFERENCES - 10'!$H$10=1,I179*75%,I179)","v":0},{"$f":"IF('REFERENCES - 10'!$H$10=1,J179*75%,J179)","v":0},{"$f":"IF('REFERENCES - 10'!$H$10=1,K179*75%,K179)","v":0},{"$f":"IF('REFERENCES - 10'!$H$10=1,L179*75%,L179)","v":0},{"$f":"IF('REFERENCES - 10'!$H$10=1,M179*75%,M179)","v":0},{"$f":"IF('REFERENCES - 10'!$H$10=1,N179*75%,N179)","v":0},{"$f":"IF('REFERENCES - 10'!$H$10=1,O179*75%,O179)","v":{"$error":"#REF!"}}]
[null,null,"FDFP",null,{"$f":"+E180","v":0},{"$f":"+F180","v":0},0,0,0,0,0,0,0,0,{"$error":"#REF!"}]
[null,null,"TSE",null,{"$f":"+E181","v":0},{"$f":"+F181","v":0},0,0,0,0,0,0,0,0,{"$error":"#REF!"}]
[null,null,"BIC, BNC, BA",null,{"$f":"IF('REFERENCES - 10'!$H$10=1,0,E182)","v":0},{"$f":"IF('REFERENCES - 10'!$H$10=1,0,F182)","v":0},{"$f":"IF('REFERENCES - 10'!$H$10=1,0,G182)","v":0},{"$f":"IF('REFERENCES - 10'!$H$10=1,0,H182)","v":0},{"$f":"IF('REFERENCES - 10'!$H$10=1,0,I182)","v":0},{"$f":"IF('REFERENCES - 10'!$H$10=1,0,J182)","v":0},{"$f":"IF('REFERENCES - 10'!$H$10=1,0,K182)","v":0},{"$f":"IF('REFERENCES - 10'!$H$10=1,0,L182)","v":0},{"$f":"IF('REFERENCES - 10'!$H$10=1,0,M182)","v":0},{"$f":"IF('REFERENCES - 10'!$H$10=1,N182*50%,N182)","v":0},{"$f":"IF('REFERENCES - 10'!$H$10=1,O182*75%,O182)","v":{"$error":"#REF!"}}]
[null,null,"PATENTE",null,{"$f":"IF('REFERENCES - 10'!$H$10=1,0,E183)","v":0},{"$f":"IF('REFERENCES - 10'!$H$10=1,0,F183)","v":0},{"$f":"IF('REFERENCES - 10'!$H$10=1,0,G183)","v":0},{"$f":"IF('REFERENCES - 10'!$H$10=1,0,H183)","v":0},{"$f":"IF('REFERENCES - 10'!$H$10=1,0,I183)","v":0},{"$f":"IF('REFERENCES - 10'!$H$10=1,0,J183)","v":0},{"$f":"IF('REFERENCES - 10'!$H$10=1,0,K183)","v":0},{"$f":"IF('REFERENCES - 10'!$H$10=1,0,L183)","v":0},{"$f":"IF('REFERENCES - 10'!$H$10=1,0,M183)","v":0},{"$f":"IF('REFERENCES - 10'!$H$10=1,N183*50%,N183)","v":0},{"$f":"IF('REFERENCES - 10'!$H$10=1,O183*75%,O183)","v":{"$error":"#REF!"}}]
[null,null,"LICENCE",null,{"$f":"IF('REFERENCES - 10'!$H$10=1,0,E184)","v":0},{"$f":"IF('REFERENCES - 10'!$H$10=1,0,F184)","v":0},{"$f":"IF('REFERENCES - 10'!$H$10=1,0,G184)","v":0},{"$f":"IF('REFERENCES - 10'!$H$10=1,0,H184)","v":0},{"$f":"IF('REFERENCES - 10'!$H$10=1,0,I184)","v":0},{"$f":"IF('REFERENCES - 10'!$H$10=1,0,J184)","v":0},{"$f":"IF('REFERENCES - 10'!$H$10=1,0,K184)","v":0},{"$f":"IF('REFERENCES - 10'!$H$10=1,0,L184)","v":0},{"$f":"IF('REFERENCES - 10'!$H$10=1,0,M184)","v":0},{"$f":"IF('REFERENCES - 10'!$H$10=1,N184*50%,N184)","v":0},{"$f":"IF('REFERENCES - 10'!$H$10=1,O184*75%,O184)","v":{"$error":"#REF!"}}]
[null,null,"FONCIER",null,{"$f":"IF('REFERENCES - 10'!$H$10=1,IF('SYNTHÈSE INVESTISSEMENTS - 10'!$N$25>=200000000,0,E185),E185)","v":0},{"$f":"IF('REFERENCES - 10'!$H$10=1,IF('SYNTHÈSE INVESTISSEMENTS - 10'!$N$25>=200000000,0,F185),F185)","v":0},{"$f":"IF('REFERENCES - 10'!$H$10=1,IF('SYNTHÈSE INVESTISSEMENTS - 10'!$N$25>=200000000,0,G185),G185)","v":0},{"$f":"IF('REFERENCES - 10'!$H$10=1,IF('SYNTHÈSE INVESTISSEMENTS - 10'!$N$25>=200000000,0,H185),H185)","v":0},{"$f":"IF('REFERENCES - 10'!$H$10=1,IF('SYNTHÈSE INVESTISSEMENTS - 10'!$N$25>=200000000,0,I185),I185)","v":0},{"$f":"IF('REFERENCES - 10'!$H$10=1,IF('SYNTHÈSE INVESTISSEMENTS - 10'!$N$25>=200000000,0,J185),J185)","v":0},{"$f":"IF('REFERENCES - 10'!$H$10=1,IF('SYNTHÈSE INVESTISSEMENTS - 10'!$N$25>=200000000,0,K185),K185)","v":0},{"$f":"IF('REFERENCES - 10'!$H$10=1,IF('SYNTHÈSE INVESTISSEMENTS - 10'!$N$25>=200000000,0,L185),L185)","v":0},{"$f":"IF('REFERENCES - 10'!$H$10=1,IF('SYNTHÈSE INVESTISSEMENTS - 10'!$N$25>=200000000,0,M185),M185)","v":0},{"$f":"IF('REFERENCES - 10'!$H$10=1,IF('SYNTHÈSE INVESTISSEMENTS - 10'!$N$25>=200000000,0,N185),N185)","v":0},{"$f":"IF('REFERENCES - 10'!$H$10=1,IF('SYNTHÈSE INVESTISSEMENTS - 10'!$N$25>=200000000,0,O185),O185)","v":{"$error":"#REF!"}}]
[null,null,"DROIT D'ENTREGISTREMENT",null,{"$f":"IF('REFERENCES - 10'!$H$10=1,0,E186)","v":0},{"$f":"IF('REFERENCES - 10'!$H$10=1,0,F186)","v":0},{"$f":"IF('REFERENCES - 10'!$H$10=1,0,G186)","v":0},{"$f":"IF('REFERENCES - 10'!$H$10=1,0,H186)","v":0},{"$f":"IF('REFERENCES - 10'!$H$10=1,0,I186)","v":0},{"$f":"IF('REFERENCES - 10'!$H$10=1,0,J186)","v":0},{"$f":"IF('REFERENCES - 10'!$H$10=1,0,K186)","v":0},{"$f":"IF('REFERENCES - 10'!$H$10=1,0,L186)","v":0},{"$f":"IF('REFERENCES - 10'!$H$10=1,0,M186)","v":0},{"$f":"IF('REFERENCES - 10'!$H$10=1,N186*50%,N186)","v":0},{"$f":"IF('REFERENCES - 10'!$H$10=1,O186*75%,O186)","v":{"$error":"#REF!"}}]
[null,"TOTAL ",null,null,{"$f":"SUM(E190:E197)","v":0},0,0,0,0,0,0,0,0,0,{"$error":"#REF!"}]
[]
[null,"MANQUE A GAGNER IMPÔTS",null,null,null,null,null,null,null,null,null,null,null,"F. Cfa"]
[null,null,"ITS Contribution Employeur",null,{"$f":"E179-E190","v":0},{"$f":"F179-F190","v":0},0,0,0,0,0,0,0,0,{"$error":"#REF!"}]
[null,null,"FDFP",null,{"$f":"E180-E191","v":0},0,0,0,0,0,0,0,0,0,{"$error":"#REF!"}]
[null,null,"TSE",null,{"$f":"E181-E192","v":0},0,0,0,0,0,0,0,0,0,{"$error":"#REF!"}]
[null,null,"BIC, BNC, BA",null,{"$f":"E182-E193","v":0},0,0,0,0,0,0,0,0,0,{"$error":"#REF!"}]
[null,null,"PATENTE",null,{"$f":"E183-E194","v":0},0,0,0,0,0,0,0,0,0,{"$error":"#REF!"}]
[null,null,"LICENCE",null,{"$f":"E184-E195","v":0},0,0,0,0,0,0,0,0,0,{"$error":"#REF!"}]
[null,null,"FONCIER",null,{"$f":"E185-E196","v":0},0,0,0,0,0,0,0,0,0,{"$error":"#REF!"}]
[null,null,"DROIT D'ENTREGISTREMENT",null,{"$f":"E186-E197","v":0},0,0,0,0,0,0,0,0,0,{"$error":"#REF!"}]
[null,"TOTAL MANQUE A GAGNER IMPOTS",null,null,{"$f":"SUM(E201:E208)","v":0},0,0,0,0,0,0,0,0,0,{"$error":"#REF!"}]
[]
[null,null,"(1) Seuls les impôts faisant l'objet d'exonération totale ou partielle sont listés à ce niveau ",null,null," "]
[]
[]
[]
["14/ COÛT DE L'AGRÉMENT - PHASE INVESTISSEMENT - DOUANES (2)",null,null,null,null,null,null,null,null,"F. Cfa"]
[]
[null,"DROITS DE DOUANE SUR MATERIEL & EQUIP. EN REGIME DE DROIT COMMUN (SANS AVANTAGES DU CODE DES INVESTISSEMENTS)"]
[null,"DROITS DE DOUANE  (Droits Fiscaux)",null,null,null,{"$f":"'DROIT DOUANE PERIODE INVEST -15'!C7","v":0}]
[null,"TVA SUR DROITS DE DOUANE",null,null,null,{"$f":"'DROIT DOUANE PERIODE INVEST -15'!C11","v":0},null,"F. Cfa"]
[null,"TVA SUR ACHATS LOCAUX",null,null,null,{"$f":"'DROIT DOUANE PERIODE INVEST -15'!C12","v":0}]
[null,"TOTAL ",null,null,null,{"$f":"SUM(F218:F220)","v":0}]
[]
[]
[null,"TAUX D'EXONERATION SUR DROITS DE DOUANE"]
[null,"TAUX D'EXONERATION (40 ou50%)",null,null,null,0.4]
[]
[]
[null,"DROITS DE DOUANE SUR MATERIEL & EQUIP. EN REGIME D'AGREMENT A L'INVESTISSEMENT (APRES AVANTAGES DU CODE DES INVESTISSEMENTS)"]
[null,"DROITS DE DOUANE  (Droits Fiscaux)",null,null,null,{"$f":"F218*(1-F225)","v":0}]
[null,"TVA SUR DROITS DE DOUANE",null,null,null,{"$f":"F219*0%","v":0},null,"F. Cfa"]
[null,"TVA SUR ACHATS LOCAUX",null,null,null,{"$f":"F220*0%","v":0}]
[null,"TOTAL ",null,null,null,{"$f":"SUM(F229:F231)","v":0},{"$f":"G229+G230+G231","v":0}]
[]
[]
[null,"MANQUE A GAGNER DROITS DE DOUANE"]
[null,"DROITS DE DOUANE  (Droits Fiscaux)",null,null,null,{"$f":" F221 -IF(G232 >0, G232, F232)","v":0},null,"F. Cfa"]
[null,"TOTAL MANQUE A GAGNER DROITS DE DOUANE",null,null,null,{"$f":"F236","v":0}]
[]
[null,null,"(2) Seuls les droits de douane faisant l'objet d'exonération totale ou partielle sont listés à ce niveau "]
[]
[]
[]
[null,"DROITS DE DOUANE - PERIODE D'INVESTISSEMENT"]
[]
[null,null,null,null,null,"MONTANT"]
[]
[null,"DROITS DE DOUANE  (Droits Fiscaux)",null,null,null,{"$f":" 'DROIT DOUANE PERIODE INVEST -15'!C7","v":0},null,null,"F. Cfa"]
[null,"RSTAT",null,null,null,{"$f":" 'DROIT DOUANE PERIODE INVEST -15'!C8","v":0}]
[null,"PCS",null,null,null,{"$f":" 'DROIT DOUANE PERIODE INVEST -15'!C9","v":0}]
[null,"PCC",null,null,null,{"$f":" 'DROIT DOUANE PERIODE INVEST -15'!C10","v":0}]
[null,"TVA SUR DROITS DE DOUANE",null,null,null,{"$f":" 'DROIT DOUANE PERIODE INVEST -15'!C11","v":0}]
[null,"TVA SUR ACHATS LOCAUX",null,null,null,{"$f":" 'DROIT DOUANE PERIODE INVEST -15'!C12","v":0}]
[null,"DUS & DROITS DE DOUANE SPECIFIQUE",null,null,null,{"$f":" 'DROIT DOUANE PERIODE INVEST -15'!C13","v":0}]
[]
[null,"TOTAL DOUANE",null,null,null,{"$f":" 'DROIT DOUANE PERIODE INVEST -15'!C15","v":0}]
[]
[]
[null,"COUT D'AGREMENT"]
[]
[null,"DESIGNATION",null,"REGIME DROIT COMMUN",null,"REGIME AGREMENT",null,"COUT AGREMENT"]
[null,"Droit de douane",null,{"$f":"F218","v":0},null,{"$f":"IF(G232 >0, G232, F232)","v":0},null,{"$f":"D261-F261","v":0}]
[null,"TVA",null,{"$f":"SUM(F219:F220)","v":0},null,{"$f":"IF(G232 >0,G230+G231, 0)","v":0},null,{"$f":"D262-F262","v":0}]
[null,"Contribution employeur",null,{"$f":"SUM(E179:O179)","v":{"$error":"#REF!"}},null,{"$f":"SUM(E190:O190)","v":{"$error":"#REF!"}},null,{"$error":"#REF!"}]
[null,"Patentes",null,{"$f":"SUM(E183:O183)","v":{"$error":"#REF!"}},null,{"$f":"SUM(E194:O194)","v":{"$error":"#REF!"}},null,{"$error":"#REF!"}]
[null,"BIC",null,{"$f":"SUM(E182:O182)","v":{"$error":"#REF!"}},null,{"$f":"SUM(E193:O193)","v":{"$error":"#REF!"}},null,{"$error":"#REF!"}]
[null,"Foncier",null,{"$f":"SUM(E185:O185)","v":{"$error":"#REF!"}},null,{"$f":"SUM(E196:O196)","v":{"$error":"#REF!"}},null,{"$error":"#REF!"}]
[null,"Total",null,{"$f":"SUM(D261:E266)","v":{"$error":"#REF!"}},null,{"$f":"SUM(F261:G266)","v":{"$error":"#REF!"}},null,{"$f":"SUM(H261:I266)","v":{"$error":"#REF!"}}]
[]
[null,"SOUS TOTAL DOUANES",null,{"$f":"SUM(H261:I262)","v":0}]
[null,"SOUS TOTAL IMPOT",null,{"$f":"SUM(H263:I266)","v":{"$error":"#REF!"}}]
[]
[]
[null,null,"Phase d'investissement","1ère année","2ième année","3ième année","4ième année","5ième année","6-11ième année","TOTAL"]
[null,"Montant",{"$f":"E261+E262","v":0},{"$f":"E209","v":0},{"$f":"F209","v":0},0,0,0,{"$f":"SUM(J209:O209)","v":{"$error":"#REF!"}},{"$f":"SUM(C274:I274)","v":{"$error":"#REF!"}}]
[]
[null,"Unite",1000]
[]
[null,null,"Phase d'investissement","1ère année","2ième année","3ième année","4ième année","5ième année","6-11ième année","TOTAL"]
[null,"Montant",{"$f":"C274/$C$276","v":0},{"$f":"D274/$C$276","v":0},0,0,0,0,{"$error":"#REF!"},{"$error":"#REF!"}]

{"sheet":"Feuil2","index":45,"n_rows":7,"n_cols":1,"rows_kept":7,"cut":false,"hidden":true,"merged":[]}
["CREATION"]
["DEVELOPPEMENT"]
[]
[]
[]
["COTE D'IVOIRE"]
["ETRANGER"]